Workbook

Sheet SEPTIEMBRE DECE-5
B8: ÀREA FINANCIERA | K8: DECE-5
A10: UNIDAD DE CIRUGIA CARDIOVASCULAR DE GUATEMALA
A11: 5a. AVENIDA 6-22 ZONA 11
A12: dgunicar@yahoo.es Tel. 24163000
A14: Programación y ejecucion del mes de septiembre por tipo de gasto, año 2025, (Expresado en Quetzales)
A15: No. | B15: CATEGORIA DEL GASTO DE FUNCIONAMIENTO | C15: Enero | E15: Febrero | G15: Marzo | I15: Abril
C16: PROG. | D16: EJECUTADO | E16: PROG. | F16: EJECUTADO | G16: PROG. | H16: EJECUTADO | I16: PROG. | J16: EJECUTADO
B17: RECURSO HUMANO
A18: 011 | B18: SUELOS Y SALARIOS | C18: 3985581.3 | D18: 3442190.4 | E18: 3985581.3 | F18: 3499181.9 | G18: 3985581.3 | H18: 3551627.3 | I18: 3985581.3 | J18: =3946986.7-399869.63 -> 3547117.1
B19: BONO 14 | C19: 0 | D19: 0 | E19: 0 | F19: 0 | I19: 0
B20: CUOTA PATRONAL | C20: 0 | D20: 387999.9 | E20: 0 | F20: 394552.58 | H20: 400276.26 | I20: 0 | J20: 399869.63
B21: TOTAL RECURSO HUMANO | C21: =SUM(C18:C20) -> 3985581.3 | D21: =SUM(D18:D20) -> 3830190.3 | E21: =SUM(E18:E20) -> 3985581.3 | F21: =SUM(F18:F20) -> 3893734.5 | G21: =SUM(G18:G20) -> 3985581.3 | H21: =SUM(H18:H20) -> 3951903.5 | I21: =SUM(I18:I20) -> 3985581.3 | J21: =SUM(J18:J20) -> 3946986.7
B23: GASTOS DE OPERACIÓN
A24: 111 | B24: ENERGIA ELECTRICA | C24: 0 | D24: 0 | E24: 106000 | F24: 96455.75 | G24: 106000 | H24: 0 | I24: 106000 | J24: 107590.34
A25: 113 | B25: SERVICIO DE INTERNET Y TELEFONIA | C25: 0 | D25: 0 | E25: 11825 | F25: 8643.16 | G25: 11825 | H25: 8638.1 | I25: 11825 | J25: 8966.74
A26: 122 | B26: IMPRESIÓN, ENCUADERNACION Y REPRODUCCION | C26: 0 | D26: 0 | E26: 64244.05 | F26: 0 | G26: 0 | H26: 0 | I26: 0 | J26: 4154.5
A27: 163 | B27: MANT. Y REP. EQUIPO MEDICO SANITARIO Y DE LAB. | C27: 100000 | D27: 0 | E27: 0 | F27: 0 | G27: 304339.74 | H27: 0 | I27: 0 | J27: 19341.5
A28: 169 | B28: MANT. Y REP. DE OTRAS MAQUINARIAS Y EQUIPOS | C28: 20000 | D28: 0 | E28: 0 | F28: 0 | G28: 1680 | H28: 0 | I28: 0 | J28: 1600
A29: 171 | B29: MANT. Y REPARACION DE EDIFICIOS | C29: 50000 | D29: 0 | E29: 0 | F29: 0 | G29: 7770 | H29: 0 | I29: 1260 | J29: 1300
A30: 174 | B30: MANT. Y REP. DE INSTALACIONES | C30: 53344.25 | D30: 0 | E30: 3344.25 | F30: 6520 | G30: 4761.75 | H30: 0 | I30: 4761.75 | J30: 3260
A31: 197 | B31: SERVICIOS DE VIGILANCIA | C31: 0 | D31: 0 | E31: 52000 | F31: 0 | G31: 52000 | H31: 52000 | I31: 52000 | J31: 52000
A32: 199 | B32: OTROS SERVICIOS NO PERSONALES | C32: 0 | D32: 0 | E32: 127225.9 | F32: 0 | G32: 51415.9 | H32: 43988.88 | I32: 51415.9 | J32: 86010.21
A33: 243 | B33: PRODUCTOS DE PAPEL O CARTON | C33: 0 | D33: 0 | E33: 77602.26 | F33: 0 | G33: 0 | H33: 112506.6 | I33: 0 | J33: 0
A34: 261 | B34: ELEMENTOS Y COMPUESTOS QUIMICOS | C34: 0 | D34: 0 | E34: 812953.74 | F34: 0 | G34: 0 | H34: 105279.68 | I34: 0 | J34: 71517.99
A35: 262 | B35: COMBUSTIBLES Y LUBRICANTES | C35: 17000 | D35: 0 | E35: 0 | F35: 13195 | G35: 0 | H35: 0 | I35: 0 | J35: 0
... A45: 323 | B45: EQUIPO MEDICO-SANITARIO Y DE LABORATORIO | C45: 0 | D45: 0 | E45: 0 | F45: 0 | G45: 0 | H45: 0 | I45: 0 | J45: 0
B46: TOTAL GASTOS DE OPERACIÓN | C46: =SUM(C24:C45) -> 1165344.2 | D46: =SUM(D24:D45) -> 0 | E46: =SUM(E24:E45) -> 3598165.6 | F46: =SUM(F24:F45) -> 136886.92 | G46: =SUM(G24:G45) -> 539792.39 | H46: =SUM(H24:H45) -> 1879182.5 | I46: =SUM(I24:I45) -> 227262.65 | J46: =SUM(J24:J45) -> 1267854.5
B47: TOTAL GENERAL | C47: =+C46+C21 -> 5150925.5 | D47: =+D46+D21 -> 3830190.3 | E47: =+E46+E21 -> 7583746.8 | F47: =+F46+F21 -> 4030621.4 | G47: =+G46+G21 -> 4525373.7 | H47: =+H46+H21 -> 5831086.1 | I47: =+I46+I21 -> 4212843.9 | J47: =+J46+J21 -> 5214841.2
A59: =+A14 -> Programación y ejecucion del mes de septiembre por tipo de gasto, año 2025, (Expresado en Quetzales)
A60: No. | B60: =+B15 -> CATEGORIA DEL GASTO DE FUNCIONAMIENTO | C60: Mayo | E60: Junio | G60: Julio | I60: Agosto
C61: PROG. | D61: EJECUTADO | E61: PROG. | F61: EJECUTADO | G61: PROG. | H61: EJECUTADO | I61: PROG. | J61: EJECUTADO
A62: 011 | B62: RECURSO HUMANO
B63: SUELOS Y SALARIOS | C63: 3985581.3 | D63: 3571840.7 | E63: 3985581.3 | F63: 3574068.5 | G63: 7331062.7 | H63: 3541104.6 | I63: 3985581.3 | J63: 3577680.2
B64: BONO 14 | D64: 0 | H64: 3208721.7
B65: CUOTA PATRONAL | D65: 402550.66 | F65: 402616.11 | H65: 398875.22 | J65: 403148.83
B66: TOTAL RECURSO HUMANO | C66: =SUM(C63:C65) -> 3985581.3 | D66: =SUM(D63:D65) -> 3974391.3 | E66: =SUM(E63:E65) -> 3985581.3 | F66: =SUM(F63:F65) -> 3976684.6 | G66: =SUM(G63:G65) -> 7331062.7 | H66: =SUM(H63:H65) -> 7148701.5 | I66: =SUM(I63:I65) -> 3985581.3 | J66: =SUM(J63:J65) -> 3980829
B68: GASTOS DE OPERACIÓN
A69: 111 | B69: ENERGIA ELECTRICA | C69: 106000 | D69: 108453.52 | E69: 106000 | F69: 106384.31 | G69: 106000 | H69: 106955.3 | I69: 106000 | J69: 110648.44
A70: 113 | B70: SERVICIO DE INTERNET Y TELEFONIA | C70: 11825 | D70: 8811.18 | E70: 11825 | F70: 14256.06 | G70: 11825 | H70: 0 | I70: 11825 | J70: 14711.08
A71: 122 | B71: IMPRESIÓN, ENCUADERNACION Y REPRODUCCION | C71: 0 | D71: 9914.5 | E71: 0 | F71: 43465 | G71: 0 | H71: 5691.25 | I71: 0 | J71: 0
...

Sheet OCTUBRE DECE-5
B8: ÀREA FINANCIERA | K8: DECE-5
A10: UNIDAD DE CIRUGIA CARDIOVASCULAR DE GUATEMALA
A11: 5a. AVENIDA 6-22 ZONA 11
A12: dgunicar@yahoo.es Tel. 24163000
A14: Programación y ejecucion del mes de octubre por tipo de gasto, año 2025, (Expresado en Quetzales)
A15: No. | B15: CATEGORIA DEL GASTO DE FUNCIONAMIENTO | C15: Enero | E15: Febrero | G15: Marzo | I15: Abril
C16: PROG. | D16: EJECUTADO | E16: PROG. | F16: EJECUTADO | G16: PROG. | H16: EJECUTADO | I16: PROG. | J16: EJECUTADO
B17: RECURSO HUMANO
A18: 011 | B18: SUELOS Y SALARIOS | C18: 3985581.3 | D18: 3442190.4 | E18: 3985581.3 | F18: 3499181.9 | G18: 3985581.3 | H18: 3551627.3 | I18: 3985581.3 | J18: =3946986.7-399869.63 -> 3547117.1
B19: BONO 14 | C19: 0 | D19: 0 | E19: 0 | F19: 0 | I19: 0
B20: CUOTA PATRONAL | C20: 0 | D20: 387999.9 | E20: 0 | F20: 394552.58 | H20: 400276.26 | I20: 0 | J20: 399869.63
B21: TOTAL RECURSO HUMANO | C21: =SUM(C18:C20) -> 3985581.3 | D21: =SUM(D18:D20) -> 3830190.3 | E21: =SUM(E18:E20) -> 3985581.3 | F21: =SUM(F18:F20) -> 3893734.5 | G21: =SUM(G18:G20) -> 3985581.3 | H21: =SUM(H18:H20) -> 3951903.5 | I21: =SUM(I18:I20) -> 3985581.3 | J21: =SUM(J18:J20) -> 3946986.7
B23: GASTOS DE OPERACIÓN
A24: 111 | B24: ENERGIA ELECTRICA | C24: 0 | D24: 0 | E24: 106000 | F24: 96455.75 | G24: 106000 | H24: 0 | I24: 106000 | J24: 107590.34
A25: 113 | B25: SERVICIO DE INTERNET Y TELEFONIA | C25: 0 | D25: 0 | E25: 11825 | F25: 8643.16 | G25: 11825 | H25: 8638.1 | I25: 11825 | J25: 8966.74
A26: 122 | B26: IMPRESIÓN, ENCUADERNACION Y REPRODUCCION | C26: 0 | D26: 0 | E26: 64244.05 | F26: 0 | G26: 0 | H26: 0 | I26: 0 | J26: 4154.5
A27: 163 | B27: MANT. Y REP. EQUIPO MEDICO SANITARIO Y DE LAB. | C27: 100000 | D27: 0 | E27: 0 | F27: 0 | G27: 304339.74 | H27: 0 | I27: 0 | J27: 19341.5
A28: 169 | B28: MANT. Y REP. DE OTRAS MAQUINARIAS Y EQUIPOS | C28: 20000 | D28: 0 | E28: 0 | F28: 0 | G28: 1680 | H28: 0 | I28: 0 | J28: 1600
A29: 171 | B29: MANT. Y REPARACION DE EDIFICIOS | C29: 50000 | D29: 0 | E29: 0 | F29: 0 | G29: 7770 | H29: 0 | I29: 1260 | J29: 1300
A30: 174 | B30: MANT. Y REP. DE INSTALACIONES | C30: 53344.25 | D30: 0 | E30: 3344.25 | F30: 6520 | G30: 4761.75 | H30: 0 | I30: 4761.75 | J30: 3260
A31: 197 | B31: SERVICIOS DE VIGILANCIA | C31: 0 | D31: 0 | E31: 52000 | F31: 0 | G31: 52000 | H31: 52000 | I31: 52000 | J31: 52000
A32: 199 | B32: OTROS SERVICIOS NO PERSONALES | C32: 0 | D32: 0 | E32: 127225.9 | F32: 0 | G32: 51415.9 | H32: 43988.88 | I32: 51415.9 | J32: 86010.21
A33: 243 | B33: PRODUCTOS DE PAPEL O CARTON | C33: 0 | D33: 0 | E33: 77602.26 | F33: 0 | G33: 0 | H33: 112506.6 | I33: 0 | J33: 0
A34: 261 | B34: ELEMENTOS Y COMPUESTOS QUIMICOS | C34: 0 | D34: 0 | E34: 812953.74 | F34: 0 | G34: 0 | H34: 105279.68 | I34: 0 | J34: 71517.99
A35: 262 | B35: COMBUSTIBLES Y LUBRICANTES | C35: 17000 | D35: 0 | E35: 0 | F35: 13195 | G35: 0 | H35: 0 | I35: 0 | J35: 0
... A45: 323 | B45: EQUIPO MEDICO-SANITARIO Y DE LABORATORIO | C45: 0 | D45: 0 | E45: 0 | F45: 0 | G45: 0 | H45: 0 | I45: 0 | J45: 0
B46: TOTAL GASTOS DE OPERACIÓN | C46: =SUM(C24:C45) -> 1165344.2 | D46: =SUM(D24:D45) -> 0 | E46: =SUM(E24:E45) -> 3598165.6 | F46: =SUM(F24:F45) -> 136886.92 | G46: =SUM(G24:G45) -> 539792.39 | H46: =SUM(H24:H45) -> 1879182.5 | I46: =SUM(I24:I45) -> 227262.65 | J46: =SUM(J24:J45) -> 1267854.5
B47: TOTAL GENERAL | C47: =+C46+C21 -> 5150925.5 | D47: =+D46+D21 -> 3830190.3 | E47: =+E46+E21 -> 7583746.8 | F47: =+F46+F21 -> 4030621.4 | G47: =+G46+G21 -> 4525373.7 | H47: =+H46+H21 -> 5831086.1 | I47: =+I46+I21 -> 4212843.9 | J47: =+J46+J21 -> 5214841.2
A50: =+A14 -> Programación y ejecucion del mes de octubre por tipo de gasto, año 2025, (Expresado en Quetzales)
A51: No. | B51: =+B15 -> CATEGORIA DEL GASTO DE FUNCIONAMIENTO | C51: Mayo | E51: Junio | G51: Julio | I51: Agosto
C52: PROG. | D52: EJECUTADO | E52: PROG. | F52: EJECUTADO | G52: PROG. | H52: EJECUTADO | I52: PROG. | J52: EJECUTADO
A53: 011 | B53: RECURSO HUMANO
B54: SUELOS Y SALARIOS | C54: 3985581.3 | D54: 3571840.7 | E54: 3985581.3 | F54: 3574068.5 | G54: 7331062.7 | H54: 3541104.6 | I54: 3985581.3 | J54: 3577680.2
B55: BONO 14 | D55: 0 | H55: 3208721.7
B56: CUOTA PATRONAL | D56: 402550.66 | F56: 402616.11 | H56: 398875.22 | J56: 403148.83
B57: TOTAL RECURSO HUMANO | C57: =SUM(C54:C56) -> 3985581.3 | D57: =SUM(D54:D56) -> 3974391.3 | E57: =SUM(E54:E56) -> 3985581.3 | F57: =SUM(F54:F56) -> 3976684.6 | G57: =SUM(G54:G56) -> 7331062.7 | H57: =SUM(H54:H56) -> 7148701.5 | I57: =SUM(I54:I56) -> 3985581.3 | J57: =SUM(J54:J56) -> 3980829
B59: GASTOS DE OPERACIÓN
A60: 111 | B60: ENERGIA ELECTRICA | C60: 106000 | D60: 108453.52 | E60: 106000 | F60: 106384.31 | G60: 106000 | H60: 106955.3 | I60: 106000 | J60: 110648.44
A61: 113 | B61: SERVICIO DE INTERNET Y TELEFONIA | C61: 11825 | D61: 8811.18 | E61: 11825 | F61: 14256.06 | G61: 11825 | H61: 0 | I61: 11825 | J61: 14711.08
A62: 122 | B62: IMPRESIÓN, ENCUADERNACION Y REPRODUCCION | C62: 0 | D62: 9914.5 | E62: 0 | F62: 43465 | G62: 0 | H62: 5691.25 | I62: 0 | J62: 0
...

Sheet NOVIEMBRE DECE-5
B8: ÀREA FINANCIERA | K8: DECE-5
A10: UNIDAD DE CIRUGIA CARDIOVASCULAR DE GUATEMALA
A11: 5a. AVENIDA 6-22 ZONA 11
A12: dgunicar@yahoo.es Tel. 24163000
A14: Programación y ejecucion del mes de noviembre por tipo de gasto, año 2025, (Expresado en Quetzales)
A15: No. | B15: CATEGORIA DEL GASTO DE FUNCIONAMIENTO | C15: Enero | E15: Febrero | G15: Marzo | I15: Abril
C16: PROG. | D16: EJECUTADO | E16: PROG. | F16: EJECUTADO | G16: PROG. | H16: EJECUTADO | I16: PROG. | J16: EJECUTADO
B17: RECURSO HUMANO
A18: 011 | B18: SUELOS Y SALARIOS | C18: 3985581.3 | D18: 3442190.4 | E18: 3985581.3 | F18: 3499181.9 | G18: 3985581.3 | H18: 3551627.3 | I18: 3985581.3 | J18: =3946986.7-399869.63 -> 3547117.1
B19: BONO 14 | C19: 0 | D19: 0 | E19: 0 | F19: 0 | I19: 0
B20: CUOTA PATRONAL | C20: 0 | D20: 387999.9 | E20: 0 | F20: 394552.58 | H20: 400276.26 | I20: 0 | J20: 399869.63
B21: TOTAL RECURSO HUMANO | C21: =SUM(C18:C20) -> 3985581.3 | D21: =SUM(D18:D20) -> 3830190.3 | E21: =SUM(E18:E20) -> 3985581.3 | F21: =SUM(F18:F20) -> 3893734.5 | G21: =SUM(G18:G20) -> 3985581.3 | H21: =SUM(H18:H20) -> 3951903.5 | I21: =SUM(I18:I20) -> 3985581.3 | J21: =SUM(J18:J20) -> 3946986.7
B23: GASTOS DE OPERACIÓN
A24: 111 | B24: ENERGIA ELECTRICA | C24: 0 | D24: 0 | E24: 106000 | F24: 96455.75 | G24: 106000 | H24: 0 | I24: 106000 | J24: 107590.34
A25: 113 | B25: SERVICIO DE INTERNET Y TELEFONIA | C25: 0 | D25: 0 | E25: 11825 | F25: 8643.16 | G25: 11825 | H25: 8638.1 | I25: 11825 | J25: 8966.74
A26: 122 | B26: IMPRESIÓN, ENCUADERNACION Y REPRODUCCION | C26: 0 | D26: 0 | E26: 64244.05 | F26: 0 | G26: 0 | H26: 0 | I26: 0 | J26: 4154.5
A27: 163 | B27: MANT. Y REP. EQUIPO MEDICO SANITARIO Y DE LAB. | C27: 100000 | D27: 0 | E27: 0 | F27: 0 | G27: 304339.74 | H27: 0 | I27: 0 | J27: 19341.5
A28: 169 | B28: MANT. Y REP. DE OTRAS MAQUINARIAS Y EQUIPOS | C28: 20000 | D28: 0 | E28: 0 | F28: 0 | G28: 1680 | H28: 0 | I28: 0 | J28: 1600
A29: 171 | B29: MANT. Y REPARACION DE EDIFICIOS | C29: 50000 | D29: 0 | E29: 0 | F29: 0 | G29: 7770 | H29: 0 | I29: 1260 | J29: 1300
A30: 174 | B30: MANT. Y REP. DE INSTALACIONES | C30: 53344.25 | D30: 0 | E30: 3344.25 | F30: 6520 | G30: 4761.75 | H30: 0 | I30: 4761.75 | J30: 3260
A31: 197 | B31: SERVICIOS DE VIGILANCIA | C31: 0 | D31: 0 | E31: 52000 | F31: 0 | G31: 52000 | H31: 52000 | I31: 52000 | J31: 52000
A32: 199 | B32: OTROS SERVICIOS NO PERSONALES | C32: 0 | D32: 0 | E32: 127225.9 | F32: 0 | G32: 51415.9 | H32: 43988.88 | I32: 51415.9 | J32: 86010.21
A33: 243 | B33: PRODUCTOS DE PAPEL O CARTON | C33: 0 | D33: 0 | E33: 77602.26 | F33: 0 | G33: 0 | H33: 112506.6 | I33: 0 | J33: 0
A34: 261 | B34: ELEMENTOS Y COMPUESTOS QUIMICOS | C34: 0 | D34: 0 | E34: 812953.74 | F34: 0 | G34: 0 | H34: 105279.68 | I34: 0 | J34: 71517.99
A35: 262 | B35: COMBUSTIBLES Y LUBRICANTES | C35: 16999.48 | D35: 0 | E35: 0 | F35: 13195 | G35: 0 | H35: 0 | I35: 0 | J35: 0
... A45: 323 | B45: EQUIPO MEDICO-SANITARIO Y DE LABORATORIO | C45: 0 | D45: 0 | E45: 0 | F45: 0 | G45: 0 | H45: 0 | I45: 0 | J45: 0
B46: TOTAL GASTOS DE OPERACIÓN | C46: =SUM(C24:C45) -> 1165192.6 | D46: =SUM(D24:D45) -> 0 | E46: =SUM(E24:E45) -> 3598165.6 | F46: =SUM(F24:F45) -> 136886.92 | G46: =SUM(G24:G45) -> 539792.39 | H46: =SUM(H24:H45) -> 1879182.5 | I46: =SUM(I24:I45) -> 227262.65 | J46: =SUM(J24:J45) -> 1267854.5
B47: TOTAL GENERAL | C47: =+C46+C21 -> 5150773.9 | D47: =+D46+D21 -> 3830190.3 | E47: =+E46+E21 -> 7583746.8 | F47: =+F46+F21 -> 4030621.4 | G47: =+G46+G21 -> 4525373.7 | H47: =+H46+H21 -> 5831086.1 | I47: =+I46+I21 -> 4212843.9 | J47: =+J46+J21 -> 5214841.2
A50: =+A14 -> Programación y ejecucion del mes de noviembre por tipo de gasto, año 2025, (Expresado en Quetzales)
A51: No. | B51: =+B15 -> CATEGORIA DEL GASTO DE FUNCIONAMIENTO | C51: Mayo | E51: Junio | G51: Julio | I51: Agosto
C52: PROG. | D52: EJECUTADO | E52: PROG. | F52: EJECUTADO | G52: PROG. | H52: EJECUTADO | I52: PROG. | J52: EJECUTADO
A53: 011 | B53: RECURSO HUMANO
B54: SUELOS Y SALARIOS | C54: 3985581.3 | D54: 3571840.7 | E54: 3985581.3 | F54: 3574068.5 | G54: 7331062.7 | H54: 3541104.6 | I54: 3985581.3 | J54: 3577680.2
B55: BONO 14 | D55: 0 | H55: 3208721.7
B56: CUOTA PATRONAL | D56: 402550.66 | F56: 402616.11 | H56: 398875.22 | J56: 403148.83
B57: TOTAL RECURSO HUMANO | C57: =SUM(C54:C56) -> 3985581.3 | D57: =SUM(D54:D56) -> 3974391.3 | E57: =SUM(E54:E56) -> 3985581.3 | F57: =SUM(F54:F56) -> 3976684.6 | G57: =SUM(G54:G56) -> 7331062.7 | H57: =SUM(H54:H56) -> 7148701.5 | I57: =SUM(I54:I56) -> 3985581.3 | J57: =SUM(J54:J56) -> 3980829
B59: GASTOS DE OPERACIÓN
A60: 111 | B60: ENERGIA ELECTRICA | C60: 106000 | D60: 108453.52 | E60: 106000 | F60: 106384.31 | G60: 106000 | H60: 106955.3 | I60: 106000 | J60: 110648.44
A61: 113 | B61: SERVICIO DE INTERNET Y TELEFONIA | C61: 11825 | D61: 8811.18 | E61: 11825 | F61: 14256.06 | G61: 11825 | H61: 0 | I61: 11825 | J61: 14711.08
A62: 122 | B62: IMPRESIÓN, ENCUADERNACION Y REPRODUCCION | C62: 0 | D62: 9914.5 | E62: 0 | F62: 43465 | G62: 0 | H62: 5691.25 | I62: 0 | J62: 0
...

Sheet SEPTIEMBRE ANEXO A DECE-5
B8: ÀREA FINANCIERA | I8: ANEXO DE DECE-5
A10: UNIDAD DE CIRUGIA CARDIOVASCULAR DE GUATEMALA
A11: 5a. AVENIDA 6-22 ZONA 11
A12: dgunicar@yahoo.es Tel. 24163000
A14: Programación mensual por tipo de gasto año 2018, Expresado en Quetzales primer cuatrimestre 2018
A15: No. | B15: CATEGORIA DE GASTO | C15: ENERO | E15: FEBRERO | G15: MARZO | I15: ABRIL
C16: PRESUPUESTO | D16: REAL | E16: PRESUPUESTO | F16: REAL | G16: PRESUPUESTO | H16: REAL | I16: PRESUPUESTO | J16: REAL
B17: RECURSO HUMANO | C17: 1764858.4 | D17: 1492317.4 | E17: 1764858.4 | F17: 1792563.6 | G17: 1764858.4 | H17: 1578007.9 | I17: 1764858.4 | J17: 1803793.6
B19: GASTOS DE FUNCIONAMIENTO | C19: =+C27+C43 -> 2818474.9 | D19: =+D27+D43 -> 0 | E19: =+E27+E43 -> 2818474.9 | F19: =+F27+F43 -> 67111.02 | G19: =+G27+G43 -> 2818474.9 | H19: =+H27+H43 -> 58543.64 | I19: =+I27+I43 -> 2818474.9 | J19: =+J27+J43 -> 3743927.3
B20: ENERGIA ELECTRICA | C20: 62500 | E20: 62500 | F20: 56112.02 | G20: 62500 | I20: 62500 | J20: 68083.01
B21: TELEFONIA | C21: 7500 | E21: 7500 | F21: 10999 | G21: 7500 | H21: 11011 | I21: 7500 | J21: 10992
B22: IMPRESIÓN, ENCUADERNACION Y REPRODUCCION | C22: 8133.97 | E22: 8133.97 | G22: 8133.97 | I22: 8133.97 | J22: 4358
B23: MANT. Y REP. EQUIPO MEDICO SANITARIO Y DE LAB. | C23: 33333.33 | E23: 33333.33 | G23: 33333.33 | I23: 33333.33 | J23: 45020
B24: SERVICIOS MEDICO-SANITARIOS | C24: 165141.75 | E24: 165141.75 | G24: 165141.75 | H24: 1000 | I24: 165141.75 | J24: 26842.86
B25: SERVICIOS DE VIGILANCIA | C25: 40000 | E25: 40000 | G25: 40000 | I25: 40000 | J25: 76240
B26: OTROS SERVICIOS NO PERSONALES | C26: 26305.03 | E26: 26305.03 | G26: 26305.03 | H26: 46532.64 | I26: 26305.03 | J26: 55063.68
B27: SUMA GASTOS GENERALES | C27: =SUM(C20:C26) -> 342914.08 | D27: =SUM(D20:D26) -> 0 | E27: =SUM(E20:E26) -> 342914.08 | F27: =SUM(F20:F26) -> 67111.02 | G27: =SUM(G20:G26) -> 342914.08 | H27: =SUM(H20:H26) -> 58543.64 | I27: =SUM(I20:I26) -> 342914.08 | J27: =SUM(J20:J26) -> 286599.55
B28: MATERIALES Y SUMINISTROS
B29: ALIMENTOS PARA PERSONAS | C29: 60936.45 | E29: 60936.45 | G29: 60936.45 | I29: 60936.45 | J29: 202940.25
B30: ACABADOS TEXTILES | C30: 600 | E30: 600 | G30: 600 | I30: 600
B31: PRODUCTOS DE PAPEL O CARTON | C31: 945.42 | E31: 945.42 | G31: 945.42 | I31: 945.42
B32: ELEMENTOS Y COMPUESTOS QUIMICOS | C32: 169652.57 | E32: 169652.57 | G32: 169652.57 | I32: 169652.57 | J32: 178282.05
B33: COMBUSTIBLES Y LUBRICANTES | C33: 912 | E33: 912 | G33: 912 | I33: 912
B34: PRODUCTOS MEDICINALES Y FARMACEUTICOS | C34: 427229.65 | E34: 427229.65 | G34: 427229.65 | I34: 427229.65 | J34: 1425199.8
B35: TINTES, PINTURAS Y COLORANTES | C35: 100 | E35: 100 | G35: 100 | I35: 100
B36: PRODUCTOS PLASTICOS, NYLON, VINIL Y PVC | C36: 13579.7 | E36: 13579.7 | G36: 13579.7 | I36: 13579.7 | J36: 75162.24
B37: OTROS PRODUCTOS METALICOS | C37: 310 | E37: 310 | G37: 310 | I37: 310
B38: UTILES DE LIMPIEZA Y PRODUCTOS SANITARIOS | C38: 10809.43 | E38: 10809.43 | G38: 10809.43 | I38: 10809.43 | J38: 14528.6
B39: UTILES MENORES MEDICO QUIRURGICOS Y DE LAB. | C39: 1780006.3 | E39: 1780006.3 | G39: 1780006.3 | I39: 1780006.3 | J39: 1545914.8
B40: UTILES, ACCESORIOS Y MATERIALES ELECTRICOS | C40: 2208.7 | E40: 2208.7 | G40: 2208.7 | I40: 2208.7 | J40: 15300
B41: ACCESORIOS Y REPUESTOS EN GENERAL | C41: 8105.1 | E41: 8105.1 | G41: 8105.1 | I41: 8105.1
B42: OTROS MATERIALES Y SUMINISTROS | C42: 165.5 | E42: 165.5 | G42: 165.5 | I42: 165.5
B43: TOTAL MATERIALES Y SUMINISTROS | C43: =SUM(C29:C42) -> 2475560.8 | D43: =SUM(D29:D42) -> 0 | E43: =SUM(E29:E42) -> 2475560.8 | F43: =SUM(F29:F42) -> 0 | G43: =SUM(G29:G42) -> 2475560.8 | H43: =SUM(H29:H42) -> 0 | I43: =SUM(I29:I42) -> 2475560.8 | J43: =SUM(J29:J42) -> 3457327.8
A46: Programación mensual por tipo de gasto año 2016, Expresado en Quetzales
A47: No. | B47: Categoría de Gasto | C47: Julio | E47: Agosto | G47: Septiembre
B48: Recurso Humano | C48: Pto. | D48: Real | E48: Pto. | F48: Real | G48: Pto. | H48: Real
B51: Gastos de Funcionamiento
B52: detallar cada gasto cargado
A60: TOTALES
A73: Programación mensual por tipo de gasto año 2018, Expresado en Quetzales segundo cuatrimestre 2018
...

Sheet OCTUBRE ANEXO A DECE-5
B8: ÀREA FINANCIERA | I8: ANEXO DE DECE-5
A10: UNIDAD DE CIRUGIA CARDIOVASCULAR DE GUATEMALA
A11: 5a. AVENIDA 6-22 ZONA 11
A12: dgunicar@yahoo.es Tel. 24163000
A14: Programación mensual por tipo de gasto año 2018, Expresado en Quetzales primer cuatrimestre 2018
A15: No. | B15: CATEGORIA DE GASTO | C15: ENERO | E15: FEBRERO | G15: MARZO | I15: ABRIL
C16: PRESUPUESTO | D16: REAL | E16: PRESUPUESTO | F16: REAL | G16: PRESUPUESTO | H16: REAL | I16: PRESUPUESTO | J16: REAL
B17: RECURSO HUMANO | C17: 1764858.4 | D17: 1492317.4 | E17: 1764858.4 | F17: 1792563.6 | G17: 1764858.4 | H17: 1578007.9 | I17: 1764858.4 | J17: 1803793.6
B19: GASTOS DE FUNCIONAMIENTO | C19: =+C27+C43 -> 2818474.9 | D19: =+D27+D43 -> 0 | E19: =+E27+E43 -> 2818474.9 | F19: =+F27+F43 -> 67111.02 | G19: =+G27+G43 -> 2818474.9 | H19: =+H27+H43 -> 58543.64 | I19: =+I27+I43 -> 2818474.9 | J19: =+J27+J43 -> 3743927.3
B20: ENERGIA ELECTRICA | C20: 62500 | E20: 62500 | F20: 56112.02 | G20: 62500 | I20: 62500 | J20: 68083.01
B21: TELEFONIA | C21: 7500 | E21: 7500 | F21: 10999 | G21: 7500 | H21: 11011 | I21: 7500 | J21: 10992
B22: IMPRESIÓN, ENCUADERNACION Y REPRODUCCION | C22: 8133.97 | E22: 8133.97 | G22: 8133.97 | I22: 8133.97 | J22: 4358
B23: MANT. Y REP. EQUIPO MEDICO SANITARIO Y DE LAB. | C23: 33333.33 | E23: 33333.33 | G23: 33333.33 | I23: 33333.33 | J23: 45020
B24: SERVICIOS MEDICO-SANITARIOS | C24: 165141.75 | E24: 165141.75 | G24: 165141.75 | H24: 1000 | I24: 165141.75 | J24: 26842.86
B25: SERVICIOS DE VIGILANCIA | C25: 40000 | E25: 40000 | G25: 40000 | I25: 40000 | J25: 76240
B26: OTROS SERVICIOS NO PERSONALES | C26: 26305.03 | E26: 26305.03 | G26: 26305.03 | H26: 46532.64 | I26: 26305.03 | J26: 55063.68
B27: SUMA GASTOS GENERALES | C27: =SUM(C20:C26) -> 342914.08 | D27: =SUM(D20:D26) -> 0 | E27: =SUM(E20:E26) -> 342914.08 | F27: =SUM(F20:F26) -> 67111.02 | G27: =SUM(G20:G26) -> 342914.08 | H27: =SUM(H20:H26) -> 58543.64 | I27: =SUM(I20:I26) -> 342914.08 | J27: =SUM(J20:J26) -> 286599.55
B28: MATERIALES Y SUMINISTROS
B29: ALIMENTOS PARA PERSONAS | C29: 60936.45 | E29: 60936.45 | G29: 60936.45 | I29: 60936.45 | J29: 202940.25
B30: ACABADOS TEXTILES | C30: 600 | E30: 600 | G30: 600 | I30: 600
B31: PRODUCTOS DE PAPEL O CARTON | C31: 945.42 | E31: 945.42 | G31: 945.42 | I31: 945.42
B32: ELEMENTOS Y COMPUESTOS QUIMICOS | C32: 169652.57 | E32: 169652.57 | G32: 169652.57 | I32: 169652.57 | J32: 178282.05
B33: COMBUSTIBLES Y LUBRICANTES | C33: 912 | E33: 912 | G33: 912 | I33: 912
B34: PRODUCTOS MEDICINALES Y FARMACEUTICOS | C34: 427229.65 | E34: 427229.65 | G34: 427229.65 | I34: 427229.65 | J34: 1425199.8
B35: TINTES, PINTURAS Y COLORANTES | C35: 100 | E35: 100 | G35: 100 | I35: 100
B36: PRODUCTOS PLASTICOS, NYLON, VINIL Y PVC | C36: 13579.7 | E36: 13579.7 | G36: 13579.7 | I36: 13579.7 | J36: 75162.24
B37: OTROS PRODUCTOS METALICOS | C37: 310 | E37: 310 | G37: 310 | I37: 310
B38: UTILES DE LIMPIEZA Y PRODUCTOS SANITARIOS | C38: 10809.43 | E38: 10809.43 | G38: 10809.43 | I38: 10809.43 | J38: 14528.6
B39: UTILES MENORES MEDICO QUIRURGICOS Y DE LAB. | C39: 1780006.3 | E39: 1780006.3 | G39: 1780006.3 | I39: 1780006.3 | J39: 1545914.8
B40: UTILES, ACCESORIOS Y MATERIALES ELECTRICOS | C40: 2208.7 | E40: 2208.7 | G40: 2208.7 | I40: 2208.7 | J40: 15300
B41: ACCESORIOS Y REPUESTOS EN GENERAL | C41: 8105.1 | E41: 8105.1 | G41: 8105.1 | I41: 8105.1
B42: OTROS MATERIALES Y SUMINISTROS | C42: 165.5 | E42: 165.5 | G42: 165.5 | I42: 165.5
B43: TOTAL MATERIALES Y SUMINISTROS | C43: =SUM(C29:C42) -> 2475560.8 | D43: =SUM(D29:D42) -> 0 | E43: =SUM(E29:E42) -> 2475560.8 | F43: =SUM(F29:F42) -> 0 | G43: =SUM(G29:G42) -> 2475560.8 | H43: =SUM(H29:H42) -> 0 | I43: =SUM(I29:I42) -> 2475560.8 | J43: =SUM(J29:J42) -> 3457327.8
A46: Programación mensual por tipo de gasto año 2016, Expresado en Quetzales
A47: No. | B47: Categoría de Gasto | C47: Julio | E47: Agosto | G47: Septiembre
B48: Recurso Humano | C48: Pto. | D48: Real | E48: Pto. | F48: Real | G48: Pto. | H48: Real
B51: Gastos de Funcionamiento
B52: detallar cada gasto cargado
A60: TOTALES
A73: Programación mensual por tipo de gasto año 2018, Expresado en Quetzales segundo cuatrimestre 2018
...

Sheet NOVIEMBRE ANEXO A DECE-5
B8: ÀREA FINANCIERA | I8: ANEXO DE DECE-5
A10: UNIDAD DE CIRUGIA CARDIOVASCULAR DE GUATEMALA
A11: 5a. AVENIDA 6-22 ZONA 11
A12: dgunicar@yahoo.es Tel. 24163000
A14: Programación mensual por tipo de gasto año 2018, Expresado en Quetzales primer cuatrimestre 2018
A15: No. | B15: CATEGORIA DE GASTO | C15: ENERO | E15: FEBRERO | G15: MARZO | I15: ABRIL
C16: PRESUPUESTO | D16: REAL | E16: PRESUPUESTO | F16: REAL | G16: PRESUPUESTO | H16: REAL | I16: PRESUPUESTO | J16: REAL
B17: RECURSO HUMANO | C17: 1764858.4 | D17: 1492317.4 | E17: 1764858.4 | F17: 1792563.6 | G17: 1764858.4 | H17: 1578007.9 | I17: 1764858.4 | J17: 1803793.6
B19: GASTOS DE FUNCIONAMIENTO | C19: =+C27+C43 -> 2818474.9 | D19: =+D27+D43 -> 0 | E19: =+E27+E43 -> 2818474.9 | F19: =+F27+F43 -> 67111.02 | G19: =+G27+G43 -> 2818474.9 | H19: =+H27+H43 -> 58543.64 | I19: =+I27+I43 -> 2818474.9 | J19: =+J27+J43 -> 3743927.3
B20: ENERGIA ELECTRICA | C20: 62500 | E20: 62500 | F20: 56112.02 | G20: 62500 | I20: 62500 | J20: 68083.01
B21: TELEFONIA | C21: 7500 | E21: 7500 | F21: 10999 | G21: 7500 | H21: 11011 | I21: 7500 | J21: 10992
B22: IMPRESIÓN, ENCUADERNACION Y REPRODUCCION | C22: 8133.97 | E22: 8133.97 | G22: 8133.97 | I22: 8133.97 | J22: 4358
B23: MANT. Y REP. EQUIPO MEDICO SANITARIO Y DE LAB. | C23: 33333.33 | E23: 33333.33 | G23: 33333.33 | I23: 33333.33 | J23: 45020
B24: SERVICIOS MEDICO-SANITARIOS | C24: 165141.75 | E24: 165141.75 | G24: 165141.75 | H24: 1000 | I24: 165141.75 | J24: 26842.86
B25: SERVICIOS DE VIGILANCIA | C25: 40000 | E25: 40000 | G25: 40000 | I25: 40000 | J25: 76240
B26: OTROS SERVICIOS NO PERSONALES | C26: 26305.03 | E26: 26305.03 | G26: 26305.03 | H26: 46532.64 | I26: 26305.03 | J26: 55063.68
B27: SUMA GASTOS GENERALES | C27: =SUM(C20:C26) -> 342914.08 | D27: =SUM(D20:D26) -> 0 | E27: =SUM(E20:E26) -> 342914.08 | F27: =SUM(F20:F26) -> 67111.02 | G27: =SUM(G20:G26) -> 342914.08 | H27: =SUM(H20:H26) -> 58543.64 | I27: =SUM(I20:I26) -> 342914.08 | J27: =SUM(J20:J26) -> 286599.55
B28: MATERIALES Y SUMINISTROS
B29: ALIMENTOS PARA PERSONAS | C29: 60936.45 | E29: 60936.45 | G29: 60936.45 | I29: 60936.45 | J29: 202940.25
B30: ACABADOS TEXTILES | C30: 600 | E30: 600 | G30: 600 | I30: 600
B31: PRODUCTOS DE PAPEL O CARTON | C31: 945.42 | E31: 945.42 | G31: 945.42 | I31: 945.42
B32: ELEMENTOS Y COMPUESTOS QUIMICOS | C32: 169652.57 | E32: 169652.57 | G32: 169652.57 | I32: 169652.57 | J32: 178282.05
B33: COMBUSTIBLES Y LUBRICANTES | C33: 912 | E33: 912 | G33: 912 | I33: 912
B34: PRODUCTOS MEDICINALES Y FARMACEUTICOS | C34: 427229.65 | E34: 427229.65 | G34: 427229.65 | I34: 427229.65 | J34: 1425199.8
B35: TINTES, PINTURAS Y COLORANTES | C35: 100 | E35: 100 | G35: 100 | I35: 100
B36: PRODUCTOS PLASTICOS, NYLON, VINIL Y PVC | C36: 13579.7 | E36: 13579.7 | G36: 13579.7 | I36: 13579.7 | J36: 75162.24
B37: OTROS PRODUCTOS METALICOS | C37: 310 | E37: 310 | G37: 310 | I37: 310
B38: UTILES DE LIMPIEZA Y PRODUCTOS SANITARIOS | C38: 10809.43 | E38: 10809.43 | G38: 10809.43 | I38: 10809.43 | J38: 14528.6
B39: UTILES MENORES MEDICO QUIRURGICOS Y DE LAB. | C39: 1780006.3 | E39: 1780006.3 | G39: 1780006.3 | I39: 1780006.3 | J39: 1545914.8
B40: UTILES, ACCESORIOS Y MATERIALES ELECTRICOS | C40: 2208.7 | E40: 2208.7 | G40: 2208.7 | I40: 2208.7 | J40: 15300
B41: ACCESORIOS Y REPUESTOS EN GENERAL | C41: 8105.1 | E41: 8105.1 | G41: 8105.1 | I41: 8105.1
B42: OTROS MATERIALES Y SUMINISTROS | C42: 165.5 | E42: 165.5 | G42: 165.5 | I42: 165.5
B43: TOTAL MATERIALES Y SUMINISTROS | C43: =SUM(C29:C42) -> 2475560.8 | D43: =SUM(D29:D42) -> 0 | E43: =SUM(E29:E42) -> 2475560.8 | F43: =SUM(F29:F42) -> 0 | G43: =SUM(G29:G42) -> 2475560.8 | H43: =SUM(H29:H42) -> 0 | I43: =SUM(I29:I42) -> 2475560.8 | J43: =SUM(J29:J42) -> 3457327.8
A46: Programación mensual por tipo de gasto año 2016, Expresado en Quetzales
A47: No. | B47: Categoría de Gasto | C47: Julio | E47: Agosto | G47: Septiembre
B48: Recurso Humano | C48: Pto. | D48: Real | E48: Pto. | F48: Real | G48: Pto. | H48: Real
B51: Gastos de Funcionamiento
B52: detallar cada gasto cargado
A60: TOTALES
A73: Programación mensual por tipo de gasto año 2018, Expresado en Quetzales segundo cuatrimestre 2018
...

Sheet SEPTIEMBRE DECE-6
B7: ÀREA FINANCIERA | J7: DECE-6
A9: UNIDAD DE CIRUGIA CARDIOVASCULAR DE GUATEMALA
A10: 5a. AVENIDA 6-22 ZONA 11
A11: CORREO ELECTRÓNICO Y TELÉFONO
A12: dgunicar@yahoo.es Tel. 24163000
A14: Ejecucion fìnanciera por categoria del gasto del mes de septiembre, año 2025
A16: Categoría del gasto de funcionamiento | B16: Enero | D16: Febrero | F16: Marzo | H16: Abril
B17: Prog. | C17: Ejecutado | D17: Prog. | E17: Ejecutado | F17: Prog. | G17: Ejecutado | H17: Prog. | I17: Ejecutado
A18: Recurso Humano | B18: 3985581.3 | C18: 3830190.3 | D18: 3985581.3 | E18: 3893734.5 | F18: 3985581.3 | G18: 3951903.5 | H18: 3985581.3 | I18: 3946986.7
A19: Gastos de operación | B19: 1165344.2 | C19: 0 | D19: 3598165.6 | E19: 136886.92 | F19: 539792.39 | G19: 1879182.5 | H19: 227262.65 | I19: 1267854.5
A20: Propiedad planta y equipo | B20: 0 | C20: 0 | D20: 0 | E20: 0 | F20: 0 | G20: 0 | H20: 0 | I20: 0
A21: TOTAL | B21: =SUM(B18:B20) -> 5150925.5 | C21: =SUM(C18:C20) -> 3830190.3 | D21: =SUM(D18:D20) -> 7583746.8 | E21: =SUM(E18:E20) -> 4030621.4 | F21: =SUM(F18:F20) -> 4525373.7 | G21: =SUM(G18:G20) -> 5831086.1 | H21: =SUM(H18:H20) -> 4212843.9 | I21: =SUM(I18:I20) -> 5214841.2
A23: Ejecucion fìnanciera por categoria del gasto del mes de septiembre, año 2025
A25: Categoría del gasto de funcionamiento | B25: Mayo | D25: Junio | F25: Julio | H25: Agosto
B26: Prog. | C26: Ejecutado | D26: Prog. | E26: Ejecutado | F26: Prog. | G26: Ejecutado | H26: Prog. | I26: Ejecutado
A27: Recurso Humano | B27: 3985581.3 | C27: 3974391.3 | D27: 3985581.3 | E27: 3976684.6 | F27: 7331062.7 | G27: 7148701.5 | H27: 3985581.3 | I27: 3980829
A28: Gastos de operación | B28: 2828722.6 | C28: 1415750.8 | D28: 33139324 | E28: 1862268 | F28: 4507355.6 | G28: 2777077.4 | H28: 7241437.7 | I28: 5323886.5
A29: TOTAL | B29: =SUM(B27:B28) -> 6814303.9 | C29: =SUM(C27:C28) -> 5390142.1 | D29: =SUM(D27:D28) -> 37124905 | E29: =SUM(E27:E28) -> 5838952.5 | F29: =SUM(F27:F28) -> 11838418 | G29: =SUM(G27:G28) -> 9925778.9 | H29: =SUM(H27:H28) -> 11227019 | I29: =SUM(I27:I28) -> 9304715.6
A32: Ejecucion fìnanciera por categoria del gasto del mes de septiembre, año 2025
A34: Categoría del gasto de funcionamiento | B34: Septiembre | D34: Octubre | F34: Noviembre | H34: Diciembre | J34: Total acumulado anual
B35: Prog. | C35: Ejecutado | D35: Prog. | E35: Ejecutado | F35: Prog. | G35: Ejecutado | H35: Prog. | I35: Ejecutado | J35: Prog. | K35: Ejecutado
A36: Recurso Humano | B36: 3985581.3 | C36: =3569080.07+402169.52 -> 3971249.6 | J36: =+B18+D18+F18+H18+B27+D27+F27+H27+B36+D36+F36+H36 -> 39215713 | K36: =+C18+E18+G18+I18+C27+E27+G27+I27+C36+E36+G36+I36 -> 38674671
A37: Gastos de operación | B37: 965668.5 | C37: 11949316 | J37: =+B19+D19+F19+H19+B28+D28+F28+H28+B37+D37+F37+H37 -> 54213073 | K37: =+C19+E19+G19+I19+C28+E28+G28+I28+C37+E37+G37+I37 -> 26612223
A38: TOTAL | B38: =SUM(B36:B37) -> 4951249.8 | C38: =SUM(C36:C37) -> 15920566 | D38: =SUM(D36:D37) -> 0 | E38: =SUM(E36:E37) -> 0 | F38: =SUM(F36:F37) -> 0 | G38: =SUM(G36:G37) -> 0 | H38: =SUM(H36:H37) -> 0 | I38: =SUM(I36:I37) -> 0 | ... K38: =SUM(K36:K37) -> 65286894
A40: Resumen año 2025
A41: Categoría del gasto | B41: año 2025
B42: Presupuestado | C42: Ejecutado
A43: Recurso Humano | B43: =+J18+J27+J36 -> 39215713 | C43: =+K18+K27+K36 -> 38674671
A44: Gastos de operación | B44: =+J19+J28+J37 -> 54213073 | C44: =+K19+K28+K37 -> 26612223
A45: TOTAL | B45: =SUM(B43:B44) -> 93428786 | C45: =SUM(C43:C44) -> 65286894
A69: Elaborado por: | C69: ___________________________ | F69: Autorizado por: | H69: ___________________________________
C70: Víctor Cresencio Reyes Porres | H70: Lic. Douglas Antonio Díaz Rivera
C71: Jefe de Contabilidad | H71: Representante Legal
A72: Fecha: | C72: 10 de octubre 2025

Sheet OCTUBRE DECE-6
B7: ÀREA FINANCIERA | J7: DECE-6
A9: UNIDAD DE CIRUGIA CARDIOVASCULAR DE GUATEMALA
A10: 5a. AVENIDA 6-22 ZONA 11
A11: CORREO ELECTRÓNICO Y TELÉFONO
A12: dgunicar@yahoo.es Tel. 24163000
A14: Ejecucion fìnanciera por categoria del gasto del mes de octubre, año 2025
A16: Categoría del gasto de funcionamiento | B16: Enero | D16: Febrero | F16: Marzo | H16: Abril
B17: Prog. | C17: Ejecutado | D17: Prog. | E17: Ejecutado | F17: Prog. | G17: Ejecutado | H17: Prog. | I17: Ejecutado
A18: Recurso Humano | B18: 3985581.3 | C18: 3830190.3 | D18: 3985581.3 | E18: 3893734.5 | F18: 3985581.3 | G18: 3951903.5 | H18: 3985581.3 | I18: 3946986.7
A19: Gastos de operación | B19: 1165344.2 | C19: 0 | D19: 3598165.6 | E19: 136886.92 | F19: 539792.39 | G19: 1879182.5 | H19: 227262.65 | I19: 1267854.5
A20: Propiedad planta y equipo | B20: 0 | C20: 0 | D20: 0 | E20: 0 | F20: 0 | G20: 0 | H20: 0 | I20: 0
A21: TOTAL | B21: =SUM(B18:B20) -> 5150925.5 | C21: =SUM(C18:C20) -> 3830190.3 | D21: =SUM(D18:D20) -> 7583746.8 | E21: =SUM(E18:E20) -> 4030621.4 | F21: =SUM(F18:F20) -> 4525373.7 | G21: =SUM(G18:G20) -> 5831086.1 | H21: =SUM(H18:H20) -> 4212843.9 | I21: =SUM(I18:I20) -> 5214841.2
A23: Ejecucion fìnanciera por categoria del gasto del mes de octubre, año 2025
A25: Categoría del gasto de funcionamiento | B25: Mayo | D25: Junio | F25: Julio | H25: Agosto
B26: Prog. | C26: Ejecutado | D26: Prog. | E26: Ejecutado | F26: Prog. | G26: Ejecutado | H26: Prog. | I26: Ejecutado
A27: Recurso Humano | B27: 3985581.3 | C27: 3974391.3 | D27: 3985581.3 | E27: 3976684.6 | F27: 7331062.7 | G27: 7148701.5 | H27: 3985581.3 | I27: 3980829
A28: Gastos de operación | B28: 2828722.6 | C28: 1415750.8 | D28: 33139324 | E28: 1862268 | F28: 4507355.6 | G28: 2777077.4 | H28: 7241437.7 | I28: 5323886.5
A29: TOTAL | B29: =SUM(B27:B28) -> 6814303.9 | C29: =SUM(C27:C28) -> 5390142.1 | D29: =SUM(D27:D28) -> 37124905 | E29: =SUM(E27:E28) -> 5838952.5 | F29: =SUM(F27:F28) -> 11838418 | G29: =SUM(G27:G28) -> 9925778.9 | H29: =SUM(H27:H28) -> 11227019 | I29: =SUM(I27:I28) -> 9304715.6
A32: Ejecucion fìnanciera por categoria del gasto del mes de octubre, año 2025
A34: Categoría del gasto de funcionamiento | B34: Septiembre | D34: Octubre | F34: Noviembre | H34: Diciembre | J34: Total acumulado anual
B35: Prog. | C35: Ejecutado | D35: Prog. | E35: Ejecutado | F35: Prog. | G35: Ejecutado | H35: Prog. | I35: Ejecutado | J35: Prog. | K35: Ejecutado
A36: Recurso Humano | B36: 3985581.3 | C36: =3569080.07+402169.52 -> 3971249.6 | D36: 3985581.3 | E36: 4006644.9 | J36: =+B18+D18+F18+H18+B27+D27+F27+H27+B36+D36+F36+H36 -> 43201294 | K36: =+C18+E18+G18+I18+C27+E27+G27+I27+C36+E36+G36+I36 -> 42681316
A37: Gastos de operación | B37: 965668.5 | C37: 11949316 | D37: 232462.65 | E37: 4028331.5 | J37: =+B19+D19+F19+H19+B28+D28+F28+H28+B37+D37+F37+H37 -> 54445536 | K37: =+C19+E19+G19+I19+C28+E28+G28+I28+C37+E37+G37+I37 -> 30640554
A38: TOTAL | B38: =SUM(B36:B37) -> 4951249.8 | C38: =SUM(C36:C37) -> 15920566 | D38: =SUM(D36:D37) -> 4218043.9 | E38: =SUM(E36:E37) -> 8034976.4 | F38: =SUM(F36:F37) -> 0 | G38: =SUM(G36:G37) -> 0 | H38: =SUM(H36:H37) -> 0 | I38: =SUM(I36:I37) -> 0 | ... K38: =SUM(K36:K37) -> 73321870
A40: Resumen año 2025
A41: Categoría del gasto | B41: año 2025
B42: Presupuestado | C42: Ejecutado
A43: Recurso Humano | B43: =+J18+J27+J36 -> 43201294 | C43: =+K18+K27+K36 -> 42681316
A44: Gastos de operación | B44: =+J19+J28+J37 -> 54445536 | C44: =+K19+K28+K37 -> 30640554
A45: TOTAL | B45: =SUM(B43:B44) -> 97646830 | C45: =SUM(C43:C44) -> 73321870
A69: Elaborado por: | C69: ___________________________ | F69: Autorizado por: | H69: ___________________________________
C70: Víctor Cresencio Reyes Porres | H70: Lic. Douglas Antonio Díaz Rivera
C71: Jefe de Contabilidad | H71: Representante Legal
A72: Fecha: | C72: 10 de noviembre 2025

Sheet NOVIEMBRE DECE-6
B7: ÀREA FINANCIERA | J7: DECE-6
A9: UNIDAD DE CIRUGIA CARDIOVASCULAR DE GUATEMALA
A10: 5a. AVENIDA 6-22 ZONA 11
A11: CORREO ELECTRÓNICO Y TELÉFONO
A12: dgunicar@yahoo.es Tel. 24163000
A14: Ejecucion fìnanciera por categoria del gasto del mes de noviembre, año 2025
A16: Categoría del gasto de funcionamiento | B16: Enero | D16: Febrero | F16: Marzo | H16: Abril
B17: Prog. | C17: Ejecutado | D17: Prog. | E17: Ejecutado | F17: Prog. | G17: Ejecutado | H17: Prog. | I17: Ejecutado
A18: Recurso Humano | B18: 3985581.3 | C18: 3830190.3 | D18: 3985581.3 | E18: 3893734.5 | F18: 3985581.3 | G18: 3951903.5 | H18: 3985581.3 | I18: 3946986.7
A19: Gastos de operación | B19: 1165192.6 | C19: 0 | D19: 3598165.6 | E19: 136886.92 | F19: 539792.39 | G19: 1879182.5 | H19: 227262.65 | I19: 1267854.5
A20: Propiedad planta y equipo | B20: 0 | C20: 0 | D20: 0 | E20: 0 | F20: 0 | G20: 0 | H20: 0 | I20: 0
A21: TOTAL | B21: =SUM(B18:B20) -> 5150773.9 | C21: =SUM(C18:C20) -> 3830190.3 | D21: =SUM(D18:D20) -> 7583746.8 | E21: =SUM(E18:E20) -> 4030621.4 | F21: =SUM(F18:F20) -> 4525373.7 | G21: =SUM(G18:G20) -> 5831086.1 | H21: =SUM(H18:H20) -> 4212843.9 | I21: =SUM(I18:I20) -> 5214841.2
A23: Ejecucion fìnanciera por categoria del gasto del mes de noviembre, año 2025
A25: Categoría del gasto de funcionamiento | B25: Mayo | D25: Junio | F25: Julio | H25: Agosto
B26: Prog. | C26: Ejecutado | D26: Prog. | E26: Ejecutado | F26: Prog. | G26: Ejecutado | H26: Prog. | I26: Ejecutado
A27: Recurso Humano | B27: 3985581.3 | C27: 3974391.3 | D27: 3985581.3 | E27: 3976684.6 | F27: 7331062.7 | G27: 7148701.5 | H27: 3985581.3 | I27: 3980829
A28: Gastos de operación | B28: 2828464.5 | C28: 1415750.8 | D28: 33139324 | E28: 1862268 | F28: 4507355.6 | G28: 2777077.4 | H28: 7163778.9 | I28: 5323886.5
A29: TOTAL | B29: =SUM(B27:B28) -> 6814045.8 | C29: =SUM(C27:C28) -> 5390142.1 | D29: =SUM(D27:D28) -> 37124905 | E29: =SUM(E27:E28) -> 5838952.5 | F29: =SUM(F27:F28) -> 11838418 | G29: =SUM(G27:G28) -> 9925778.9 | H29: =SUM(H27:H28) -> 11149360 | I29: =SUM(I27:I28) -> 9304715.6
A32: Ejecucion fìnanciera por categoria del gasto del mes de noviembre, año 2025
A34: Categoría del gasto de funcionamiento | B34: Septiembre | D34: Octubre | F34: Noviembre | H34: Diciembre | J34: Total acumulado anual
B35: Prog. | C35: Ejecutado | D35: Prog. | E35: Ejecutado | F35: Prog. | G35: Ejecutado | H35: Prog. | I35: Ejecutado | J35: Prog. | K35: Ejecutado
A36: Recurso Humano | B36: 3985581.3 | C36: =3569080.07+402169.52 -> 3971249.6 | D36: 3985581.3 | E36: 4006644.9 | F36: 3985581.3 | G36: 4237527.5 | J36: =+B18+D18+F18+H18+B27+D27+F27+H27+B36+D36+F36+H36 -> 47186875 | K36: =+C18+E18+G18+I18+C27+E27+G27+I27+C36+E36+G36+I36 -> 46918844
A37: Gastos de operación | B37: 895576.53 | C37: 11949316 | D37: 232462.65 | E37: 4028331.5 | F37: 741763.68 | G37: 15852502 | J37: =+B19+D19+F19+H19+B28+D28+F28+H28+B37+D37+F37+H37 -> 55039139 | K37: =+C19+E19+G19+I19+C28+E28+G28+I28+C37+E37+G37+I37 -> 46493057
A38: TOTAL | B38: =SUM(B36:B37) -> 4881157.8 | C38: =SUM(C36:C37) -> 15920566 | D38: =SUM(D36:D37) -> 4218043.9 | E38: =SUM(E36:E37) -> 8034976.4 | F38: =SUM(F36:F37) -> 4727345 | G38: =SUM(G36:G37) -> 20090030 | H38: =SUM(H36:H37) -> 0 | I38: =SUM(I36:I37) -> 0 | ... K38: =SUM(K36:K37) -> 93411900
A40: Resumen año 2025
A41: Categoría del gasto | B41: año 2025
B42: Presupuestado | C42: Ejecutado
A43: Recurso Humano | B43: =+J18+J27+J36 -> 47186875 | C43: =+K18+K27+K36 -> 46918844
A44: Gastos de operación | B44: =+J19+J28+J37 -> 55039139 | C44: =+K19+K28+K37 -> 46493057
A45: TOTAL | B45: =SUM(B43:B44) -> 1.0222601e+08 | C45: =SUM(C43:C44) -> 93411900
A69: Elaborado por: | C69: ___________________________ | F69: Autorizado por: | H69: ___________________________________
C70: Víctor Cresencio Reyes Porres | H70: Lic. Douglas Antonio Díaz Rivera
C71: Jefe de Contabilidad | H71: Representante Legal
A72: Fecha: | C72: 10 de diciembre 2025

Sheet EJEC. FISICA SEPTIEMBRE DECE-8
L2: DECE-8
A6: UNIDAD DE CIRUGIA CARDIOVASCULAR DE GUATEMALA
A7: 5a. AVENIDA 6-22 ZONA 11
A8: dgunicar@yahoo.es Tel. 24163000
B10: Ejecucion mes de septiembre, de metas fisicas y servicios, año 2025
A11: No. | B11: Meta/Servicio | C11: Enero | E11: Febrero | G11: Marzo | I11: Abril
C12: Programado | D12: Ejecutado | E12: Programado | F12: Ejecutado | G12: Programado | H12: Ejecutado | I12: Programado | J12: Ejecutado
A13: 1 | B13: CIRUGIA DE ADULTOS | C13: 18 | D13: 12 | E13: 19 | F13: 19 | G13: 19 | H13: 14 | I13: 12 | J13: 20
A14: 2 | B14: CIRUGIA DE PEDIATRIA | C14: 14 | D14: 11 | E14: 16 | F14: 9 | G14: 16 | H14: 11 | I14: 12 | J14: 18
A15: 3 | B15: HEMODINAMIA ADULTOS | C15: 75 | D15: 96 | E15: 82 | F15: 80 | G15: 82 | H15: 93 | I15: 65 | J15: 75
A16: 4 | B16: HEMODINAMIA PEDIATRIA | C16: 10 | D16: 8 | E16: 16 | F16: 13 | G16: 15 | H16: 9 | I16: 9 | J16: 13
A17: 5 | B17: REEMPLAZO VALVULAR POR MEDIO DE ENDOPROTESIS (TAVI) | C17: 0 | D17: 0 | E17: 0 | F17: 0 | G17: 0 | H17: 0 | I17: 3 | J17: 0
A18: 6 | B18: ANGIOPLASTIA COMPLEJA CON ROTABLATOR Y ULTRASONIDO INTRACAVITARIO | C18: 0 | D18: 1 | E18: 0 | F18: 0 | G18: 4 | H18: 1 | I18: 0 | J18: 1
A19: 7 | B19: IMPLANTE ENDOVENOSO DE MARCAPASOS INCLUYENDO DISPOSITIVO | C19: 0 | D19: 5 | E19: 2 | F19: 3 | G19: 3 | H19: 1 | I19: 1 | J19: 5
A20: 8 | B20: ECOCARDIOGRAMA ADULTOS | C20: 400 | D20: 406 | E20: 425 | F20: 481 | G20: 425 | H20: 468 | I20: 375 | J20: 467
A21: 9 | B21: ECOCARDIOGRAMA PEDIATRIA | C21: 300 | D21: 393 | E21: 350 | F21: 285 | G21: 375 | H21: 332 | I21: 275 | J21: 327
A22: 10 | B22: ELECTROCARDIOGRAMAS ADULTOS | C22: 100 | D22: 178 | E22: 150 | F22: 180 | G22: 150 | H22: 176 | I22: 100 | J22: 156
A23: 11 | B23: ELECTROCARDIOGRAMAS PEDIATRIA | C23: 145 | D23: 170 | E23: 170 | F23: 157 | G23: 170 | H23: 257 | I23: 140 | J23: 263
A24: 12 | B24: CONSULTAS MEDICAS ADULTOS | C24: 900 | D24: 1331 | E24: 1075 | F24: 1385 | G24: 1075 | H24: 1092 | I24: 850 | J24: 1090
... A31: 19 | B31: MONITOREO DE PRESION ARTERIAL | C31: 5 | D31: 16 | E31: 11 | F31: 15 | G31: 11 | H31: 15 | I31: 5 | J31: 11
A32: Total servicios/beneficiarios | C32: =SUM(C13:C31) -> 2499 | D32: =SUM(D13:D31) -> 3410 | E32: =SUM(E13:E31) -> 3016 | F32: =SUM(F13:F31) -> 3268 | G32: =SUM(G13:G31) -> 3046 | H32: =SUM(H13:H31) -> 3084 | I32: =SUM(I13:I31) -> 2344 | J32: =SUM(J13:J31) -> 3013
B42: Ejecucion mes de septiembre, de metas fisicas y servicios, año 2025
A43: No. | B43: Meta/Servicio | C43: Mayo | E43: Junio | G43: Julio | I43: Agosto
C44: Programado | D44: Ejecutado | E44: Programado | F44: Ejecutado | G44: Programado | H44: Ejecutado | I44: Programado | J44: Ejecutado
A45: 1 | B45: CIRUGIA DE ADULTOS | C45: 19 | D45: 23 | E45: 19 | F45: 20 | G45: 13 | H45: 22 | I45: 19 | J45: 19
A46: 2 | B46: CIRUGIA DE PEDIATRIA | C46: 16 | D46: 17 | E46: 16 | F46: 25 | G46: 12 | H46: 17 | I46: 16 | J46: 16
A47: 3 | B47: HEMODINAMIA ADULTOS | C47: 82 | D47: 70 | E47: 82 | F47: 72 | G47: 77 | H47: 97 | I47: 82 | J47: 71
A48: 4 | B48: HEMODINAMIA PEDIATRIA | C48: 16 | D48: 15 | E48: 15 | F48: 12 | G48: 10 | H48: 11 | I48: 16 | J48: 11
A49: 5 | B49: REEMPLAZO VALVULAR POR MEDIO DE ENDOPROTESIS (TAVI) | C49: 2 | D49: 1 | E49: 2 | F49: 0 | G49: 1 | H49: 4 | I49: 2 | J49: 1
A50: 6 | B50: ANGIOPLASTIA COMPLEJA CON ROTABLATOR Y ULTRASONIDO INTRACAVITARIO | C50: 4 | D50: 0 | E50: 4 | F50: 0 | G50: 0 | H50: 1 | I50: 4 | J50: 4
A51: 7 | B51: IMPLANTE ENDOVENOSO DE MARCAPASOS INCLUYENDO DISPOSITIVO | C51: 3 | D51: 1 | E51: 3 | F51: 2 | G51: 1 | H51: 3 | I51: 2 | J51: 5
A52: 8 | B52: ECOCARDIOGRAMA ADULTOS | C52: 425 | D52: 556 | E52: 425 | F52: 514 | G52: 375 | H52: 688 | I52: 425 | J52: 657
A53: 9 | B53: ECOCARDIOGRAMA PEDIATRIA | C53: 350 | D53: 388 | E53: 375 | F53: 407 | G53: 300 | H53: 409 | I53: 350 | J53: 373
A54: 10 | B54: ELECTROCARDIOGRAMAS ADULTOS | C54: 150 | D54: 181 | E54: 150 | F54: 143 | G54: 100 | H54: 194 | I54: 150 | J54: 180
A55: 11 | B55: ELECTROCARDIOGRAMAS PEDIATRIA | C55: 170 | D55: 347 | E55: 170 | F55: 331 | G55: 140 | H55: 305 | I55: 170 | J55: 142
A56: 12 | B56: CONSULTAS MEDICAS ADULTOS | C56: 1075 | D56: 1293 | E56: 1075 | F56: 1170 | G56: 850 | H56: 1368 | I56: 1075 | J56: 1389
... A63: 19 | B63: MONITOREO DE PRESION ARTERIAL | C63: 11 | D63: 14 | E63: 11 | F63: 9 | G63: 5 | H63: 18 | I63: 11 | J63: 16
A64: Total servicios/beneficiarios | C64: =SUM(C45:C63) -> 2998 | D64: =SUM(D45:D63) -> 3557 | E64: =SUM(E45:E63) -> 3021 | F64: =SUM(F45:F63) -> 3444 | G64: =SUM(G45:G63) -> 2406 | H64: =SUM(H45:H63) -> 3880 | I64: =SUM(I45:I63) -> 2996 | J64: =SUM(J45:J63) -> 3518
B83: Ejecucion mes de septiembre, de metas fisicas y servicios, año 2025
A84: No. | B84: Meta/Servicio | C84: Septiembre | E84: Octubre | G84: Noviembre | I84: Diciembre | K84: Total acumulado anual
...

Sheet EJEC. FISICA OCTUBRE DECE-8
L2: DECE-8
A6: UNIDAD DE CIRUGIA CARDIOVASCULAR DE GUATEMALA
A7: 5a. AVENIDA 6-22 ZONA 11
A8: dgunicar@yahoo.es Tel. 24163000
B10: Ejecucion mes de octubre, de metas fisicas y servicios, año 2025
A11: No. | B11: Meta/Servicio | C11: Enero | E11: Febrero | G11: Marzo | I11: Abril
C12: Programado | D12: Ejecutado | E12: Programado | F12: Ejecutado | G12: Programado | H12: Ejecutado | I12: Programado | J12: Ejecutado
A13: 1 | B13: CIRUGIA DE ADULTOS | C13: 18 | D13: 12 | E13: 19 | F13: 19 | G13: 19 | H13: 14 | I13: 12 | J13: 20
A14: 2 | B14: CIRUGIA DE PEDIATRIA | C14: 14 | D14: 11 | E14: 16 | F14: 9 | G14: 16 | H14: 11 | I14: 12 | J14: 18
A15: 3 | B15: HEMODINAMIA ADULTOS | C15: 75 | D15: 96 | E15: 82 | F15: 80 | G15: 82 | H15: 93 | I15: 65 | J15: 75
A16: 4 | B16: HEMODINAMIA PEDIATRIA | C16: 10 | D16: 8 | E16: 16 | F16: 13 | G16: 15 | H16: 9 | I16: 9 | J16: 13
A17: 5 | B17: REEMPLAZO VALVULAR POR MEDIO DE ENDOPROTESIS (TAVI) | C17: 0 | D17: 0 | E17: 0 | F17: 0 | G17: 0 | H17: 0 | I17: 3 | J17: 0
A18: 6 | B18: ANGIOPLASTIA COMPLEJA CON ROTABLATOR Y ULTRASONIDO INTRACAVITARIO | C18: 0 | D18: 1 | E18: 0 | F18: 0 | G18: 4 | H18: 1 | I18: 0 | J18: 1
A19: 7 | B19: IMPLANTE ENDOVENOSO DE MARCAPASOS INCLUYENDO DISPOSITIVO | C19: 0 | D19: 5 | E19: 2 | F19: 3 | G19: 3 | H19: 1 | I19: 1 | J19: 5
A20: 8 | B20: ECOCARDIOGRAMA ADULTOS | C20: 400 | D20: 406 | E20: 425 | F20: 481 | G20: 425 | H20: 468 | I20: 375 | J20: 467
A21: 9 | B21: ECOCARDIOGRAMA PEDIATRIA | C21: 300 | D21: 393 | E21: 350 | F21: 285 | G21: 375 | H21: 332 | I21: 275 | J21: 327
A22: 10 | B22: ELECTROCARDIOGRAMAS ADULTOS | C22: 100 | D22: 178 | E22: 150 | F22: 180 | G22: 150 | H22: 176 | I22: 100 | J22: 156
A23: 11 | B23: ELECTROCARDIOGRAMAS PEDIATRIA | C23: 145 | D23: 170 | E23: 170 | F23: 157 | G23: 170 | H23: 257 | I23: 140 | J23: 263
A24: 12 | B24: CONSULTAS MEDICAS ADULTOS | C24: 900 | D24: 1331 | E24: 1075 | F24: 1385 | G24: 1075 | H24: 1092 | I24: 850 | J24: 1090
... A31: 19 | B31: MONITOREO DE PRESION ARTERIAL | C31: 5 | D31: 16 | E31: 11 | F31: 15 | G31: 11 | H31: 15 | I31: 5 | J31: 11
A32: Total servicios/beneficiarios | C32: =SUM(C13:C31) -> 2499 | D32: =SUM(D13:D31) -> 3410 | E32: =SUM(E13:E31) -> 3016 | F32: =SUM(F13:F31) -> 3268 | G32: =SUM(G13:G31) -> 3046 | H32: =SUM(H13:H31) -> 3084 | I32: =SUM(I13:I31) -> 2344 | J32: =SUM(J13:J31) -> 3013
B42: Ejecucion mes de octubre, de metas fisicas y servicios, año 2025
A43: No. | B43: Meta/Servicio | C43: Mayo | E43: Junio | G43: Julio | I43: Agosto
C44: Programado | D44: Ejecutado | E44: Programado | F44: Ejecutado | G44: Programado | H44: Ejecutado | I44: Programado | J44: Ejecutado
A45: 1 | B45: CIRUGIA DE ADULTOS | C45: 19 | D45: 23 | E45: 19 | F45: 20 | G45: 13 | H45: 22 | I45: 19 | J45: 19
A46: 2 | B46: CIRUGIA DE PEDIATRIA | C46: 16 | D46: 17 | E46: 16 | F46: 25 | G46: 12 | H46: 17 | I46: 16 | J46: 16
A47: 3 | B47: HEMODINAMIA ADULTOS | C47: 82 | D47: 70 | E47: 82 | F47: 72 | G47: 77 | H47: 97 | I47: 82 | J47: 71
A48: 4 | B48: HEMODINAMIA PEDIATRIA | C48: 16 | D48: 15 | E48: 15 | F48: 12 | G48: 10 | H48: 11 | I48: 16 | J48: 11
A49: 5 | B49: REEMPLAZO VALVULAR POR MEDIO DE ENDOPROTESIS (TAVI) | C49: 2 | D49: 1 | E49: 2 | F49: 0 | G49: 1 | H49: 4 | I49: 2 | J49: 1
A50: 6 | B50: ANGIOPLASTIA COMPLEJA CON ROTABLATOR Y ULTRASONIDO INTRACAVITARIO | C50: 4 | D50: 0 | E50: 4 | F50: 0 | G50: 0 | H50: 1 | I50: 4 | J50: 4
A51: 7 | B51: IMPLANTE ENDOVENOSO DE MARCAPASOS INCLUYENDO DISPOSITIVO | C51: 3 | D51: 1 | E51: 3 | F51: 2 | G51: 1 | H51: 3 | I51: 2 | J51: 5
A52: 8 | B52: ECOCARDIOGRAMA ADULTOS | C52: 425 | D52: 556 | E52: 425 | F52: 514 | G52: 375 | H52: 688 | I52: 425 | J52: 657
A53: 9 | B53: ECOCARDIOGRAMA PEDIATRIA | C53: 350 | D53: 388 | E53: 375 | F53: 407 | G53: 300 | H53: 409 | I53: 350 | J53: 373
A54: 10 | B54: ELECTROCARDIOGRAMAS ADULTOS | C54: 150 | D54: 181 | E54: 150 | F54: 143 | G54: 100 | H54: 194 | I54: 150 | J54: 180
A55: 11 | B55: ELECTROCARDIOGRAMAS PEDIATRIA | C55: 170 | D55: 347 | E55: 170 | F55: 331 | G55: 140 | H55: 305 | I55: 170 | J55: 142
A56: 12 | B56: CONSULTAS MEDICAS ADULTOS | C56: 1075 | D56: 1293 | E56: 1075 | F56: 1170 | G56: 850 | H56: 1368 | I56: 1075 | J56: 1389
... A63: 19 | B63: MONITOREO DE PRESION ARTERIAL | C63: 11 | D63: 14 | E63: 11 | F63: 9 | G63: 5 | H63: 18 | I63: 11 | J63: 16
A64: Total servicios/beneficiarios | C64: =SUM(C45:C63) -> 2998 | D64: =SUM(D45:D63) -> 3557 | E64: =SUM(E45:E63) -> 3021 | F64: =SUM(F45:F63) -> 3444 | G64: =SUM(G45:G63) -> 2406 | H64: =SUM(H45:H63) -> 3880 | I64: =SUM(I45:I63) -> 2996 | J64: =SUM(J45:J63) -> 3518
B66: Ejecucion mes de octubre, de metas fisicas y servicios, año 2025
A67: No. | B67: Meta/Servicio | C67: Septiembre | E67: Octubre | G67: Noviembre | I67: Diciembre | K67: Total acumulado anual
...

Sheet EJEC. FISICA NOVIEMBRE DECE-8
L2: DECE-8
A6: UNIDAD DE CIRUGIA CARDIOVASCULAR DE GUATEMALA
A7: 5a. AVENIDA 6-22 ZONA 11
A8: dgunicar@yahoo.es Tel. 24163000
B10: Ejecucion mes de noviembre, de metas fisicas y servicios, año 2025
A11: No. | B11: Meta/Servicio | C11: Enero | E11: Febrero | G11: Marzo | I11: Abril
C12: Programado | D12: Ejecutado | E12: Programado | F12: Ejecutado | G12: Programado | H12: Ejecutado | I12: Programado | J12: Ejecutado
A13: 1 | B13: CIRUGIA DE ADULTOS | C13: 18 | D13: 12 | E13: 19 | F13: 19 | G13: 19 | H13: 14 | I13: 12 | J13: 20
A14: 2 | B14: CIRUGIA DE PEDIATRIA | C14: 14 | D14: 11 | E14: 16 | F14: 9 | G14: 16 | H14: 11 | I14: 12 | J14: 18
A15: 3 | B15: HEMODINAMIA ADULTOS | C15: 75 | D15: 96 | E15: 82 | F15: 80 | G15: 82 | H15: 93 | I15: 65 | J15: 75
A16: 4 | B16: HEMODINAMIA PEDIATRIA | C16: 10 | D16: 8 | E16: 16 | F16: 13 | G16: 15 | H16: 9 | I16: 9 | J16: 13
A17: 5 | B17: REEMPLAZO VALVULAR POR MEDIO DE ENDOPROTESIS (TAVI) | C17: 0 | D17: 0 | E17: 0 | F17: 0 | G17: 0 | H17: 0 | I17: 3 | J17: 0
A18: 6 | B18: ANGIOPLASTIA COMPLEJA CON ROTABLATOR Y ULTRASONIDO INTRACAVITARIO | C18: 0 | D18: 1 | E18: 0 | F18: 0 | G18: 4 | H18: 1 | I18: 0 | J18: 1
A19: 7 | B19: IMPLANTE ENDOVENOSO DE MARCAPASOS INCLUYENDO DISPOSITIVO | C19: 0 | D19: 5 | E19: 2 | F19: 3 | G19: 3 | H19: 1 | I19: 1 | J19: 5
A20: 8 | B20: ECOCARDIOGRAMA ADULTOS | C20: 400 | D20: 406 | E20: 425 | F20: 481 | G20: 425 | H20: 468 | I20: 375 | J20: 467
A21: 9 | B21: ECOCARDIOGRAMA PEDIATRIA | C21: 300 | D21: 393 | E21: 350 | F21: 285 | G21: 375 | H21: 332 | I21: 275 | J21: 327
A22: 10 | B22: ELECTROCARDIOGRAMAS ADULTOS | C22: 100 | D22: 178 | E22: 150 | F22: 180 | G22: 150 | H22: 176 | I22: 100 | J22: 156
A23: 11 | B23: ELECTROCARDIOGRAMAS PEDIATRIA | C23: 145 | D23: 170 | E23: 170 | F23: 157 | G23: 170 | H23: 257 | I23: 140 | J23: 263
A24: 12 | B24: CONSULTAS MEDICAS ADULTOS | C24: 900 | D24: 1331 | E24: 1075 | F24: 1385 | G24: 1075 | H24: 1092 | I24: 850 | J24: 1090
... A31: 19 | B31: MONITOREO DE PRESION ARTERIAL | C31: 5 | D31: 16 | E31: 11 | F31: 15 | G31: 11 | H31: 15 | I31: 5 | J31: 11
A32: Total servicios/beneficiarios | C32: =SUM(C13:C31) -> 2499 | D32: =SUM(D13:D31) -> 3410 | E32: =SUM(E13:E31) -> 3016 | F32: =SUM(F13:F31) -> 3268 | G32: =SUM(G13:G31) -> 3046 | H32: =SUM(H13:H31) -> 3084 | I32: =SUM(I13:I31) -> 2344 | J32: =SUM(J13:J31) -> 3013
B42: Ejecucion mes de noviembre, de metas fisicas y servicios, año 2025
A43: No. | B43: Meta/Servicio | C43: Mayo | E43: Junio | G43: Julio | I43: Agosto
C44: Programado | D44: Ejecutado | E44: Programado | F44: Ejecutado | G44: Programado | H44: Ejecutado | I44: Programado | J44: Ejecutado
A45: 1 | B45: CIRUGIA DE ADULTOS | C45: 19 | D45: 23 | E45: 19 | F45: 20 | G45: 13 | H45: 22 | I45: 19 | J45: 19
A46: 2 | B46: CIRUGIA DE PEDIATRIA | C46: 16 | D46: 17 | E46: 16 | F46: 25 | G46: 12 | H46: 17 | I46: 16 | J46: 16
A47: 3 | B47: HEMODINAMIA ADULTOS | C47: 82 | D47: 70 | E47: 82 | F47: 72 | G47: 77 | H47: 97 | I47: 82 | J47: 71
A48: 4 | B48: HEMODINAMIA PEDIATRIA | C48: 16 | D48: 15 | E48: 15 | F48: 12 | G48: 10 | H48: 11 | I48: 16 | J48: 11
A49: 5 | B49: REEMPLAZO VALVULAR POR MEDIO DE ENDOPROTESIS (TAVI) | C49: 2 | D49: 1 | E49: 2 | F49: 0 | G49: 1 | H49: 4 | I49: 2 | J49: 1
A50: 6 | B50: ANGIOPLASTIA COMPLEJA CON ROTABLATOR Y ULTRASONIDO INTRACAVITARIO | C50: 4 | D50: 0 | E50: 4 | F50: 0 | G50: 0 | H50: 1 | I50: 4 | J50: 4
A51: 7 | B51: IMPLANTE ENDOVENOSO DE MARCAPASOS INCLUYENDO DISPOSITIVO | C51: 3 | D51: 1 | E51: 3 | F51: 2 | G51: 1 | H51: 3 | I51: 2 | J51: 5
A52: 8 | B52: ECOCARDIOGRAMA ADULTOS | C52: 425 | D52: 556 | E52: 425 | F52: 514 | G52: 375 | H52: 688 | I52: 425 | J52: 657
A53: 9 | B53: ECOCARDIOGRAMA PEDIATRIA | C53: 350 | D53: 388 | E53: 375 | F53: 407 | G53: 300 | H53: 409 | I53: 350 | J53: 373
A54: 10 | B54: ELECTROCARDIOGRAMAS ADULTOS | C54: 150 | D54: 181 | E54: 150 | F54: 143 | G54: 100 | H54: 194 | I54: 150 | J54: 180
A55: 11 | B55: ELECTROCARDIOGRAMAS PEDIATRIA | C55: 170 | D55: 347 | E55: 170 | F55: 331 | G55: 140 | H55: 305 | I55: 170 | J55: 142
A56: 12 | B56: CONSULTAS MEDICAS ADULTOS | C56: 1075 | D56: 1293 | E56: 1075 | F56: 1170 | G56: 850 | H56: 1368 | I56: 1075 | J56: 1389
... A63: 19 | B63: MONITOREO DE PRESION ARTERIAL | C63: 11 | D63: 14 | E63: 11 | F63: 9 | G63: 5 | H63: 18 | I63: 11 | J63: 16
A64: Total servicios/beneficiarios | C64: =SUM(C45:C63) -> 2998 | D64: =SUM(D45:D63) -> 3557 | E64: =SUM(E45:E63) -> 3021 | F64: =SUM(F45:F63) -> 3444 | G64: =SUM(G45:G63) -> 2406 | H64: =SUM(H45:H63) -> 3880 | I64: =SUM(I45:I63) -> 2996 | J64: =SUM(J45:J63) -> 3518
B83: Ejecucion mes de noviembre, de metas fisicas y servicios, año 2025
A84: No. | B84: Meta/Servicio | C84: Septiembre | E84: Octubre | G84: Noviembre | I84: Diciembre | K84: Total acumulado anual
...

Sheet PRESUPUESTO SEPTIEMBRE
A1: UNIDAD DE CIRUGIA CARDIOVASCULAR DE GUATEMALA
A2: FONDOS ESTATALES
A3: PRESUPUESTO AÑO 2,025
C4: PRESUPUESTO 2025 | D4: TRANSFERENCIAS (+-), AMPLIACION | E4: PRESUPUESTO AJUSTADO 2,025
B5: ASIGNACION DEL ESTADO | C5: 110000000 | E5: =+C5+D5 -> 110000000
B6: TOTAL ASIGNACION DEL ESTADO | C6: =SUM(C5) -> 110000000 | D6: =SUM(D5) -> 0 | E6: =SUM(E5) -> 110000000
C8: =+C4 -> PRESUPUESTO 2025 | D8: TRANSFERENCIAS (+-) | E8: =+E4 -> PRESUPUESTO AJUSTADO 2,025
A9: 011 | B9: SUELDOS, CUOTA PATRONAL, BONO 14 Y AGUINALDO | C9: 54637303 | E9: =+C9+D9 -> 54637303
B10: TOTAL RECURSO HUMANO | C10: =SUM(C9) -> 54637303 | D10: =SUM(D9) -> 0 | E10: =SUM(E9) -> 54637303
B12: GASTOS DE OPERACIÓN | C12: =+C8 -> PRESUPUESTO 2025 | D12: TRANSFERENCIAS (+-) | E12: =+E8 -> PRESUPUESTO AJUSTADO 2,025
A13: 111 | B13: ENERGIA ELECTRICA | C13: 1166000 | E13: =+C13+D13 -> 1166000
A14: 113 | B14: SERVICIO DE INTERNET Y TELEFONIA | C14: 130075 | E14: =+C14+D14 -> 130075
A15: 122 | B15: IMPRESIÓN, ENCUADERNACION Y REPRODUCCION | C15: 64244.05 | E15: =+C15+D15 -> 64244.05
A16: 163 | B16: MANT. Y REP. EQUIPO MEDICO SANITARIO Y DE LAB. | C16: 1310600.2 | E16: =+C16+D16 -> 1310600.2
A17: 169 | B17: MANT. Y REP. DE OTRAS MAQUINARIAS Y EQUIPOS | C17: 66884.6 | E17: =+C17+D17 -> 66884.6
A18: 171 | B18: MANTENIMIENTO Y REPARACION DE EDIFICIOS | C18: 82130 | E18: =+C18+D18 -> 82130
A19: 174 | B19: MANT. Y REP. DE INSTALACIONES | C19: 127931 | E19: =+C19+D19 -> 127931
A20: 197 | B20: SERVICIOS DE VIGILANCIA | C20: 592800 | E20: =+C20+D20 -> 592800
A21: 199 | B21: OTROS SERVICIOS NO PERSONALES | C21: 706924.9 | E21: =+C21+D21 -> 706924.9
A22: 243 | B22: PRODUCTOS DE PAPEL O CARTON | C22: 154711.24 | E22: =+C22+D22 -> 154711.24
A23: 261 | B23: ELEMENTOS Y COMPUESTOS QUIMICOS | C23: 836414.94 | E23: =+C23+D23 -> 836414.94
A24: 262 | B24: COMBUSTIBLES Y LUBRICANTES | C24: 17000 | E24: =+C24+D24 -> 17000
... A34: 323 | B34: EQUIPO MEDICO-SANITARIO Y DE LABORATORIO | C34: 15417468 | E34: =+C34+D34 -> 15417468
B35: TOTAL GASTOS DE OPERACIÓN | C35: =SUM(C13:C34) -> 55362697 | D35: =SUM(D13:D34) -> 0 | E35: =SUM(E13:E34) -> 55362697
B36: TOTAL GENERAL EGRESOS | C36: =+C35+C10 -> 110000000 | D36: =+D35+D10 -> 0 | E36: =+E35+E10 -> 110000000
A41: _______________________________
A42: Víctor Cresencio Reyes Porres
A43: Jefe de Contabilidad

Sheet PRESUPUESTO OCTUBRE
A1: UNIDAD DE CIRUGIA CARDIOVASCULAR DE GUATEMALA
A2: FONDOS ESTATALES
A3: PRESUPUESTO AÑO 2,025
C4: PRESUPUESTO 2025 | D4: TRANSFERENCIAS (+-), AMPLIACION | E4: PRESUPUESTO AJUSTADO 2,025
B5: ASIGNACION DEL ESTADO | C5: 110000000 | E5: =+C5+D5 -> 110000000
B6: TOTAL ASIGNACION DEL ESTADO | C6: =SUM(C5) -> 110000000 | D6: =SUM(D5) -> 0 | E6: =SUM(E5) -> 110000000
C8: =+C4 -> PRESUPUESTO 2025 | D8: TRANSFERENCIAS (+-) | E8: =+E4 -> PRESUPUESTO AJUSTADO 2,025
A9: 011 | B9: SUELDOS, CUOTA PATRONAL, BONO 14 Y AGUINALDO | C9: 54637303 | E9: =+C9+D9 -> 54637303
B10: TOTAL RECURSO HUMANO | C10: =SUM(C9) -> 54637303 | D10: =SUM(D9) -> 0 | E10: =SUM(E9) -> 54637303
B12: GASTOS DE OPERACIÓN | C12: =+C8 -> PRESUPUESTO 2025 | D12: TRANSFERENCIAS (+-) | E12: =+E8 -> PRESUPUESTO AJUSTADO 2,025
A13: 111 | B13: ENERGIA ELECTRICA | C13: 1166000 | E13: =+C13+D13 -> 1166000
A14: 113 | B14: SERVICIO DE INTERNET Y TELEFONIA | C14: 130075 | E14: =+C14+D14 -> 130075
A15: 122 | B15: IMPRESIÓN, ENCUADERNACION Y REPRODUCCION | C15: 64244.05 | E15: =+C15+D15 -> 64244.05
A16: 163 | B16: MANT. Y REP. EQUIPO MEDICO SANITARIO Y DE LAB. | C16: 1310600.2 | E16: =+C16+D16 -> 1310600.2
A17: 169 | B17: MANT. Y REP. DE OTRAS MAQUINARIAS Y EQUIPOS | C17: 66884.6 | E17: =+C17+D17 -> 66884.6
A18: 171 | B18: MANTENIMIENTO Y REPARACION DE EDIFICIOS | C18: 82130 | E18: =+C18+D18 -> 82130
A19: 174 | B19: MANT. Y REP. DE INSTALACIONES | C19: 127931 | E19: =+C19+D19 -> 127931
A20: 197 | B20: SERVICIOS DE VIGILANCIA | C20: 592800 | E20: =+C20+D20 -> 592800
A21: 199 | B21: OTROS SERVICIOS NO PERSONALES | C21: 706924.9 | E21: =+C21+D21 -> 706924.9
A22: 243 | B22: PRODUCTOS DE PAPEL O CARTON | C22: 154711.24 | E22: =+C22+D22 -> 154711.24
A23: 261 | B23: ELEMENTOS Y COMPUESTOS QUIMICOS | C23: 836414.94 | E23: =+C23+D23 -> 836414.94
A24: 262 | B24: COMBUSTIBLES Y LUBRICANTES | C24: 17000 | E24: =+C24+D24 -> 17000
... A34: 323 | B34: EQUIPO MEDICO-SANITARIO Y DE LABORATORIO | C34: 15417468 | E34: =+C34+D34 -> 15417468
B35: TOTAL GASTOS DE OPERACIÓN | C35: =SUM(C13:C34) -> 55362697 | D35: =SUM(D13:D34) -> 0 | E35: =SUM(E13:E34) -> 55362697
B36: TOTAL GENERAL EGRESOS | C36: =+C35+C10 -> 110000000 | D36: =+D35+D10 -> 0 | E36: =+E35+E10 -> 110000000
A41: _______________________________
A42: Víctor Cresencio Reyes Porres
A43: Jefe de Contabilidad

Sheet PRESUPUESTO NOVIEMBRE
A1: UNIDAD DE CIRUGIA CARDIOVASCULAR DE GUATEMALA
A2: FONDOS ESTATALES
A3: PRESUPUESTO AÑO 2,025
C4: PRESUPUESTO 2025 | D4: TRANSFERENCIAS (+-), AMPLIACION | E4: PRESUPUESTO AJUSTADO 2,025
B5: ASIGNACION DEL ESTADO | C5: 110000000 | E5: =+C5+D5 -> 110000000
B6: TOTAL ASIGNACION DEL ESTADO | C6: =SUM(C5) -> 110000000 | D6: =SUM(D5) -> 0 | E6: =SUM(E5) -> 110000000
C8: =+C4 -> PRESUPUESTO 2025 | D8: TRANSFERENCIAS (+-) | E8: =+E4 -> PRESUPUESTO AJUSTADO 2,025
A9: 011 | B9: SUELDOS, CUOTA PATRONAL, BONO 14 Y AGUINALDO | C9: 54637303 | E9: =+C9+D9 -> 54637303
B10: TOTAL RECURSO HUMANO | C10: =SUM(C9) -> 54637303 | D10: =SUM(D9) -> 0 | E10: =SUM(E9) -> 54637303
B12: GASTOS DE OPERACIÓN | C12: =+C8 -> PRESUPUESTO 2025 | D12: TRANSFERENCIAS (+-) | E12: =+E8 -> PRESUPUESTO AJUSTADO 2,025
A13: 111 | B13: ENERGIA ELECTRICA | C13: 1166000 | E13: =+C13+D13 -> 1166000
A14: 113 | B14: SERVICIO DE INTERNET Y TELEFONIA | C14: =130075 -> 130075 | D14: -16300.7 | E14: =+C14+D14 -> 113774.3
A15: 122 | B15: IMPRESIÓN, ENCUADERNACION Y REPRODUCCION | C15: 64244.05 | E15: =+C15+D15 -> 64244.05
A16: 163 | B16: MANT. Y REP. EQUIPO MEDICO SANITARIO Y DE LAB. | C16: =1310600.25 -> 1310600.2 | D16: -69.43 | E16: =+C16+D16 -> 1310530.8
A17: 169 | B17: MANT. Y REP. DE OTRAS MAQUINARIAS Y EQUIPOS | C17: =66884.6 -> 66884.6 | D17: -604.6 | E17: =+C17+D17 -> 66280
A18: 171 | B18: MANTENIMIENTO Y REPARACION DE EDIFICIOS | C18: 82130 | E18: =+C18+D18 -> 82130
