Workbook

Sheet MAYO DECE-5
B8: ÀREA FINANCIERA | K8: DECE-5
A10: UNIDAD DE CIRUGIA CARDIOVASCULAR DE GUATEMALA
A11: 5a. AVENIDA 6-22 ZONA 11
A12: dgunicar@yahoo.es Tel. 24163000
A14: Programación y ejecucion del mes de marzo por tipo de gasto, año 2025, (Expresado en Quetzales)
A15: No. | B15: CATEGORIA DEL GASTO DE FUNCIONAMIENTO | C15: Enero | E15: Febrero | G15: Marzo | I15: Abril
C16: PROG. | D16: EJECUTADO | E16: PROG. | F16: EJECUTADO | G16: PROG. | H16: EJECUTADO | I16: PROG. | J16: EJECUTADO
B17: RECURSO HUMANO
A18: 011 | B18: SUELOS Y SALARIOS | C18: 3985581.3 | D18: 3442190.4 | E18: 3985581.3 | F18: 3499181.9 | G18: 3985581.3 | H18: 3551627.3 | I18: 3985581.3 | J18: =3946986.7-399869.63 -> 3547117.1
B19: BONO 14 | C19: 0 | D19: 0 | E19: 0 | F19: 0 | I19: 0
B20: CUOTA PATRONAL | C20: 0 | D20: 387999.9 | E20: 0 | F20: 394552.58 | H20: 400276.26 | I20: 0 | J20: 399869.63
B21: TOTAL RECURSO HUMANO | C21: =SUM(C18:C20) -> 3985581.3 | D21: =SUM(D18:D20) -> 3830190.3 | E21: =SUM(E18:E20) -> 3985581.3 | F21: =SUM(F18:F20) -> 3893734.5 | G21: =SUM(G18:G20) -> 3985581.3 | H21: =SUM(H18:H20) -> 3951903.5 | I21: =SUM(I18:I20) -> 3985581.3 | J21: =SUM(J18:J20) -> 3946986.7
B23: GASTOS DE OPERACIÓN
A24: 111 | B24: ENERGIA ELECTRICA | C24: 0 | D24: 0 | E24: 106000 | F24: 96455.75 | G24: 106000 | H24: 0 | I24: 106000 | J24: 107590.34
A25: 113 | B25: SERVICIO DE INTERNET Y TELEFONIA | C25: 0 | D25: 0 | E25: 11825 | F25: 8643.16 | G25: 11825 | H25: 8638.1 | I25: 11825 | J25: 8966.74
A26: 122 | B26: IMPRESIÓN, ENCUADERNACION Y REPRODUCCION | C26: 0 | D26: 0 | E26: 64244.05 | F26: 0 | G26: 0 | H26: 0 | I26: 0 | J26: 4154.5
A27: 163 | B27: MANT. Y REP. EQUIPO MEDICO SANITARIO Y DE LAB. | C27: 100000 | D27: 0 | E27: 0 | F27: 0 | G27: 304339.74 | H27: 0 | I27: 0 | J27: 19341.5
A28: 169 | B28: MANT. Y REP. DE OTRAS MAQUINARIAS Y EQUIPOS | C28: 20000 | D28: 0 | E28: 0 | F28: 0 | G28: 1680 | H28: 0 | I28: 0 | J28: 1600
A29: 171 | B29: MANT. Y REPARACION DE EDIFICIOS | C29: 50000 | D29: 0 | E29: 0 | F29: 0 | G29: 7770 | H29: 0 | I29: 1260 | J29: 1300
A30: 174 | B30: MANT. Y REP. DE INSTALACIONES | C30: 53344.25 | D30: 0 | E30: 3344.25 | F30: 6520 | G30: 4761.75 | H30: 0 | I30: 4761.75 | J30: 3260
A31: 197 | B31: SERVICIOS DE VIGILANCIA | C31: 0 | D31: 0 | E31: 52000 | F31: 0 | G31: 52000 | H31: 52000 | I31: 52000 | J31: 52000
A32: 199 | B32: OTROS SERVICIOS NO PERSONALES | C32: 0 | D32: 0 | E32: 127225.9 | F32: 0 | G32: 51415.9 | H32: 43988.88 | I32: 51415.9 | J32: 86010.21
A33: 243 | B33: PRODUCTOS DE PAPEL O CARTON | C33: 0 | D33: 0 | E33: 77602.26 | F33: 0 | G33: 0 | H33: 112506.6 | I33: 0 | J33: 0
A34: 261 | B34: ELEMENTOS Y COMPUESTOS QUIMICOS | C34: 0 | D34: 0 | E34: 812953.74 | F34: 0 | G34: 0 | H34: 105279.68 | I34: 0 | J34: 71517.99
A35: 262 | B35: COMBUSTIBLES Y LUBRICANTES | C35: 17000 | D35: 0 | E35: 0 | F35: 13195 | G35: 0 | H35: 0 | I35: 0 | J35: 0
... A45: 323 | B45: EQUIPO MEDICO-SANITARIO Y DE LABORATORIO | C45: 0 | D45: 0 | E45: 0 | F45: 0 | G45: 0 | H45: 0 | I45: 0 | J45: 0
B46: TOTAL GASTOS DE OPERACIÓN | C46: =SUM(C24:C45) -> 1165344.2 | D46: =SUM(D24:D45) -> 0 | E46: =SUM(E24:E45) -> 3598165.6 | F46: =SUM(F24:F45) -> 136886.92 | G46: =SUM(G24:G45) -> 539792.39 | H46: =SUM(H24:H45) -> 1879182.5 | I46: =SUM(I24:I45) -> 227262.65 | J46: =SUM(J24:J45) -> 1267854.5
B47: TOTAL GENERAL | C47: =+C46+C21 -> 5150925.5 | D47: =+D46+D21 -> 3830190.3 | E47: =+E46+E21 -> 7583746.8 | F47: =+F46+F21 -> 4030621.4 | G47: =+G46+G21 -> 4525373.7 | H47: =+H46+H21 -> 5831086.1 | I47: =+I46+I21 -> 4212843.9 | J47: =+J46+J21 -> 5214841.2
A59: Programación y ejecucion del mes de mayo por tipo de gasto, año 2025, (Expresado en Quetzales)
A60: No. | B60: =+B15 -> CATEGORIA DEL GASTO DE FUNCIONAMIENTO | C60: Mayo | E60: Junio | G60: Julio | I60: Agosto
C61: PROG. | D61: EJECUTADO | E61: PROG. | F61: EJECUTADO | G61: PROG. | H61: EJECUTADO | I61: PROG. | J61: EJECUTADO
A62: 011 | B62: RECURSO HUMANO
B63: SUELOS Y SALARIOS | C63: 3985581.3 | D63: 3571840.7
B64: BONO 14 | D64: 0
B65: CUOTA PATRONAL | D65: 402550.66
B66: TOTAL RECURSO HUMANO | C66: =SUM(C63:C65) -> 3985581.3 | D66: =SUM(D63:D65) -> 3974391.3 | E66: =SUM(E63:E65) -> 0 | F66: =SUM(F63:F65) -> 0 | G66: =SUM(G63:G65) -> 0 | H66: =SUM(H63:H65) -> 0 | I66: =SUM(I63:I65) -> 0 | J66: =SUM(J63:J65) -> 0
B68: GASTOS DE OPERACIÓN
A69: 111 | B69: ENERGIA ELECTRICA | C69: 106000 | D69: 108453.52
A70: 113 | B70: SERVICIO DE INTERNET Y TELEFONIA | C70: 11825 | D70: 8811.18
A71: 122 | B71: IMPRESIÓN, ENCUADERNACION Y REPRODUCCION | C71: 0 | D71: 9914.5
...

Sheet JUNIO DECE-5
B8: ÀREA FINANCIERA | K8: DECE-5
A10: UNIDAD DE CIRUGIA CARDIOVASCULAR DE GUATEMALA
A11: 5a. AVENIDA 6-22 ZONA 11
A12: dgunicar@yahoo.es Tel. 24163000
A14: Programación y ejecucion del mes de mayo por tipo de gasto, año 2025, (Expresado en Quetzales)
A15: No. | B15: CATEGORIA DEL GASTO DE FUNCIONAMIENTO | C15: Enero | E15: Febrero | G15: Marzo | I15: Abril
C16: PROG. | D16: EJECUTADO | E16: PROG. | F16: EJECUTADO | G16: PROG. | H16: EJECUTADO | I16: PROG. | J16: EJECUTADO
B17: RECURSO HUMANO
A18: 011 | B18: SUELOS Y SALARIOS | C18: 3985581.3 | D18: 3442190.4 | E18: 3985581.3 | F18: 3499181.9 | G18: 3985581.3 | H18: 3551627.3 | I18: 3985581.3 | J18: =3946986.7-399869.63 -> 3547117.1
B19: BONO 14 | C19: 0 | D19: 0 | E19: 0 | F19: 0 | I19: 0
B20: CUOTA PATRONAL | C20: 0 | D20: 387999.9 | E20: 0 | F20: 394552.58 | H20: 400276.26 | I20: 0 | J20: 399869.63
B21: TOTAL RECURSO HUMANO | C21: =SUM(C18:C20) -> 3985581.3 | D21: =SUM(D18:D20) -> 3830190.3 | E21: =SUM(E18:E20) -> 3985581.3 | F21: =SUM(F18:F20) -> 3893734.5 | G21: =SUM(G18:G20) -> 3985581.3 | H21: =SUM(H18:H20) -> 3951903.5 | I21: =SUM(I18:I20) -> 3985581.3 | J21: =SUM(J18:J20) -> 3946986.7
B23: GASTOS DE OPERACIÓN
A24: 111 | B24: ENERGIA ELECTRICA | C24: 0 | D24: 0 | E24: 106000 | F24: 96455.75 | G24: 106000 | H24: 0 | I24: 106000 | J24: 107590.34
A25: 113 | B25: SERVICIO DE INTERNET Y TELEFONIA | C25: 0 | D25: 0 | E25: 11825 | F25: 8643.16 | G25: 11825 | H25: 8638.1 | I25: 11825 | J25: 8966.74
A26: 122 | B26: IMPRESIÓN, ENCUADERNACION Y REPRODUCCION | C26: 0 | D26: 0 | E26: 64244.05 | F26: 0 | G26: 0 | H26: 0 | I26: 0 | J26: 4154.5
A27: 163 | B27: MANT. Y REP. EQUIPO MEDICO SANITARIO Y DE LAB. | C27: 100000 | D27: 0 | E27: 0 | F27: 0 | G27: 304339.74 | H27: 0 | I27: 0 | J27: 19341.5
A28: 169 | B28: MANT. Y REP. DE OTRAS MAQUINARIAS Y EQUIPOS | C28: 20000 | D28: 0 | E28: 0 | F28: 0 | G28: 1680 | H28: 0 | I28: 0 | J28: 1600
A29: 171 | B29: MANT. Y REPARACION DE EDIFICIOS | C29: 50000 | D29: 0 | E29: 0 | F29: 0 | G29: 7770 | H29: 0 | I29: 1260 | J29: 1300
A30: 174 | B30: MANT. Y REP. DE INSTALACIONES | C30: 53344.25 | D30: 0 | E30: 3344.25 | F30: 6520 | G30: 4761.75 | H30: 0 | I30: 4761.75 | J30: 3260
A31: 197 | B31: SERVICIOS DE VIGILANCIA | C31: 0 | D31: 0 | E31: 52000 | F31: 0 | G31: 52000 | H31: 52000 | I31: 52000 | J31: 52000
A32: 199 | B32: OTROS SERVICIOS NO PERSONALES | C32: 0 | D32: 0 | E32: 127225.9 | F32: 0 | G32: 51415.9 | H32: 43988.88 | I32: 51415.9 | J32: 86010.21
A33: 243 | B33: PRODUCTOS DE PAPEL O CARTON | C33: 0 | D33: 0 | E33: 77602.26 | F33: 0 | G33: 0 | H33: 112506.6 | I33: 0 | J33: 0
A34: 261 | B34: ELEMENTOS Y COMPUESTOS QUIMICOS | C34: 0 | D34: 0 | E34: 812953.74 | F34: 0 | G34: 0 | H34: 105279.68 | I34: 0 | J34: 71517.99
A35: 262 | B35: COMBUSTIBLES Y LUBRICANTES | C35: 17000 | D35: 0 | E35: 0 | F35: 13195 | G35: 0 | H35: 0 | I35: 0 | J35: 0
... A45: 323 | B45: EQUIPO MEDICO-SANITARIO Y DE LABORATORIO | C45: 0 | D45: 0 | E45: 0 | F45: 0 | G45: 0 | H45: 0 | I45: 0 | J45: 0
B46: TOTAL GASTOS DE OPERACIÓN | C46: =SUM(C24:C45) -> 1165344.2 | D46: =SUM(D24:D45) -> 0 | E46: =SUM(E24:E45) -> 3598165.6 | F46: =SUM(F24:F45) -> 136886.92 | G46: =SUM(G24:G45) -> 539792.39 | H46: =SUM(H24:H45) -> 1879182.5 | I46: =SUM(I24:I45) -> 227262.65 | J46: =SUM(J24:J45) -> 1267854.5
B47: TOTAL GENERAL | C47: =+C46+C21 -> 5150925.5 | D47: =+D46+D21 -> 3830190.3 | E47: =+E46+E21 -> 7583746.8 | F47: =+F46+F21 -> 4030621.4 | G47: =+G46+G21 -> 4525373.7 | H47: =+H46+H21 -> 5831086.1 | I47: =+I46+I21 -> 4212843.9 | J47: =+J46+J21 -> 5214841.2
A59: =+A14 -> Programación y ejecucion del mes de mayo por tipo de gasto, año 2025, (Expresado en Quetzales)
A60: No. | B60: =+B15 -> CATEGORIA DEL GASTO DE FUNCIONAMIENTO | C60: Mayo | E60: Junio | G60: Julio | I60: Agosto
C61: PROG. | D61: EJECUTADO | E61: PROG. | F61: EJECUTADO | G61: PROG. | H61: EJECUTADO | I61: PROG. | J61: EJECUTADO
A62: 011 | B62: RECURSO HUMANO
B63: SUELOS Y SALARIOS | C63: 3985581.3 | D63: 3571840.7 | E63: 3985581.3 | F63: 3574068.5
B64: BONO 14 | D64: 0
B65: CUOTA PATRONAL | D65: 402550.66 | F65: 402616.11
B66: TOTAL RECURSO HUMANO | C66: =SUM(C63:C65) -> 3985581.3 | D66: =SUM(D63:D65) -> 3974391.3 | E66: =SUM(E63:E65) -> 3985581.3 | F66: =SUM(F63:F65) -> 3976684.6 | G66: =SUM(G63:G65) -> 0 | H66: =SUM(H63:H65) -> 0 | I66: =SUM(I63:I65) -> 0 | J66: =SUM(J63:J65) -> 0
B68: GASTOS DE OPERACIÓN
A69: 111 | B69: ENERGIA ELECTRICA | C69: 106000 | D69: 108453.52 | E69: 106000 | F69: 106384.31
A70: 113 | B70: SERVICIO DE INTERNET Y TELEFONIA | C70: 11825 | D70: 8811.18 | E70: 11825 | F70: 14256.06
A71: 122 | B71: IMPRESIÓN, ENCUADERNACION Y REPRODUCCION | C71: 0 | D71: 9914.5 | E71: 0 | F71: 43465
...

Sheet JULIO DECE-5
B8: ÀREA FINANCIERA | K8: DECE-5
A10: UNIDAD DE CIRUGIA CARDIOVASCULAR DE GUATEMALA
A11: 5a. AVENIDA 6-22 ZONA 11
A12: dgunicar@yahoo.es Tel. 24163000
A14: Programación y ejecucion del mes de julio por tipo de gasto, año 2025, (Expresado en Quetzales)
A15: No. | B15: CATEGORIA DEL GASTO DE FUNCIONAMIENTO | C15: Enero | E15: Febrero | G15: Marzo | I15: Abril
C16: PROG. | D16: EJECUTADO | E16: PROG. | F16: EJECUTADO | G16: PROG. | H16: EJECUTADO | I16: PROG. | J16: EJECUTADO
B17: RECURSO HUMANO
A18: 011 | B18: SUELOS Y SALARIOS | C18: 3985581.3 | D18: 3442190.4 | E18: 3985581.3 | F18: 3499181.9 | G18: 3985581.3 | H18: 3551627.3 | I18: 3985581.3 | J18: =3946986.7-399869.63 -> 3547117.1
B19: BONO 14 | C19: 0 | D19: 0 | E19: 0 | F19: 0 | I19: 0
B20: CUOTA PATRONAL | C20: 0 | D20: 387999.9 | E20: 0 | F20: 394552.58 | H20: 400276.26 | I20: 0 | J20: 399869.63
B21: TOTAL RECURSO HUMANO | C21: =SUM(C18:C20) -> 3985581.3 | D21: =SUM(D18:D20) -> 3830190.3 | E21: =SUM(E18:E20) -> 3985581.3 | F21: =SUM(F18:F20) -> 3893734.5 | G21: =SUM(G18:G20) -> 3985581.3 | H21: =SUM(H18:H20) -> 3951903.5 | I21: =SUM(I18:I20) -> 3985581.3 | J21: =SUM(J18:J20) -> 3946986.7
B23: GASTOS DE OPERACIÓN
A24: 111 | B24: ENERGIA ELECTRICA | C24: 0 | D24: 0 | E24: 106000 | F24: 96455.75 | G24: 106000 | H24: 0 | I24: 106000 | J24: 107590.34
A25: 113 | B25: SERVICIO DE INTERNET Y TELEFONIA | C25: 0 | D25: 0 | E25: 11825 | F25: 8643.16 | G25: 11825 | H25: 8638.1 | I25: 11825 | J25: 8966.74
A26: 122 | B26: IMPRESIÓN, ENCUADERNACION Y REPRODUCCION | C26: 0 | D26: 0 | E26: 64244.05 | F26: 0 | G26: 0 | H26: 0 | I26: 0 | J26: 4154.5
A27: 163 | B27: MANT. Y REP. EQUIPO MEDICO SANITARIO Y DE LAB. | C27: 100000 | D27: 0 | E27: 0 | F27: 0 | G27: 304339.74 | H27: 0 | I27: 0 | J27: 19341.5
A28: 169 | B28: MANT. Y REP. DE OTRAS MAQUINARIAS Y EQUIPOS | C28: 20000 | D28: 0 | E28: 0 | F28: 0 | G28: 1680 | H28: 0 | I28: 0 | J28: 1600
A29: 171 | B29: MANT. Y REPARACION DE EDIFICIOS | C29: 50000 | D29: 0 | E29: 0 | F29: 0 | G29: 7770 | H29: 0 | I29: 1260 | J29: 1300
A30: 174 | B30: MANT. Y REP. DE INSTALACIONES | C30: 53344.25 | D30: 0 | E30: 3344.25 | F30: 6520 | G30: 4761.75 | H30: 0 | I30: 4761.75 | J30: 3260
A31: 197 | B31: SERVICIOS DE VIGILANCIA | C31: 0 | D31: 0 | E31: 52000 | F31: 0 | G31: 52000 | H31: 52000 | I31: 52000 | J31: 52000
A32: 199 | B32: OTROS SERVICIOS NO PERSONALES | C32: 0 | D32: 0 | E32: 127225.9 | F32: 0 | G32: 51415.9 | H32: 43988.88 | I32: 51415.9 | J32: 86010.21
A33: 243 | B33: PRODUCTOS DE PAPEL O CARTON | C33: 0 | D33: 0 | E33: 77602.26 | F33: 0 | G33: 0 | H33: 112506.6 | I33: 0 | J33: 0
A34: 261 | B34: ELEMENTOS Y COMPUESTOS QUIMICOS | C34: 0 | D34: 0 | E34: 812953.74 | F34: 0 | G34: 0 | H34: 105279.68 | I34: 0 | J34: 71517.99
A35: 262 | B35: COMBUSTIBLES Y LUBRICANTES | C35: 17000 | D35: 0 | E35: 0 | F35: 13195 | G35: 0 | H35: 0 | I35: 0 | J35: 0
... A45: 323 | B45: EQUIPO MEDICO-SANITARIO Y DE LABORATORIO | C45: 0 | D45: 0 | E45: 0 | F45: 0 | G45: 0 | H45: 0 | I45: 0 | J45: 0
B46: TOTAL GASTOS DE OPERACIÓN | C46: =SUM(C24:C45) -> 1165344.2 | D46: =SUM(D24:D45) -> 0 | E46: =SUM(E24:E45) -> 3598165.6 | F46: =SUM(F24:F45) -> 136886.92 | G46: =SUM(G24:G45) -> 539792.39 | H46: =SUM(H24:H45) -> 1879182.5 | I46: =SUM(I24:I45) -> 227262.65 | J46: =SUM(J24:J45) -> 1267854.5
B47: TOTAL GENERAL | C47: =+C46+C21 -> 5150925.5 | D47: =+D46+D21 -> 3830190.3 | E47: =+E46+E21 -> 7583746.8 | F47: =+F46+F21 -> 4030621.4 | G47: =+G46+G21 -> 4525373.7 | H47: =+H46+H21 -> 5831086.1 | I47: =+I46+I21 -> 4212843.9 | J47: =+J46+J21 -> 5214841.2
A59: =+A14 -> Programación y ejecucion del mes de julio por tipo de gasto, año 2025, (Expresado en Quetzales)
A60: No. | B60: =+B15 -> CATEGORIA DEL GASTO DE FUNCIONAMIENTO | C60: Mayo | E60: Junio | G60: Julio | I60: Agosto
C61: PROG. | D61: EJECUTADO | E61: PROG. | F61: EJECUTADO | G61: PROG. | H61: EJECUTADO | I61: PROG. | J61: EJECUTADO
A62: 011 | B62: RECURSO HUMANO
B63: SUELOS Y SALARIOS | C63: 3985581.3 | D63: 3571840.7 | E63: 3985581.3 | F63: 3574068.5 | G63: 7331062.7 | H63: 3541104.6
B64: BONO 14 | D64: 0 | H64: 3208721.7
B65: CUOTA PATRONAL | D65: 402550.66 | F65: 402616.11 | H65: 398875.22
B66: TOTAL RECURSO HUMANO | C66: =SUM(C63:C65) -> 3985581.3 | D66: =SUM(D63:D65) -> 3974391.3 | E66: =SUM(E63:E65) -> 3985581.3 | F66: =SUM(F63:F65) -> 3976684.6 | G66: =SUM(G63:G65) -> 7331062.7 | H66: =SUM(H63:H65) -> 7148701.5 | I66: =SUM(I63:I65) -> 0 | J66: =SUM(J63:J65) -> 0
B68: GASTOS DE OPERACIÓN
A69: 111 | B69: ENERGIA ELECTRICA | C69: 106000 | D69: 108453.52 | E69: 106000 | F69: 106384.31 | G69: 106000 | H69: 106955.3
A70: 113 | B70: SERVICIO DE INTERNET Y TELEFONIA | C70: 11825 | D70: 8811.18 | E70: 11825 | F70: 14256.06 | G70: 11825 | H70: 0
A71: 122 | B71: IMPRESIÓN, ENCUADERNACION Y REPRODUCCION | C71: 0 | D71: 9914.5 | E71: 0 | F71: 43465 | G71: 0 | H71: 5691.25
...

Sheet AGOSTO DECE-5
B8: ÀREA FINANCIERA | K8: DECE-5
A10: UNIDAD DE CIRUGIA CARDIOVASCULAR DE GUATEMALA
A11: 5a. AVENIDA 6-22 ZONA 11
A12: dgunicar@yahoo.es Tel. 24163000
A14: Programación y ejecucion del mes de agosto por tipo de gasto, año 2025, (Expresado en Quetzales)
A15: No. | B15: CATEGORIA DEL GASTO DE FUNCIONAMIENTO | C15: Enero | E15: Febrero | G15: Marzo | I15: Abril
C16: PROG. | D16: EJECUTADO | E16: PROG. | F16: EJECUTADO | G16: PROG. | H16: EJECUTADO | I16: PROG. | J16: EJECUTADO
B17: RECURSO HUMANO
A18: 011 | B18: SUELOS Y SALARIOS | C18: 3985581.3 | D18: 3442190.4 | E18: 3985581.3 | F18: 3499181.9 | G18: 3985581.3 | H18: 3551627.3 | I18: 3985581.3 | J18: =3946986.7-399869.63 -> 3547117.1
B19: BONO 14 | C19: 0 | D19: 0 | E19: 0 | F19: 0 | I19: 0
B20: CUOTA PATRONAL | C20: 0 | D20: 387999.9 | E20: 0 | F20: 394552.58 | H20: 400276.26 | I20: 0 | J20: 399869.63
B21: TOTAL RECURSO HUMANO | C21: =SUM(C18:C20) -> 3985581.3 | D21: =SUM(D18:D20) -> 3830190.3 | E21: =SUM(E18:E20) -> 3985581.3 | F21: =SUM(F18:F20) -> 3893734.5 | G21: =SUM(G18:G20) -> 3985581.3 | H21: =SUM(H18:H20) -> 3951903.5 | I21: =SUM(I18:I20) -> 3985581.3 | J21: =SUM(J18:J20) -> 3946986.7
B23: GASTOS DE OPERACIÓN
A24: 111 | B24: ENERGIA ELECTRICA | C24: 0 | D24: 0 | E24: 106000 | F24: 96455.75 | G24: 106000 | H24: 0 | I24: 106000 | J24: 107590.34
A25: 113 | B25: SERVICIO DE INTERNET Y TELEFONIA | C25: 0 | D25: 0 | E25: 11825 | F25: 8643.16 | G25: 11825 | H25: 8638.1 | I25: 11825 | J25: 8966.74
A26: 122 | B26: IMPRESIÓN, ENCUADERNACION Y REPRODUCCION | C26: 0 | D26: 0 | E26: 64244.05 | F26: 0 | G26: 0 | H26: 0 | I26: 0 | J26: 4154.5
A27: 163 | B27: MANT. Y REP. EQUIPO MEDICO SANITARIO Y DE LAB. | C27: 100000 | D27: 0 | E27: 0 | F27: 0 | G27: 304339.74 | H27: 0 | I27: 0 | J27: 19341.5
A28: 169 | B28: MANT. Y REP. DE OTRAS MAQUINARIAS Y EQUIPOS | C28: 20000 | D28: 0 | E28: 0 | F28: 0 | G28: 1680 | H28: 0 | I28: 0 | J28: 1600
A29: 171 | B29: MANT. Y REPARACION DE EDIFICIOS | C29: 50000 | D29: 0 | E29: 0 | F29: 0 | G29: 7770 | H29: 0 | I29: 1260 | J29: 1300
A30: 174 | B30: MANT. Y REP. DE INSTALACIONES | C30: 53344.25 | D30: 0 | E30: 3344.25 | F30: 6520 | G30: 4761.75 | H30: 0 | I30: 4761.75 | J30: 3260
A31: 197 | B31: SERVICIOS DE VIGILANCIA | C31: 0 | D31: 0 | E31: 52000 | F31: 0 | G31: 52000 | H31: 52000 | I31: 52000 | J31: 52000
A32: 199 | B32: OTROS SERVICIOS NO PERSONALES | C32: 0 | D32: 0 | E32: 127225.9 | F32: 0 | G32: 51415.9 | H32: 43988.88 | I32: 51415.9 | J32: 86010.21
A33: 243 | B33: PRODUCTOS DE PAPEL O CARTON | C33: 0 | D33: 0 | E33: 77602.26 | F33: 0 | G33: 0 | H33: 112506.6 | I33: 0 | J33: 0
A34: 261 | B34: ELEMENTOS Y COMPUESTOS QUIMICOS | C34: 0 | D34: 0 | E34: 812953.74 | F34: 0 | G34: 0 | H34: 105279.68 | I34: 0 | J34: 71517.99
A35: 262 | B35: COMBUSTIBLES Y LUBRICANTES | C35: 17000 | D35: 0 | E35: 0 | F35: 13195 | G35: 0 | H35: 0 | I35: 0 | J35: 0
... A45: 323 | B45: EQUIPO MEDICO-SANITARIO Y DE LABORATORIO | C45: 0 | D45: 0 | E45: 0 | F45: 0 | G45: 0 | H45: 0 | I45: 0 | J45: 0
B46: TOTAL GASTOS DE OPERACIÓN | C46: =SUM(C24:C45) -> 1165344.2 | D46: =SUM(D24:D45) -> 0 | E46: =SUM(E24:E45) -> 3598165.6 | F46: =SUM(F24:F45) -> 136886.92 | G46: =SUM(G24:G45) -> 539792.39 | H46: =SUM(H24:H45) -> 1879182.5 | I46: =SUM(I24:I45) -> 227262.65 | J46: =SUM(J24:J45) -> 1267854.5
B47: TOTAL GENERAL | C47: =+C46+C21 -> 5150925.5 | D47: =+D46+D21 -> 3830190.3 | E47: =+E46+E21 -> 7583746.8 | F47: =+F46+F21 -> 4030621.4 | G47: =+G46+G21 -> 4525373.7 | H47: =+H46+H21 -> 5831086.1 | I47: =+I46+I21 -> 4212843.9 | J47: =+J46+J21 -> 5214841.2
A59: =+A14 -> Programación y ejecucion del mes de agosto por tipo de gasto, año 2025, (Expresado en Quetzales)
A60: No. | B60: =+B15 -> CATEGORIA DEL GASTO DE FUNCIONAMIENTO | C60: Mayo | E60: Junio | G60: Julio | I60: Agosto
C61: PROG. | D61: EJECUTADO | E61: PROG. | F61: EJECUTADO | G61: PROG. | H61: EJECUTADO | I61: PROG. | J61: EJECUTADO
A62: 011 | B62: RECURSO HUMANO
B63: SUELOS Y SALARIOS | C63: 3985581.3 | D63: 3571840.7 | E63: 3985581.3 | F63: 3574068.5 | G63: 7331062.7 | H63: 3541104.6 | I63: 3985581.3 | J63: 3577680.2
B64: BONO 14 | D64: 0 | H64: 3208721.7
B65: CUOTA PATRONAL | D65: 402550.66 | F65: 402616.11 | H65: 398875.22 | J65: 403148.83
B66: TOTAL RECURSO HUMANO | C66: =SUM(C63:C65) -> 3985581.3 | D66: =SUM(D63:D65) -> 3974391.3 | E66: =SUM(E63:E65) -> 3985581.3 | F66: =SUM(F63:F65) -> 3976684.6 | G66: =SUM(G63:G65) -> 7331062.7 | H66: =SUM(H63:H65) -> 7148701.5 | I66: =SUM(I63:I65) -> 3985581.3 | J66: =SUM(J63:J65) -> 3980829
B68: GASTOS DE OPERACIÓN
A69: 111 | B69: ENERGIA ELECTRICA | C69: 106000 | D69: 108453.52 | E69: 106000 | F69: 106384.31 | G69: 106000 | H69: 106955.3 | I69: 106000 | J69: 110648.44
A70: 113 | B70: SERVICIO DE INTERNET Y TELEFONIA | C70: 11825 | D70: 8811.18 | E70: 11825 | F70: 14256.06 | G70: 11825 | H70: 0 | I70: 11825 | J70: 14711.08
A71: 122 | B71: IMPRESIÓN, ENCUADERNACION Y REPRODUCCION | C71: 0 | D71: 9914.5 | E71: 0 | F71: 43465 | G71: 0 | H71: 5691.25 | I71: 0
...

Sheet MAYO ANEXO A DECE-5
B8: ÀREA FINANCIERA | I8: ANEXO DE DECE-5
A10: UNIDAD DE CIRUGIA CARDIOVASCULAR DE GUATEMALA
A11: 5a. AVENIDA 6-22 ZONA 11
A12: dgunicar@yahoo.es Tel. 24163000
A14: Programación mensual por tipo de gasto año 2018, Expresado en Quetzales primer cuatrimestre 2018
A15: No. | B15: CATEGORIA DE GASTO | C15: ENERO | E15: FEBRERO | G15: MARZO | I15: ABRIL
C16: PRESUPUESTO | D16: REAL | E16: PRESUPUESTO | F16: REAL | G16: PRESUPUESTO | H16: REAL | I16: PRESUPUESTO | J16: REAL
B17: RECURSO HUMANO | C17: 1764858.4 | D17: 1492317.4 | E17: 1764858.4 | F17: 1792563.6 | G17: 1764858.4 | H17: 1578007.9 | I17: 1764858.4 | J17: 1803793.6
B19: GASTOS DE FUNCIONAMIENTO | C19: =+C27+C43 -> 2818474.9 | D19: =+D27+D43 -> 0 | E19: =+E27+E43 -> 2818474.9 | F19: =+F27+F43 -> 67111.02 | G19: =+G27+G43 -> 2818474.9 | H19: =+H27+H43 -> 58543.64 | I19: =+I27+I43 -> 2818474.9 | J19: =+J27+J43 -> 3743927.3
B20: ENERGIA ELECTRICA | C20: 62500 | E20: 62500 | F20: 56112.02 | G20: 62500 | I20: 62500 | J20: 68083.01
B21: TELEFONIA | C21: 7500 | E21: 7500 | F21: 10999 | G21: 7500 | H21: 11011 | I21: 7500 | J21: 10992
B22: IMPRESIÓN, ENCUADERNACION Y REPRODUCCION | C22: 8133.97 | E22: 8133.97 | G22: 8133.97 | I22: 8133.97 | J22: 4358
B23: MANT. Y REP. EQUIPO MEDICO SANITARIO Y DE LAB. | C23: 33333.33 | E23: 33333.33 | G23: 33333.33 | I23: 33333.33 | J23: 45020
B24: SERVICIOS MEDICO-SANITARIOS | C24: 165141.75 | E24: 165141.75 | G24: 165141.75 | H24: 1000 | I24: 165141.75 | J24: 26842.86
B25: SERVICIOS DE VIGILANCIA | C25: 40000 | E25: 40000 | G25: 40000 | I25: 40000 | J25: 76240
B26: OTROS SERVICIOS NO PERSONALES | C26: 26305.03 | E26: 26305.03 | G26: 26305.03 | H26: 46532.64 | I26: 26305.03 | J26: 55063.68
B27: SUMA GASTOS GENERALES | C27: =SUM(C20:C26) -> 342914.08 | D27: =SUM(D20:D26) -> 0 | E27: =SUM(E20:E26) -> 342914.08 | F27: =SUM(F20:F26) -> 67111.02 | G27: =SUM(G20:G26) -> 342914.08 | H27: =SUM(H20:H26) -> 58543.64 | I27: =SUM(I20:I26) -> 342914.08 | J27: =SUM(J20:J26) -> 286599.55
B28: MATERIALES Y SUMINISTROS
B29: ALIMENTOS PARA PERSONAS | C29: 60936.45 | E29: 60936.45 | G29: 60936.45 | I29: 60936.45 | J29: 202940.25
B30: ACABADOS TEXTILES | C30: 600 | E30: 600 | G30: 600 | I30: 600
B31: PRODUCTOS DE PAPEL O CARTON | C31: 945.42 | E31: 945.42 | G31: 945.42 | I31: 945.42
B32: ELEMENTOS Y COMPUESTOS QUIMICOS | C32: 169652.57 | E32: 169652.57 | G32: 169652.57 | I32: 169652.57 | J32: 178282.05
B33: COMBUSTIBLES Y LUBRICANTES | C33: 912 | E33: 912 | G33: 912 | I33: 912
B34: PRODUCTOS MEDICINALES Y FARMACEUTICOS | C34: 427229.65 | E34: 427229.65 | G34: 427229.65 | I34: 427229.65 | J34: 1425199.8
B35: TINTES, PINTURAS Y COLORANTES | C35: 100 | E35: 100 | G35: 100 | I35: 100
B36: PRODUCTOS PLASTICOS, NYLON, VINIL Y PVC | C36: 13579.7 | E36: 13579.7 | G36: 13579.7 | I36: 13579.7 | J36: 75162.24
B37: OTROS PRODUCTOS METALICOS | C37: 310 | E37: 310 | G37: 310 | I37: 310
B38: UTILES DE LIMPIEZA Y PRODUCTOS SANITARIOS | C38: 10809.43 | E38: 10809.43 | G38: 10809.43 | I38: 10809.43 | J38: 14528.6
B39: UTILES MENORES MEDICO QUIRURGICOS Y DE LAB. | C39: 1780006.3 | E39: 1780006.3 | G39: 1780006.3 | I39: 1780006.3 | J39: 1545914.8
B40: UTILES, ACCESORIOS Y MATERIALES ELECTRICOS | C40: 2208.7 | E40: 2208.7 | G40: 2208.7 | I40: 2208.7 | J40: 15300
B41: ACCESORIOS Y REPUESTOS EN GENERAL | C41: 8105.1 | E41: 8105.1 | G41: 8105.1 | I41: 8105.1
B42: OTROS MATERIALES Y SUMINISTROS | C42: 165.5 | E42: 165.5 | G42: 165.5 | I42: 165.5
B43: TOTAL MATERIALES Y SUMINISTROS | C43: =SUM(C29:C42) -> 2475560.8 | D43: =SUM(D29:D42) -> 0 | E43: =SUM(E29:E42) -> 2475560.8 | F43: =SUM(F29:F42) -> 0 | G43: =SUM(G29:G42) -> 2475560.8 | H43: =SUM(H29:H42) -> 0 | I43: =SUM(I29:I42) -> 2475560.8 | J43: =SUM(J29:J42) -> 3457327.8
A46: Programación mensual por tipo de gasto año 2016, Expresado en Quetzales
A47: No. | B47: Categoría de Gasto | C47: Julio | E47: Agosto | G47: Septiembre
B48: Recurso Humano | C48: Pto. | D48: Real | E48: Pto. | F48: Real | G48: Pto. | H48: Real
B51: Gastos de Funcionamiento
B52: detallar cada gasto cargado
A60: TOTALES
A73: Programación mensual por tipo de gasto año 2018, Expresado en Quetzales segundo cuatrimestre 2018
...

Sheet JUNIO ANEXO A DECE-5
B8: ÀREA FINANCIERA | I8: ANEXO DE DECE-5
A10: UNIDAD DE CIRUGIA CARDIOVASCULAR DE GUATEMALA
A11: 5a. AVENIDA 6-22 ZONA 11
A12: dgunicar@yahoo.es Tel. 24163000
A14: Programación mensual por tipo de gasto año 2018, Expresado en Quetzales primer cuatrimestre 2018
A15: No. | B15: CATEGORIA DE GASTO | C15: ENERO | E15: FEBRERO | G15: MARZO | I15: ABRIL
C16: PRESUPUESTO | D16: REAL | E16: PRESUPUESTO | F16: REAL | G16: PRESUPUESTO | H16: REAL | I16: PRESUPUESTO | J16: REAL
B17: RECURSO HUMANO | C17: 1764858.4 | D17: 1492317.4 | E17: 1764858.4 | F17: 1792563.6 | G17: 1764858.4 | H17: 1578007.9 | I17: 1764858.4 | J17: 1803793.6
B19: GASTOS DE FUNCIONAMIENTO | C19: =+C27+C43 -> 2818474.9 | D19: =+D27+D43 -> 0 | E19: =+E27+E43 -> 2818474.9 | F19: =+F27+F43 -> 67111.02 | G19: =+G27+G43 -> 2818474.9 | H19: =+H27+H43 -> 58543.64 | I19: =+I27+I43 -> 2818474.9 | J19: =+J27+J43 -> 3743927.3
B20: ENERGIA ELECTRICA | C20: 62500 | E20: 62500 | F20: 56112.02 | G20: 62500 | I20: 62500 | J20: 68083.01
B21: TELEFONIA | C21: 7500 | E21: 7500 | F21: 10999 | G21: 7500 | H21: 11011 | I21: 7500 | J21: 10992
B22: IMPRESIÓN, ENCUADERNACION Y REPRODUCCION | C22: 8133.97 | E22: 8133.97 | G22: 8133.97 | I22: 8133.97 | J22: 4358
B23: MANT. Y REP. EQUIPO MEDICO SANITARIO Y DE LAB. | C23: 33333.33 | E23: 33333.33 | G23: 33333.33 | I23: 33333.33 | J23: 45020
B24: SERVICIOS MEDICO-SANITARIOS | C24: 165141.75 | E24: 165141.75 | G24: 165141.75 | H24: 1000 | I24: 165141.75 | J24: 26842.86
B25: SERVICIOS DE VIGILANCIA | C25: 40000 | E25: 40000 | G25: 40000 | I25: 40000 | J25: 76240
B26: OTROS SERVICIOS NO PERSONALES | C26: 26305.03 | E26: 26305.03 | G26: 26305.03 | H26: 46532.64 | I26: 26305.03 | J26: 55063.68
B27: SUMA GASTOS GENERALES | C27: =SUM(C20:C26) -> 342914.08 | D27: =SUM(D20:D26) -> 0 | E27: =SUM(E20:E26) -> 342914.08 | F27: =SUM(F20:F26) -> 67111.02 | G27: =SUM(G20:G26) -> 342914.08 | H27: =SUM(H20:H26) -> 58543.64 | I27: =SUM(I20:I26) -> 342914.08 | J27: =SUM(J20:J26) -> 286599.55
B28: MATERIALES Y SUMINISTROS
B29: ALIMENTOS PARA PERSONAS | C29: 60936.45 | E29: 60936.45 | G29: 60936.45 | I29: 60936.45 | J29: 202940.25
B30: ACABADOS TEXTILES | C30: 600 | E30: 600 | G30: 600 | I30: 600
B31: PRODUCTOS DE PAPEL O CARTON | C31: 945.42 | E31: 945.42 | G31: 945.42 | I31: 945.42
B32: ELEMENTOS Y COMPUESTOS QUIMICOS | C32: 169652.57 | E32: 169652.57 | G32: 169652.57 | I32: 169652.57 | J32: 178282.05
B33: COMBUSTIBLES Y LUBRICANTES | C33: 912 | E33: 912 | G33: 912 | I33: 912
B34: PRODUCTOS MEDICINALES Y FARMACEUTICOS | C34: 427229.65 | E34: 427229.65 | G34: 427229.65 | I34: 427229.65 | J34: 1425199.8
B35: TINTES, PINTURAS Y COLORANTES | C35: 100 | E35: 100 | G35: 100 | I35: 100
B36: PRODUCTOS PLASTICOS, NYLON, VINIL Y PVC | C36: 13579.7 | E36: 13579.7 | G36: 13579.7 | I36: 13579.7 | J36: 75162.24
B37: OTROS PRODUCTOS METALICOS | C37: 310 | E37: 310 | G37: 310 | I37: 310
B38: UTILES DE LIMPIEZA Y PRODUCTOS SANITARIOS | C38: 10809.43 | E38: 10809.43 | G38: 10809.43 | I38: 10809.43 | J38: 14528.6
B39: UTILES MENORES MEDICO QUIRURGICOS Y DE LAB. | C39: 1780006.3 | E39: 1780006.3 | G39: 1780006.3 | I39: 1780006.3 | J39: 1545914.8
B40: UTILES, ACCESORIOS Y MATERIALES ELECTRICOS | C40: 2208.7 | E40: 2208.7 | G40: 2208.7 | I40: 2208.7 | J40: 15300
B41: ACCESORIOS Y REPUESTOS EN GENERAL | C41: 8105.1 | E41: 8105.1 | G41: 8105.1 | I41: 8105.1
B42: OTROS MATERIALES Y SUMINISTROS | C42: 165.5 | E42: 165.5 | G42: 165.5 | I42: 165.5
B43: TOTAL MATERIALES Y SUMINISTROS | C43: =SUM(C29:C42) -> 2475560.8 | D43: =SUM(D29:D42) -> 0 | E43: =SUM(E29:E42) -> 2475560.8 | F43: =SUM(F29:F42) -> 0 | G43: =SUM(G29:G42) -> 2475560.8 | H43: =SUM(H29:H42) -> 0 | I43: =SUM(I29:I42) -> 2475560.8 | J43: =SUM(J29:J42) -> 3457327.8
A46: Programación mensual por tipo de gasto año 2016, Expresado en Quetzales
A47: No. | B47: Categoría de Gasto | C47: Julio | E47: Agosto | G47: Septiembre
B48: Recurso Humano | C48: Pto. | D48: Real | E48: Pto. | F48: Real | G48: Pto. | H48: Real
B51: Gastos de Funcionamiento
B52: detallar cada gasto cargado
A60: TOTALES
A73: Programación mensual por tipo de gasto año 2018, Expresado en Quetzales segundo cuatrimestre 2018
...

Sheet JULIO ANEXO A DECE-5
B8: ÀREA FINANCIERA | I8: ANEXO DE DECE-5
A10: UNIDAD DE CIRUGIA CARDIOVASCULAR DE GUATEMALA
A11: 5a. AVENIDA 6-22 ZONA 11
A12: dgunicar@yahoo.es Tel. 24163000
A14: Programación mensual por tipo de gasto año 2018, Expresado en Quetzales primer cuatrimestre 2018
A15: No. | B15: CATEGORIA DE GASTO | C15: ENERO | E15: FEBRERO | G15: MARZO | I15: ABRIL
C16: PRESUPUESTO | D16: REAL | E16: PRESUPUESTO | F16: REAL | G16: PRESUPUESTO | H16: REAL | I16: PRESUPUESTO | J16: REAL
B17: RECURSO HUMANO | C17: 1764858.4 | D17: 1492317.4 | E17: 1764858.4 | F17: 1792563.6 | G17: 1764858.4 | H17: 1578007.9 | I17: 1764858.4 | J17: 1803793.6
B19: GASTOS DE FUNCIONAMIENTO | C19: =+C27+C43 -> 2818474.9 | D19: =+D27+D43 -> 0 | E19: =+E27+E43 -> 2818474.9 | F19: =+F27+F43 -> 67111.02 | G19: =+G27+G43 -> 2818474.9 | H19: =+H27+H43 -> 58543.64 | I19: =+I27+I43 -> 2818474.9 | J19: =+J27+J43 -> 3743927.3
B20: ENERGIA ELECTRICA | C20: 62500 | E20: 62500 | F20: 56112.02 | G20: 62500 | I20: 62500 | J20: 68083.01
B21: TELEFONIA | C21: 7500 | E21: 7500 | F21: 10999 | G21: 7500 | H21: 11011 | I21: 7500 | J21: 10992
B22: IMPRESIÓN, ENCUADERNACION Y REPRODUCCION | C22: 8133.97 | E22: 8133.97 | G22: 8133.97 | I22: 8133.97 | J22: 4358
B23: MANT. Y REP. EQUIPO MEDICO SANITARIO Y DE LAB. | C23: 33333.33 | E23: 33333.33 | G23: 33333.33 | I23: 33333.33 | J23: 45020
B24: SERVICIOS MEDICO-SANITARIOS | C24: 165141.75 | E24: 165141.75 | G24: 165141.75 | H24: 1000 | I24: 165141.75 | J24: 26842.86
B25: SERVICIOS DE VIGILANCIA | C25: 40000 | E25: 40000 | G25: 40000 | I25: 40000 | J25: 76240
B26: OTROS SERVICIOS NO PERSONALES | C26: 26305.03 | E26: 26305.03 | G26: 26305.03 | H26: 46532.64 | I26: 26305.03 | J26: 55063.68
B27: SUMA GASTOS GENERALES | C27: =SUM(C20:C26) -> 342914.08 | D27: =SUM(D20:D26) -> 0 | E27: =SUM(E20:E26) -> 342914.08 | F27: =SUM(F20:F26) -> 67111.02 | G27: =SUM(G20:G26) -> 342914.08 | H27: =SUM(H20:H26) -> 58543.64 | I27: =SUM(I20:I26) -> 342914.08 | J27: =SUM(J20:J26) -> 286599.55
B28: MATERIALES Y SUMINISTROS
B29: ALIMENTOS PARA PERSONAS | C29: 60936.45 | E29: 60936.45 | G29: 60936.45 | I29: 60936.45 | J29: 202940.25
B30: ACABADOS TEXTILES | C30: 600 | E30: 600 | G30: 600 | I30: 600
B31: PRODUCTOS DE PAPEL O CARTON | C31: 945.42 | E31: 945.42 | G31: 945.42 | I31: 945.42
B32: ELEMENTOS Y COMPUESTOS QUIMICOS | C32: 169652.57 | E32: 169652.57 | G32: 169652.57 | I32: 169652.57 | J32: 178282.05
B33: COMBUSTIBLES Y LUBRICANTES | C33: 912 | E33: 912 | G33: 912 | I33: 912
B34: PRODUCTOS MEDICINALES Y FARMACEUTICOS | C34: 427229.65 | E34: 427229.65 | G34: 427229.65 | I34: 427229.65 | J34: 1425199.8
B35: TINTES, PINTURAS Y COLORANTES | C35: 100 | E35: 100 | G35: 100 | I35: 100
B36: PRODUCTOS PLASTICOS, NYLON, VINIL Y PVC | C36: 13579.7 | E36: 13579.7 | G36: 13579.7 | I36: 13579.7 | J36: 75162.24
B37: OTROS PRODUCTOS METALICOS | C37: 310 | E37: 310 | G37: 310 | I37: 310
B38: UTILES DE LIMPIEZA Y PRODUCTOS SANITARIOS | C38: 10809.43 | E38: 10809.43 | G38: 10809.43 | I38: 10809.43 | J38: 14528.6
B39: UTILES MENORES MEDICO QUIRURGICOS Y DE LAB. | C39: 1780006.3 | E39: 1780006.3 | G39: 1780006.3 | I39: 1780006.3 | J39: 1545914.8
B40: UTILES, ACCESORIOS Y MATERIALES ELECTRICOS | C40: 2208.7 | E40: 2208.7 | G40: 2208.7 | I40: 2208.7 | J40: 15300
B41: ACCESORIOS Y REPUESTOS EN GENERAL | C41: 8105.1 | E41: 8105.1 | G41: 8105.1 | I41: 8105.1
B42: OTROS MATERIALES Y SUMINISTROS | C42: 165.5 | E42: 165.5 | G42: 165.5 | I42: 165.5
B43: TOTAL MATERIALES Y SUMINISTROS | C43: =SUM(C29:C42) -> 2475560.8 | D43: =SUM(D29:D42) -> 0 | E43: =SUM(E29:E42) -> 2475560.8 | F43: =SUM(F29:F42) -> 0 | G43: =SUM(G29:G42) -> 2475560.8 | H43: =SUM(H29:H42) -> 0 | I43: =SUM(I29:I42) -> 2475560.8 | J43: =SUM(J29:J42) -> 3457327.8
A46: Programación mensual por tipo de gasto año 2016, Expresado en Quetzales
A47: No. | B47: Categoría de Gasto | C47: Julio | E47: Agosto | G47: Septiembre
B48: Recurso Humano | C48: Pto. | D48: Real | E48: Pto. | F48: Real | G48: Pto. | H48: Real
B51: Gastos de Funcionamiento
B52: detallar cada gasto cargado
A60: TOTALES
A73: Programación mensual por tipo de gasto año 2018, Expresado en Quetzales segundo cuatrimestre 2018
...

Sheet AGOSTO ANEXO A DECE-5
B8: ÀREA FINANCIERA | I8: ANEXO DE DECE-5
A10: UNIDAD DE CIRUGIA CARDIOVASCULAR DE GUATEMALA
A11: 5a. AVENIDA 6-22 ZONA 11
A12: dgunicar@yahoo.es Tel. 24163000
A14: Programación mensual por tipo de gasto año 2018, Expresado en Quetzales primer cuatrimestre 2018
A15: No. | B15: CATEGORIA DE GASTO | C15: ENERO | E15: FEBRERO | G15: MARZO | I15: ABRIL
C16: PRESUPUESTO | D16: REAL | E16: PRESUPUESTO | F16: REAL | G16: PRESUPUESTO | H16: REAL | I16: PRESUPUESTO | J16: REAL
B17: RECURSO HUMANO | C17: 1764858.4 | D17: 1492317.4 | E17: 1764858.4 | F17: 1792563.6 | G17: 1764858.4 | H17: 1578007.9 | I17: 1764858.4 | J17: 1803793.6
B19: GASTOS DE FUNCIONAMIENTO | C19: =+C27+C43 -> 2818474.9 | D19: =+D27+D43 -> 0 | E19: =+E27+E43 -> 2818474.9 | F19: =+F27+F43 -> 67111.02 | G19: =+G27+G43 -> 2818474.9 | H19: =+H27+H43 -> 58543.64 | I19: =+I27+I43 -> 2818474.9 | J19: =+J27+J43 -> 3743927.3
B20: ENERGIA ELECTRICA | C20: 62500 | E20: 62500 | F20: 56112.02 | G20: 62500 | I20: 62500 | J20: 68083.01
B21: TELEFONIA | C21: 7500 | E21: 7500 | F21: 10999 | G21: 7500 | H21: 11011 | I21: 7500 | J21: 10992
B22: IMPRESIÓN, ENCUADERNACION Y REPRODUCCION | C22: 8133.97 | E22: 8133.97 | G22: 8133.97 | I22: 8133.97 | J22: 4358
B23: MANT. Y REP. EQUIPO MEDICO SANITARIO Y DE LAB. | C23: 33333.33 | E23: 33333.33 | G23: 33333.33 | I23: 33333.33 | J23: 45020
B24: SERVICIOS MEDICO-SANITARIOS | C24: 165141.75 | E24: 165141.75 | G24: 165141.75 | H24: 1000 | I24: 165141.75 | J24: 26842.86
B25: SERVICIOS DE VIGILANCIA | C25: 40000 | E25: 40000 | G25: 40000 | I25: 40000 | J25: 76240
B26: OTROS SERVICIOS NO PERSONALES | C26: 26305.03 | E26: 26305.03 | G26: 26305.03 | H26: 46532.64 | I26: 26305.03 | J26: 55063.68
B27: SUMA GASTOS GENERALES | C27: =SUM(C20:C26) -> 342914.08 | D27: =SUM(D20:D26) -> 0 | E27: =SUM(E20:E26) -> 342914.08 | F27: =SUM(F20:F26) -> 67111.02 | G27: =SUM(G20:G26) -> 342914.08 | H27: =SUM(H20:H26) -> 58543.64 | I27: =SUM(I20:I26) -> 342914.08 | J27: =SUM(J20:J26) -> 286599.55
B28: MATERIALES Y SUMINISTROS
B29: ALIMENTOS PARA PERSONAS | C29: 60936.45 | E29: 60936.45 | G29: 60936.45 | I29: 60936.45 | J29: 202940.25
B30: ACABADOS TEXTILES | C30: 600 | E30: 600 | G30: 600 | I30: 600
B31: PRODUCTOS DE PAPEL O CARTON | C31: 945.42 | E31: 945.42 | G31: 945.42 | I31: 945.42
B32: ELEMENTOS Y COMPUESTOS QUIMICOS | C32: 169652.57 | E32: 169652.57 | G32: 169652.57 | I32: 169652.57 | J32: 178282.05
B33: COMBUSTIBLES Y LUBRICANTES | C33: 912 | E33: 912 | G33: 912 | I33: 912
B34: PRODUCTOS MEDICINALES Y FARMACEUTICOS | C34: 427229.65 | E34: 427229.65 | G34: 427229.65 | I34: 427229.65 | J34: 1425199.8
B35: TINTES, PINTURAS Y COLORANTES | C35: 100 | E35: 100 | G35: 100 | I35: 100
B36: PRODUCTOS PLASTICOS, NYLON, VINIL Y PVC | C36: 13579.7 | E36: 13579.7 | G36: 13579.7 | I36: 13579.7 | J36: 75162.24
B37: OTROS PRODUCTOS METALICOS | C37: 310 | E37: 310 | G37: 310 | I37: 310
B38: UTILES DE LIMPIEZA Y PRODUCTOS SANITARIOS | C38: 10809.43 | E38: 10809.43 | G38: 10809.43 | I38: 10809.43 | J38: 14528.6
B39: UTILES MENORES MEDICO QUIRURGICOS Y DE LAB. | C39: 1780006.3 | E39: 1780006.3 | G39: 1780006.3 | I39: 1780006.3 | J39: 1545914.8
B40: UTILES, ACCESORIOS Y MATERIALES ELECTRICOS | C40: 2208.7 | E40: 2208.7 | G40: 2208.7 | I40: 2208.7 | J40: 15300
B41: ACCESORIOS Y REPUESTOS EN GENERAL | C41: 8105.1 | E41: 8105.1 | G41: 8105.1 | I41: 8105.1
B42: OTROS MATERIALES Y SUMINISTROS | C42: 165.5 | E42: 165.5 | G42: 165.5 | I42: 165.5
B43: TOTAL MATERIALES Y SUMINISTROS | C43: =SUM(C29:C42) -> 2475560.8 | D43: =SUM(D29:D42) -> 0 | E43: =SUM(E29:E42) -> 2475560.8 | F43: =SUM(F29:F42) -> 0 | G43: =SUM(G29:G42) -> 2475560.8 | H43: =SUM(H29:H42) -> 0 | I43: =SUM(I29:I42) -> 2475560.8 | J43: =SUM(J29:J42) -> 3457327.8
A46: Programación mensual por tipo de gasto año 2016, Expresado en Quetzales
A47: No. | B47: Categoría de Gasto | C47: Julio | E47: Agosto | G47: Septiembre
B48: Recurso Humano | C48: Pto. | D48: Real | E48: Pto. | F48: Real | G48: Pto. | H48: Real
B51: Gastos de Funcionamiento
B52: detallar cada gasto cargado
A60: TOTALES
A73: Programación mensual por tipo de gasto año 2018, Expresado en Quetzales segundo cuatrimestre 2018
...

Sheet MAYO DECE-6
B7: ÀREA FINANCIERA | J7: DECE-6
A9: UNIDAD DE CIRUGIA CARDIOVASCULAR DE GUATEMALA
A10: 5a. AVENIDA 6-22 ZONA 11
A11: CORREO ELECTRÓNICO Y TELÉFONO
A12: dgunicar@yahoo.es Tel. 24163000
A14: Ejecucion fìnanciera por categoria del gasto del mes de abril, año 2025
A16: Categoría del gasto de funcionamiento | B16: Enero | D16: Febrero | F16: Marzo | H16: Abril
B17: Prog. | C17: Ejecutado | D17: Prog. | E17: Ejecutado | F17: Prog. | G17: Ejecutado | H17: Prog. | I17: Ejecutado
A18: Recurso Humano | B18: 3985581.3 | C18: 3830190.3 | D18: 3985581.3 | E18: 3893734.5 | F18: 3985581.3 | G18: 3951903.5 | H18: 3985581.3 | I18: 3946986.7
A19: Gastos de operación | B19: 1165344.2 | C19: 0 | D19: 3598165.6 | E19: 136886.92 | F19: 539792.39 | G19: 1879182.5 | H19: 227262.65 | I19: 1267854.5
A20: Propiedad planta y equipo | B20: 0 | C20: 0 | D20: 0 | E20: 0 | F20: 0 | G20: 0 | H20: 0 | I20: 0
A21: TOTAL | B21: =SUM(B18:B20) -> 5150925.5 | C21: =SUM(C18:C20) -> 3830190.3 | D21: =SUM(D18:D20) -> 7583746.8 | E21: =SUM(E18:E20) -> 4030621.4 | F21: =SUM(F18:F20) -> 4525373.7 | G21: =SUM(G18:G20) -> 5831086.1 | H21: =SUM(H18:H20) -> 4212843.9 | I21: =SUM(I18:I20) -> 5214841.2
A23: Ejecucion fìnanciera por categoria del gasto del mes de mayo, año 2025
A25: Categoría del gasto de funcionamiento | B25: Mayo | D25: Junio | F25: Julio | H25: Agosto
B26: Prog. | C26: Ejecutado | D26: Prog. | E26: Ejecutado | F26: Prog. | G26: Ejecutado | H26: Prog. | I26: Ejecutado
A27: Recurso Humano | B27: 3985581.3 | C27: 3974391.3
A28: Gastos de operación | B28: 2828722.6 | C28: 1415750.8
A29: TOTAL | B29: =SUM(B27:B28) -> 6814303.9 | C29: =SUM(C27:C28) -> 5390142.1 | D29: =SUM(D27:D28) -> 0 | E29: =SUM(E27:E28) -> 0 | F29: =SUM(F27:F28) -> 0 | G29: =SUM(G27:G28) -> 0 | H29: =SUM(H27:H28) -> 0 | I29: =SUM(I27:I28) -> 0
A32: Ejecucion fìnanciera por categoria del gasto del mes de septiembre, año 2025
A34: Categoría del gasto de funcionamiento | B34: Septiembre | D34: Octubre | F34: Noviembre | H34: Diciembre | J34: Total acumulado anual
B35: Prog. | C35: Ejecutado | D35: Prog. | E35: Ejecutado | F35: Prog. | G35: Ejecutado | H35: Prog. | I35: Ejecutado | J35: Prog. | K35: Ejecutado
A36: Recurso Humano | J36: =+B18+D18+F18+H18+B27+D27+F27+H27+B36+D36+F36+H36 -> 19927906 | K36: =+C18+E18+G18+I18+C27+E27+G27+I27+C36+E36+G36+I36 -> 19597206
A37: Gastos de operación | J37: =+B19+D19+F19+H19+B28+D28+F28+H28+B37+D37+F37+H37 -> 8359287.5 | K37: =+C19+E19+G19+I19+C28+E28+G28+I28+C37+E37+G37+I37 -> 4699674.8
A38: TOTAL | B38: =SUM(B36:B37) -> 0 | C38: =SUM(C36:C37) -> 0 | D38: =SUM(D36:D37) -> 0 | E38: =SUM(E36:E37) -> 0 | F38: =SUM(F36:F37) -> 0 | G38: =SUM(G36:G37) -> 0 | H38: =SUM(H36:H37) -> 0 | I38: =SUM(I36:I37) -> 0 | ... K38: =SUM(K36:K37) -> 24296881
A40: Resumen año 2024
A41: Categoría del gasto | B41: año 2024
B42: Presupuestado | C42: Ejecutado
A43: Recurso Humano | B43: =+J18+J27+J36 -> 19927906 | C43: =+K18+K27+K36 -> 19597206
A44: Gastos de operación | B44: =+J19+J28+J37 -> 8359287.5 | C44: =+K19+K28+K37 -> 4699674.8
A45: TOTAL | B45: =SUM(B43:B44) -> 28287194 | C45: =SUM(C43:C44) -> 24296881
A69: Elaborado por: | C69: ___________________________ | F69: Autorizado por: | H69: ___________________________________
C70: Víctor Cresencio Reyes Porres | H70: Lic. Douglas Antonio Díaz Rivera
C71: Jefe de Contabilidad | H71: Representante Legal
A72: Fecha: | C72: 10 de junio 2025

Sheet JUNIO DECE-6
B7: ÀREA FINANCIERA | J7: DECE-6
A9: UNIDAD DE CIRUGIA CARDIOVASCULAR DE GUATEMALA
A10: 5a. AVENIDA 6-22 ZONA 11
A11: CORREO ELECTRÓNICO Y TELÉFONO
A12: dgunicar@yahoo.es Tel. 24163000
A14: Ejecucion fìnanciera por categoria del gasto del mes de junio, año 2025
A16: Categoría del gasto de funcionamiento | B16: Enero | D16: Febrero | F16: Marzo | H16: Abril
B17: Prog. | C17: Ejecutado | D17: Prog. | E17: Ejecutado | F17: Prog. | G17: Ejecutado | H17: Prog. | I17: Ejecutado
A18: Recurso Humano | B18: 3985581.3 | C18: 3830190.3 | D18: 3985581.3 | E18: 3893734.5 | F18: 3985581.3 | G18: 3951903.5 | H18: 3985581.3 | I18: 3946986.7
A19: Gastos de operación | B19: 1165344.2 | C19: 0 | D19: 3598165.6 | E19: 136886.92 | F19: 539792.39 | G19: 1879182.5 | H19: 227262.65 | I19: 1267854.5
A20: Propiedad planta y equipo | B20: 0 | C20: 0 | D20: 0 | E20: 0 | F20: 0 | G20: 0 | H20: 0 | I20: 0
A21: TOTAL | B21: =SUM(B18:B20) -> 5150925.5 | C21: =SUM(C18:C20) -> 3830190.3 | D21: =SUM(D18:D20) -> 7583746.8 | E21: =SUM(E18:E20) -> 4030621.4 | F21: =SUM(F18:F20) -> 4525373.7 | G21: =SUM(G18:G20) -> 5831086.1 | H21: =SUM(H18:H20) -> 4212843.9 | I21: =SUM(I18:I20) -> 5214841.2
A23: Ejecucion fìnanciera por categoria del gasto del mes de junio, año 2025
A25: Categoría del gasto de funcionamiento | B25: Mayo | D25: Junio | F25: Julio | H25: Agosto
B26: Prog. | C26: Ejecutado | D26: Prog. | E26: Ejecutado | F26: Prog. | G26: Ejecutado | H26: Prog. | I26: Ejecutado
A27: Recurso Humano | B27: 3985581.3 | C27: 3974391.3 | D27: 3985581.3 | E27: 3976684.6
A28: Gastos de operación | B28: 2828722.6 | C28: 1415750.8 | D28: 33139324 | E28: 1862268
A29: TOTAL | B29: =SUM(B27:B28) -> 6814303.9 | C29: =SUM(C27:C28) -> 5390142.1 | D29: =SUM(D27:D28) -> 37124905 | E29: =SUM(E27:E28) -> 5838952.5 | F29: =SUM(F27:F28) -> 0 | G29: =SUM(G27:G28) -> 0 | H29: =SUM(H27:H28) -> 0 | I29: =SUM(I27:I28) -> 0
A32: Ejecucion fìnanciera por categoria del gasto del mes de septiembre, año 2025
A34: Categoría del gasto de funcionamiento | B34: Septiembre | D34: Octubre | F34: Noviembre | H34: Diciembre | J34: Total acumulado anual
B35: Prog. | C35: Ejecutado | D35: Prog. | E35: Ejecutado | F35: Prog. | G35: Ejecutado | H35: Prog. | I35: Ejecutado | J35: Prog. | K35: Ejecutado
A36: Recurso Humano | J36: =+B18+D18+F18+H18+B27+D27+F27+H27+B36+D36+F36+H36 -> 23913488 | K36: =+C18+E18+G18+I18+C27+E27+G27+I27+C36+E36+G36+I36 -> 23573891
A37: Gastos de operación | J37: =+B19+D19+F19+H19+B28+D28+F28+H28+B37+D37+F37+H37 -> 41498612 | K37: =+C19+E19+G19+I19+C28+E28+G28+I28+C37+E37+G37+I37 -> 6561942.8
A38: TOTAL | B38: =SUM(B36:B37) -> 0 | C38: =SUM(C36:C37) -> 0 | D38: =SUM(D36:D37) -> 0 | E38: =SUM(E36:E37) -> 0 | F38: =SUM(F36:F37) -> 0 | G38: =SUM(G36:G37) -> 0 | H38: =SUM(H36:H37) -> 0 | I38: =SUM(I36:I37) -> 0 | ... K38: =SUM(K36:K37) -> 30135834
A40: Resumen año 2024
A41: Categoría del gasto | B41: año 2024
B42: Presupuestado | C42: Ejecutado
A43: Recurso Humano | B43: =+J18+J27+J36 -> 23913488 | C43: =+K18+K27+K36 -> 23573891
A44: Gastos de operación | B44: =+J19+J28+J37 -> 41498612 | C44: =+K19+K28+K37 -> 6561942.8
A45: TOTAL | B45: =SUM(B43:B44) -> 65412099 | C45: =SUM(C43:C44) -> 30135834
A69: Elaborado por: | C69: ___________________________ | F69: Autorizado por: | H69: ___________________________________
C70: Víctor Cresencio Reyes Porres | H70: Lic. Douglas Antonio Díaz Rivera
C71: Jefe de Contabilidad | H71: Representante Legal
A72: Fecha: | C72: 10 de julio 2025

Sheet JULIO DECE-6
B7: ÀREA FINANCIERA | J7: DECE-6
A9: UNIDAD DE CIRUGIA CARDIOVASCULAR DE GUATEMALA
A10: 5a. AVENIDA 6-22 ZONA 11
A11: CORREO ELECTRÓNICO Y TELÉFONO
A12: dgunicar@yahoo.es Tel. 24163000
A14: Ejecucion fìnanciera por categoria del gasto del mes de julio, año 2025
A16: Categoría del gasto de funcionamiento | B16: Enero | D16: Febrero | F16: Marzo | H16: Abril
B17: Prog. | C17: Ejecutado | D17: Prog. | E17: Ejecutado | F17: Prog. | G17: Ejecutado | H17: Prog. | I17: Ejecutado
A18: Recurso Humano | B18: 3985581.3 | C18: 3830190.3 | D18: 3985581.3 | E18: 3893734.5 | F18: 3985581.3 | G18: 3951903.5 | H18: 3985581.3 | I18: 3946986.7
A19: Gastos de operación | B19: 1165344.2 | C19: 0 | D19: 3598165.6 | E19: 136886.92 | F19: 539792.39 | G19: 1879182.5 | H19: 227262.65 | I19: 1267854.5
A20: Propiedad planta y equipo | B20: 0 | C20: 0 | D20: 0 | E20: 0 | F20: 0 | G20: 0 | H20: 0 | I20: 0
A21: TOTAL | B21: =SUM(B18:B20) -> 5150925.5 | C21: =SUM(C18:C20) -> 3830190.3 | D21: =SUM(D18:D20) -> 7583746.8 | E21: =SUM(E18:E20) -> 4030621.4 | F21: =SUM(F18:F20) -> 4525373.7 | G21: =SUM(G18:G20) -> 5831086.1 | H21: =SUM(H18:H20) -> 4212843.9 | I21: =SUM(I18:I20) -> 5214841.2
A23: Ejecucion fìnanciera por categoria del gasto del mes de julio, año 2025
A25: Categoría del gasto de funcionamiento | B25: Mayo | D25: Junio | F25: Julio | H25: Agosto
B26: Prog. | C26: Ejecutado | D26: Prog. | E26: Ejecutado | F26: Prog. | G26: Ejecutado | H26: Prog. | I26: Ejecutado
A27: Recurso Humano | B27: 3985581.3 | C27: 3974391.3 | D27: 3985581.3 | E27: 3976684.6 | F27: 7331062.7 | G27: 7148701.5
A28: Gastos de operación | B28: 2828722.6 | C28: 1415750.8 | D28: 33139324 | E28: 1862268 | F28: 4507355.6 | G28: 2777077.4
A29: TOTAL | B29: =SUM(B27:B28) -> 6814303.9 | C29: =SUM(C27:C28) -> 5390142.1 | D29: =SUM(D27:D28) -> 37124905 | E29: =SUM(E27:E28) -> 5838952.5 | F29: =SUM(F27:F28) -> 11838418 | G29: =SUM(G27:G28) -> 9925778.9 | H29: =SUM(H27:H28) -> 0 | I29: =SUM(I27:I28) -> 0
A32: Ejecucion fìnanciera por categoria del gasto del mes de septiembre, año 2025
A34: Categoría del gasto de funcionamiento | B34: Septiembre | D34: Octubre | F34: Noviembre | H34: Diciembre | J34: Total acumulado anual
B35: Prog. | C35: Ejecutado | D35: Prog. | E35: Ejecutado | F35: Prog. | G35: Ejecutado | H35: Prog. | I35: Ejecutado | J35: Prog. | K35: Ejecutado
A36: Recurso Humano | J36: =+B18+D18+F18+H18+B27+D27+F27+H27+B36+D36+F36+H36 -> 31244550 | K36: =+C18+E18+G18+I18+C27+E27+G27+I27+C36+E36+G36+I36 -> 30722592
A37: Gastos de operación | J37: =+B19+D19+F19+H19+B28+D28+F28+H28+B37+D37+F37+H37 -> 46005967 | K37: =+C19+E19+G19+I19+C28+E28+G28+I28+C37+E37+G37+I37 -> 9339020.1
A38: TOTAL | B38: =SUM(B36:B37) -> 0 | C38: =SUM(C36:C37) -> 0 | D38: =SUM(D36:D37) -> 0 | E38: =SUM(E36:E37) -> 0 | F38: =SUM(F36:F37) -> 0 | G38: =SUM(G36:G37) -> 0 | H38: =SUM(H36:H37) -> 0 | I38: =SUM(I36:I37) -> 0 | ... K38: =SUM(K36:K37) -> 40061613
A40: Resumen año 2024
A41: Categoría del gasto | B41: año 2024
B42: Presupuestado | C42: Ejecutado
A43: Recurso Humano | B43: =+J18+J27+J36 -> 31244550 | C43: =+K18+K27+K36 -> 30722592
A44: Gastos de operación | B44: =+J19+J28+J37 -> 46005967 | C44: =+K19+K28+K37 -> 9339020.1
A45: TOTAL | B45: =SUM(B43:B44) -> 77250518 | C45: =SUM(C43:C44) -> 40061613
A69: Elaborado por: | C69: ___________________________ | F69: Autorizado por: | H69: ___________________________________
C70: Víctor Cresencio Reyes Porres | H70: Lic. Douglas Antonio Díaz Rivera
C71: Jefe de Contabilidad | H71: Representante Legal
A72: Fecha: | C72: 8 de agosto 2025

Sheet AGOSTO DECE-6
B7: ÀREA FINANCIERA | J7: DECE-6
A9: UNIDAD DE CIRUGIA CARDIOVASCULAR DE GUATEMALA
A10: 5a. AVENIDA 6-22 ZONA 11
A11: CORREO ELECTRÓNICO Y TELÉFONO
A12: dgunicar@yahoo.es Tel. 24163000
A14: Ejecucion fìnanciera por categoria del gasto del mes de agosto, año 2025
A16: Categoría del gasto de funcionamiento | B16: Enero | D16: Febrero | F16: Marzo | H16: Abril
B17: Prog. | C17: Ejecutado | D17: Prog. | E17: Ejecutado | F17: Prog. | G17: Ejecutado | H17: Prog. | I17: Ejecutado
A18: Recurso Humano | B18: 3985581.3 | C18: 3830190.3 | D18: 3985581.3 | E18: 3893734.5 | F18: 3985581.3 | G18: 3951903.5 | H18: 3985581.3 | I18: 3946986.7
A19: Gastos de operación | B19: 1165344.2 | C19: 0 | D19: 3598165.6 | E19: 136886.92 | F19: 539792.39 | G19: 1879182.5 | H19: 227262.65 | I19: 1267854.5
A20: Propiedad planta y equipo | B20: 0 | C20: 0 | D20: 0 | E20: 0 | F20: 0 | G20: 0 | H20: 0 | I20: 0
A21: TOTAL | B21: =SUM(B18:B20) -> 5150925.5 | C21: =SUM(C18:C20) -> 3830190.3 | D21: =SUM(D18:D20) -> 7583746.8 | E21: =SUM(E18:E20) -> 4030621.4 | F21: =SUM(F18:F20) -> 4525373.7 | G21: =SUM(G18:G20) -> 5831086.1 | H21: =SUM(H18:H20) -> 4212843.9 | I21: =SUM(I18:I20) -> 5214841.2
A23: Ejecucion fìnanciera por categoria del gasto del mes de agosto, año 2025
A25: Categoría del gasto de funcionamiento | B25: Mayo | D25: Junio | F25: Julio | H25: Agosto
B26: Prog. | C26: Ejecutado | D26: Prog. | E26: Ejecutado | F26: Prog. | G26: Ejecutado | H26: Prog. | I26: Ejecutado
A27: Recurso Humano | B27: 3985581.3 | C27: 3974391.3 | D27: 3985581.3 | E27: 3976684.6 | F27: 7331062.7 | G27: 7148701.5 | H27: 3985581.3 | I27: 3980829
A28: Gastos de operación | B28: 2828722.6 | C28: 1415750.8 | D28: 33139324 | E28: 1862268 | F28: 4507355.6 | G28: 2777077.4 | H28: 7241437.7 | I28: 5323886.5
A29: TOTAL | B29: =SUM(B27:B28) -> 6814303.9 | C29: =SUM(C27:C28) -> 5390142.1 | D29: =SUM(D27:D28) -> 37124905 | E29: =SUM(E27:E28) -> 5838952.5 | F29: =SUM(F27:F28) -> 11838418 | G29: =SUM(G27:G28) -> 9925778.9 | H29: =SUM(H27:H28) -> 11227019 | I29: =SUM(I27:I28) -> 9304715.6
A32: Ejecucion fìnanciera por categoria del gasto del mes de septiembre, año 2025
A34: Categoría del gasto de funcionamiento | B34: Septiembre | D34: Octubre | F34: Noviembre | H34: Diciembre | J34: Total acumulado anual
B35: Prog. | C35: Ejecutado | D35: Prog. | E35: Ejecutado | F35: Prog. | G35: Ejecutado | H35: Prog. | I35: Ejecutado | J35: Prog. | K35: Ejecutado
A36: Recurso Humano | J36: =+B18+D18+F18+H18+B27+D27+F27+H27+B36+D36+F36+H36 -> 35230132 | K36: =+C18+E18+G18+I18+C27+E27+G27+I27+C36+E36+G36+I36 -> 34703421
A37: Gastos de operación | J37: =+B19+D19+F19+H19+B28+D28+F28+H28+B37+D37+F37+H37 -> 53247405 | K37: =+C19+E19+G19+I19+C28+E28+G28+I28+C37+E37+G37+I37 -> 14662907
A38: TOTAL | B38: =SUM(B36:B37) -> 0 | C38: =SUM(C36:C37) -> 0 | D38: =SUM(D36:D37) -> 0 | E38: =SUM(E36:E37) -> 0 | F38: =SUM(F36:F37) -> 0 | G38: =SUM(G36:G37) -> 0 | H38: =SUM(H36:H37) -> 0 | I38: =SUM(I36:I37) -> 0 | ... K38: =SUM(K36:K37) -> 49366328
A40: Resumen año 2024
A41: Categoría del gasto | B41: año 2024
B42: Presupuestado | C42: Ejecutado
A43: Recurso Humano | B43: =+J18+J27+J36 -> 35230132 | C43: =+K18+K27+K36 -> 34703421
A44: Gastos de operación | B44: =+J19+J28+J37 -> 53247405 | C44: =+K19+K28+K37 -> 14662907
A45: TOTAL | B45: =SUM(B43:B44) -> 88477536 | C45: =SUM(C43:C44) -> 49366328
A69: Elaborado por: | C69: ___________________________ | F69: Autorizado por: | H69: ___________________________________
C70: Víctor Cresencio Reyes Porres | H70: Lic. Douglas Antonio Díaz Rivera
C71: Jefe de Contabilidad | H71: Representante Legal
A72: Fecha: | C72: 10 de septiembre 2025

Sheet EJECUCION FISICA MAYO DECE-8
L2: DECE-8
A6: UNIDAD DE CIRUGIA CARDIOVASCULAR DE GUATEMALA
A7: 5a. AVENIDA 6-22 ZONA 11
A8: dgunicar@yahoo.es Tel. 24163000
B10: Ejecucion mes de mayo, de metas fisicas y servicios, año 2025
A11: No. | B11: Meta/Servicio | C11: Enero | E11: Febrero | G11: Marzo | I11: Abril
C12: Programado | D12: Ejecutado | E12: Programado | F12: Ejecutado | G12: Programado | H12: Ejecutado | I12: Programado | J12: Ejecutado
A13: 1 | B13: CIRUGIA DE ADULTOS | C13: 18 | D13: 12 | E13: 19 | F13: 19 | G13: 19 | H13: 14 | I13: 12 | J13: 20
A14: 2 | B14: CIRUGIA DE PEDIATRIA | C14: 14 | D14: 11 | E14: 16 | F14: 9 | G14: 16 | H14: 11 | I14: 12 | J14: 18
A15: 3 | B15: HEMODINAMIA ADULTOS | C15: 75 | D15: 96 | E15: 82 | F15: 80 | G15: 82 | H15: 93 | I15: 65 | J15: 75
A16: 4 | B16: HEMODINAMIA PEDIATRIA | C16: 10 | D16: 8 | E16: 16 | F16: 13 | G16: 15 | H16: 9 | I16: 9 | J16: 13
A17: 5 | B17: REEMPLAZO VALVULAR POR MEDIO DE ENDOPROTESIS (TAVI) | C17: 0 | D17: 0 | E17: 0 | F17: 0 | G17: 0 | H17: 0 | I17: 3 | J17: 0
A18: 6 | B18: ANGIOPLASTIA COMPLEJA CON ROTABLATOR Y ULTRASONIDO INTRACAVITARIO | C18: 0 | D18: 1 | E18: 0 | F18: 0 | G18: 4 | H18: 1 | I18: 0 | J18: 1
A19: 7 | B19: IMPLANTE ENDOVENOSO DE MARCAPASOS INCLUYENDO DISPOSITIVO | C19: 0 | D19: 5 | E19: 2 | F19: 3 | G19: 3 | H19: 1 | I19: 1 | J19: 5
A20: 8 | B20: ECOCARDIOGRAMA ADULTOS | C20: 400 | D20: 406 | E20: 425 | F20: 481 | G20: 425 | H20: 468 | I20: 375 | J20: 467
A21: 9 | B21: ECOCARDIOGRAMA PEDIATRIA | C21: 300 | D21: 393 | E21: 350 | F21: 285 | G21: 375 | H21: 332 | I21: 275 | J21: 327
A22: 10 | B22: ELECTROCARDIOGRAMAS ADULTOS | C22: 100 | D22: 178 | E22: 150 | F22: 180 | G22: 150 | H22: 176 | I22: 100 | J22: 156
A23: 11 | B23: ELECTROCARDIOGRAMAS PEDIATRIA | C23: 145 | D23: 170 | E23: 170 | F23: 157 | G23: 170 | H23: 257 | I23: 140 | J23: 263
A24: 12 | B24: CONSULTAS MEDICAS ADULTOS | C24: 900 | D24: 1331 | E24: 1075 | F24: 1385 | G24: 1075 | H24: 1092 | I24: 850 | J24: 1090
... A31: 19 | B31: MONITOREO DE PRESION ARTERIAL | C31: 5 | D31: 16 | E31: 11 | F31: 15 | G31: 11 | H31: 15 | I31: 5 | J31: 11
A32: Total servicios/beneficiarios | C32: =SUM(C13:C31) -> 2499 | D32: =SUM(D13:D31) -> 3410 | E32: =SUM(E13:E31) -> 3016 | F32: =SUM(F13:F31) -> 3268 | G32: =SUM(G13:G31) -> 3046 | H32: =SUM(H13:H31) -> 3084 | I32: =SUM(I13:I31) -> 2344 | J32: =SUM(J13:J31) -> 3013
A49: No. | B49: Meta/Servicio | C49: Mayo | E49: Junio | G49: Julio | I49: Agosto
C50: Programado | D50: Ejecutado | E50: Programado | F50: Ejecutado | G50: Programado | H50: Ejecutado | I50: Programado | J50: Ejecutado
A51: 1 | B51: CIRUGIA DE ADULTOS | C51: 19 | D51: 23
A52: 2 | B52: CIRUGIA DE PEDIATRIA | C52: 16 | D52: 17
A53: 3 | B53: HEMODINAMIA ADULTOS | C53: 82 | D53: 70
A54: 4 | B54: HEMODINAMIA PEDIATRIA | C54: 16 | D54: 15
A55: 5 | B55: REEMPLAZO VALVULAR POR MEDIO DE ENDOPROTESIS (TAVI) | C55: 2 | D55: 1
A56: 6 | B56: ANGIOPLASTIA COMPLEJA CON ROTABLATOR Y ULTRASONIDO INTRACAVITARIO | C56: 4 | D56: 0
A57: 7 | B57: IMPLANTE ENDOVENOSO DE MARCAPASOS INCLUYENDO DISPOSITIVO | C57: 3 | D57: 1
A58: 8 | B58: ECOCARDIOGRAMA ADULTOS | C58: 425 | D58: 556
A59: 9 | B59: ECOCARDIOGRAMA PEDIATRIA | C59: 350 | D59: 388
A60: 10 | B60: ELECTROCARDIOGRAMAS ADULTOS | C60: 150 | D60: 181
A61: 11 | B61: ELECTROCARDIOGRAMAS PEDIATRIA | C61: 170 | D61: 347
A62: 12 | B62: CONSULTAS MEDICAS ADULTOS | C62: 1075 | D62: 1293
... A69: 19 | B69: MONITOREO DE PRESION ARTERIAL | C69: 11 | D69: 14
A70: Total servicios/beneficiarios | C70: =SUM(C51:C69) -> 2998 | D70: =SUM(D51:D69) -> 3557 | E70: =SUM(E51:E69) -> 0 | F70: =SUM(F51:F69) -> 0 | G70: =SUM(G51:G69) -> 0 | H70: =SUM(H51:H69) -> 0 | I70: =SUM(I51:I69) -> 0 | J70: =SUM(J51:J69) -> 0
B72: Ejecucion mes de septiembre, de metas fisicas y servicios, año 2025
A73: No. | B73: Meta/Servicio | C73: Septiembre | E73: Octubre | G73: Noviembre | I73: Diciembre | K73: Total acumulado anual
C74: Programado | D74: Ejecutado | E74: Programado | F74: Ejecutado | G74: Programado | H74: Ejecutado | I74: Programado | J74: Ejecutado | K74: Programado | L74: Ejecutado
...

Sheet EJECUCION FISICA JUNIO DECE-8
L2: DECE-8
A6: UNIDAD DE CIRUGIA CARDIOVASCULAR DE GUATEMALA
A7: 5a. AVENIDA 6-22 ZONA 11
A8: dgunicar@yahoo.es Tel. 24163000
B10: Ejecucion mes de junio, de metas fisicas y servicios, año 2025
A11: No. | B11: Meta/Servicio | C11: Enero | E11: Febrero | G11: Marzo | I11: Abril
C12: Programado | D12: Ejecutado | E12: Programado | F12: Ejecutado | G12: Programado | H12: Ejecutado | I12: Programado | J12: Ejecutado
A13: 1 | B13: CIRUGIA DE ADULTOS | C13: 18 | D13: 12 | E13: 19 | F13: 19 | G13: 19 | H13: 14 | I13: 12 | J13: 20
A14: 2 | B14: CIRUGIA DE PEDIATRIA | C14: 14 | D14: 11 | E14: 16 | F14: 9 | G14: 16 | H14: 11 | I14: 12 | J14: 18
A15: 3 | B15: HEMODINAMIA ADULTOS | C15: 75 | D15: 96 | E15: 82 | F15: 80 | G15: 82 | H15: 93 | I15: 65 | J15: 75
A16: 4 | B16: HEMODINAMIA PEDIATRIA | C16: 10 | D16: 8 | E16: 16 | F16: 13 | G16: 15 | H16: 9 | I16: 9 | J16: 13
A17: 5 | B17: REEMPLAZO VALVULAR POR MEDIO DE ENDOPROTESIS (TAVI) | C17: 0 | D17: 0 | E17: 0 | F17: 0 | G17: 0 | H17: 0 | I17: 3 | J17: 0
A18: 6 | B18: ANGIOPLASTIA COMPLEJA CON ROTABLATOR Y ULTRASONIDO INTRACAVITARIO | C18: 0 | D18: 1 | E18: 0 | F18: 0 | G18: 4 | H18: 1 | I18: 0 | J18: 1
A19: 7 | B19: IMPLANTE ENDOVENOSO DE MARCAPASOS INCLUYENDO DISPOSITIVO | C19: 0 | D19: 5 | E19: 2 | F19: 3 | G19: 3 | H19: 1 | I19: 1 | J19: 5
A20: 8 | B20: ECOCARDIOGRAMA ADULTOS | C20: 400 | D20: 406 | E20: 425 | F20: 481 | G20: 425 | H20: 468 | I20: 375 | J20: 467
A21: 9 | B21: ECOCARDIOGRAMA PEDIATRIA | C21: 300 | D21: 393 | E21: 350 | F21: 285 | G21: 375 | H21: 332 | I21: 275 | J21: 327
A22: 10 | B22: ELECTROCARDIOGRAMAS ADULTOS | C22: 100 | D22: 178 | E22: 150 | F22: 180 | G22: 150 | H22: 176 | I22: 100 | J22: 156
A23: 11 | B23: ELECTROCARDIOGRAMAS PEDIATRIA | C23: 145 | D23: 170 | E23: 170 | F23: 157 | G23: 170 | H23: 257 | I23: 140 | J23: 263
A24: 12 | B24: CONSULTAS MEDICAS ADULTOS | C24: 900 | D24: 1331 | E24: 1075 | F24: 1385 | G24: 1075 | H24: 1092 | I24: 850 | J24: 1090
... A31: 19 | B31: MONITOREO DE PRESION ARTERIAL | C31: 5 | D31: 16 | E31: 11 | F31: 15 | G31: 11 | H31: 15 | I31: 5 | J31: 11
A32: Total servicios/beneficiarios | C32: =SUM(C13:C31) -> 2499 | D32: =SUM(D13:D31) -> 3410 | E32: =SUM(E13:E31) -> 3016 | F32: =SUM(F13:F31) -> 3268 | G32: =SUM(G13:G31) -> 3046 | H32: =SUM(H13:H31) -> 3084 | I32: =SUM(I13:I31) -> 2344 | J32: =SUM(J13:J31) -> 3013
B49: Ejecucion mes de junio, de metas fisicas y servicios, año 2025
A50: No. | B50: Meta/Servicio | C50: Mayo | E50: Junio | G50: Julio | I50: Agosto
C51: Programado | D51: Ejecutado | E51: Programado | F51: Ejecutado | G51: Programado | H51: Ejecutado | I51: Programado | J51: Ejecutado
A52: 1 | B52: CIRUGIA DE ADULTOS | C52: 19 | D52: 23 | E52: 19 | F52: 20
A53: 2 | B53: CIRUGIA DE PEDIATRIA | C53: 16 | D53: 17 | E53: 16 | F53: 25
A54: 3 | B54: HEMODINAMIA ADULTOS | C54: 82 | D54: 70 | E54: 82 | F54: 72
A55: 4 | B55: HEMODINAMIA PEDIATRIA | C55: 16 | D55: 15 | E55: 15 | F55: 12
A56: 5 | B56: REEMPLAZO VALVULAR POR MEDIO DE ENDOPROTESIS (TAVI) | C56: 2 | D56: 1 | E56: 2 | F56: 0
A57: 6 | B57: ANGIOPLASTIA COMPLEJA CON ROTABLATOR Y ULTRASONIDO INTRACAVITARIO | C57: 4 | D57: 0 | E57: 4 | F57: 0
A58: 7 | B58: IMPLANTE ENDOVENOSO DE MARCAPASOS INCLUYENDO DISPOSITIVO | C58: 3 | D58: 1 | E58: 3 | F58: 2
A59: 8 | B59: ECOCARDIOGRAMA ADULTOS | C59: 425 | D59: 556 | E59: 425 | F59: 514
A60: 9 | B60: ECOCARDIOGRAMA PEDIATRIA | C60: 350 | D60: 388 | E60: 375 | F60: 407
A61: 10 | B61: ELECTROCARDIOGRAMAS ADULTOS | C61: 150 | D61: 181 | E61: 150 | F61: 143
A62: 11 | B62: ELECTROCARDIOGRAMAS PEDIATRIA | C62: 170 | D62: 347 | E62: 170 | F62: 331
A63: 12 | B63: CONSULTAS MEDICAS ADULTOS | C63: 1075 | D63: 1293 | E63: 1075 | F63: 1170
... A70: 19 | B70: MONITOREO DE PRESION ARTERIAL | C70: 11 | D70: 14 | E70: 11 | F70: 9
A71: Total servicios/beneficiarios | C71: =SUM(C52:C70) -> 2998 | D71: =SUM(D52:D70) -> 3557 | E71: =SUM(E52:E70) -> 3021 | F71: =SUM(F52:F70) -> 3444 | G71: =SUM(G52:G70) -> 0 | H71: =SUM(H52:H70) -> 0 | I71: =SUM(I52:I70) -> 0 | J71: =SUM(J52:J70) -> 0
B73: Ejecucion mes de septiembre, de metas fisicas y servicios, año 2025
A74: No. | B74: Meta/Servicio | C74: Septiembre | E74: Octubre | G74: Noviembre | I74: Diciembre | K74: Total acumulado anual
...

Sheet EJECUCION FISICA JULIO DECE-8
L2: DECE-8
A6: UNIDAD DE CIRUGIA CARDIOVASCULAR DE GUATEMALA
A7: 5a. AVENIDA 6-22 ZONA 11
A8: dgunicar@yahoo.es Tel. 24163000
B10: Ejecucion mes de julio, de metas fisicas y servicios, año 2025
A11: No. | B11: Meta/Servicio | C11: Enero | E11: Febrero | G11: Marzo | I11: Abril
C12: Programado | D12: Ejecutado | E12: Programado | F12: Ejecutado | G12: Programado | H12: Ejecutado | I12: Programado | J12: Ejecutado
A13: 1 | B13: CIRUGIA DE ADULTOS | C13: 18 | D13: 12 | E13: 19 | F13: 19 | G13: 19 | H13: 14 | I13: 12 | J13: 20
A14: 2 | B14: CIRUGIA DE PEDIATRIA | C14: 14 | D14: 11 | E14: 16 | F14: 9 | G14: 16 | H14: 11 | I14: 12 | J14: 18
A15: 3 | B15: HEMODINAMIA ADULTOS | C15: 75 | D15: 96 | E15: 82 | F15: 80 | G15: 82 | H15: 93 | I15: 65 | J15: 75
A16: 4 | B16: HEMODINAMIA PEDIATRIA | C16: 10 | D16: 8 | E16: 16 | F16: 13 | G16: 15 | H16: 9 | I16: 9 | J16: 13
A17: 5 | B17: REEMPLAZO VALVULAR POR MEDIO DE ENDOPROTESIS (TAVI) | C17: 0 | D17: 0 | E17: 0 | F17: 0 | G17: 0 | H17: 0 | I17: 3 | J17: 0
A18: 6 | B18: ANGIOPLASTIA COMPLEJA CON ROTABLATOR Y ULTRASONIDO INTRACAVITARIO | C18: 0 | D18: 1 | E18: 0 | F18: 0 | G18: 4 | H18: 1 | I18: 0 | J18: 1
A19: 7 | B19: IMPLANTE ENDOVENOSO DE MARCAPASOS INCLUYENDO DISPOSITIVO | C19: 0 | D19: 5 | E19: 2 | F19: 3 | G19: 3 | H19: 1 | I19: 1 | J19: 5
A20: 8 | B20: ECOCARDIOGRAMA ADULTOS | C20: 400 | D20: 406 | E20: 425 | F20: 481 | G20: 425 | H20: 468 | I20: 375 | J20: 467
