Workbook

Sheet SEPTIEMBRE DECE-5
B8: ÀREA FINANCIERA | M8: DECE-5
A10: UNIDAD DE CIRUGIA CARDIOVASCULAR DE GUATEMALA
A11: 5a. AVENIDA 6-22 ZONA 11
A12: dgunicar@yahoo.es Tel. 24163000
A14: Programación y ejecucion mensual por tipo de gasto año 2024, Expresado en Quetzales primer cuatrimestre 2024
A15: No. | B15: CATEGORIA DEL GASTO DE FUNCIONAMIENTO | E15: Enero | G15: Febrero | I15: Marzo | K15: Abril | M15: Total Cuatrimestre
E16: PROG. | F16: EJECUTADO | G16: PROG. | H16: EJECUTADO | I16: PROG. | J16: EJECUTADO | K16: PROG. | L16: EJECUTADO | M16: PROG. | N16: EJECUTADO
B17: RECURSO HUMANO
A18: 011 | B18: SUELOS Y SALARIOS | E18: 3606534.1 | F18: 3001907.1 | G18: 3606534.1 | H18: 3000995.4 | I18: 3606534.1 | J18: 3740944 | K18: 3606534.1 | L18: 3231004 | M18: =+E18+G18+I18+K18 -> 14426136 | N18: =+F18+H18+J18+L18 -> 12974851
B19: BONO 14 | E19: 0 | F19: 0 | G19: 0 | H19: 0 | I19: 0 | J19: 0 | K19: 0 | L19: 0 | M19: =+E19+G19+I19+K19 -> 0 | N19: =+F19+H19+J19+L19 -> 0
B20: CUOTA PATRONAL | E20: 0 | F20: 0 | G20: 0 | H20: 0 | I20: 0 | J20: 1192233.1 | K20: 0 | L20: 395269.37 | M20: =+E20+G20+I20+K20 -> 0 | N20: =+F20+H20+J20+L20 -> 1587502.4
B21: TOTAL RECURSO HUMANO | E21: =SUM(E18:E20) -> 3606534.1 | F21: =SUM(F18:F20) -> 3001907.1 | G21: =SUM(G18:G20) -> 3606534.1 | H21: =SUM(H18:H20) -> 3000995.4 | I21: =SUM(I18:I20) -> 3606534.1 | J21: =SUM(J18:J20) -> 4933177.1 | K21: =SUM(K18:K20) -> 3606534.1 | L21: =SUM(L18:L20) -> 3626273.4 | ... N21: =SUM(N18:N20) -> 14562353
B23: GASTOS DE OPERACIÓN
A24: 111 | B24: ENERGIA ELECTRICA | C24: ENERGIA ELECTRICA | D24: =C24=B24 -> TRUE | G24: 98000 | I24: 98000 | J24: 101723 | K24: 98000 | L24: 107641.7 | M24: =+E24+G24+I24+K24 -> 294000 | N24: =+F24+H24+J24+L24 -> 209364.7
A25: 113 | B25: SERVICIO DE INTERNET Y TELEFONIA | C25: SERVICIO DE INTERNET Y TELEFONIA | D25: =C25=B25 -> TRUE | G25: 11595 | H25: 11403.26 | I25: 11595 | J25: 11384.76 | K25: 11595 | L25: 11897.66 | M25: =+E25+G25+I25+K25 -> 34785 | N25: =+F25+H25+J25+L25 -> 34685.68
A26: 122 | B26: IMPRESIÓN, ENCUADERNACION Y REPRODUCCION | C26: IMPRESIÓN, ENCUADERNACION Y REPRODUCCION | D26: =C26=B26 -> TRUE | G26: 0 | I26: 8510.25 | J26: 0 | K26: 8510.25 | L26: 0 | M26: =+E26+G26+I26+K26 -> 17020.5 | N26: =+F26+H26+J26+L26 -> 0
A27: 163 | B27: MANT. Y REP. EQUIPO MEDICO SANITARIO Y DE LAB. | C27: MANT. Y REP. EQUIPO MEDICO SANITARIO Y DE LAB. | D27: =C27=B27 -> TRUE | G27: 14200 | I27: =214457+40000 -> 254457 | J27: 0 | K27: 40000 | L27: 31050 | M27: =+E27+G27+I27+K27 -> 308657 | N27: =+F27+H27+J27+L27 -> 31050
A28: 169 | B28: MANT. Y REP. DE OTRAS MAQ. Y EQUIPO | C28: MANT. Y REP. DE OTRAS MAQ. Y EQUIPO | D28: =C28=B28 -> TRUE | G28: 0 | I28: 0 | J28: 0 | K28: 20000 | L28: 0 | M28: =+E28+G28+I28+K28 -> 20000 | N28: =+F28+H28+J28+L28 -> 0
A29: 171 | B29: MANT. Y REPARACION DE EDIFICIOS | C29: MANT. Y REPARACION DE EDIFICIOS | D29: =C29=B29 -> TRUE | G29: 0 | I29: 20000 | J29: 0 | K29: 12810 | L29: 1200 | M29: =+E29+G29+I29+K29 -> 32810 | N29: =+F29+H29+J29+L29 -> 1200
A30: 174 | B30: MANT. Y REP. DE INSTALACIONES | C30: MANT. Y REP. DE INSTALACIONES | D30: =C30=B30 -> TRUE | E30: 3340 | G30: 3340 | I30: =4765+2000 -> 6765 | J30: 6370 | K30: =4765+2000 -> 6765 | L30: 5885 | M30: =+E30+G30+I30+K30 -> 20210 | N30: =+F30+H30+J30+L30 -> 12255
A31: 182 | B31: SERVICIOS MEDICO-SANITARIOS | C31: SERVICIOS MEDICO-SANITARIOS | D31: =C31=B31 -> TRUE | G31: 100775 | I31: 100125 | J31: 148800 | K31: 98100 | L31: 60500 | M31: =+E31+G31+I31+K31 -> 299000 | N31: =+F31+H31+J31+L31 -> 209300
A32: 197 | B32: SERVICIOS DE VIGILANCIA | C32: SERVICIOS DE VIGILANCIA | D32: =C32=B32 -> TRUE | G32: 0 | I32: 65000 | J32: 0 | K32: 65000 | L32: 52000 | M32: =+E32+G32+I32+K32 -> 130000 | N32: =+F32+H32+J32+L32 -> 52000
A33: 199 | B33: OTROS SERVICIOS NO PERSONALES | C33: OTROS SERVICIOS NO PERSONALES | D33: =C33=B33 -> TRUE | G33: 126308.4 | I33: 49158 | J33: 64692.5 | K33: 49158 | L33: 61174.3 | M33: =+E33+G33+I33+K33 -> 224624.4 | N33: =+F33+H33+J33+L33 -> 125866.8
A34: 261 | B34: ELEMENTOS Y COMPUESTOS QUIMICOS | C34: ELEMENTOS Y COMPUESTOS QUIMICOS | D34: =C34=B34 -> TRUE | G34: 0 | I34: 112906.1 | J34: 63717.17 | K34: 112906.1 | L34: 52569.06 | M34: =+E34+G34+I34+K34 -> 225812.2 | N34: =+F34+H34+J34+L34 -> 116286.23
A35: 262 | B35: COMBUSTIBLES Y LUBRICANTES | C35: COMBUSTIBLES Y LUBRICANTES | D35: =C35=B35 -> TRUE | G35: 0 | I35: 1200 | J35: 0 | K35: 1200 | L35: 0 | M35: =+E35+G35+I35+K35 -> 2400 | N35: =+F35+H35+J35+L35 -> 0
A36: 266 | B36: PRODUCTOS MEDICINALES Y FARMACEUTICOS | C36: PRODUCTOS MEDICINALES Y FARMACEUTICOS | D36: =C36=B36 -> TRUE | G36: 0 | I36: 175013.55 | J36: 45000 | K36: 175013.55 | L36: 7547.5 | M36: =+E36+G36+I36+K36 -> 350027.1 | N36: =+F36+H36+J36+L36 -> 52547.5
A37: 267 | B37: TINTES, PINTURAS Y COLORANTES | C37: TINTES, PINTURAS Y COLORANTES | D37: =C37=B37 -> TRUE | G37: 0 | I37: 2000 | J37: 0 | K37: 2000 | L37: 0 | M37: =+E37+G37+I37+K37 -> 4000 | N37: =+F37+H37+J37+L37 -> 0
A38: 268 | B38: PRODUCTOS PLASTICOS, NYLON, VINIL Y PVC | C38: PRODUCTOS PLASTICOS, NYLON, VINIL Y PVC | D38: =C38=B38 -> TRUE | G38: 0 | I38: 17555.4 | J38: 73841.75 | K38: 17555.4 | L38: 9995 | M38: =+E38+G38+I38+K38 -> 35110.8 | N38: =+F38+H38+J38+L38 -> 83836.75
A39: 269 | B39: OTROS PRODUCTOS QUIMICOS Y CONEXOS | C39: OTROS PRODUCTOS QUIMICOS Y CONEXOS | D39: =C39=B39 -> TRUE | G39: 0 | I39: 1000 | J39: 0 | K39: 1000 | L39: 0 | M39: =+E39+G39+I39+K39 -> 2000 | N39: =+F39+H39+J39+L39 -> 0
A40: 292 | B40: UTILES DE LIMPIEZA Y PRODUCTOS SANITARIOS | C40: UTILES DE LIMPIEZA Y PRODUCTOS SANITARIOS | D40: =C40=B40 -> TRUE | G40: 0 | I40: 0 | J40: 0 | K40: 42390.56 | L40: 41437 | M40: =+E40+G40+I40+K40 -> 42390.56 | N40: =+F40+H40+J40+L40 -> 41437
A41: 295 | B41: UTILES MENORES MEDICO QUIRURGICOS Y DE LAB. | C41: UTILES MENORES MEDICO QUIRURGICOS Y DE LAB. | D41: =C41=B41 -> TRUE | G41: 0 | I41: 2080137.7 | J41: 1047617.1 | K41: 2080137.7 | L41: 634838.76 | M41: =+E41+G41+I41+K41 -> 4160275.5 | N41: =+F41+H41+J41+L41 -> 1682455.9
A42: 297 | B42: UTILES, ACCESORIOS Y MATERIALES ELECTRICOS | C42: UTILES, ACCESORIOS Y MATERIALES ELECTRICOS | D42: =C42=B42 -> TRUE | G42: 0 | I42: 1000 | J42: 5105 | K42: =1000+16731.62 -> 17731.62 | L42: 0 | M42: =+E42+G42+I42+K42 -> 18731.62 | N42: =+F42+H42+J42+L42 -> 5105
A43: 298 | B43: ACCESORIOS Y REPUESTOS EN GENERAL | C43: ACCESORIOS Y REPUESTOS EN GENERAL | D43: =C43=B43 -> TRUE | G43: 0 | I43: 50000 | J43: 6815 | K43: 50000 | L43: 57850 | M43: =+E43+G43+I43+K43 -> 100000 | N43: =+F43+H43+J43+L43 -> 64665
A44: 299 | B44: OTROS MATERIALES Y SUMINISTROS | C44: OTROS MATERIALES Y SUMINISTROS | D44: =C44=B44 -> TRUE | G44: 0 | I44: 40000 | J44: 19450 | K44: 40000 | L44: 42875 | M44: =+E44+G44+I44+K44 -> 80000 | N44: =+F44+H44+J44+L44 -> 62325
A45: 323 | B45: EQUIPO MEDICO-SANITARIO Y DE LABORATORIO | C45: EQUIPO MEDICO-SANITARIO Y DE LABORATORIO | D45: =C45=B45 -> TRUE | G45: 0 | I45: 0 | K45: 0 | L45: 0 | M45: =+E45+G45+I45+K45 -> 0 | N45: =+F45+H45+J45+L45 -> 0
B46: TOTAL GASTOS DE OPERACIÓN | E46: =SUM(E24:E45) -> 3340 | F46: =SUM(F24:F45) -> 0 | G46: =SUM(G24:G45) -> 354218.4 | H46: =SUM(H24:H45) -> 11403.26 | I46: =SUM(I24:I45) -> 3094423 | J46: =SUM(J24:J45) -> 1594516.3 | K46: =SUM(K24:K45) -> 2949873.2 | L46: =SUM(L24:L45) -> 1178461 | ... N46: =SUM(N24:N45) -> 2784380.5
B47: TOTAL GENERAL | E47: =+E46+E21 -> 3609874.1 | F47: =+F46+F21 -> 3001907.1 | G47: =+G46+G21 -> 3960752.5 | H47: =+H46+H21 -> 3012398.6 | I47: =+I46+I21 -> 6700957.1 | J47: =+J46+J21 -> 6527693.4 | K47: =+K46+K21 -> 6556407.3 | L47: =+L46+L21 -> 4804734.4 | ... N47: =+N46+N21 -> 17346734
A49: Programación y ejecucion mensual por tipo de gasto año 2024, Expresado en Quetzales segundo cuatrimestre 2024
A50: No. | B50: =+B15 -> CATEGORIA DEL GASTO DE FUNCIONAMIENTO | E50: Mayo | G50: Junio | I50: Julio | K50: Agosto | M50: Total Cuatrimestre | O50: Total Acumulado
E51: PROG. | F51: EJECUTADO | G51: PROG. | H51: EJECUTADO | I51: PROG. | J51: EJECUTADO | K51: PROG. | L51: EJECUTADO | M51: PROG. | N51: EJECUTADO | O51: PROG. | P51: EJECUTADO
...

Sheet OCTUBRE DECE-5
B8: ÀREA FINANCIERA | M8: DECE-5
A10: UNIDAD DE CIRUGIA CARDIOVASCULAR DE GUATEMALA
A11: 5a. AVENIDA 6-22 ZONA 11
A12: dgunicar@yahoo.es Tel. 24163000
A14: Programación y ejecucion mensual por tipo de gasto año 2024, Expresado en Quetzales primer cuatrimestre 2024
A15: No. | B15: CATEGORIA DEL GASTO DE FUNCIONAMIENTO | E15: Enero | G15: Febrero | I15: Marzo | K15: Abril | M15: Total Cuatrimestre
E16: PROG. | F16: EJECUTADO | G16: PROG. | H16: EJECUTADO | I16: PROG. | J16: EJECUTADO | K16: PROG. | L16: EJECUTADO | M16: PROG. | N16: EJECUTADO
B17: RECURSO HUMANO
A18: 011 | B18: SUELOS Y SALARIOS | E18: 3606534.1 | F18: 3001907.1 | G18: 3606534.1 | H18: 3000995.4 | I18: 3606534.1 | J18: 3740944 | K18: 3606534.1 | L18: 3231004 | M18: =+E18+G18+I18+K18 -> 14426136 | N18: =+F18+H18+J18+L18 -> 12974851
B19: BONO 14 | E19: 0 | F19: 0 | G19: 0 | H19: 0 | I19: 0 | J19: 0 | K19: 0 | L19: 0 | M19: =+E19+G19+I19+K19 -> 0 | N19: =+F19+H19+J19+L19 -> 0
B20: CUOTA PATRONAL | E20: 0 | F20: 0 | G20: 0 | H20: 0 | I20: 0 | J20: 1192233.1 | K20: 0 | L20: 395269.37 | M20: =+E20+G20+I20+K20 -> 0 | N20: =+F20+H20+J20+L20 -> 1587502.4
B21: TOTAL RECURSO HUMANO | E21: =SUM(E18:E20) -> 3606534.1 | F21: =SUM(F18:F20) -> 3001907.1 | G21: =SUM(G18:G20) -> 3606534.1 | H21: =SUM(H18:H20) -> 3000995.4 | I21: =SUM(I18:I20) -> 3606534.1 | J21: =SUM(J18:J20) -> 4933177.1 | K21: =SUM(K18:K20) -> 3606534.1 | L21: =SUM(L18:L20) -> 3626273.4 | ... N21: =SUM(N18:N20) -> 14562353
B23: GASTOS DE OPERACIÓN
A24: 111 | B24: ENERGIA ELECTRICA | C24: ENERGIA ELECTRICA | D24: =C24=B24 -> TRUE | G24: 98000 | I24: 98000 | J24: 101723 | K24: 98000 | L24: 107641.7 | M24: =+E24+G24+I24+K24 -> 294000 | N24: =+F24+H24+J24+L24 -> 209364.7
A25: 113 | B25: SERVICIO DE INTERNET Y TELEFONIA | C25: SERVICIO DE INTERNET Y TELEFONIA | D25: =C25=B25 -> TRUE | G25: 11595 | H25: 11403.26 | I25: 11595 | J25: 11384.76 | K25: 11595 | L25: 11897.66 | M25: =+E25+G25+I25+K25 -> 34785 | N25: =+F25+H25+J25+L25 -> 34685.68
A26: 122 | B26: IMPRESIÓN, ENCUADERNACION Y REPRODUCCION | C26: IMPRESIÓN, ENCUADERNACION Y REPRODUCCION | D26: =C26=B26 -> TRUE | G26: 0 | I26: 8510.25 | J26: 0 | K26: 8510.25 | L26: 0 | M26: =+E26+G26+I26+K26 -> 17020.5 | N26: =+F26+H26+J26+L26 -> 0
A27: 163 | B27: MANT. Y REP. EQUIPO MEDICO SANITARIO Y DE LAB. | C27: MANT. Y REP. EQUIPO MEDICO SANITARIO Y DE LAB. | D27: =C27=B27 -> TRUE | G27: 14200 | I27: =214457+40000 -> 254457 | J27: 0 | K27: 40000 | L27: 31050 | M27: =+E27+G27+I27+K27 -> 308657 | N27: =+F27+H27+J27+L27 -> 31050
A28: 169 | B28: MANT. Y REP. DE OTRAS MAQ. Y EQUIPO | C28: MANT. Y REP. DE OTRAS MAQ. Y EQUIPO | D28: =C28=B28 -> TRUE | G28: 0 | I28: 0 | J28: 0 | K28: 20000 | L28: 0 | M28: =+E28+G28+I28+K28 -> 20000 | N28: =+F28+H28+J28+L28 -> 0
A29: 171 | B29: MANT. Y REPARACION DE EDIFICIOS | C29: MANT. Y REPARACION DE EDIFICIOS | D29: =C29=B29 -> TRUE | G29: 0 | I29: 20000 | J29: 0 | K29: 12810 | L29: 1200 | M29: =+E29+G29+I29+K29 -> 32810 | N29: =+F29+H29+J29+L29 -> 1200
A30: 174 | B30: MANT. Y REP. DE INSTALACIONES | C30: MANT. Y REP. DE INSTALACIONES | D30: =C30=B30 -> TRUE | E30: 3340 | G30: 3340 | I30: =4765+2000 -> 6765 | J30: 6370 | K30: =4765+2000 -> 6765 | L30: 5885 | M30: =+E30+G30+I30+K30 -> 20210 | N30: =+F30+H30+J30+L30 -> 12255
A31: 182 | B31: SERVICIOS MEDICO-SANITARIOS | C31: SERVICIOS MEDICO-SANITARIOS | D31: =C31=B31 -> TRUE | G31: 100775 | I31: 100125 | J31: 148800 | K31: 98100 | L31: 60500 | M31: =+E31+G31+I31+K31 -> 299000 | N31: =+F31+H31+J31+L31 -> 209300
A32: 197 | B32: SERVICIOS DE VIGILANCIA | C32: SERVICIOS DE VIGILANCIA | D32: =C32=B32 -> TRUE | G32: 0 | I32: 65000 | J32: 0 | K32: 65000 | L32: 52000 | M32: =+E32+G32+I32+K32 -> 130000 | N32: =+F32+H32+J32+L32 -> 52000
A33: 199 | B33: OTROS SERVICIOS NO PERSONALES | C33: OTROS SERVICIOS NO PERSONALES | D33: =C33=B33 -> TRUE | G33: 126308.4 | I33: 49158 | J33: 64692.5 | K33: 49158 | L33: 61174.3 | M33: =+E33+G33+I33+K33 -> 224624.4 | N33: =+F33+H33+J33+L33 -> 125866.8
A34: 261 | B34: ELEMENTOS Y COMPUESTOS QUIMICOS | C34: ELEMENTOS Y COMPUESTOS QUIMICOS | D34: =C34=B34 -> TRUE | G34: 0 | I34: 112906.1 | J34: 63717.17 | K34: 112906.1 | L34: 52569.06 | M34: =+E34+G34+I34+K34 -> 225812.2 | N34: =+F34+H34+J34+L34 -> 116286.23
A35: 262 | B35: COMBUSTIBLES Y LUBRICANTES | C35: COMBUSTIBLES Y LUBRICANTES | D35: =C35=B35 -> TRUE | G35: 0 | I35: 1200 | J35: 0 | K35: 1200 | L35: 0 | M35: =+E35+G35+I35+K35 -> 2400 | N35: =+F35+H35+J35+L35 -> 0
A36: 266 | B36: PRODUCTOS MEDICINALES Y FARMACEUTICOS | C36: PRODUCTOS MEDICINALES Y FARMACEUTICOS | D36: =C36=B36 -> TRUE | G36: 0 | I36: 175013.55 | J36: 45000 | K36: 175013.55 | L36: 7547.5 | M36: =+E36+G36+I36+K36 -> 350027.1 | N36: =+F36+H36+J36+L36 -> 52547.5
A37: 267 | B37: TINTES, PINTURAS Y COLORANTES | C37: TINTES, PINTURAS Y COLORANTES | D37: =C37=B37 -> TRUE | G37: 0 | I37: 2000 | J37: 0 | K37: 2000 | L37: 0 | M37: =+E37+G37+I37+K37 -> 4000 | N37: =+F37+H37+J37+L37 -> 0
A38: 268 | B38: PRODUCTOS PLASTICOS, NYLON, VINIL Y PVC | C38: PRODUCTOS PLASTICOS, NYLON, VINIL Y PVC | D38: =C38=B38 -> TRUE | G38: 0 | I38: 17555.4 | J38: 73841.75 | K38: 17555.4 | L38: 9995 | M38: =+E38+G38+I38+K38 -> 35110.8 | N38: =+F38+H38+J38+L38 -> 83836.75
A39: 269 | B39: OTROS PRODUCTOS QUIMICOS Y CONEXOS | C39: OTROS PRODUCTOS QUIMICOS Y CONEXOS | D39: =C39=B39 -> TRUE | G39: 0 | I39: 1000 | J39: 0 | K39: 1000 | L39: 0 | M39: =+E39+G39+I39+K39 -> 2000 | N39: =+F39+H39+J39+L39 -> 0
A40: 292 | B40: UTILES DE LIMPIEZA Y PRODUCTOS SANITARIOS | C40: UTILES DE LIMPIEZA Y PRODUCTOS SANITARIOS | D40: =C40=B40 -> TRUE | G40: 0 | I40: 0 | J40: 0 | K40: 42390.56 | L40: 41437 | M40: =+E40+G40+I40+K40 -> 42390.56 | N40: =+F40+H40+J40+L40 -> 41437
A41: 295 | B41: UTILES MENORES MEDICO QUIRURGICOS Y DE LAB. | C41: UTILES MENORES MEDICO QUIRURGICOS Y DE LAB. | D41: =C41=B41 -> TRUE | G41: 0 | I41: 2080137.7 | J41: 1047617.1 | K41: 2080137.7 | L41: 634838.76 | M41: =+E41+G41+I41+K41 -> 4160275.5 | N41: =+F41+H41+J41+L41 -> 1682455.9
A42: 297 | B42: UTILES, ACCESORIOS Y MATERIALES ELECTRICOS | C42: UTILES, ACCESORIOS Y MATERIALES ELECTRICOS | D42: =C42=B42 -> TRUE | G42: 0 | I42: 1000 | J42: 5105 | K42: =1000+16731.62 -> 17731.62 | L42: 0 | M42: =+E42+G42+I42+K42 -> 18731.62 | N42: =+F42+H42+J42+L42 -> 5105
A43: 298 | B43: ACCESORIOS Y REPUESTOS EN GENERAL | C43: ACCESORIOS Y REPUESTOS EN GENERAL | D43: =C43=B43 -> TRUE | G43: 0 | I43: 50000 | J43: 6815 | K43: 50000 | L43: 57850 | M43: =+E43+G43+I43+K43 -> 100000 | N43: =+F43+H43+J43+L43 -> 64665
A44: 299 | B44: OTROS MATERIALES Y SUMINISTROS | C44: OTROS MATERIALES Y SUMINISTROS | D44: =C44=B44 -> TRUE | G44: 0 | I44: 40000 | J44: 19450 | K44: 40000 | L44: 42875 | M44: =+E44+G44+I44+K44 -> 80000 | N44: =+F44+H44+J44+L44 -> 62325
A45: 323 | B45: EQUIPO MEDICO-SANITARIO Y DE LABORATORIO | C45: EQUIPO MEDICO-SANITARIO Y DE LABORATORIO | D45: =C45=B45 -> TRUE | G45: 0 | I45: 0 | K45: 0 | L45: 0 | M45: =+E45+G45+I45+K45 -> 0 | N45: =+F45+H45+J45+L45 -> 0
B46: TOTAL GASTOS DE OPERACIÓN | E46: =SUM(E24:E45) -> 3340 | F46: =SUM(F24:F45) -> 0 | G46: =SUM(G24:G45) -> 354218.4 | H46: =SUM(H24:H45) -> 11403.26 | I46: =SUM(I24:I45) -> 3094423 | J46: =SUM(J24:J45) -> 1594516.3 | K46: =SUM(K24:K45) -> 2949873.2 | L46: =SUM(L24:L45) -> 1178461 | ... N46: =SUM(N24:N45) -> 2784380.5
B47: TOTAL GENERAL | E47: =+E46+E21 -> 3609874.1 | F47: =+F46+F21 -> 3001907.1 | G47: =+G46+G21 -> 3960752.5 | H47: =+H46+H21 -> 3012398.6 | I47: =+I46+I21 -> 6700957.1 | J47: =+J46+J21 -> 6527693.4 | K47: =+K46+K21 -> 6556407.3 | L47: =+L46+L21 -> 4804734.4 | ... N47: =+N46+N21 -> 17346734
A67: Programación y ejecucion mensual por tipo de gasto año 2024, Expresado en Quetzales segundo cuatrimestre 2024
A68: No. | B68: =+B15 -> CATEGORIA DEL GASTO DE FUNCIONAMIENTO | E68: Mayo | G68: Junio | I68: Julio | K68: Agosto | M68: Total Cuatrimestre | O68: Total Acumulado
E69: PROG. | F69: EJECUTADO | G69: PROG. | H69: EJECUTADO | I69: PROG. | J69: EJECUTADO | K69: PROG. | L69: EJECUTADO | M69: PROG. | N69: EJECUTADO | O69: PROG. | P69: EJECUTADO
...

Sheet NOVIEMBRE DECE-5
B8: ÀREA FINANCIERA | M8: DECE-5
A10: UNIDAD DE CIRUGIA CARDIOVASCULAR DE GUATEMALA
A11: 5a. AVENIDA 6-22 ZONA 11
A12: dgunicar@yahoo.es Tel. 24163000
A14: Programación y ejecucion mensual por tipo de gasto año 2024, Expresado en Quetzales primer cuatrimestre 2024
A15: No. | B15: CATEGORIA DEL GASTO DE FUNCIONAMIENTO | E15: Enero | G15: Febrero | I15: Marzo | K15: Abril | M15: Total Cuatrimestre
E16: PROG. | F16: EJECUTADO | G16: PROG. | H16: EJECUTADO | I16: PROG. | J16: EJECUTADO | K16: PROG. | L16: EJECUTADO | M16: PROG. | N16: EJECUTADO
B17: RECURSO HUMANO
A18: 011 | B18: SUELOS Y SALARIOS | E18: 3606534.1 | F18: 3001907.1 | G18: 3606534.1 | H18: 3000995.4 | I18: 3606534.1 | J18: 3740944 | K18: 3606534.1 | L18: 3231004 | M18: =+E18+G18+I18+K18 -> 14426136 | N18: =+F18+H18+J18+L18 -> 12974851
B19: BONO 14 | E19: 0 | F19: 0 | G19: 0 | H19: 0 | I19: 0 | J19: 0 | K19: 0 | L19: 0 | M19: =+E19+G19+I19+K19 -> 0 | N19: =+F19+H19+J19+L19 -> 0
B20: CUOTA PATRONAL | E20: 0 | F20: 0 | G20: 0 | H20: 0 | I20: 0 | J20: 1192233.1 | K20: 0 | L20: 395269.37 | M20: =+E20+G20+I20+K20 -> 0 | N20: =+F20+H20+J20+L20 -> 1587502.4
B21: TOTAL RECURSO HUMANO | E21: =SUM(E18:E20) -> 3606534.1 | F21: =SUM(F18:F20) -> 3001907.1 | G21: =SUM(G18:G20) -> 3606534.1 | H21: =SUM(H18:H20) -> 3000995.4 | I21: =SUM(I18:I20) -> 3606534.1 | J21: =SUM(J18:J20) -> 4933177.1 | K21: =SUM(K18:K20) -> 3606534.1 | L21: =SUM(L18:L20) -> 3626273.4 | ... N21: =SUM(N18:N20) -> 14562353
B23: GASTOS DE OPERACIÓN
A24: 111 | B24: ENERGIA ELECTRICA | C24: ENERGIA ELECTRICA | D24: =C24=B24 -> TRUE | G24: 98000 | I24: 98000 | J24: 101723 | K24: 98000 | L24: 107641.7 | M24: =+E24+G24+I24+K24 -> 294000 | N24: =+F24+H24+J24+L24 -> 209364.7
A25: 113 | B25: SERVICIO DE INTERNET Y TELEFONIA | C25: SERVICIO DE INTERNET Y TELEFONIA | D25: =C25=B25 -> TRUE | G25: 11595 | H25: 11403.26 | I25: 11595 | J25: 11384.76 | K25: 11595 | L25: 11897.66 | M25: =+E25+G25+I25+K25 -> 34785 | N25: =+F25+H25+J25+L25 -> 34685.68
A26: 122 | B26: IMPRESIÓN, ENCUADERNACION Y REPRODUCCION | C26: IMPRESIÓN, ENCUADERNACION Y REPRODUCCION | D26: =C26=B26 -> TRUE | G26: 0 | I26: 8510.25 | J26: 0 | K26: 8510.25 | L26: 0 | M26: =+E26+G26+I26+K26 -> 17020.5 | N26: =+F26+H26+J26+L26 -> 0
A27: 163 | B27: MANT. Y REP. EQUIPO MEDICO SANITARIO Y DE LAB. | C27: MANT. Y REP. EQUIPO MEDICO SANITARIO Y DE LAB. | D27: =C27=B27 -> TRUE | G27: 14200 | I27: =214457+40000 -> 254457 | J27: 0 | K27: 40000 | L27: 31050 | M27: =+E27+G27+I27+K27 -> 308657 | N27: =+F27+H27+J27+L27 -> 31050
A28: 169 | B28: MANT. Y REP. DE OTRAS MAQ. Y EQUIPO | C28: MANT. Y REP. DE OTRAS MAQ. Y EQUIPO | D28: =C28=B28 -> TRUE | G28: 0 | I28: 0 | J28: 0 | K28: 20000 | L28: 0 | M28: =+E28+G28+I28+K28 -> 20000 | N28: =+F28+H28+J28+L28 -> 0
A29: 171 | B29: MANT. Y REPARACION DE EDIFICIOS | C29: MANT. Y REPARACION DE EDIFICIOS | D29: =C29=B29 -> TRUE | G29: 0 | I29: 20000 | J29: 0 | K29: 12810 | L29: 1200 | M29: =+E29+G29+I29+K29 -> 32810 | N29: =+F29+H29+J29+L29 -> 1200
A30: 174 | B30: MANT. Y REP. DE INSTALACIONES | C30: MANT. Y REP. DE INSTALACIONES | D30: =C30=B30 -> TRUE | E30: 3340 | G30: 3340 | I30: =4765+2000 -> 6765 | J30: 6370 | K30: =4765+2000 -> 6765 | L30: 5885 | M30: =+E30+G30+I30+K30 -> 20210 | N30: =+F30+H30+J30+L30 -> 12255
A31: 182 | B31: SERVICIOS MEDICO-SANITARIOS | C31: SERVICIOS MEDICO-SANITARIOS | D31: =C31=B31 -> TRUE | G31: 100775 | I31: 100125 | J31: 148800 | K31: 98100 | L31: 60500 | M31: =+E31+G31+I31+K31 -> 299000 | N31: =+F31+H31+J31+L31 -> 209300
A32: 197 | B32: SERVICIOS DE VIGILANCIA | C32: SERVICIOS DE VIGILANCIA | D32: =C32=B32 -> TRUE | G32: 0 | I32: 65000 | J32: 0 | K32: 65000 | L32: 52000 | M32: =+E32+G32+I32+K32 -> 130000 | N32: =+F32+H32+J32+L32 -> 52000
A33: 199 | B33: OTROS SERVICIOS NO PERSONALES | C33: OTROS SERVICIOS NO PERSONALES | D33: =C33=B33 -> TRUE | G33: 126308.4 | I33: 49158 | J33: 64692.5 | K33: 49158 | L33: 61174.3 | M33: =+E33+G33+I33+K33 -> 224624.4 | N33: =+F33+H33+J33+L33 -> 125866.8
A34: 261 | B34: ELEMENTOS Y COMPUESTOS QUIMICOS | C34: ELEMENTOS Y COMPUESTOS QUIMICOS | D34: =C34=B34 -> TRUE | G34: 0 | I34: 112906.1 | J34: 63717.17 | K34: 112906.1 | L34: 52569.06 | M34: =+E34+G34+I34+K34 -> 225812.2 | N34: =+F34+H34+J34+L34 -> 116286.23
A35: 262 | B35: COMBUSTIBLES Y LUBRICANTES | C35: COMBUSTIBLES Y LUBRICANTES | D35: =C35=B35 -> TRUE | G35: 0 | I35: 1200 | J35: 0 | K35: 1200 | L35: 0 | M35: =+E35+G35+I35+K35 -> 2400 | N35: =+F35+H35+J35+L35 -> 0
A36: 266 | B36: PRODUCTOS MEDICINALES Y FARMACEUTICOS | C36: PRODUCTOS MEDICINALES Y FARMACEUTICOS | D36: =C36=B36 -> TRUE | G36: 0 | I36: 175013.55 | J36: 45000 | K36: 175013.55 | L36: 7547.5 | M36: =+E36+G36+I36+K36 -> 350027.1 | N36: =+F36+H36+J36+L36 -> 52547.5
A37: 267 | B37: TINTES, PINTURAS Y COLORANTES | C37: TINTES, PINTURAS Y COLORANTES | D37: =C37=B37 -> TRUE | G37: 0 | I37: 2000 | J37: 0 | K37: 2000 | L37: 0 | M37: =+E37+G37+I37+K37 -> 4000 | N37: =+F37+H37+J37+L37 -> 0
A38: 268 | B38: PRODUCTOS PLASTICOS, NYLON, VINIL Y PVC | C38: PRODUCTOS PLASTICOS, NYLON, VINIL Y PVC | D38: =C38=B38 -> TRUE | G38: 0 | I38: 17555.4 | J38: 73841.75 | K38: 17555.4 | L38: 9995 | M38: =+E38+G38+I38+K38 -> 35110.8 | N38: =+F38+H38+J38+L38 -> 83836.75
A39: 269 | B39: OTROS PRODUCTOS QUIMICOS Y CONEXOS | C39: OTROS PRODUCTOS QUIMICOS Y CONEXOS | D39: =C39=B39 -> TRUE | G39: 0 | I39: 1000 | J39: 0 | K39: 1000 | L39: 0 | M39: =+E39+G39+I39+K39 -> 2000 | N39: =+F39+H39+J39+L39 -> 0
A40: 292 | B40: UTILES DE LIMPIEZA Y PRODUCTOS SANITARIOS | C40: UTILES DE LIMPIEZA Y PRODUCTOS SANITARIOS | D40: =C40=B40 -> TRUE | G40: 0 | I40: 0 | J40: 0 | K40: 42390.56 | L40: 41437 | M40: =+E40+G40+I40+K40 -> 42390.56 | N40: =+F40+H40+J40+L40 -> 41437
A41: 295 | B41: UTILES MENORES MEDICO QUIRURGICOS Y DE LAB. | C41: UTILES MENORES MEDICO QUIRURGICOS Y DE LAB. | D41: =C41=B41 -> TRUE | G41: 0 | I41: 2080137.7 | J41: 1047617.1 | K41: 2080137.7 | L41: 634838.76 | M41: =+E41+G41+I41+K41 -> 4160275.5 | N41: =+F41+H41+J41+L41 -> 1682455.9
A42: 297 | B42: UTILES, ACCESORIOS Y MATERIALES ELECTRICOS | C42: UTILES, ACCESORIOS Y MATERIALES ELECTRICOS | D42: =C42=B42 -> TRUE | G42: 0 | I42: 1000 | J42: 5105 | K42: =1000+16731.62 -> 17731.62 | L42: 0 | M42: =+E42+G42+I42+K42 -> 18731.62 | N42: =+F42+H42+J42+L42 -> 5105
A43: 298 | B43: ACCESORIOS Y REPUESTOS EN GENERAL | C43: ACCESORIOS Y REPUESTOS EN GENERAL | D43: =C43=B43 -> TRUE | G43: 0 | I43: 50000 | J43: 6815 | K43: 50000 | L43: 57850 | M43: =+E43+G43+I43+K43 -> 100000 | N43: =+F43+H43+J43+L43 -> 64665
A44: 299 | B44: OTROS MATERIALES Y SUMINISTROS | C44: OTROS MATERIALES Y SUMINISTROS | D44: =C44=B44 -> TRUE | G44: 0 | I44: 40000 | J44: 19450 | K44: 40000 | L44: 42875 | M44: =+E44+G44+I44+K44 -> 80000 | N44: =+F44+H44+J44+L44 -> 62325
A45: 323 | B45: EQUIPO MEDICO-SANITARIO Y DE LABORATORIO | C45: EQUIPO MEDICO-SANITARIO Y DE LABORATORIO | D45: =C45=B45 -> TRUE | G45: 0 | I45: 0 | K45: 0 | L45: 0 | M45: =+E45+G45+I45+K45 -> 0 | N45: =+F45+H45+J45+L45 -> 0
B46: TOTAL GASTOS DE OPERACIÓN | E46: =SUM(E24:E45) -> 3340 | F46: =SUM(F24:F45) -> 0 | G46: =SUM(G24:G45) -> 354218.4 | H46: =SUM(H24:H45) -> 11403.26 | I46: =SUM(I24:I45) -> 3094423 | J46: =SUM(J24:J45) -> 1594516.3 | K46: =SUM(K24:K45) -> 2949873.2 | L46: =SUM(L24:L45) -> 1178461 | ... N46: =SUM(N24:N45) -> 2784380.5
B47: TOTAL GENERAL | E47: =+E46+E21 -> 3609874.1 | F47: =+F46+F21 -> 3001907.1 | G47: =+G46+G21 -> 3960752.5 | H47: =+H46+H21 -> 3012398.6 | I47: =+I46+I21 -> 6700957.1 | J47: =+J46+J21 -> 6527693.4 | K47: =+K46+K21 -> 6556407.3 | L47: =+L46+L21 -> 4804734.4 | ... N47: =+N46+N21 -> 17346734
A58: Programación y ejecucion mensual por tipo de gasto año 2024, Expresado en Quetzales segundo cuatrimestre 2024
A59: No. | B59: =+B15 -> CATEGORIA DEL GASTO DE FUNCIONAMIENTO | E59: Mayo | G59: Junio | I59: Julio | K59: Agosto | M59: Total Cuatrimestre | O59: Total Acumulado
E60: PROG. | F60: EJECUTADO | G60: PROG. | H60: EJECUTADO | I60: PROG. | J60: EJECUTADO | K60: PROG. | L60: EJECUTADO | M60: PROG. | N60: EJECUTADO | O60: PROG. | P60: EJECUTADO
...

Sheet DICIEMBRE DECE-5
B8: ÀREA FINANCIERA | K8: DECE-5
A10: UNIDAD DE CIRUGIA CARDIOVASCULAR DE GUATEMALA
A11: 5a. AVENIDA 6-22 ZONA 11
A12: dgunicar@yahoo.es Tel. 24163000
A14: Programación y ejecucion mensual por tipo de gasto año 2024, Expresado en Quetzales primer cuatrimestre 2024
A15: No. | B15: CATEGORIA DEL GASTO DE FUNCIONAMIENTO | C15: Enero | E15: Febrero | G15: Marzo | I15: Abril | K15: Total Cuatrimestre
C16: PROG. | D16: EJECUTADO | E16: PROG. | F16: EJECUTADO | G16: PROG. | H16: EJECUTADO | I16: PROG. | J16: EJECUTADO | K16: PROG. | L16: EJECUTADO
B17: RECURSO HUMANO
A18: 011 | B18: SUELOS Y SALARIOS | C18: 3606534.1 | D18: 3001907.1 | E18: 3606534.1 | F18: 3000995.4 | G18: 3606534.1 | H18: 3740944 | I18: 3606534.1 | J18: 3231004 | K18: =+C18+E18+G18+I18 -> 14426136 | L18: =+D18+F18+H18+J18 -> 12974851
B19: BONO 14 | C19: 0 | D19: 0 | E19: 0 | F19: 0 | G19: 0 | H19: 0 | I19: 0 | J19: 0 | K19: =+C19+E19+G19+I19 -> 0 | L19: =+D19+F19+H19+J19 -> 0
B20: CUOTA PATRONAL | C20: 0 | D20: 0 | E20: 0 | F20: 0 | G20: 0 | H20: 1192233.1 | I20: 0 | J20: 395269.37 | K20: =+C20+E20+G20+I20 -> 0 | L20: =+D20+F20+H20+J20 -> 1587502.4
B21: TOTAL RECURSO HUMANO | C21: =SUM(C18:C20) -> 3606534.1 | D21: =SUM(D18:D20) -> 3001907.1 | E21: =SUM(E18:E20) -> 3606534.1 | F21: =SUM(F18:F20) -> 3000995.4 | G21: =SUM(G18:G20) -> 3606534.1 | H21: =SUM(H18:H20) -> 4933177.1 | I21: =SUM(I18:I20) -> 3606534.1 | J21: =SUM(J18:J20) -> 3626273.4 | ... L21: =SUM(L18:L20) -> 14562353
B23: GASTOS DE OPERACIÓN
A24: 111 | B24: ENERGIA ELECTRICA | E24: 98000 | G24: 98000 | H24: 101723 | I24: 98000 | J24: 107641.7 | K24: =+C24+E24+G24+I24 -> 294000 | L24: =+D24+F24+H24+J24 -> 209364.7
A25: 113 | B25: SERVICIO DE INTERNET Y TELEFONIA | E25: 11595 | F25: 11403.26 | G25: 11595 | H25: 11384.76 | I25: 11595 | J25: 11897.66 | K25: =+C25+E25+G25+I25 -> 34785 | L25: =+D25+F25+H25+J25 -> 34685.68
A26: 122 | B26: IMPRESIÓN, ENCUADERNACION Y REPRODUCCION | E26: 0 | G26: 8510.25 | H26: 0 | I26: 8510.25 | J26: 0 | K26: =+C26+E26+G26+I26 -> 17020.5 | L26: =+D26+F26+H26+J26 -> 0
A27: 163 | B27: MANT. Y REP. EQUIPO MEDICO SANITARIO Y DE LAB. | E27: 14200 | G27: =214457+40000 -> 254457 | H27: 0 | I27: 40000 | J27: 31050 | K27: =+C27+E27+G27+I27 -> 308657 | L27: =+D27+F27+H27+J27 -> 31050
A28: 169 | B28: MANT. Y REP. DE OTRAS MAQ. Y EQUIPO | E28: 0 | G28: 0 | H28: 0 | I28: 20000 | J28: 0 | K28: =+C28+E28+G28+I28 -> 20000 | L28: =+D28+F28+H28+J28 -> 0
A29: 171 | B29: MANT. Y REPARACION DE EDIFICIOS | E29: 0 | G29: 20000 | H29: 0 | I29: 12810 | J29: 1200 | K29: =+C29+E29+G29+I29 -> 32810 | L29: =+D29+F29+H29+J29 -> 1200
A30: 174 | B30: MANT. Y REP. DE INSTALACIONES | C30: 3340 | E30: 3340 | G30: =4765+2000 -> 6765 | H30: 6370 | I30: =4765+2000 -> 6765 | J30: 5885 | K30: =+C30+E30+G30+I30 -> 20210 | L30: =+D30+F30+H30+J30 -> 12255
A31: 182 | B31: SERVICIOS MEDICO-SANITARIOS | E31: 100775 | G31: 100125 | H31: 148800 | I31: 98100 | J31: 60500 | K31: =+C31+E31+G31+I31 -> 299000 | L31: =+D31+F31+H31+J31 -> 209300
A32: 197 | B32: SERVICIOS DE VIGILANCIA | E32: 0 | G32: 65000 | H32: 0 | I32: 65000 | J32: 52000 | K32: =+C32+E32+G32+I32 -> 130000 | L32: =+D32+F32+H32+J32 -> 52000
A33: 199 | B33: OTROS SERVICIOS NO PERSONALES | E33: 126308.4 | G33: 49158 | H33: 64692.5 | I33: 49158 | J33: 61174.3 | K33: =+C33+E33+G33+I33 -> 224624.4 | L33: =+D33+F33+H33+J33 -> 125866.8
A34: 261 | B34: ELEMENTOS Y COMPUESTOS QUIMICOS | E34: 0 | G34: 112906.1 | H34: 63717.17 | I34: 112906.1 | J34: 52569.06 | K34: =+C34+E34+G34+I34 -> 225812.2 | L34: =+D34+F34+H34+J34 -> 116286.23
A35: 262 | B35: COMBUSTIBLES Y LUBRICANTES | E35: 0 | G35: 1200 | H35: 0 | I35: 1200 | J35: 0 | K35: =+C35+E35+G35+I35 -> 2400 | L35: =+D35+F35+H35+J35 -> 0
A36: 266 | B36: PRODUCTOS MEDICINALES Y FARMACEUTICOS | E36: 0 | G36: 175013.55 | H36: 45000 | I36: 175013.55 | J36: 7547.5 | K36: =+C36+E36+G36+I36 -> 350027.1 | L36: =+D36+F36+H36+J36 -> 52547.5
A37: 267 | B37: TINTES, PINTURAS Y COLORANTES | E37: 0 | G37: 2000 | H37: 0 | I37: 2000 | J37: 0 | K37: =+C37+E37+G37+I37 -> 4000 | L37: =+D37+F37+H37+J37 -> 0
A38: 268 | B38: PRODUCTOS PLASTICOS, NYLON, VINIL Y PVC | E38: 0 | G38: 17555.4 | H38: 73841.75 | I38: 17555.4 | J38: 9995 | K38: =+C38+E38+G38+I38 -> 35110.8 | L38: =+D38+F38+H38+J38 -> 83836.75
A39: 269 | B39: OTROS PRODUCTOS QUIMICOS Y CONEXOS | E39: 0 | G39: 1000 | H39: 0 | I39: 1000 | J39: 0 | K39: =+C39+E39+G39+I39 -> 2000 | L39: =+D39+F39+H39+J39 -> 0
A40: 292 | B40: UTILES DE LIMPIEZA Y PRODUCTOS SANITARIOS | E40: 0 | G40: 0 | H40: 0 | I40: 42390.56 | J40: 41437 | K40: =+C40+E40+G40+I40 -> 42390.56 | L40: =+D40+F40+H40+J40 -> 41437
A41: 295 | B41: UTILES MENORES MEDICO QUIRURGICOS Y DE LAB. | E41: 0 | G41: 2080137.7 | H41: 1047617.1 | I41: 2080137.7 | J41: 634838.76 | K41: =+C41+E41+G41+I41 -> 4160275.5 | L41: =+D41+F41+H41+J41 -> 1682455.9
A42: 297 | B42: UTILES, ACCESORIOS Y MATERIALES ELECTRICOS | E42: 0 | G42: 1000 | H42: 5105 | I42: =1000+16731.62 -> 17731.62 | J42: 0 | K42: =+C42+E42+G42+I42 -> 18731.62 | L42: =+D42+F42+H42+J42 -> 5105
A43: 298 | B43: ACCESORIOS Y REPUESTOS EN GENERAL | E43: 0 | G43: 50000 | H43: 6815 | I43: 50000 | J43: 57850 | K43: =+C43+E43+G43+I43 -> 100000 | L43: =+D43+F43+H43+J43 -> 64665
A44: 299 | B44: OTROS MATERIALES Y SUMINISTROS | E44: 0 | G44: 40000 | H44: 19450 | I44: 40000 | J44: 42875 | K44: =+C44+E44+G44+I44 -> 80000 | L44: =+D44+F44+H44+J44 -> 62325
A45: 323 | B45: EQUIPO MEDICO-SANITARIO Y DE LABORATORIO | E45: 0 | G45: 0 | I45: 0 | J45: 0 | K45: =+C45+E45+G45+I45 -> 0 | L45: =+D45+F45+H45+J45 -> 0
B46: TOTAL GASTOS DE OPERACIÓN | C46: =SUM(C24:C45) -> 3340 | D46: =SUM(D24:D45) -> 0 | E46: =SUM(E24:E45) -> 354218.4 | F46: =SUM(F24:F45) -> 11403.26 | G46: =SUM(G24:G45) -> 3094423 | H46: =SUM(H24:H45) -> 1594516.3 | I46: =SUM(I24:I45) -> 2949873.2 | J46: =SUM(J24:J45) -> 1178461 | ... L46: =SUM(L24:L45) -> 2784380.5
B47: TOTAL GENERAL | C47: =+C46+C21 -> 3609874.1 | D47: =+D46+D21 -> 3001907.1 | E47: =+E46+E21 -> 3960752.5 | F47: =+F46+F21 -> 3012398.6 | G47: =+G46+G21 -> 6700957.1 | H47: =+H46+H21 -> 6527693.4 | I47: =+I46+I21 -> 6556407.3 | J47: =+J46+J21 -> 4804734.4 | ... L47: =+L46+L21 -> 17346734
A68: Programación y ejecucion mensual por tipo de gasto año 2024, Expresado en Quetzales segundo cuatrimestre 2024
A69: No. | B69: =+B15 -> CATEGORIA DEL GASTO DE FUNCIONAMIENTO | C69: Mayo | E69: Junio | G69: Julio | I69: Agosto | K69: Total Cuatrimestre | M69: Total Acumulado
C70: PROG. | D70: EJECUTADO | E70: PROG. | F70: EJECUTADO | G70: PROG. | H70: EJECUTADO | I70: PROG. | J70: EJECUTADO | K70: PROG. | L70: EJECUTADO | M70: PROG. | N70: EJECUTADO
...

Sheet SEPTIEMBRE ANEXO A DECE-5
B8: ÀREA FINANCIERA | I8: ANEXO DE DECE-5
A10: UNIDAD DE CIRUGIA CARDIOVASCULAR DE GUATEMALA
A11: 5a. AVENIDA 6-22 ZONA 11
A12: dgunicar@yahoo.es Tel. 24163000
A14: Programación mensual por tipo de gasto año 2018, Expresado en Quetzales primer cuatrimestre 2018
A15: No. | B15: CATEGORIA DE GASTO | C15: ENERO | E15: FEBRERO | G15: MARZO | I15: ABRIL
C16: PRESUPUESTO | D16: REAL | E16: PRESUPUESTO | F16: REAL | G16: PRESUPUESTO | H16: REAL | I16: PRESUPUESTO | J16: REAL
B17: RECURSO HUMANO | C17: 1764858.4 | D17: 1492317.4 | E17: 1764858.4 | F17: 1792563.6 | G17: 1764858.4 | H17: 1578007.9 | I17: 1764858.4 | J17: 1803793.6
B19: GASTOS DE FUNCIONAMIENTO | C19: =+C27+C43 -> 2818474.9 | D19: =+D27+D43 -> 0 | E19: =+E27+E43 -> 2818474.9 | F19: =+F27+F43 -> 67111.02 | G19: =+G27+G43 -> 2818474.9 | H19: =+H27+H43 -> 58543.64 | I19: =+I27+I43 -> 2818474.9 | J19: =+J27+J43 -> 3743927.3
B20: ENERGIA ELECTRICA | C20: 62500 | E20: 62500 | F20: 56112.02 | G20: 62500 | I20: 62500 | J20: 68083.01
B21: TELEFONIA | C21: 7500 | E21: 7500 | F21: 10999 | G21: 7500 | H21: 11011 | I21: 7500 | J21: 10992
B22: IMPRESIÓN, ENCUADERNACION Y REPRODUCCION | C22: 8133.97 | E22: 8133.97 | G22: 8133.97 | I22: 8133.97 | J22: 4358
B23: MANT. Y REP. EQUIPO MEDICO SANITARIO Y DE LAB. | C23: 33333.33 | E23: 33333.33 | G23: 33333.33 | I23: 33333.33 | J23: 45020
B24: SERVICIOS MEDICO-SANITARIOS | C24: 165141.75 | E24: 165141.75 | G24: 165141.75 | H24: 1000 | I24: 165141.75 | J24: 26842.86
B25: SERVICIOS DE VIGILANCIA | C25: 40000 | E25: 40000 | G25: 40000 | I25: 40000 | J25: 76240
B26: OTROS SERVICIOS NO PERSONALES | C26: 26305.03 | E26: 26305.03 | G26: 26305.03 | H26: 46532.64 | I26: 26305.03 | J26: 55063.68
B27: SUMA GASTOS GENERALES | C27: =SUM(C20:C26) -> 342914.08 | D27: =SUM(D20:D26) -> 0 | E27: =SUM(E20:E26) -> 342914.08 | F27: =SUM(F20:F26) -> 67111.02 | G27: =SUM(G20:G26) -> 342914.08 | H27: =SUM(H20:H26) -> 58543.64 | I27: =SUM(I20:I26) -> 342914.08 | J27: =SUM(J20:J26) -> 286599.55
B28: MATERIALES Y SUMINISTROS
B29: ALIMENTOS PARA PERSONAS | C29: 60936.45 | E29: 60936.45 | G29: 60936.45 | I29: 60936.45 | J29: 202940.25
B30: ACABADOS TEXTILES | C30: 600 | E30: 600 | G30: 600 | I30: 600
B31: PRODUCTOS DE PAPEL O CARTON | C31: 945.42 | E31: 945.42 | G31: 945.42 | I31: 945.42
B32: ELEMENTOS Y COMPUESTOS QUIMICOS | C32: 169652.57 | E32: 169652.57 | G32: 169652.57 | I32: 169652.57 | J32: 178282.05
B33: COMBUSTIBLES Y LUBRICANTES | C33: 912 | E33: 912 | G33: 912 | I33: 912
B34: PRODUCTOS MEDICINALES Y FARMACEUTICOS | C34: 427229.65 | E34: 427229.65 | G34: 427229.65 | I34: 427229.65 | J34: 1425199.8
B35: TINTES, PINTURAS Y COLORANTES | C35: 100 | E35: 100 | G35: 100 | I35: 100
B36: PRODUCTOS PLASTICOS, NYLON, VINIL Y PVC | C36: 13579.7 | E36: 13579.7 | G36: 13579.7 | I36: 13579.7 | J36: 75162.24
B37: OTROS PRODUCTOS METALICOS | C37: 310 | E37: 310 | G37: 310 | I37: 310
B38: UTILES DE LIMPIEZA Y PRODUCTOS SANITARIOS | C38: 10809.43 | E38: 10809.43 | G38: 10809.43 | I38: 10809.43 | J38: 14528.6
B39: UTILES MENORES MEDICO QUIRURGICOS Y DE LAB. | C39: 1780006.3 | E39: 1780006.3 | G39: 1780006.3 | I39: 1780006.3 | J39: 1545914.8
B40: UTILES, ACCESORIOS Y MATERIALES ELECTRICOS | C40: 2208.7 | E40: 2208.7 | G40: 2208.7 | I40: 2208.7 | J40: 15300
B41: ACCESORIOS Y REPUESTOS EN GENERAL | C41: 8105.1 | E41: 8105.1 | G41: 8105.1 | I41: 8105.1
B42: OTROS MATERIALES Y SUMINISTROS | C42: 165.5 | E42: 165.5 | G42: 165.5 | I42: 165.5
B43: TOTAL MATERIALES Y SUMINISTROS | C43: =SUM(C29:C42) -> 2475560.8 | D43: =SUM(D29:D42) -> 0 | E43: =SUM(E29:E42) -> 2475560.8 | F43: =SUM(F29:F42) -> 0 | G43: =SUM(G29:G42) -> 2475560.8 | H43: =SUM(H29:H42) -> 0 | I43: =SUM(I29:I42) -> 2475560.8 | J43: =SUM(J29:J42) -> 3457327.8
A46: Programación mensual por tipo de gasto año 2016, Expresado en Quetzales
A47: No. | B47: Categoría de Gasto | C47: Julio | E47: Agosto | G47: Septiembre
B48: Recurso Humano | C48: Pto. | D48: Real | E48: Pto. | F48: Real | G48: Pto. | H48: Real
B51: Gastos de Funcionamiento
B52: detallar cada gasto cargado
A60: TOTALES
A73: Programación mensual por tipo de gasto año 2018, Expresado en Quetzales segundo cuatrimestre 2018
...

Sheet OCTUBRE ANEXO A DECE-5
B8: ÀREA FINANCIERA | I8: ANEXO DE DECE-5
A10: UNIDAD DE CIRUGIA CARDIOVASCULAR DE GUATEMALA
A11: 5a. AVENIDA 6-22 ZONA 11
A12: dgunicar@yahoo.es Tel. 24163000
A14: Programación mensual por tipo de gasto año 2018, Expresado en Quetzales primer cuatrimestre 2018
A15: No. | B15: CATEGORIA DE GASTO | C15: ENERO | E15: FEBRERO | G15: MARZO | I15: ABRIL
C16: PRESUPUESTO | D16: REAL | E16: PRESUPUESTO | F16: REAL | G16: PRESUPUESTO | H16: REAL | I16: PRESUPUESTO | J16: REAL
B17: RECURSO HUMANO | C17: 1764858.4 | D17: 1492317.4 | E17: 1764858.4 | F17: 1792563.6 | G17: 1764858.4 | H17: 1578007.9 | I17: 1764858.4 | J17: 1803793.6
B19: GASTOS DE FUNCIONAMIENTO | C19: =+C27+C43 -> 2818474.9 | D19: =+D27+D43 -> 0 | E19: =+E27+E43 -> 2818474.9 | F19: =+F27+F43 -> 67111.02 | G19: =+G27+G43 -> 2818474.9 | H19: =+H27+H43 -> 58543.64 | I19: =+I27+I43 -> 2818474.9 | J19: =+J27+J43 -> 3743927.3
B20: ENERGIA ELECTRICA | C20: 62500 | E20: 62500 | F20: 56112.02 | G20: 62500 | I20: 62500 | J20: 68083.01
B21: TELEFONIA | C21: 7500 | E21: 7500 | F21: 10999 | G21: 7500 | H21: 11011 | I21: 7500 | J21: 10992
B22: IMPRESIÓN, ENCUADERNACION Y REPRODUCCION | C22: 8133.97 | E22: 8133.97 | G22: 8133.97 | I22: 8133.97 | J22: 4358
B23: MANT. Y REP. EQUIPO MEDICO SANITARIO Y DE LAB. | C23: 33333.33 | E23: 33333.33 | G23: 33333.33 | I23: 33333.33 | J23: 45020
B24: SERVICIOS MEDICO-SANITARIOS | C24: 165141.75 | E24: 165141.75 | G24: 165141.75 | H24: 1000 | I24: 165141.75 | J24: 26842.86
B25: SERVICIOS DE VIGILANCIA | C25: 40000 | E25: 40000 | G25: 40000 | I25: 40000 | J25: 76240
B26: OTROS SERVICIOS NO PERSONALES | C26: 26305.03 | E26: 26305.03 | G26: 26305.03 | H26: 46532.64 | I26: 26305.03 | J26: 55063.68
B27: SUMA GASTOS GENERALES | C27: =SUM(C20:C26) -> 342914.08 | D27: =SUM(D20:D26) -> 0 | E27: =SUM(E20:E26) -> 342914.08 | F27: =SUM(F20:F26) -> 67111.02 | G27: =SUM(G20:G26) -> 342914.08 | H27: =SUM(H20:H26) -> 58543.64 | I27: =SUM(I20:I26) -> 342914.08 | J27: =SUM(J20:J26) -> 286599.55
B28: MATERIALES Y SUMINISTROS
B29: ALIMENTOS PARA PERSONAS | C29: 60936.45 | E29: 60936.45 | G29: 60936.45 | I29: 60936.45 | J29: 202940.25
B30: ACABADOS TEXTILES | C30: 600 | E30: 600 | G30: 600 | I30: 600
B31: PRODUCTOS DE PAPEL O CARTON | C31: 945.42 | E31: 945.42 | G31: 945.42 | I31: 945.42
B32: ELEMENTOS Y COMPUESTOS QUIMICOS | C32: 169652.57 | E32: 169652.57 | G32: 169652.57 | I32: 169652.57 | J32: 178282.05
B33: COMBUSTIBLES Y LUBRICANTES | C33: 912 | E33: 912 | G33: 912 | I33: 912
B34: PRODUCTOS MEDICINALES Y FARMACEUTICOS | C34: 427229.65 | E34: 427229.65 | G34: 427229.65 | I34: 427229.65 | J34: 1425199.8
B35: TINTES, PINTURAS Y COLORANTES | C35: 100 | E35: 100 | G35: 100 | I35: 100
B36: PRODUCTOS PLASTICOS, NYLON, VINIL Y PVC | C36: 13579.7 | E36: 13579.7 | G36: 13579.7 | I36: 13579.7 | J36: 75162.24
B37: OTROS PRODUCTOS METALICOS | C37: 310 | E37: 310 | G37: 310 | I37: 310
B38: UTILES DE LIMPIEZA Y PRODUCTOS SANITARIOS | C38: 10809.43 | E38: 10809.43 | G38: 10809.43 | I38: 10809.43 | J38: 14528.6
B39: UTILES MENORES MEDICO QUIRURGICOS Y DE LAB. | C39: 1780006.3 | E39: 1780006.3 | G39: 1780006.3 | I39: 1780006.3 | J39: 1545914.8
B40: UTILES, ACCESORIOS Y MATERIALES ELECTRICOS | C40: 2208.7 | E40: 2208.7 | G40: 2208.7 | I40: 2208.7 | J40: 15300
B41: ACCESORIOS Y REPUESTOS EN GENERAL | C41: 8105.1 | E41: 8105.1 | G41: 8105.1 | I41: 8105.1
B42: OTROS MATERIALES Y SUMINISTROS | C42: 165.5 | E42: 165.5 | G42: 165.5 | I42: 165.5
B43: TOTAL MATERIALES Y SUMINISTROS | C43: =SUM(C29:C42) -> 2475560.8 | D43: =SUM(D29:D42) -> 0 | E43: =SUM(E29:E42) -> 2475560.8 | F43: =SUM(F29:F42) -> 0 | G43: =SUM(G29:G42) -> 2475560.8 | H43: =SUM(H29:H42) -> 0 | I43: =SUM(I29:I42) -> 2475560.8 | J43: =SUM(J29:J42) -> 3457327.8
A46: Programación mensual por tipo de gasto año 2016, Expresado en Quetzales
A47: No. | B47: Categoría de Gasto | C47: Julio | E47: Agosto | G47: Septiembre
B48: Recurso Humano | C48: Pto. | D48: Real | E48: Pto. | F48: Real | G48: Pto. | H48: Real
B51: Gastos de Funcionamiento
B52: detallar cada gasto cargado
A60: TOTALES
A73: Programación mensual por tipo de gasto año 2018, Expresado en Quetzales segundo cuatrimestre 2018
...

Sheet NOVIEMBRE ANEXO A DECE-5
B8: ÀREA FINANCIERA | I8: ANEXO DE DECE-5
A10: UNIDAD DE CIRUGIA CARDIOVASCULAR DE GUATEMALA
A11: 5a. AVENIDA 6-22 ZONA 11
A12: dgunicar@yahoo.es Tel. 24163000
A14: Programación mensual por tipo de gasto año 2018, Expresado en Quetzales primer cuatrimestre 2018
A15: No. | B15: CATEGORIA DE GASTO | C15: ENERO | E15: FEBRERO | G15: MARZO | I15: ABRIL
C16: PRESUPUESTO | D16: REAL | E16: PRESUPUESTO | F16: REAL | G16: PRESUPUESTO | H16: REAL | I16: PRESUPUESTO | J16: REAL
B17: RECURSO HUMANO | C17: 1764858.4 | D17: 1492317.4 | E17: 1764858.4 | F17: 1792563.6 | G17: 1764858.4 | H17: 1578007.9 | I17: 1764858.4 | J17: 1803793.6
B19: GASTOS DE FUNCIONAMIENTO | C19: =+C27+C43 -> 2818474.9 | D19: =+D27+D43 -> 0 | E19: =+E27+E43 -> 2818474.9 | F19: =+F27+F43 -> 67111.02 | G19: =+G27+G43 -> 2818474.9 | H19: =+H27+H43 -> 58543.64 | I19: =+I27+I43 -> 2818474.9 | J19: =+J27+J43 -> 3743927.3
B20: ENERGIA ELECTRICA | C20: 62500 | E20: 62500 | F20: 56112.02 | G20: 62500 | I20: 62500 | J20: 68083.01
B21: TELEFONIA | C21: 7500 | E21: 7500 | F21: 10999 | G21: 7500 | H21: 11011 | I21: 7500 | J21: 10992
B22: IMPRESIÓN, ENCUADERNACION Y REPRODUCCION | C22: 8133.97 | E22: 8133.97 | G22: 8133.97 | I22: 8133.97 | J22: 4358
B23: MANT. Y REP. EQUIPO MEDICO SANITARIO Y DE LAB. | C23: 33333.33 | E23: 33333.33 | G23: 33333.33 | I23: 33333.33 | J23: 45020
B24: SERVICIOS MEDICO-SANITARIOS | C24: 165141.75 | E24: 165141.75 | G24: 165141.75 | H24: 1000 | I24: 165141.75 | J24: 26842.86
B25: SERVICIOS DE VIGILANCIA | C25: 40000 | E25: 40000 | G25: 40000 | I25: 40000 | J25: 76240
B26: OTROS SERVICIOS NO PERSONALES | C26: 26305.03 | E26: 26305.03 | G26: 26305.03 | H26: 46532.64 | I26: 26305.03 | J26: 55063.68
B27: SUMA GASTOS GENERALES | C27: =SUM(C20:C26) -> 342914.08 | D27: =SUM(D20:D26) -> 0 | E27: =SUM(E20:E26) -> 342914.08 | F27: =SUM(F20:F26) -> 67111.02 | G27: =SUM(G20:G26) -> 342914.08 | H27: =SUM(H20:H26) -> 58543.64 | I27: =SUM(I20:I26) -> 342914.08 | J27: =SUM(J20:J26) -> 286599.55
B28: MATERIALES Y SUMINISTROS
B29: ALIMENTOS PARA PERSONAS | C29: 60936.45 | E29: 60936.45 | G29: 60936.45 | I29: 60936.45 | J29: 202940.25
B30: ACABADOS TEXTILES | C30: 600 | E30: 600 | G30: 600 | I30: 600
B31: PRODUCTOS DE PAPEL O CARTON | C31: 945.42 | E31: 945.42 | G31: 945.42 | I31: 945.42
B32: ELEMENTOS Y COMPUESTOS QUIMICOS | C32: 169652.57 | E32: 169652.57 | G32: 169652.57 | I32: 169652.57 | J32: 178282.05
B33: COMBUSTIBLES Y LUBRICANTES | C33: 912 | E33: 912 | G33: 912 | I33: 912
B34: PRODUCTOS MEDICINALES Y FARMACEUTICOS | C34: 427229.65 | E34: 427229.65 | G34: 427229.65 | I34: 427229.65 | J34: 1425199.8
B35: TINTES, PINTURAS Y COLORANTES | C35: 100 | E35: 100 | G35: 100 | I35: 100
B36: PRODUCTOS PLASTICOS, NYLON, VINIL Y PVC | C36: 13579.7 | E36: 13579.7 | G36: 13579.7 | I36: 13579.7 | J36: 75162.24
B37: OTROS PRODUCTOS METALICOS | C37: 310 | E37: 310 | G37: 310 | I37: 310
B38: UTILES DE LIMPIEZA Y PRODUCTOS SANITARIOS | C38: 10809.43 | E38: 10809.43 | G38: 10809.43 | I38: 10809.43 | J38: 14528.6
B39: UTILES MENORES MEDICO QUIRURGICOS Y DE LAB. | C39: 1780006.3 | E39: 1780006.3 | G39: 1780006.3 | I39: 1780006.3 | J39: 1545914.8
B40: UTILES, ACCESORIOS Y MATERIALES ELECTRICOS | C40: 2208.7 | E40: 2208.7 | G40: 2208.7 | I40: 2208.7 | J40: 15300
B41: ACCESORIOS Y REPUESTOS EN GENERAL | C41: 8105.1 | E41: 8105.1 | G41: 8105.1 | I41: 8105.1
B42: OTROS MATERIALES Y SUMINISTROS | C42: 165.5 | E42: 165.5 | G42: 165.5 | I42: 165.5
B43: TOTAL MATERIALES Y SUMINISTROS | C43: =SUM(C29:C42) -> 2475560.8 | D43: =SUM(D29:D42) -> 0 | E43: =SUM(E29:E42) -> 2475560.8 | F43: =SUM(F29:F42) -> 0 | G43: =SUM(G29:G42) -> 2475560.8 | H43: =SUM(H29:H42) -> 0 | I43: =SUM(I29:I42) -> 2475560.8 | J43: =SUM(J29:J42) -> 3457327.8
A46: Programación mensual por tipo de gasto año 2016, Expresado en Quetzales
A47: No. | B47: Categoría de Gasto | C47: Julio | E47: Agosto | G47: Septiembre
B48: Recurso Humano | C48: Pto. | D48: Real | E48: Pto. | F48: Real | G48: Pto. | H48: Real
B51: Gastos de Funcionamiento
B52: detallar cada gasto cargado
A60: TOTALES
A73: Programación mensual por tipo de gasto año 2018, Expresado en Quetzales segundo cuatrimestre 2018
...

Sheet DICIEMBRE ANEXO A DECE-5
B8: ÀREA FINANCIERA | I8: ANEXO DE DECE-5
A10: UNIDAD DE CIRUGIA CARDIOVASCULAR DE GUATEMALA
A11: 5a. AVENIDA 6-22 ZONA 11
A12: dgunicar@yahoo.es Tel. 24163000
A14: Programación mensual por tipo de gasto año 2018, Expresado en Quetzales primer cuatrimestre 2018
A15: No. | B15: CATEGORIA DE GASTO | C15: ENERO | E15: FEBRERO | G15: MARZO | I15: ABRIL
C16: PRESUPUESTO | D16: REAL | E16: PRESUPUESTO | F16: REAL | G16: PRESUPUESTO | H16: REAL | I16: PRESUPUESTO | J16: REAL
B17: RECURSO HUMANO | C17: 1764858.4 | D17: 1492317.4 | E17: 1764858.4 | F17: 1792563.6 | G17: 1764858.4 | H17: 1578007.9 | I17: 1764858.4 | J17: 1803793.6
B19: GASTOS DE FUNCIONAMIENTO | C19: =+C27+C43 -> 2818474.9 | D19: =+D27+D43 -> 0 | E19: =+E27+E43 -> 2818474.9 | F19: =+F27+F43 -> 67111.02 | G19: =+G27+G43 -> 2818474.9 | H19: =+H27+H43 -> 58543.64 | I19: =+I27+I43 -> 2818474.9 | J19: =+J27+J43 -> 3743927.3
B20: ENERGIA ELECTRICA | C20: 62500 | E20: 62500 | F20: 56112.02 | G20: 62500 | I20: 62500 | J20: 68083.01
B21: TELEFONIA | C21: 7500 | E21: 7500 | F21: 10999 | G21: 7500 | H21: 11011 | I21: 7500 | J21: 10992
B22: IMPRESIÓN, ENCUADERNACION Y REPRODUCCION | C22: 8133.97 | E22: 8133.97 | G22: 8133.97 | I22: 8133.97 | J22: 4358
B23: MANT. Y REP. EQUIPO MEDICO SANITARIO Y DE LAB. | C23: 33333.33 | E23: 33333.33 | G23: 33333.33 | I23: 33333.33 | J23: 45020
B24: SERVICIOS MEDICO-SANITARIOS | C24: 165141.75 | E24: 165141.75 | G24: 165141.75 | H24: 1000 | I24: 165141.75 | J24: 26842.86
B25: SERVICIOS DE VIGILANCIA | C25: 40000 | E25: 40000 | G25: 40000 | I25: 40000 | J25: 76240
B26: OTROS SERVICIOS NO PERSONALES | C26: 26305.03 | E26: 26305.03 | G26: 26305.03 | H26: 46532.64 | I26: 26305.03 | J26: 55063.68
B27: SUMA GASTOS GENERALES | C27: =SUM(C20:C26) -> 342914.08 | D27: =SUM(D20:D26) -> 0 | E27: =SUM(E20:E26) -> 342914.08 | F27: =SUM(F20:F26) -> 67111.02 | G27: =SUM(G20:G26) -> 342914.08 | H27: =SUM(H20:H26) -> 58543.64 | I27: =SUM(I20:I26) -> 342914.08 | J27: =SUM(J20:J26) -> 286599.55
B28: MATERIALES Y SUMINISTROS
B29: ALIMENTOS PARA PERSONAS | C29: 60936.45 | E29: 60936.45 | G29: 60936.45 | I29: 60936.45 | J29: 202940.25
B30: ACABADOS TEXTILES | C30: 600 | E30: 600 | G30: 600 | I30: 600
B31: PRODUCTOS DE PAPEL O CARTON | C31: 945.42 | E31: 945.42 | G31: 945.42 | I31: 945.42
B32: ELEMENTOS Y COMPUESTOS QUIMICOS | C32: 169652.57 | E32: 169652.57 | G32: 169652.57 | I32: 169652.57 | J32: 178282.05
B33: COMBUSTIBLES Y LUBRICANTES | C33: 912 | E33: 912 | G33: 912 | I33: 912
B34: PRODUCTOS MEDICINALES Y FARMACEUTICOS | C34: 427229.65 | E34: 427229.65 | G34: 427229.65 | I34: 427229.65 | J34: 1425199.8
B35: TINTES, PINTURAS Y COLORANTES | C35: 100 | E35: 100 | G35: 100 | I35: 100
B36: PRODUCTOS PLASTICOS, NYLON, VINIL Y PVC | C36: 13579.7 | E36: 13579.7 | G36: 13579.7 | I36: 13579.7 | J36: 75162.24
B37: OTROS PRODUCTOS METALICOS | C37: 310 | E37: 310 | G37: 310 | I37: 310
B38: UTILES DE LIMPIEZA Y PRODUCTOS SANITARIOS | C38: 10809.43 | E38: 10809.43 | G38: 10809.43 | I38: 10809.43 | J38: 14528.6
B39: UTILES MENORES MEDICO QUIRURGICOS Y DE LAB. | C39: 1780006.3 | E39: 1780006.3 | G39: 1780006.3 | I39: 1780006.3 | J39: 1545914.8
B40: UTILES, ACCESORIOS Y MATERIALES ELECTRICOS | C40: 2208.7 | E40: 2208.7 | G40: 2208.7 | I40: 2208.7 | J40: 15300
B41: ACCESORIOS Y REPUESTOS EN GENERAL | C41: 8105.1 | E41: 8105.1 | G41: 8105.1 | I41: 8105.1
B42: OTROS MATERIALES Y SUMINISTROS | C42: 165.5 | E42: 165.5 | G42: 165.5 | I42: 165.5
B43: TOTAL MATERIALES Y SUMINISTROS | C43: =SUM(C29:C42) -> 2475560.8 | D43: =SUM(D29:D42) -> 0 | E43: =SUM(E29:E42) -> 2475560.8 | F43: =SUM(F29:F42) -> 0 | G43: =SUM(G29:G42) -> 2475560.8 | H43: =SUM(H29:H42) -> 0 | I43: =SUM(I29:I42) -> 2475560.8 | J43: =SUM(J29:J42) -> 3457327.8
A46: Programación mensual por tipo de gasto año 2016, Expresado en Quetzales
A47: No. | B47: Categoría de Gasto | C47: Julio | E47: Agosto | G47: Septiembre
B48: Recurso Humano | C48: Pto. | D48: Real | E48: Pto. | F48: Real | G48: Pto. | H48: Real
B51: Gastos de Funcionamiento
B52: detallar cada gasto cargado
A60: TOTALES
A73: Programación mensual por tipo de gasto año 2018, Expresado en Quetzales segundo cuatrimestre 2018
...

Sheet SEPTIEMBRE DECE-6
B7: ÀREA FINANCIERA | J7: DECE-6
A9: UNIDAD DE CIRUGIA CARDIOVASCULAR DE GUATEMALA
A10: 5a. AVENIDA 6-22 ZONA 11
A11: CORREO ELECTRÓNICO Y TELÉFONO
A12: dgunicar@yahoo.es Tel. 24163000
A14: Ejecucion fìnanciera por categoria del gasto primer cuatrimestre 2024
A16: Categoría del gasto de funcionamiento | B16: Enero | D16: Febrero | F16: Marzo | H16: Abril | J16: Total cuatrimestre
B17: Prog. | C17: Ejecutado | D17: Prog. | E17: Ejecutado | F17: Prog. | G17: Ejecutado | H17: Prog. | I17: Ejecutado | J17: Prog. | K17: Ejecutado
A18: Recurso Humano | B18: 3606534.1 | C18: 3001907.1 | D18: 3606534.1 | E18: 3000995.4 | F18: 3606534.1 | G18: 4933177.1 | H18: 3606534.1 | I18: 3626273.4 | J18: =+B18+D18+F18+H18 -> 14426136 | K18: =+C18+E18+G18+I18 -> 14562353
A19: Gastos de operación | B19: 3340 | C19: 0 | D19: 354218.4 | E19: 11403.26 | F19: 3094423 | G19: 1594516.3 | H19: 2949873.2 | I19: 1178461 | J19: =+B19+D19+F19+H19 -> 6401854.7 | K19: =+C19+E19+G19+I19 -> 2784380.5
A20: Propiedad planta y equipo | B20: 0 | C20: 0 | D20: 0 | E20: 0 | F20: 0 | G20: 0 | H20: 0 | I20: 0 | J20: =+B20+D20+F20+H20 -> 0 | K20: =+C20+E20+G20+I20 -> 0
A21: TOTAL | B21: =SUM(B18:B20) -> 3609874.1 | C21: =SUM(C18:C20) -> 3001907.1 | D21: =SUM(D18:D20) -> 3960752.5 | E21: =SUM(E18:E20) -> 3012398.6 | F21: =SUM(F18:F20) -> 6700957.1 | G21: =SUM(G18:G20) -> 6527693.4 | H21: =SUM(H18:H20) -> 6556407.3 | I21: =SUM(I18:I20) -> 4804734.4 | ... K21: =SUM(K18:K20) -> 17346734
A23: Ejecucion fìnanciera por categoria del gasto segundo cuatrimestre 2024
A25: Categoría del gasto de funcionamiento | B25: Mayo | D25: Junio | F25: Julio | H25: Agosto | J25: Total cuatrimetre | L25: Total Acumulado
B26: Prog. | C26: Ejecutado | D26: Prog. | E26: Ejecutado | F26: Prog. | G26: Ejecutado | H26: Prog. | I26: Ejecutado | J26: Prog. | K26: Ejecutado | L26: Prog. | M26: Ejecutado
A27: Recurso Humano | B27: 3606534.1 | C27: 3655693.1 | D27: 3606534.1 | E27: 3662737.1 | F27: 6646386.3 | G27: 6644750.4 | H27: 3606534.1 | I27: 3627010.2 | J27: =+B27+D27+F27+H27 -> 17465989 | K27: =+C27+E27+G27+I27 -> 17590191 | L27: =+J27+J18 -> 31892125 | M27: =+K27+K18 -> 32152544
A28: Gastos de operación | B28: 3515905.6 | C28: 3556500.3 | D28: 2834669.6 | E28: 4299904 | F28: 3437785.6 | G28: 3189628 | H28: 2802868.6 | I28: 2614010.7 | J28: =+B28+D28+F28+H28 -> 12591229 | K28: =+C28+E28+G28+I28 -> 13660043 | L28: =+J28+J19 -> 18993084 | M28: =+K28+K19 -> 16444424
A29: TOTAL | B29: =SUM(B27:B28) -> 7122439.7 | C29: =SUM(C27:C28) -> 7212193.5 | D29: =SUM(D27:D28) -> 6441203.7 | E29: =SUM(E27:E28) -> 7962641.1 | F29: =SUM(F27:F28) -> 10084172 | G29: =SUM(G27:G28) -> 9834378.4 | H29: =SUM(H27:H28) -> 6409402.7 | I29: =SUM(I27:I28) -> 6241020.9 | ... M29: =SUM(M27:M28) -> 48596968
A32: Ejecucion fìnanciera por categoria del gasto tercer cuatrimestre 2024
A34: Categoría del gasto de funcionamiento | B34: Septiembre | D34: Octubre | F34: Noviembre | H34: Diciembre | J34: Total cuatrimetre | L34: Total Acumulado anual
B35: Prog. | C35: Ejecutado | D35: Prog. | E35: Ejecutado | F35: Prog. | G35: Ejecutado | H35: Prog. | I35: Ejecutado | J35: Prog. | K35: Ejecutado | L35: Prog. | M35: Ejecutado
A36: Recurso Humano | B36: 3606534.1 | C36: 3602663.5 | J36: =+B36+D36+F36+H36 -> 3606534.1 | K36: =+C36+E36+G36+I36 -> 3602663.5 | L36: =+J36+L27 -> 35498659 | M36: =+K36+M27 -> 35755207
A37: Gastos de operación | B37: 2848701 | C37: 3324637.8 | J37: =+B37+D37+F37+H37 -> 2848701 | K37: =+C37+E37+G37+I37 -> 3324637.8 | L37: =+J37+L28 -> 21841785 | M37: =+K37+M28 -> 19769061
A38: TOTAL | B38: =SUM(B36:B37) -> 6455235.1 | C38: =SUM(C36:C37) -> 6927301.2 | D38: =SUM(D36:D37) -> 0 | E38: =SUM(E36:E37) -> 0 | F38: =SUM(F36:F37) -> 0 | G38: =SUM(G36:G37) -> 0 | H38: =SUM(H36:H37) -> 0 | I38: =SUM(I36:I37) -> 0 | ... M38: =SUM(M36:M37) -> 55524269
A40: Resumen año 2024
A41: Categoría del gasto | B41: año 2024
B42: Presupuestado | C42: Ejecutado
A43: Recurso Humano | B43: =+J18+J27+J36 -> 35498659 | C43: =+K18+K27+K36 -> 35755207
A44: Gastos de operación | B44: =+J19+J28+J37 -> 21841785 | C44: =+K19+K28+K37 -> 19769061
A45: TOTAL | B45: =SUM(B43:B44) -> 57340444 | C45: =SUM(C43:C44) -> 55524269
A69: Elaborado por: | C69: ___________________________ | F69: Autorizado por: | H69: ___________________________________
C70: Víctor Cresencio Reyes Porres | H70: Lic. Douglas Antonio Díaz Rivera
C71: Jefe de Contabilidad | H71: Representante Legal
A72: Fecha: | C72: 10 de octubre 2024

Sheet OCTUBRE DECE-6
B7: ÀREA FINANCIERA | J7: DECE-6
A9: UNIDAD DE CIRUGIA CARDIOVASCULAR DE GUATEMALA
A10: 5a. AVENIDA 6-22 ZONA 11
A11: CORREO ELECTRÓNICO Y TELÉFONO
A12: dgunicar@yahoo.es Tel. 24163000
A14: Ejecucion fìnanciera por categoria del gasto primer cuatrimestre 2024
A16: Categoría del gasto de funcionamiento | B16: Enero | D16: Febrero | F16: Marzo | H16: Abril | J16: Total cuatrimestre
B17: Prog. | C17: Ejecutado | D17: Prog. | E17: Ejecutado | F17: Prog. | G17: Ejecutado | H17: Prog. | I17: Ejecutado | J17: Prog. | K17: Ejecutado
A18: Recurso Humano | B18: 3606534.1 | C18: 3001907.1 | D18: 3606534.1 | E18: 3000995.4 | F18: 3606534.1 | G18: 4933177.1 | H18: 3606534.1 | I18: 3626273.4 | J18: =+B18+D18+F18+H18 -> 14426136 | K18: =+C18+E18+G18+I18 -> 14562353
A19: Gastos de operación | B19: 3340 | C19: 0 | D19: 354218.4 | E19: 11403.26 | F19: 3094423 | G19: 1594516.3 | H19: 2949873.2 | I19: 1178461 | J19: =+B19+D19+F19+H19 -> 6401854.7 | K19: =+C19+E19+G19+I19 -> 2784380.5
A20: Propiedad planta y equipo | B20: 0 | C20: 0 | D20: 0 | E20: 0 | F20: 0 | G20: 0 | H20: 0 | I20: 0 | J20: =+B20+D20+F20+H20 -> 0 | K20: =+C20+E20+G20+I20 -> 0
A21: TOTAL | B21: =SUM(B18:B20) -> 3609874.1 | C21: =SUM(C18:C20) -> 3001907.1 | D21: =SUM(D18:D20) -> 3960752.5 | E21: =SUM(E18:E20) -> 3012398.6 | F21: =SUM(F18:F20) -> 6700957.1 | G21: =SUM(G18:G20) -> 6527693.4 | H21: =SUM(H18:H20) -> 6556407.3 | I21: =SUM(I18:I20) -> 4804734.4 | ... K21: =SUM(K18:K20) -> 17346734
A23: Ejecucion fìnanciera por categoria del gasto segundo cuatrimestre 2024
A25: Categoría del gasto de funcionamiento | B25: Mayo | D25: Junio | F25: Julio | H25: Agosto | J25: Total cuatrimetre | L25: Total Acumulado
B26: Prog. | C26: Ejecutado | D26: Prog. | E26: Ejecutado | F26: Prog. | G26: Ejecutado | H26: Prog. | I26: Ejecutado | J26: Prog. | K26: Ejecutado | L26: Prog. | M26: Ejecutado
A27: Recurso Humano | B27: 3606534.1 | C27: 3655693.1 | D27: 3606534.1 | E27: 3662737.1 | F27: 6646386.3 | G27: 6644750.4 | H27: 3606534.1 | I27: 3627010.2 | J27: =+B27+D27+F27+H27 -> 17465989 | K27: =+C27+E27+G27+I27 -> 17590191 | L27: =+J27+J18 -> 31892125 | M27: =+K27+K18 -> 32152544
A28: Gastos de operación | B28: 3515905.6 | C28: 3556500.3 | D28: 2834669.6 | E28: 4299904 | F28: 3430327.3 | G28: 3189628 | H28: 2802868.6 | I28: 2614010.7 | J28: =+B28+D28+F28+H28 -> 12583771 | K28: =+C28+E28+G28+I28 -> 13660043 | L28: =+J28+J19 -> 18985626 | M28: =+K28+K19 -> 16444424
A29: TOTAL | B29: =SUM(B27:B28) -> 7122439.7 | C29: =SUM(C27:C28) -> 7212193.5 | D29: =SUM(D27:D28) -> 6441203.7 | E29: =SUM(E27:E28) -> 7962641.1 | F29: =SUM(F27:F28) -> 10076714 | G29: =SUM(G27:G28) -> 9834378.4 | H29: =SUM(H27:H28) -> 6409402.7 | I29: =SUM(I27:I28) -> 6241020.9 | ... M29: =SUM(M27:M28) -> 48596968
A32: Ejecucion fìnanciera por categoria del gasto tercer cuatrimestre 2024
A34: Categoría del gasto de funcionamiento | B34: Septiembre | D34: Octubre | F34: Noviembre | H34: Diciembre | J34: Total cuatrimetre | L34: Total Acumulado anual
B35: Prog. | C35: Ejecutado | D35: Prog. | E35: Ejecutado | F35: Prog. | G35: Ejecutado | H35: Prog. | I35: Ejecutado | J35: Prog. | K35: Ejecutado | L35: Prog. | M35: Ejecutado
A36: Recurso Humano | B36: 3606534.1 | C36: 3602663.5 | D36: 3606534.1 | E36: 3643861.4 | J36: =+B36+D36+F36+H36 -> 7213068.2 | K36: =+C36+E36+G36+I36 -> 7246524.8 | L36: =+J36+L27 -> 39105193 | M36: =+K36+M27 -> 39399069
A37: Gastos de operación | B37: 2804682.9 | C37: 3324637.8 | D37: 2913493.3 | E37: 3742775.2 | J37: =+B37+D37+F37+H37 -> 5718176.2 | K37: =+C37+E37+G37+I37 -> 7067413 | L37: =+J37+L28 -> 24703802 | M37: =+K37+M28 -> 23511837
A38: TOTAL | B38: =SUM(B36:B37) -> 6411217 | C38: =SUM(C36:C37) -> 6927301.2 | D38: =SUM(D36:D37) -> 6520027.4 | E38: =SUM(E36:E37) -> 7386636.6 | F38: =SUM(F36:F37) -> 0 | G38: =SUM(G36:G37) -> 0 | H38: =SUM(H36:H37) -> 0 | I38: =SUM(I36:I37) -> 0 | ... M38: =SUM(M36:M37) -> 62910905
A40: Resumen año 2024
A41: Categoría del gasto | B41: año 2024
B42: Presupuestado | C42: Ejecutado
A43: Recurso Humano | B43: =+J18+J27+J36 -> 39105193 | C43: =+K18+K27+K36 -> 39399069
A44: Gastos de operación | B44: =+J19+J28+J37 -> 24703802 | C44: =+K19+K28+K37 -> 23511837
A45: TOTAL | B45: =SUM(B43:B44) -> 63808995 | C45: =SUM(C43:C44) -> 62910905
A69: Elaborado por: | C69: ___________________________ | F69: Autorizado por: | H69: ___________________________________
C70: Víctor Cresencio Reyes Porres | H70: Lic. Douglas Antonio Díaz Rivera
C71: Jefe de Contabilidad | H71: Representante Legal
A72: Fecha: | C72: 8 de noviembre 2024

Sheet NOVIEMBRE DECE-6
B7: ÀREA FINANCIERA | J7: DECE-6
A9: UNIDAD DE CIRUGIA CARDIOVASCULAR DE GUATEMALA
A10: 5a. AVENIDA 6-22 ZONA 11
A11: CORREO ELECTRÓNICO Y TELÉFONO
A12: dgunicar@yahoo.es Tel. 24163000
A14: Ejecucion fìnanciera por categoria del gasto primer cuatrimestre 2024
A16: Categoría del gasto de funcionamiento | B16: Enero | D16: Febrero | F16: Marzo | H16: Abril | J16: Total cuatrimestre
B17: Prog. | C17: Ejecutado | D17: Prog. | E17: Ejecutado | F17: Prog. | G17: Ejecutado | H17: Prog. | I17: Ejecutado | J17: Prog. | K17: Ejecutado
A18: Recurso Humano | B18: 3606534.1 | C18: 3001907.1 | D18: 3606534.1 | E18: 3000995.4 | F18: 3606534.1 | G18: 4933177.1 | H18: 3606534.1 | I18: 3626273.4 | J18: =+B18+D18+F18+H18 -> 14426136 | K18: =+C18+E18+G18+I18 -> 14562353
A19: Gastos de operación | B19: 3340 | C19: 0 | D19: 354218.4 | E19: 11403.26 | F19: 3094423 | G19: 1594516.3 | H19: 2949873.2 | I19: 1178461 | J19: =+B19+D19+F19+H19 -> 6401854.7 | K19: =+C19+E19+G19+I19 -> 2784380.5
A20: Propiedad planta y equipo | B20: 0 | C20: 0 | D20: 0 | E20: 0 | F20: 0 | G20: 0 | H20: 0 | I20: 0 | J20: =+B20+D20+F20+H20 -> 0 | K20: =+C20+E20+G20+I20 -> 0
A21: TOTAL | B21: =SUM(B18:B20) -> 3609874.1 | C21: =SUM(C18:C20) -> 3001907.1 | D21: =SUM(D18:D20) -> 3960752.5 | E21: =SUM(E18:E20) -> 3012398.6 | F21: =SUM(F18:F20) -> 6700957.1 | G21: =SUM(G18:G20) -> 6527693.4 | H21: =SUM(H18:H20) -> 6556407.3 | I21: =SUM(I18:I20) -> 4804734.4 | ... K21: =SUM(K18:K20) -> 17346734
A23: Ejecucion fìnanciera por categoria del gasto segundo cuatrimestre 2024
A25: Categoría del gasto de funcionamiento | B25: Mayo | D25: Junio | F25: Julio | H25: Agosto | J25: Total cuatrimetre | L25: Total Acumulado
B26: Prog. | C26: Ejecutado | D26: Prog. | E26: Ejecutado | F26: Prog. | G26: Ejecutado | H26: Prog. | I26: Ejecutado | J26: Prog. | K26: Ejecutado | L26: Prog. | M26: Ejecutado
A27: Recurso Humano | B27: 3606534.1 | C27: 3655693.1 | D27: 3606534.1 | E27: 3662737.1 | F27: 6646386.3 | G27: 6644750.4 | H27: 3606534.1 | I27: 3627010.2 | J27: =+B27+D27+F27+H27 -> 17465989 | K27: =+C27+E27+G27+I27 -> 17590191 | L27: =+J27+J18 -> 31892125 | M27: =+K27+K18 -> 32152544
A28: Gastos de operación | B28: 3515905.6 | C28: 3556500.3 | D28: 2834669.6 | E28: 4299904 | F28: 3430327.3 | G28: 3189628 | H28: 2802868.6 | I28: 2614010.7 | J28: =+B28+D28+F28+H28 -> 12583771 | K28: =+C28+E28+G28+I28 -> 13660043 | L28: =+J28+J19 -> 18985626 | M28: =+K28+K19 -> 16444424
A29: TOTAL | B29: =SUM(B27:B28) -> 7122439.7 | C29: =SUM(C27:C28) -> 7212193.5 | D29: =SUM(D27:D28) -> 6441203.7 | E29: =SUM(E27:E28) -> 7962641.1 | F29: =SUM(F27:F28) -> 10076714 | G29: =SUM(G27:G28) -> 9834378.4 | H29: =SUM(H27:H28) -> 6409402.7 | I29: =SUM(I27:I28) -> 6241020.9 | ... M29: =SUM(M27:M28) -> 48596968
A32: Ejecucion fìnanciera por categoria del gasto tercer cuatrimestre 2024
A34: Categoría del gasto de funcionamiento | B34: Septiembre | D34: Octubre | F34: Noviembre | H34: Diciembre | J34: Total cuatrimetre | L34: Total Acumulado anual
B35: Prog. | C35: Ejecutado | D35: Prog. | E35: Ejecutado | F35: Prog. | G35: Ejecutado | H35: Prog. | I35: Ejecutado | J35: Prog. | K35: Ejecutado | L35: Prog. | M35: Ejecutado
