Workbook

Sheet MAYO F-5
B8: ÀREA FINANCIERA | K8: F-5
A10: UNIDAD DE CIRUGIA CARDIOVASCULAR DE GUATEMALA
A11: 5a. AVENIDA 6-22 ZONA 11
A12: dgunicar@yahoo.es Tel. 24163000
A14: Programación y ejecucion mensual por tipo de gasto año 2023, Expresado en Quetzales primer cuatrimestre 2023
A15: No. | B15: CATEGORIA DEL GASTO DE FUNCIONAMIENTO | C15: ENERO | E15: FEBRERO | G15: MARZO | I15: ABRIL | K15: TOTAL CUATRIMESTRE
C16: PROG. | D16: EJECUTADO | E16: PROG. | F16: EJECUTADO | G16: PROG. | H16: EJECUTADO | I16: PROG. | J16: EJECUTADO | K16: PROG. | L16: EJECUTADO
B17: RECURSO HUMANO
A18: 011 | B18: SUELOS Y SALARIOS | C18: 3361148.5 | D18: 2939970.1 | E18: 3361148.5 | F18: 2914006.4 | G18: 3361148.5 | H18: 2948436.8 | I18: 3361148.5 | J18: 2929171.3 | K18: =+C18+E18+G18+I18 -> 13444594 | L18: =+D18+F18+H18+J18 -> 11731585
B19: CUOTA PATRONAL | H19: 1076452.8 | J19: 358716.74 | L19: =+D19+F19+H19+J19 -> 1435169.6
B20: TOTAL RECURSO HUMANO | C20: =SUM(C18:C19) -> 3361148.5 | D20: =SUM(D18:D19) -> 2939970.1 | E20: =SUM(E18:E19) -> 3361148.5 | F20: =SUM(F18:F19) -> 2914006.4 | G20: =SUM(G18:G19) -> 3361148.5 | H20: =SUM(H18:H19) -> 4024889.6 | I20: =SUM(I18:I19) -> 3361148.5 | J20: =SUM(J18:J19) -> 3287888 | ... L20: =SUM(L18:L19) -> 13166754
B22: GASTOS DE OPERACIÓN
A23: 111 | B23: ENERGIA ELECTRICA | C23: 0 | D23: 0 | E23: 88000 | F23: 0 | G23: 88000 | H23: 87425.59 | I23: 88000 | J23: 100265.42 | K23: =+C23+E23+G23+I23 -> 264000 | L23: =+D23+F23+H23+J23 -> 187691.01
A24: 113 | B24: SERVICIO DE INTERNET Y TELEFONIA | C24: 0 | D24: 0 | E24: 11585.06 | F24: 8525.7 | G24: 11585.06 | H24: 11440.41 | I24: 11585.06 | J24: 11412.67 | K24: =+C24+E24+G24+I24 -> 34755.18 | L24: =+D24+F24+H24+J24 -> 31378.78
A25: 122 | B25: IMPRESIÓN, ENCUADERNACION Y REPRODUCCION | C25: 0 | D25: 0 | E25: 68124.37 | F25: 0 | G25: 0 | H25: 440 | I25: 0 | J25: 42472.5 | K25: =+C25+E25+G25+I25 -> 68124.37 | L25: =+D25+F25+H25+J25 -> 42912.5
A26: 163 | B26: MANT. Y REP. EQUIPO MEDICO SANITARIO Y DE LAB. | C26: 50000 | D26: 0 | E26: =16335+50000 -> 66335 | F26: 0 | G26: =214550+50000 -> 264550 | H26: 6400.89 | I26: 50000 | J26: 133312.11 | K26: =+C26+E26+G26+I26 -> 430885 | L26: =+D26+F26+H26+J26 -> 139713
A27: 168 | B27: MANTENIMIENTO Y REPARACION DE EQUIPO DE COMPUTO | C27: 1000 | D27: 0 | E27: 0 | F27: 0 | G27: 0 | H27: 0 | I27: 0 | J27: 0 | K27: =+C27+E27+G27+I27 -> 1000 | L27: =+D27+F27+H27+J27 -> 0
A28: 169 | B28: MANT. Y REP. DE OTRAS MAQ. Y EQUIPO | C28: 10000 | D28: 0 | E28: 0 | F28: 0 | G28: 0 | H28: 0 | I28: 0 | J28: 0 | K28: =+C28+E28+G28+I28 -> 10000 | L28: =+D28+F28+H28+J28 -> 0
A29: 171 | B29: MANT. Y REPARACION DE EDIFICIOS | C29: 10000 | D29: 0 | E29: 0 | F29: 0 | G29: 8140 | H29: 0 | I29: 1320 | J29: 7400 | K29: =+C29+E29+G29+I29 -> 19460 | L29: =+D29+F29+H29+J29 -> 7400
A30: 174 | B30: MANT. Y REP. DE INSTALACIONES | C30: 15765.66 | D30: 0 | E30: 5765.66 | F30: 5765.66 | G30: 7265.66 | H30: 5765.66 | I30: 7265.66 | J30: 5765.66 | K30: =+C30+E30+G30+I30 -> 36062.64 | L30: =+D30+F30+H30+J30 -> 17296.98
A31: 182 | B31: SERVICIOS MEDICO-SANITARIOS | C31: 278286 | D31: 0 | E31: 274686 | F31: 50615 | G31: 277086 | H31: 257315 | I31: 266886 | J31: 288696 | K31: =+C31+E31+G31+I31 -> 1096944 | L31: =+D31+F31+H31+J31 -> 596626
A32: 197 | B32: SERVICIOS DE VIGILANCIA | C32: 0 | D32: 0 | E32: 43200 | F32: 0 | G32: 43200 | H32: 42000 | I32: 43200 | J32: 42000 | K32: =+C32+E32+G32+I32 -> 129600 | L32: =+D32+F32+H32+J32 -> 84000
A33: 199 | B33: OTROS SERVICIOS NO PERSONALES | C33: 60838.7 | D33: 0 | E33: 147087.5 | F33: 8200.8 | G33: 48537.5 | H33: 69332.8 | I33: 48537.5 | J33: 58547.1 | K33: =+C33+E33+G33+I33 -> 305001.2 | L33: =+D33+F33+H33+J33 -> 136080.7
A34: 211 | B34: ALIMENTOS PARA PERSONAS | C34: 37249 | D34: 0 | E34: 47931.75 | F34: 0 | G34: 47931.75 | H34: 59267.75 | I34: 37249 | J34: 51050.5 | K34: =+C34+E34+G34+I34 -> 170361.5 | L34: =+D34+F34+H34+J34 -> 110318.25
A35: 232 | B35: ACABADOS TEXTILES | C35: 0 | D35: 0 | E35: 86640 | F35: 0 | G35: 0 | H35: 0 | I35: 0 | J35: 0 | K35: =+C35+E35+G35+I35 -> 86640 | L35: =+D35+F35+H35+J35 -> 0
A36: 261 | B36: ELEMENTOS Y COMPUESTOS QUIMICOS | C36: 0 | D36: 0 | E36: 1009687.4 | F36: 62510.51 | G36: 0 | H36: 64391.24 | I36: 0 | J36: 162057.62 | K36: =+C36+E36+G36+I36 -> 1009687.4 | L36: =+D36+F36+H36+J36 -> 288959.37
A37: 262 | B37: COMBUSTIBLES Y LUBRICANTES | C37: 8000 | D37: 0 | E37: 0 | F37: 0 | G37: 0 | H37: 0 | I37: 0 | J37: 0 | K37: =+C37+E37+G37+I37 -> 8000 | L37: =+D37+F37+H37+J37 -> 0
A38: 266 | B38: PRODUCTOS MEDICINALES Y FARMACEUTICOS | C38: 0 | D38: 0 | E38: 619212.26 | F38: 0 | G38: 0 | H38: 186614 | I38: 0 | J38: 131300 | K38: =+C38+E38+G38+I38 -> 619212.26 | L38: =+D38+F38+H38+J38 -> 317914
... A45: 297 | B45: UTILES, ACCESORIOS Y MATERIALES ELECTRICOS | C45: 10000 | D45: 0 | E45: 8945.44 | F45: 0 | G45: 0 | H45: 0 | I45: 0 | J45: 16586.2 | K45: =+C45+E45+G45+I45 -> 18945.44 | L45: =+D45+F45+H45+J45 -> 16586.2
A46: 298 | B46: ACCESORIOS Y REPUESTOS EN GENERAL | C46: 33333.33 | D46: 0 | E46: =33333.33+9801.67 -> 43135 | F46: 0 | G46: 33333.33 | H46: 12500 | I46: 33333.33 | J46: 73419.55 | K46: =+C46+E46+G46+I46 -> 143134.99 | L46: =+D46+F46+H46+J46 -> 85919.55
A47: 299 | B47: OTROS MATERIALES Y SUMINISTROS | C47: 19097.08 | D47: 0 | E47: 19097.08 | F47: 0 | G47: 19097.08 | H47: 0 | I47: 19097.08 | J47: 11561.43 | K47: =+C47+E47+G47+I47 -> 76388.32 | L47: =+D47+F47+H47+J47 -> 11561.43
A48: 323 | B48: EQUIPO MEDICO-SANITARIO Y DE LABORATORIO | C48: 0 | D48: 0 | E48: 0 | F48: 0 | G48: 0 | H48: 0 | I48: 0 | J48: 0 | K48: =+C48+E48+G48+I48 -> 0 | L48: =+D48+F48+H48+J48 -> 0
B49: TOTAL GASTOS DE OPERACIÓN | C49: =SUM(C23:C48) -> 552569.77 | D49: =SUM(D23:D48) -> 0 | E49: =SUM(E23:E48) -> 5817527.5 | F49: =SUM(F23:F48) -> 135617.67 | G49: =SUM(G23:G48) -> 848726.38 | H49: =SUM(H23:H48) -> 1618801.8 | I49: =SUM(I23:I48) -> 606473.63 | J49: =SUM(J23:J48) -> 1614363.4 | ... L49: =SUM(L23:L48) -> 3368782.8
B50: TOTAL GENERAL | C50: =+C49+C20 -> 3913718.2 | D50: =+D49+D20 -> 2939970.1 | E50: =+E49+E20 -> 9178676 | F50: =+F49+F20 -> 3049624.1 | G50: =+G49+G20 -> 4209874.8 | H50: =+H49+H20 -> 5643691.3 | I50: =+I49+I20 -> 3967622.1 | J50: =+J49+J20 -> 4902251.4 | ... L50: =+L49+L20 -> 16535537
A56: Programación y ejecucion mensual por tipo de gasto año 2023, Expresado en Quetzales segundo cuatrimestre 2023
A57: No. | B57: =+B15 -> CATEGORIA DEL GASTO DE FUNCIONAMIENTO | C57: MAYO | E57: JUNIO | G57: JULIO | I57: AGOSTO | K57: TOTAL CUATRIMESTRE
C58: PROG. | D58: EJECUTADO | E58: PROG. | F58: EJECUTADO | G58: PROG. | H58: EJECUTADO | I58: PROG. | J58: EJECUTADO | K58: PROG. | L58: EJECUTADO
A59: 011 | B59: RECURSO HUMANO
B60: SUELOS Y SALARIOS | C60: 3361148.5 | D60: 2940365.1 | K60: =+C60+E60+G60+I60 -> 3361148.5 | L60: =+D60+F60+H60+J60 -> 2940365.1
B61: CUOTA PATRONAL | D61: 360102.28 | L61: =+D61+F61+H61+J61 -> 360102.28
...

Sheet JUNIO F-5
B8: ÀREA FINANCIERA | K8: F-5
A10: UNIDAD DE CIRUGIA CARDIOVASCULAR DE GUATEMALA
A11: 5a. AVENIDA 6-22 ZONA 11
A12: dgunicar@yahoo.es Tel. 24163000
A14: Programación y ejecucion mensual por tipo de gasto año 2023, Expresado en Quetzales primer cuatrimestre 2023
A15: No. | B15: CATEGORIA DEL GASTO DE FUNCIONAMIENTO | C15: ENERO | E15: FEBRERO | G15: MARZO | I15: ABRIL | K15: TOTAL CUATRIMESTRE
C16: PROG. | D16: EJECUTADO | E16: PROG. | F16: EJECUTADO | G16: PROG. | H16: EJECUTADO | I16: PROG. | J16: EJECUTADO | K16: PROG. | L16: EJECUTADO
B17: RECURSO HUMANO
A18: 011 | B18: SUELOS Y SALARIOS | C18: 3361148.5 | D18: 2939970.1 | E18: 3361148.5 | F18: 2914006.4 | G18: 3361148.5 | H18: 2948436.8 | I18: 3361148.5 | J18: 2929171.3 | K18: =+C18+E18+G18+I18 -> 13444594 | L18: =+D18+F18+H18+J18 -> 11731585
B19: CUOTA PATRONAL | H19: 1076452.8 | J19: 358716.74 | L19: =+D19+F19+H19+J19 -> 1435169.6
B20: TOTAL RECURSO HUMANO | C20: =SUM(C18:C19) -> 3361148.5 | D20: =SUM(D18:D19) -> 2939970.1 | E20: =SUM(E18:E19) -> 3361148.5 | F20: =SUM(F18:F19) -> 2914006.4 | G20: =SUM(G18:G19) -> 3361148.5 | H20: =SUM(H18:H19) -> 4024889.6 | I20: =SUM(I18:I19) -> 3361148.5 | J20: =SUM(J18:J19) -> 3287888 | ... L20: =SUM(L18:L19) -> 13166754
B22: GASTOS DE OPERACIÓN
A23: 111 | B23: ENERGIA ELECTRICA | C23: 0 | D23: 0 | E23: 88000 | F23: 0 | G23: 88000 | H23: 87425.59 | I23: 88000 | J23: 100265.42 | K23: =+C23+E23+G23+I23 -> 264000 | L23: =+D23+F23+H23+J23 -> 187691.01
A24: 113 | B24: SERVICIO DE INTERNET Y TELEFONIA | C24: 0 | D24: 0 | E24: 11585.06 | F24: 8525.7 | G24: 11585.06 | H24: 11440.41 | I24: 11585.06 | J24: 11412.67 | K24: =+C24+E24+G24+I24 -> 34755.18 | L24: =+D24+F24+H24+J24 -> 31378.78
A25: 122 | B25: IMPRESIÓN, ENCUADERNACION Y REPRODUCCION | C25: 0 | D25: 0 | E25: 68124.37 | F25: 0 | G25: 0 | H25: 440 | I25: 0 | J25: 42472.5 | K25: =+C25+E25+G25+I25 -> 68124.37 | L25: =+D25+F25+H25+J25 -> 42912.5
A26: 163 | B26: MANT. Y REP. EQUIPO MEDICO SANITARIO Y DE LAB. | C26: 50000 | D26: 0 | E26: =16335+50000 -> 66335 | F26: 0 | G26: =214550+50000 -> 264550 | H26: 6400.89 | I26: 50000 | J26: 133312.11 | K26: =+C26+E26+G26+I26 -> 430885 | L26: =+D26+F26+H26+J26 -> 139713
A27: 168 | B27: MANTENIMIENTO Y REPARACION DE EQUIPO DE COMPUTO | C27: 1000 | D27: 0 | E27: 0 | F27: 0 | G27: 0 | H27: 0 | I27: 0 | J27: 0 | K27: =+C27+E27+G27+I27 -> 1000 | L27: =+D27+F27+H27+J27 -> 0
A28: 169 | B28: MANT. Y REP. DE OTRAS MAQ. Y EQUIPO | C28: 10000 | D28: 0 | E28: 0 | F28: 0 | G28: 0 | H28: 0 | I28: 0 | J28: 0 | K28: =+C28+E28+G28+I28 -> 10000 | L28: =+D28+F28+H28+J28 -> 0
A29: 171 | B29: MANT. Y REPARACION DE EDIFICIOS | C29: 10000 | D29: 0 | E29: 0 | F29: 0 | G29: 8140 | H29: 0 | I29: 1320 | J29: 7400 | K29: =+C29+E29+G29+I29 -> 19460 | L29: =+D29+F29+H29+J29 -> 7400
A30: 174 | B30: MANT. Y REP. DE INSTALACIONES | C30: 15765.66 | D30: 0 | E30: 5765.66 | F30: 5765.66 | G30: 7265.66 | H30: 5765.66 | I30: 7265.66 | J30: 5765.66 | K30: =+C30+E30+G30+I30 -> 36062.64 | L30: =+D30+F30+H30+J30 -> 17296.98
A31: 182 | B31: SERVICIOS MEDICO-SANITARIOS | C31: 278286 | D31: 0 | E31: 274686 | F31: 50615 | G31: 277086 | H31: 257315 | I31: 266886 | J31: 288696 | K31: =+C31+E31+G31+I31 -> 1096944 | L31: =+D31+F31+H31+J31 -> 596626
A32: 197 | B32: SERVICIOS DE VIGILANCIA | C32: 0 | D32: 0 | E32: 43200 | F32: 0 | G32: 43200 | H32: 42000 | I32: 43200 | J32: 42000 | K32: =+C32+E32+G32+I32 -> 129600 | L32: =+D32+F32+H32+J32 -> 84000
A33: 199 | B33: OTROS SERVICIOS NO PERSONALES | C33: 60838.7 | D33: 0 | E33: 147087.5 | F33: 8200.8 | G33: 48537.5 | H33: 69332.8 | I33: 48537.5 | J33: 58547.1 | K33: =+C33+E33+G33+I33 -> 305001.2 | L33: =+D33+F33+H33+J33 -> 136080.7
A34: 211 | B34: ALIMENTOS PARA PERSONAS | C34: 37249 | D34: 0 | E34: 47931.75 | F34: 0 | G34: 47931.75 | H34: 59267.75 | I34: 37249 | J34: 51050.5 | K34: =+C34+E34+G34+I34 -> 170361.5 | L34: =+D34+F34+H34+J34 -> 110318.25
A35: 232 | B35: ACABADOS TEXTILES | C35: 0 | D35: 0 | E35: 86640 | F35: 0 | G35: 0 | H35: 0 | I35: 0 | J35: 0 | K35: =+C35+E35+G35+I35 -> 86640 | L35: =+D35+F35+H35+J35 -> 0
A36: 261 | B36: ELEMENTOS Y COMPUESTOS QUIMICOS | C36: 0 | D36: 0 | E36: 1009687.4 | F36: 62510.51 | G36: 0 | H36: 64391.24 | I36: 0 | J36: 162057.62 | K36: =+C36+E36+G36+I36 -> 1009687.4 | L36: =+D36+F36+H36+J36 -> 288959.37
A37: 262 | B37: COMBUSTIBLES Y LUBRICANTES | C37: 8000 | D37: 0 | E37: 0 | F37: 0 | G37: 0 | H37: 0 | I37: 0 | J37: 0 | K37: =+C37+E37+G37+I37 -> 8000 | L37: =+D37+F37+H37+J37 -> 0
A38: 266 | B38: PRODUCTOS MEDICINALES Y FARMACEUTICOS | C38: 0 | D38: 0 | E38: 619212.26 | F38: 0 | G38: 0 | H38: 186614 | I38: 0 | J38: 131300 | K38: =+C38+E38+G38+I38 -> 619212.26 | L38: =+D38+F38+H38+J38 -> 317914
... A45: 297 | B45: UTILES, ACCESORIOS Y MATERIALES ELECTRICOS | C45: 10000 | D45: 0 | E45: 8945.44 | F45: 0 | G45: 0 | H45: 0 | I45: 0 | J45: 16586.2 | K45: =+C45+E45+G45+I45 -> 18945.44 | L45: =+D45+F45+H45+J45 -> 16586.2
A46: 298 | B46: ACCESORIOS Y REPUESTOS EN GENERAL | C46: 33333.33 | D46: 0 | E46: =33333.33+9801.67 -> 43135 | F46: 0 | G46: 33333.33 | H46: 12500 | I46: 33333.33 | J46: 73419.55 | K46: =+C46+E46+G46+I46 -> 143134.99 | L46: =+D46+F46+H46+J46 -> 85919.55
A47: 299 | B47: OTROS MATERIALES Y SUMINISTROS | C47: 19097.08 | D47: 0 | E47: 19097.08 | F47: 0 | G47: 19097.08 | H47: 0 | I47: 19097.08 | J47: 11561.43 | K47: =+C47+E47+G47+I47 -> 76388.32 | L47: =+D47+F47+H47+J47 -> 11561.43
A48: 323 | B48: EQUIPO MEDICO-SANITARIO Y DE LABORATORIO | C48: 0 | D48: 0 | E48: 0 | F48: 0 | G48: 0 | H48: 0 | I48: 0 | J48: 0 | K48: =+C48+E48+G48+I48 -> 0 | L48: =+D48+F48+H48+J48 -> 0
B49: TOTAL GASTOS DE OPERACIÓN | C49: =SUM(C23:C48) -> 552569.77 | D49: =SUM(D23:D48) -> 0 | E49: =SUM(E23:E48) -> 5817527.5 | F49: =SUM(F23:F48) -> 135617.67 | G49: =SUM(G23:G48) -> 848726.38 | H49: =SUM(H23:H48) -> 1618801.8 | I49: =SUM(I23:I48) -> 606473.63 | J49: =SUM(J23:J48) -> 1614363.4 | ... L49: =SUM(L23:L48) -> 3368782.8
B50: TOTAL GENERAL | C50: =+C49+C20 -> 3913718.2 | D50: =+D49+D20 -> 2939970.1 | E50: =+E49+E20 -> 9178676 | F50: =+F49+F20 -> 3049624.1 | G50: =+G49+G20 -> 4209874.8 | H50: =+H49+H20 -> 5643691.3 | I50: =+I49+I20 -> 3967622.1 | J50: =+J49+J20 -> 4902251.4 | ... L50: =+L49+L20 -> 16535537
A56: Programación y ejecucion mensual por tipo de gasto año 2023, Expresado en Quetzales segundo cuatrimestre 2023
A57: No. | B57: =+B15 -> CATEGORIA DEL GASTO DE FUNCIONAMIENTO | C57: MAYO | E57: JUNIO | G57: JULIO | I57: AGOSTO | K57: TOTAL CUATRIMESTRE
C58: PROG. | D58: EJECUTADO | E58: PROG. | F58: EJECUTADO | G58: PROG. | H58: EJECUTADO | I58: PROG. | J58: EJECUTADO | K58: PROG. | L58: EJECUTADO
A59: 011 | B59: RECURSO HUMANO
B60: SUELOS Y SALARIOS | C60: 3361148.5 | D60: 2940365.1 | E60: 3361148.5 | F60: 3011624.1 | K60: =+C60+E60+G60+I60 -> 6722296.9 | L60: =+D60+F60+H60+J60 -> 5951989.2
B61: CUOTA PATRONAL | D61: 360102.28 | F61: 369024.16 | L61: =+D61+F61+H61+J61 -> 729126.44
...

Sheet JULIO F-5
B8: ÀREA FINANCIERA | K8: F-5
A10: UNIDAD DE CIRUGIA CARDIOVASCULAR DE GUATEMALA
A11: 5a. AVENIDA 6-22 ZONA 11
A12: dgunicar@yahoo.es Tel. 24163000
A14: Programación y ejecucion mensual por tipo de gasto año 2023, Expresado en Quetzales primer cuatrimestre 2023
A15: No. | B15: CATEGORIA DEL GASTO DE FUNCIONAMIENTO | C15: ENERO | E15: FEBRERO | G15: MARZO | I15: ABRIL | K15: TOTAL CUATRIMESTRE
C16: PROG. | D16: EJECUTADO | E16: PROG. | F16: EJECUTADO | G16: PROG. | H16: EJECUTADO | I16: PROG. | J16: EJECUTADO | K16: PROG. | L16: EJECUTADO
B17: RECURSO HUMANO
A18: 011 | B18: SUELOS Y SALARIOS | C18: 3361148.5 | D18: 2939970.1 | E18: 3361148.5 | F18: 2914006.4 | G18: 3361148.5 | H18: 2948436.8 | I18: 3361148.5 | J18: 2929171.3 | K18: =+C18+E18+G18+I18 -> 13444594 | L18: =+D18+F18+H18+J18 -> 11731585
B19: CUOTA PATRONAL | H19: 1076452.8 | J19: 358716.74 | L19: =+D19+F19+H19+J19 -> 1435169.6
B20: TOTAL RECURSO HUMANO | C20: =SUM(C18:C19) -> 3361148.5 | D20: =SUM(D18:D19) -> 2939970.1 | E20: =SUM(E18:E19) -> 3361148.5 | F20: =SUM(F18:F19) -> 2914006.4 | G20: =SUM(G18:G19) -> 3361148.5 | H20: =SUM(H18:H19) -> 4024889.6 | I20: =SUM(I18:I19) -> 3361148.5 | J20: =SUM(J18:J19) -> 3287888 | ... L20: =SUM(L18:L19) -> 13166754
B22: GASTOS DE OPERACIÓN
A23: 111 | B23: ENERGIA ELECTRICA | C23: 0 | D23: 0 | E23: 88000 | F23: 0 | G23: 88000 | H23: 87425.59 | I23: 88000 | J23: 100265.42 | K23: =+C23+E23+G23+I23 -> 264000 | L23: =+D23+F23+H23+J23 -> 187691.01
A24: 113 | B24: SERVICIO DE INTERNET Y TELEFONIA | C24: 0 | D24: 0 | E24: 11585.06 | F24: 8525.7 | G24: 11585.06 | H24: 11440.41 | I24: 11585.06 | J24: 11412.67 | K24: =+C24+E24+G24+I24 -> 34755.18 | L24: =+D24+F24+H24+J24 -> 31378.78
A25: 122 | B25: IMPRESIÓN, ENCUADERNACION Y REPRODUCCION | C25: 0 | D25: 0 | E25: 68124.37 | F25: 0 | G25: 0 | H25: 440 | I25: 0 | J25: 42472.5 | K25: =+C25+E25+G25+I25 -> 68124.37 | L25: =+D25+F25+H25+J25 -> 42912.5
A26: 163 | B26: MANT. Y REP. EQUIPO MEDICO SANITARIO Y DE LAB. | C26: 50000 | D26: 0 | E26: =16335+50000 -> 66335 | F26: 0 | G26: =214550+50000 -> 264550 | H26: 6400.89 | I26: 50000 | J26: 133312.11 | K26: =+C26+E26+G26+I26 -> 430885 | L26: =+D26+F26+H26+J26 -> 139713
A27: 168 | B27: MANTENIMIENTO Y REPARACION DE EQUIPO DE COMPUTO | C27: 1000 | D27: 0 | E27: 0 | F27: 0 | G27: 0 | H27: 0 | I27: 0 | J27: 0 | K27: =+C27+E27+G27+I27 -> 1000 | L27: =+D27+F27+H27+J27 -> 0
A28: 169 | B28: MANT. Y REP. DE OTRAS MAQ. Y EQUIPO | C28: 10000 | D28: 0 | E28: 0 | F28: 0 | G28: 0 | H28: 0 | I28: 0 | J28: 0 | K28: =+C28+E28+G28+I28 -> 10000 | L28: =+D28+F28+H28+J28 -> 0
A29: 171 | B29: MANT. Y REPARACION DE EDIFICIOS | C29: 10000 | D29: 0 | E29: 0 | F29: 0 | G29: 8140 | H29: 0 | I29: 1320 | J29: 7400 | K29: =+C29+E29+G29+I29 -> 19460 | L29: =+D29+F29+H29+J29 -> 7400
A30: 174 | B30: MANT. Y REP. DE INSTALACIONES | C30: 15765.66 | D30: 0 | E30: 5765.66 | F30: 5765.66 | G30: 7265.66 | H30: 5765.66 | I30: 7265.66 | J30: 5765.66 | K30: =+C30+E30+G30+I30 -> 36062.64 | L30: =+D30+F30+H30+J30 -> 17296.98
A31: 182 | B31: SERVICIOS MEDICO-SANITARIOS | C31: 278286 | D31: 0 | E31: 274686 | F31: 50615 | G31: 277086 | H31: 257315 | I31: 266886 | J31: 288696 | K31: =+C31+E31+G31+I31 -> 1096944 | L31: =+D31+F31+H31+J31 -> 596626
A32: 197 | B32: SERVICIOS DE VIGILANCIA | C32: 0 | D32: 0 | E32: 43200 | F32: 0 | G32: 43200 | H32: 42000 | I32: 43200 | J32: 42000 | K32: =+C32+E32+G32+I32 -> 129600 | L32: =+D32+F32+H32+J32 -> 84000
A33: 199 | B33: OTROS SERVICIOS NO PERSONALES | C33: 60838.7 | D33: 0 | E33: 147087.5 | F33: 8200.8 | G33: 48537.5 | H33: 69332.8 | I33: 48537.5 | J33: 58547.1 | K33: =+C33+E33+G33+I33 -> 305001.2 | L33: =+D33+F33+H33+J33 -> 136080.7
A34: 211 | B34: ALIMENTOS PARA PERSONAS | C34: 37249 | D34: 0 | E34: 47931.75 | F34: 0 | G34: 47931.75 | H34: 59267.75 | I34: 37249 | J34: 51050.5 | K34: =+C34+E34+G34+I34 -> 170361.5 | L34: =+D34+F34+H34+J34 -> 110318.25
A35: 232 | B35: ACABADOS TEXTILES | C35: 0 | D35: 0 | E35: 86640 | F35: 0 | G35: 0 | H35: 0 | I35: 0 | J35: 0 | K35: =+C35+E35+G35+I35 -> 86640 | L35: =+D35+F35+H35+J35 -> 0
A36: 261 | B36: ELEMENTOS Y COMPUESTOS QUIMICOS | C36: 0 | D36: 0 | E36: 1009687.4 | F36: 62510.51 | G36: 0 | H36: 64391.24 | I36: 0 | J36: 162057.62 | K36: =+C36+E36+G36+I36 -> 1009687.4 | L36: =+D36+F36+H36+J36 -> 288959.37
A37: 262 | B37: COMBUSTIBLES Y LUBRICANTES | C37: 8000 | D37: 0 | E37: 0 | F37: 0 | G37: 0 | H37: 0 | I37: 0 | J37: 0 | K37: =+C37+E37+G37+I37 -> 8000 | L37: =+D37+F37+H37+J37 -> 0
A38: 266 | B38: PRODUCTOS MEDICINALES Y FARMACEUTICOS | C38: 0 | D38: 0 | E38: 619212.26 | F38: 0 | G38: 0 | H38: 186614 | I38: 0 | J38: 131300 | K38: =+C38+E38+G38+I38 -> 619212.26 | L38: =+D38+F38+H38+J38 -> 317914
... A45: 297 | B45: UTILES, ACCESORIOS Y MATERIALES ELECTRICOS | C45: 10000 | D45: 0 | E45: 8945.44 | F45: 0 | G45: 0 | H45: 0 | I45: 0 | J45: 16586.2 | K45: =+C45+E45+G45+I45 -> 18945.44 | L45: =+D45+F45+H45+J45 -> 16586.2
A46: 298 | B46: ACCESORIOS Y REPUESTOS EN GENERAL | C46: 33333.33 | D46: 0 | E46: =33333.33+9801.67 -> 43135 | F46: 0 | G46: 33333.33 | H46: 12500 | I46: 33333.33 | J46: 73419.55 | K46: =+C46+E46+G46+I46 -> 143134.99 | L46: =+D46+F46+H46+J46 -> 85919.55
A47: 299 | B47: OTROS MATERIALES Y SUMINISTROS | C47: 19097.08 | D47: 0 | E47: 19097.08 | F47: 0 | G47: 19097.08 | H47: 0 | I47: 19097.08 | J47: 11561.43 | K47: =+C47+E47+G47+I47 -> 76388.32 | L47: =+D47+F47+H47+J47 -> 11561.43
A48: 323 | B48: EQUIPO MEDICO-SANITARIO Y DE LABORATORIO | C48: 0 | D48: 0 | E48: 0 | F48: 0 | G48: 0 | H48: 0 | I48: 0 | J48: 0 | K48: =+C48+E48+G48+I48 -> 0 | L48: =+D48+F48+H48+J48 -> 0
B49: TOTAL GASTOS DE OPERACIÓN | C49: =SUM(C23:C48) -> 552569.77 | D49: =SUM(D23:D48) -> 0 | E49: =SUM(E23:E48) -> 5817527.5 | F49: =SUM(F23:F48) -> 135617.67 | G49: =SUM(G23:G48) -> 848726.38 | H49: =SUM(H23:H48) -> 1618801.8 | I49: =SUM(I23:I48) -> 606473.63 | J49: =SUM(J23:J48) -> 1614363.4 | ... L49: =SUM(L23:L48) -> 3368782.8
B50: TOTAL GENERAL | C50: =+C49+C20 -> 3913718.2 | D50: =+D49+D20 -> 2939970.1 | E50: =+E49+E20 -> 9178676 | F50: =+F49+F20 -> 3049624.1 | G50: =+G49+G20 -> 4209874.8 | H50: =+H49+H20 -> 5643691.3 | I50: =+I49+I20 -> 3967622.1 | J50: =+J49+J20 -> 4902251.4 | ... L50: =+L49+L20 -> 16535537
A56: Programación y ejecucion mensual por tipo de gasto año 2023, Expresado en Quetzales segundo cuatrimestre 2023
A57: No. | B57: =+B15 -> CATEGORIA DEL GASTO DE FUNCIONAMIENTO | C57: MAYO | E57: JUNIO | G57: JULIO | I57: AGOSTO | K57: TOTAL CUATRIMESTRE
C58: PROG. | D58: EJECUTADO | E58: PROG. | F58: EJECUTADO | G58: PROG. | H58: EJECUTADO | I58: PROG. | J58: EJECUTADO | K58: PROG. | L58: EJECUTADO
A59: 011 | B59: RECURSO HUMANO
B60: SUELOS Y SALARIOS | C60: 3361148.5 | D60: 2940365.1 | E60: 3361148.5 | F60: 3011624.1 | G60: 6070495.5 | H60: 3028479 | K60: =+C60+E60+G60+I60 -> 12792792 | L60: =+D60+F60+H60+J60 -> 8980468.2
B61: BONO 14 | H61: 2668116.4 | L61: =+D61+F61+H61+J61 -> 2668116.4
...

Sheet AGOSTO F-5
B8: ÀREA FINANCIERA | K8: F-5
A10: UNIDAD DE CIRUGIA CARDIOVASCULAR DE GUATEMALA
A11: 5a. AVENIDA 6-22 ZONA 11
A12: dgunicar@yahoo.es Tel. 24163000
A14: Programación y ejecucion mensual por tipo de gasto año 2023, Expresado en Quetzales primer cuatrimestre 2023
A15: No. | B15: CATEGORIA DEL GASTO DE FUNCIONAMIENTO | C15: ENERO | E15: FEBRERO | G15: MARZO | I15: ABRIL | K15: TOTAL CUATRIMESTRE
C16: PROG. | D16: EJECUTADO | E16: PROG. | F16: EJECUTADO | G16: PROG. | H16: EJECUTADO | I16: PROG. | J16: EJECUTADO | K16: PROG. | L16: EJECUTADO
B17: RECURSO HUMANO
A18: 011 | B18: SUELOS Y SALARIOS | C18: 3361148.5 | D18: 2939970.1 | E18: 3361148.5 | F18: 2914006.4 | G18: 3361148.5 | H18: 2948436.8 | I18: 3361148.5 | J18: 2929171.3 | K18: =+C18+E18+G18+I18 -> 13444594 | L18: =+D18+F18+H18+J18 -> 11731585
B19: CUOTA PATRONAL | H19: 1076452.8 | J19: 358716.74 | L19: =+D19+F19+H19+J19 -> 1435169.6
B20: TOTAL RECURSO HUMANO | C20: =SUM(C18:C19) -> 3361148.5 | D20: =SUM(D18:D19) -> 2939970.1 | E20: =SUM(E18:E19) -> 3361148.5 | F20: =SUM(F18:F19) -> 2914006.4 | G20: =SUM(G18:G19) -> 3361148.5 | H20: =SUM(H18:H19) -> 4024889.6 | I20: =SUM(I18:I19) -> 3361148.5 | J20: =SUM(J18:J19) -> 3287888 | ... L20: =SUM(L18:L19) -> 13166754
B22: GASTOS DE OPERACIÓN
A23: 111 | B23: ENERGIA ELECTRICA | C23: 0 | D23: 0 | E23: 88000 | F23: 0 | G23: 88000 | H23: 87425.59 | I23: 88000 | J23: 100265.42 | K23: =+C23+E23+G23+I23 -> 264000 | L23: =+D23+F23+H23+J23 -> 187691.01
A24: 113 | B24: SERVICIO DE INTERNET Y TELEFONIA | C24: 0 | D24: 0 | E24: 11585.06 | F24: 8525.7 | G24: 11585.06 | H24: 11440.41 | I24: 11585.06 | J24: 11412.67 | K24: =+C24+E24+G24+I24 -> 34755.18 | L24: =+D24+F24+H24+J24 -> 31378.78
A25: 122 | B25: IMPRESIÓN, ENCUADERNACION Y REPRODUCCION | C25: 0 | D25: 0 | E25: 68124.37 | F25: 0 | G25: 0 | H25: 440 | I25: 0 | J25: 42472.5 | K25: =+C25+E25+G25+I25 -> 68124.37 | L25: =+D25+F25+H25+J25 -> 42912.5
A26: 163 | B26: MANT. Y REP. EQUIPO MEDICO SANITARIO Y DE LAB. | C26: 50000 | D26: 0 | E26: =16335+50000 -> 66335 | F26: 0 | G26: =214550+50000 -> 264550 | H26: 6400.89 | I26: 50000 | J26: 133312.11 | K26: =+C26+E26+G26+I26 -> 430885 | L26: =+D26+F26+H26+J26 -> 139713
A27: 168 | B27: MANTENIMIENTO Y REPARACION DE EQUIPO DE COMPUTO | C27: 1000 | D27: 0 | E27: 0 | F27: 0 | G27: 0 | H27: 0 | I27: 0 | J27: 0 | K27: =+C27+E27+G27+I27 -> 1000 | L27: =+D27+F27+H27+J27 -> 0
A28: 169 | B28: MANT. Y REP. DE OTRAS MAQ. Y EQUIPO | C28: 10000 | D28: 0 | E28: 0 | F28: 0 | G28: 0 | H28: 0 | I28: 0 | J28: 0 | K28: =+C28+E28+G28+I28 -> 10000 | L28: =+D28+F28+H28+J28 -> 0
A29: 171 | B29: MANT. Y REPARACION DE EDIFICIOS | C29: 10000 | D29: 0 | E29: 0 | F29: 0 | G29: 8140 | H29: 0 | I29: 1320 | J29: 7400 | K29: =+C29+E29+G29+I29 -> 19460 | L29: =+D29+F29+H29+J29 -> 7400
A30: 174 | B30: MANT. Y REP. DE INSTALACIONES | C30: 15765.66 | D30: 0 | E30: 5765.66 | F30: 5765.66 | G30: 7265.66 | H30: 5765.66 | I30: 7265.66 | J30: 5765.66 | K30: =+C30+E30+G30+I30 -> 36062.64 | L30: =+D30+F30+H30+J30 -> 17296.98
A31: 182 | B31: SERVICIOS MEDICO-SANITARIOS | C31: 278286 | D31: 0 | E31: 274686 | F31: 50615 | G31: 277086 | H31: 257315 | I31: 266886 | J31: 288696 | K31: =+C31+E31+G31+I31 -> 1096944 | L31: =+D31+F31+H31+J31 -> 596626
A32: 197 | B32: SERVICIOS DE VIGILANCIA | C32: 0 | D32: 0 | E32: 43200 | F32: 0 | G32: 43200 | H32: 42000 | I32: 43200 | J32: 42000 | K32: =+C32+E32+G32+I32 -> 129600 | L32: =+D32+F32+H32+J32 -> 84000
A33: 199 | B33: OTROS SERVICIOS NO PERSONALES | C33: 60838.7 | D33: 0 | E33: 147087.5 | F33: 8200.8 | G33: 48537.5 | H33: 69332.8 | I33: 48537.5 | J33: 58547.1 | K33: =+C33+E33+G33+I33 -> 305001.2 | L33: =+D33+F33+H33+J33 -> 136080.7
A34: 211 | B34: ALIMENTOS PARA PERSONAS | C34: 37249 | D34: 0 | E34: 47931.75 | F34: 0 | G34: 47931.75 | H34: 59267.75 | I34: 37249 | J34: 51050.5 | K34: =+C34+E34+G34+I34 -> 170361.5 | L34: =+D34+F34+H34+J34 -> 110318.25
A35: 232 | B35: ACABADOS TEXTILES | C35: 0 | D35: 0 | E35: 86640 | F35: 0 | G35: 0 | H35: 0 | I35: 0 | J35: 0 | K35: =+C35+E35+G35+I35 -> 86640 | L35: =+D35+F35+H35+J35 -> 0
A36: 261 | B36: ELEMENTOS Y COMPUESTOS QUIMICOS | C36: 0 | D36: 0 | E36: 1009687.4 | F36: 62510.51 | G36: 0 | H36: 64391.24 | I36: 0 | J36: 162057.62 | K36: =+C36+E36+G36+I36 -> 1009687.4 | L36: =+D36+F36+H36+J36 -> 288959.37
A37: 262 | B37: COMBUSTIBLES Y LUBRICANTES | C37: 8000 | D37: 0 | E37: 0 | F37: 0 | G37: 0 | H37: 0 | I37: 0 | J37: 0 | K37: =+C37+E37+G37+I37 -> 8000 | L37: =+D37+F37+H37+J37 -> 0
A38: 266 | B38: PRODUCTOS MEDICINALES Y FARMACEUTICOS | C38: 0 | D38: 0 | E38: 619212.26 | F38: 0 | G38: 0 | H38: 186614 | I38: 0 | J38: 131300 | K38: =+C38+E38+G38+I38 -> 619212.26 | L38: =+D38+F38+H38+J38 -> 317914
... A45: 297 | B45: UTILES, ACCESORIOS Y MATERIALES ELECTRICOS | C45: 10000 | D45: 0 | E45: 8945.44 | F45: 0 | G45: 0 | H45: 0 | I45: 0 | J45: 16586.2 | K45: =+C45+E45+G45+I45 -> 18945.44 | L45: =+D45+F45+H45+J45 -> 16586.2
A46: 298 | B46: ACCESORIOS Y REPUESTOS EN GENERAL | C46: 33333.33 | D46: 0 | E46: =33333.33+9801.67 -> 43135 | F46: 0 | G46: 33333.33 | H46: 12500 | I46: 33333.33 | J46: 73419.55 | K46: =+C46+E46+G46+I46 -> 143134.99 | L46: =+D46+F46+H46+J46 -> 85919.55
A47: 299 | B47: OTROS MATERIALES Y SUMINISTROS | C47: 19097.08 | D47: 0 | E47: 19097.08 | F47: 0 | G47: 19097.08 | H47: 0 | I47: 19097.08 | J47: 11561.43 | K47: =+C47+E47+G47+I47 -> 76388.32 | L47: =+D47+F47+H47+J47 -> 11561.43
A48: 323 | B48: EQUIPO MEDICO-SANITARIO Y DE LABORATORIO | C48: 0 | D48: 0 | E48: 0 | F48: 0 | G48: 0 | H48: 0 | I48: 0 | J48: 0 | K48: =+C48+E48+G48+I48 -> 0 | L48: =+D48+F48+H48+J48 -> 0
B49: TOTAL GASTOS DE OPERACIÓN | C49: =SUM(C23:C48) -> 552569.77 | D49: =SUM(D23:D48) -> 0 | E49: =SUM(E23:E48) -> 5817527.5 | F49: =SUM(F23:F48) -> 135617.67 | G49: =SUM(G23:G48) -> 848726.38 | H49: =SUM(H23:H48) -> 1618801.8 | I49: =SUM(I23:I48) -> 606473.63 | J49: =SUM(J23:J48) -> 1614363.4 | ... L49: =SUM(L23:L48) -> 3368782.8
B50: TOTAL GENERAL | C50: =+C49+C20 -> 3913718.2 | D50: =+D49+D20 -> 2939970.1 | E50: =+E49+E20 -> 9178676 | F50: =+F49+F20 -> 3049624.1 | G50: =+G49+G20 -> 4209874.8 | H50: =+H49+H20 -> 5643691.3 | I50: =+I49+I20 -> 3967622.1 | J50: =+J49+J20 -> 4902251.4 | ... L50: =+L49+L20 -> 16535537
A56: Programación y ejecucion mensual por tipo de gasto año 2023, Expresado en Quetzales segundo cuatrimestre 2023
A57: No. | B57: =+B15 -> CATEGORIA DEL GASTO DE FUNCIONAMIENTO | C57: MAYO | E57: JUNIO | G57: JULIO | I57: AGOSTO | K57: TOTAL CUATRIMESTRE
C58: PROG. | D58: EJECUTADO | E58: PROG. | F58: EJECUTADO | G58: PROG. | H58: EJECUTADO | I58: PROG. | J58: EJECUTADO | K58: PROG. | L58: EJECUTADO
A59: 011 | B59: RECURSO HUMANO
B60: SUELOS Y SALARIOS | C60: 3361148.5 | D60: 2940365.1 | E60: 3361148.5 | F60: 3011624.1 | G60: 6070495.5 | H60: 3028479 | I60: 3361148.5 | J60: 3015901.4 | K60: =+C60+E60+G60+I60 -> 16153941 | L60: =+D60+F60+H60+J60 -> 11996370
B61: BONO 14 | H61: 2668116.4 | J61: 0 | L61: =+D61+F61+H61+J61 -> 2668116.4
...

Sheet MAYO ANEXO A F-5
B8: ÀREA FINANCIERA | I8: ANEXO DE F-5
A10: UNIDAD DE CIRUGIA CARDIOVASCULAR DE GUATEMALA
A11: 5a. AVENIDA 6-22 ZONA 11
A12: dgunicar@yahoo.es Tel. 24163000
A14: Programación mensual por tipo de gasto año 2018, Expresado en Quetzales primer cuatrimestre 2018
A15: No. | B15: CATEGORIA DE GASTO | C15: ENERO | E15: FEBRERO | G15: MARZO | I15: ABRIL
C16: PRESUPUESTO | D16: REAL | E16: PRESUPUESTO | F16: REAL | G16: PRESUPUESTO | H16: REAL | I16: PRESUPUESTO | J16: REAL
B17: RECURSO HUMANO | C17: 1764858.4 | D17: 1492317.4 | E17: 1764858.4 | F17: 1792563.6 | G17: 1764858.4 | H17: 1578007.9 | I17: 1764858.4 | J17: 1803793.6
B19: GASTOS DE FUNCIONAMIENTO | C19: =+C27+C43 -> 2818474.9 | D19: =+D27+D43 -> 0 | E19: =+E27+E43 -> 2818474.9 | F19: =+F27+F43 -> 67111.02 | G19: =+G27+G43 -> 2818474.9 | H19: =+H27+H43 -> 58543.64 | I19: =+I27+I43 -> 2818474.9 | J19: =+J27+J43 -> 3743927.3
B20: ENERGIA ELECTRICA | C20: 62500 | E20: 62500 | F20: 56112.02 | G20: 62500 | I20: 62500 | J20: 68083.01
B21: TELEFONIA | C21: 7500 | E21: 7500 | F21: 10999 | G21: 7500 | H21: 11011 | I21: 7500 | J21: 10992
B22: IMPRESIÓN, ENCUADERNACION Y REPRODUCCION | C22: 8133.97 | E22: 8133.97 | G22: 8133.97 | I22: 8133.97 | J22: 4358
B23: MANT. Y REP. EQUIPO MEDICO SANITARIO Y DE LAB. | C23: 33333.33 | E23: 33333.33 | G23: 33333.33 | I23: 33333.33 | J23: 45020
B24: SERVICIOS MEDICO-SANITARIOS | C24: 165141.75 | E24: 165141.75 | G24: 165141.75 | H24: 1000 | I24: 165141.75 | J24: 26842.86
B25: SERVICIOS DE VIGILANCIA | C25: 40000 | E25: 40000 | G25: 40000 | I25: 40000 | J25: 76240
B26: OTROS SERVICIOS NO PERSONALES | C26: 26305.03 | E26: 26305.03 | G26: 26305.03 | H26: 46532.64 | I26: 26305.03 | J26: 55063.68
B27: SUMA GASTOS GENERALES | C27: =SUM(C20:C26) -> 342914.08 | D27: =SUM(D20:D26) -> 0 | E27: =SUM(E20:E26) -> 342914.08 | F27: =SUM(F20:F26) -> 67111.02 | G27: =SUM(G20:G26) -> 342914.08 | H27: =SUM(H20:H26) -> 58543.64 | I27: =SUM(I20:I26) -> 342914.08 | J27: =SUM(J20:J26) -> 286599.55
B28: MATERIALES Y SUMINISTROS
B29: ALIMENTOS PARA PERSONAS | C29: 60936.45 | E29: 60936.45 | G29: 60936.45 | I29: 60936.45 | J29: 202940.25
B30: ACABADOS TEXTILES | C30: 600 | E30: 600 | G30: 600 | I30: 600
B31: PRODUCTOS DE PAPEL O CARTON | C31: 945.42 | E31: 945.42 | G31: 945.42 | I31: 945.42
B32: ELEMENTOS Y COMPUESTOS QUIMICOS | C32: 169652.57 | E32: 169652.57 | G32: 169652.57 | I32: 169652.57 | J32: 178282.05
B33: COMBUSTIBLES Y LUBRICANTES | C33: 912 | E33: 912 | G33: 912 | I33: 912
B34: PRODUCTOS MEDICINALES Y FARMACEUTICOS | C34: 427229.65 | E34: 427229.65 | G34: 427229.65 | I34: 427229.65 | J34: 1425199.8
B35: TINTES, PINTURAS Y COLORANTES | C35: 100 | E35: 100 | G35: 100 | I35: 100
B36: PRODUCTOS PLASTICOS, NYLON, VINIL Y PVC | C36: 13579.7 | E36: 13579.7 | G36: 13579.7 | I36: 13579.7 | J36: 75162.24
B37: OTROS PRODUCTOS METALICOS | C37: 310 | E37: 310 | G37: 310 | I37: 310
B38: UTILES DE LIMPIEZA Y PRODUCTOS SANITARIOS | C38: 10809.43 | E38: 10809.43 | G38: 10809.43 | I38: 10809.43 | J38: 14528.6
B39: UTILES MENORES MEDICO QUIRURGICOS Y DE LAB. | C39: 1780006.3 | E39: 1780006.3 | G39: 1780006.3 | I39: 1780006.3 | J39: 1545914.8
B40: UTILES, ACCESORIOS Y MATERIALES ELECTRICOS | C40: 2208.7 | E40: 2208.7 | G40: 2208.7 | I40: 2208.7 | J40: 15300
B41: ACCESORIOS Y REPUESTOS EN GENERAL | C41: 8105.1 | E41: 8105.1 | G41: 8105.1 | I41: 8105.1
B42: OTROS MATERIALES Y SUMINISTROS | C42: 165.5 | E42: 165.5 | G42: 165.5 | I42: 165.5
B43: TOTAL MATERIALES Y SUMINISTROS | C43: =SUM(C29:C42) -> 2475560.8 | D43: =SUM(D29:D42) -> 0 | E43: =SUM(E29:E42) -> 2475560.8 | F43: =SUM(F29:F42) -> 0 | G43: =SUM(G29:G42) -> 2475560.8 | H43: =SUM(H29:H42) -> 0 | I43: =SUM(I29:I42) -> 2475560.8 | J43: =SUM(J29:J42) -> 3457327.8
A46: Programación mensual por tipo de gasto año 2016, Expresado en Quetzales
A47: No. | B47: Categoría de Gasto | C47: Julio | E47: Agosto | G47: Septiembre
B48: Recurso Humano | C48: Pto. | D48: Real | E48: Pto. | F48: Real | G48: Pto. | H48: Real
B51: Gastos de Funcionamiento
B52: detallar cada gasto cargado
A60: TOTALES
A73: Programación mensual por tipo de gasto año 2018, Expresado en Quetzales segundo cuatrimestre 2018
...

Sheet JUNIO ANEXO A F-5
B8: ÀREA FINANCIERA | I8: ANEXO DE F-5
A10: UNIDAD DE CIRUGIA CARDIOVASCULAR DE GUATEMALA
A11: 5a. AVENIDA 6-22 ZONA 11
A12: dgunicar@yahoo.es Tel. 24163000
A14: Programación mensual por tipo de gasto año 2018, Expresado en Quetzales primer cuatrimestre 2018
A15: No. | B15: CATEGORIA DE GASTO | C15: ENERO | E15: FEBRERO | G15: MARZO | I15: ABRIL
C16: PRESUPUESTO | D16: REAL | E16: PRESUPUESTO | F16: REAL | G16: PRESUPUESTO | H16: REAL | I16: PRESUPUESTO | J16: REAL
B17: RECURSO HUMANO | C17: 1764858.4 | D17: 1492317.4 | E17: 1764858.4 | F17: 1792563.6 | G17: 1764858.4 | H17: 1578007.9 | I17: 1764858.4 | J17: 1803793.6
B19: GASTOS DE FUNCIONAMIENTO | C19: =+C27+C43 -> 2818474.9 | D19: =+D27+D43 -> 0 | E19: =+E27+E43 -> 2818474.9 | F19: =+F27+F43 -> 67111.02 | G19: =+G27+G43 -> 2818474.9 | H19: =+H27+H43 -> 58543.64 | I19: =+I27+I43 -> 2818474.9 | J19: =+J27+J43 -> 3743927.3
B20: ENERGIA ELECTRICA | C20: 62500 | E20: 62500 | F20: 56112.02 | G20: 62500 | I20: 62500 | J20: 68083.01
B21: TELEFONIA | C21: 7500 | E21: 7500 | F21: 10999 | G21: 7500 | H21: 11011 | I21: 7500 | J21: 10992
B22: IMPRESIÓN, ENCUADERNACION Y REPRODUCCION | C22: 8133.97 | E22: 8133.97 | G22: 8133.97 | I22: 8133.97 | J22: 4358
B23: MANT. Y REP. EQUIPO MEDICO SANITARIO Y DE LAB. | C23: 33333.33 | E23: 33333.33 | G23: 33333.33 | I23: 33333.33 | J23: 45020
B24: SERVICIOS MEDICO-SANITARIOS | C24: 165141.75 | E24: 165141.75 | G24: 165141.75 | H24: 1000 | I24: 165141.75 | J24: 26842.86
B25: SERVICIOS DE VIGILANCIA | C25: 40000 | E25: 40000 | G25: 40000 | I25: 40000 | J25: 76240
B26: OTROS SERVICIOS NO PERSONALES | C26: 26305.03 | E26: 26305.03 | G26: 26305.03 | H26: 46532.64 | I26: 26305.03 | J26: 55063.68
B27: SUMA GASTOS GENERALES | C27: =SUM(C20:C26) -> 342914.08 | D27: =SUM(D20:D26) -> 0 | E27: =SUM(E20:E26) -> 342914.08 | F27: =SUM(F20:F26) -> 67111.02 | G27: =SUM(G20:G26) -> 342914.08 | H27: =SUM(H20:H26) -> 58543.64 | I27: =SUM(I20:I26) -> 342914.08 | J27: =SUM(J20:J26) -> 286599.55
B28: MATERIALES Y SUMINISTROS
B29: ALIMENTOS PARA PERSONAS | C29: 60936.45 | E29: 60936.45 | G29: 60936.45 | I29: 60936.45 | J29: 202940.25
B30: ACABADOS TEXTILES | C30: 600 | E30: 600 | G30: 600 | I30: 600
B31: PRODUCTOS DE PAPEL O CARTON | C31: 945.42 | E31: 945.42 | G31: 945.42 | I31: 945.42
B32: ELEMENTOS Y COMPUESTOS QUIMICOS | C32: 169652.57 | E32: 169652.57 | G32: 169652.57 | I32: 169652.57 | J32: 178282.05
B33: COMBUSTIBLES Y LUBRICANTES | C33: 912 | E33: 912 | G33: 912 | I33: 912
B34: PRODUCTOS MEDICINALES Y FARMACEUTICOS | C34: 427229.65 | E34: 427229.65 | G34: 427229.65 | I34: 427229.65 | J34: 1425199.8
B35: TINTES, PINTURAS Y COLORANTES | C35: 100 | E35: 100 | G35: 100 | I35: 100
B36: PRODUCTOS PLASTICOS, NYLON, VINIL Y PVC | C36: 13579.7 | E36: 13579.7 | G36: 13579.7 | I36: 13579.7 | J36: 75162.24
B37: OTROS PRODUCTOS METALICOS | C37: 310 | E37: 310 | G37: 310 | I37: 310
B38: UTILES DE LIMPIEZA Y PRODUCTOS SANITARIOS | C38: 10809.43 | E38: 10809.43 | G38: 10809.43 | I38: 10809.43 | J38: 14528.6
B39: UTILES MENORES MEDICO QUIRURGICOS Y DE LAB. | C39: 1780006.3 | E39: 1780006.3 | G39: 1780006.3 | I39: 1780006.3 | J39: 1545914.8
B40: UTILES, ACCESORIOS Y MATERIALES ELECTRICOS | C40: 2208.7 | E40: 2208.7 | G40: 2208.7 | I40: 2208.7 | J40: 15300
B41: ACCESORIOS Y REPUESTOS EN GENERAL | C41: 8105.1 | E41: 8105.1 | G41: 8105.1 | I41: 8105.1
B42: OTROS MATERIALES Y SUMINISTROS | C42: 165.5 | E42: 165.5 | G42: 165.5 | I42: 165.5
B43: TOTAL MATERIALES Y SUMINISTROS | C43: =SUM(C29:C42) -> 2475560.8 | D43: =SUM(D29:D42) -> 0 | E43: =SUM(E29:E42) -> 2475560.8 | F43: =SUM(F29:F42) -> 0 | G43: =SUM(G29:G42) -> 2475560.8 | H43: =SUM(H29:H42) -> 0 | I43: =SUM(I29:I42) -> 2475560.8 | J43: =SUM(J29:J42) -> 3457327.8
A46: Programación mensual por tipo de gasto año 2016, Expresado en Quetzales
A47: No. | B47: Categoría de Gasto | C47: Julio | E47: Agosto | G47: Septiembre
B48: Recurso Humano | C48: Pto. | D48: Real | E48: Pto. | F48: Real | G48: Pto. | H48: Real
B51: Gastos de Funcionamiento
B52: detallar cada gasto cargado
A60: TOTALES
A73: Programación mensual por tipo de gasto año 2018, Expresado en Quetzales segundo cuatrimestre 2018
...

Sheet JULIO ANEXO A F-5
B8: ÀREA FINANCIERA | I8: ANEXO DE F-5
A10: UNIDAD DE CIRUGIA CARDIOVASCULAR DE GUATEMALA
A11: 5a. AVENIDA 6-22 ZONA 11
A12: dgunicar@yahoo.es Tel. 24163000
A14: Programación mensual por tipo de gasto año 2018, Expresado en Quetzales primer cuatrimestre 2018
A15: No. | B15: CATEGORIA DE GASTO | C15: ENERO | E15: FEBRERO | G15: MARZO | I15: ABRIL
C16: PRESUPUESTO | D16: REAL | E16: PRESUPUESTO | F16: REAL | G16: PRESUPUESTO | H16: REAL | I16: PRESUPUESTO | J16: REAL
B17: RECURSO HUMANO | C17: 1764858.4 | D17: 1492317.4 | E17: 1764858.4 | F17: 1792563.6 | G17: 1764858.4 | H17: 1578007.9 | I17: 1764858.4 | J17: 1803793.6
B19: GASTOS DE FUNCIONAMIENTO | C19: =+C27+C43 -> 2818474.9 | D19: =+D27+D43 -> 0 | E19: =+E27+E43 -> 2818474.9 | F19: =+F27+F43 -> 67111.02 | G19: =+G27+G43 -> 2818474.9 | H19: =+H27+H43 -> 58543.64 | I19: =+I27+I43 -> 2818474.9 | J19: =+J27+J43 -> 3743927.3
B20: ENERGIA ELECTRICA | C20: 62500 | E20: 62500 | F20: 56112.02 | G20: 62500 | I20: 62500 | J20: 68083.01
B21: TELEFONIA | C21: 7500 | E21: 7500 | F21: 10999 | G21: 7500 | H21: 11011 | I21: 7500 | J21: 10992
B22: IMPRESIÓN, ENCUADERNACION Y REPRODUCCION | C22: 8133.97 | E22: 8133.97 | G22: 8133.97 | I22: 8133.97 | J22: 4358
B23: MANT. Y REP. EQUIPO MEDICO SANITARIO Y DE LAB. | C23: 33333.33 | E23: 33333.33 | G23: 33333.33 | I23: 33333.33 | J23: 45020
B24: SERVICIOS MEDICO-SANITARIOS | C24: 165141.75 | E24: 165141.75 | G24: 165141.75 | H24: 1000 | I24: 165141.75 | J24: 26842.86
B25: SERVICIOS DE VIGILANCIA | C25: 40000 | E25: 40000 | G25: 40000 | I25: 40000 | J25: 76240
B26: OTROS SERVICIOS NO PERSONALES | C26: 26305.03 | E26: 26305.03 | G26: 26305.03 | H26: 46532.64 | I26: 26305.03 | J26: 55063.68
B27: SUMA GASTOS GENERALES | C27: =SUM(C20:C26) -> 342914.08 | D27: =SUM(D20:D26) -> 0 | E27: =SUM(E20:E26) -> 342914.08 | F27: =SUM(F20:F26) -> 67111.02 | G27: =SUM(G20:G26) -> 342914.08 | H27: =SUM(H20:H26) -> 58543.64 | I27: =SUM(I20:I26) -> 342914.08 | J27: =SUM(J20:J26) -> 286599.55
B28: MATERIALES Y SUMINISTROS
B29: ALIMENTOS PARA PERSONAS | C29: 60936.45 | E29: 60936.45 | G29: 60936.45 | I29: 60936.45 | J29: 202940.25
B30: ACABADOS TEXTILES | C30: 600 | E30: 600 | G30: 600 | I30: 600
B31: PRODUCTOS DE PAPEL O CARTON | C31: 945.42 | E31: 945.42 | G31: 945.42 | I31: 945.42
B32: ELEMENTOS Y COMPUESTOS QUIMICOS | C32: 169652.57 | E32: 169652.57 | G32: 169652.57 | I32: 169652.57 | J32: 178282.05
B33: COMBUSTIBLES Y LUBRICANTES | C33: 912 | E33: 912 | G33: 912 | I33: 912
B34: PRODUCTOS MEDICINALES Y FARMACEUTICOS | C34: 427229.65 | E34: 427229.65 | G34: 427229.65 | I34: 427229.65 | J34: 1425199.8
B35: TINTES, PINTURAS Y COLORANTES | C35: 100 | E35: 100 | G35: 100 | I35: 100
B36: PRODUCTOS PLASTICOS, NYLON, VINIL Y PVC | C36: 13579.7 | E36: 13579.7 | G36: 13579.7 | I36: 13579.7 | J36: 75162.24
B37: OTROS PRODUCTOS METALICOS | C37: 310 | E37: 310 | G37: 310 | I37: 310
B38: UTILES DE LIMPIEZA Y PRODUCTOS SANITARIOS | C38: 10809.43 | E38: 10809.43 | G38: 10809.43 | I38: 10809.43 | J38: 14528.6
B39: UTILES MENORES MEDICO QUIRURGICOS Y DE LAB. | C39: 1780006.3 | E39: 1780006.3 | G39: 1780006.3 | I39: 1780006.3 | J39: 1545914.8
B40: UTILES, ACCESORIOS Y MATERIALES ELECTRICOS | C40: 2208.7 | E40: 2208.7 | G40: 2208.7 | I40: 2208.7 | J40: 15300
B41: ACCESORIOS Y REPUESTOS EN GENERAL | C41: 8105.1 | E41: 8105.1 | G41: 8105.1 | I41: 8105.1
B42: OTROS MATERIALES Y SUMINISTROS | C42: 165.5 | E42: 165.5 | G42: 165.5 | I42: 165.5
B43: TOTAL MATERIALES Y SUMINISTROS | C43: =SUM(C29:C42) -> 2475560.8 | D43: =SUM(D29:D42) -> 0 | E43: =SUM(E29:E42) -> 2475560.8 | F43: =SUM(F29:F42) -> 0 | G43: =SUM(G29:G42) -> 2475560.8 | H43: =SUM(H29:H42) -> 0 | I43: =SUM(I29:I42) -> 2475560.8 | J43: =SUM(J29:J42) -> 3457327.8
A46: Programación mensual por tipo de gasto año 2016, Expresado en Quetzales
A47: No. | B47: Categoría de Gasto | C47: Julio | E47: Agosto | G47: Septiembre
B48: Recurso Humano | C48: Pto. | D48: Real | E48: Pto. | F48: Real | G48: Pto. | H48: Real
B51: Gastos de Funcionamiento
B52: detallar cada gasto cargado
A60: TOTALES
A73: Programación mensual por tipo de gasto año 2018, Expresado en Quetzales segundo cuatrimestre 2018
...

Sheet AGOSTO ANEXO A F-5
B8: ÀREA FINANCIERA | I8: ANEXO DE F-5
A10: UNIDAD DE CIRUGIA CARDIOVASCULAR DE GUATEMALA
A11: 5a. AVENIDA 6-22 ZONA 11
A12: dgunicar@yahoo.es Tel. 24163000
A14: Programación mensual por tipo de gasto año 2018, Expresado en Quetzales primer cuatrimestre 2018
A15: No. | B15: CATEGORIA DE GASTO | C15: ENERO | E15: FEBRERO | G15: MARZO | I15: ABRIL
C16: PRESUPUESTO | D16: REAL | E16: PRESUPUESTO | F16: REAL | G16: PRESUPUESTO | H16: REAL | I16: PRESUPUESTO | J16: REAL
B17: RECURSO HUMANO | C17: 1764858.4 | D17: 1492317.4 | E17: 1764858.4 | F17: 1792563.6 | G17: 1764858.4 | H17: 1578007.9 | I17: 1764858.4 | J17: 1803793.6
B19: GASTOS DE FUNCIONAMIENTO | C19: =+C27+C43 -> 2818474.9 | D19: =+D27+D43 -> 0 | E19: =+E27+E43 -> 2818474.9 | F19: =+F27+F43 -> 67111.02 | G19: =+G27+G43 -> 2818474.9 | H19: =+H27+H43 -> 58543.64 | I19: =+I27+I43 -> 2818474.9 | J19: =+J27+J43 -> 3743927.3
B20: ENERGIA ELECTRICA | C20: 62500 | E20: 62500 | F20: 56112.02 | G20: 62500 | I20: 62500 | J20: 68083.01
B21: TELEFONIA | C21: 7500 | E21: 7500 | F21: 10999 | G21: 7500 | H21: 11011 | I21: 7500 | J21: 10992
B22: IMPRESIÓN, ENCUADERNACION Y REPRODUCCION | C22: 8133.97 | E22: 8133.97 | G22: 8133.97 | I22: 8133.97 | J22: 4358
B23: MANT. Y REP. EQUIPO MEDICO SANITARIO Y DE LAB. | C23: 33333.33 | E23: 33333.33 | G23: 33333.33 | I23: 33333.33 | J23: 45020
B24: SERVICIOS MEDICO-SANITARIOS | C24: 165141.75 | E24: 165141.75 | G24: 165141.75 | H24: 1000 | I24: 165141.75 | J24: 26842.86
B25: SERVICIOS DE VIGILANCIA | C25: 40000 | E25: 40000 | G25: 40000 | I25: 40000 | J25: 76240
B26: OTROS SERVICIOS NO PERSONALES | C26: 26305.03 | E26: 26305.03 | G26: 26305.03 | H26: 46532.64 | I26: 26305.03 | J26: 55063.68
B27: SUMA GASTOS GENERALES | C27: =SUM(C20:C26) -> 342914.08 | D27: =SUM(D20:D26) -> 0 | E27: =SUM(E20:E26) -> 342914.08 | F27: =SUM(F20:F26) -> 67111.02 | G27: =SUM(G20:G26) -> 342914.08 | H27: =SUM(H20:H26) -> 58543.64 | I27: =SUM(I20:I26) -> 342914.08 | J27: =SUM(J20:J26) -> 286599.55
B28: MATERIALES Y SUMINISTROS
B29: ALIMENTOS PARA PERSONAS | C29: 60936.45 | E29: 60936.45 | G29: 60936.45 | I29: 60936.45 | J29: 202940.25
B30: ACABADOS TEXTILES | C30: 600 | E30: 600 | G30: 600 | I30: 600
B31: PRODUCTOS DE PAPEL O CARTON | C31: 945.42 | E31: 945.42 | G31: 945.42 | I31: 945.42
B32: ELEMENTOS Y COMPUESTOS QUIMICOS | C32: 169652.57 | E32: 169652.57 | G32: 169652.57 | I32: 169652.57 | J32: 178282.05
B33: COMBUSTIBLES Y LUBRICANTES | C33: 912 | E33: 912 | G33: 912 | I33: 912
B34: PRODUCTOS MEDICINALES Y FARMACEUTICOS | C34: 427229.65 | E34: 427229.65 | G34: 427229.65 | I34: 427229.65 | J34: 1425199.8
B35: TINTES, PINTURAS Y COLORANTES | C35: 100 | E35: 100 | G35: 100 | I35: 100
B36: PRODUCTOS PLASTICOS, NYLON, VINIL Y PVC | C36: 13579.7 | E36: 13579.7 | G36: 13579.7 | I36: 13579.7 | J36: 75162.24
B37: OTROS PRODUCTOS METALICOS | C37: 310 | E37: 310 | G37: 310 | I37: 310
B38: UTILES DE LIMPIEZA Y PRODUCTOS SANITARIOS | C38: 10809.43 | E38: 10809.43 | G38: 10809.43 | I38: 10809.43 | J38: 14528.6
B39: UTILES MENORES MEDICO QUIRURGICOS Y DE LAB. | C39: 1780006.3 | E39: 1780006.3 | G39: 1780006.3 | I39: 1780006.3 | J39: 1545914.8
B40: UTILES, ACCESORIOS Y MATERIALES ELECTRICOS | C40: 2208.7 | E40: 2208.7 | G40: 2208.7 | I40: 2208.7 | J40: 15300
B41: ACCESORIOS Y REPUESTOS EN GENERAL | C41: 8105.1 | E41: 8105.1 | G41: 8105.1 | I41: 8105.1
B42: OTROS MATERIALES Y SUMINISTROS | C42: 165.5 | E42: 165.5 | G42: 165.5 | I42: 165.5
B43: TOTAL MATERIALES Y SUMINISTROS | C43: =SUM(C29:C42) -> 2475560.8 | D43: =SUM(D29:D42) -> 0 | E43: =SUM(E29:E42) -> 2475560.8 | F43: =SUM(F29:F42) -> 0 | G43: =SUM(G29:G42) -> 2475560.8 | H43: =SUM(H29:H42) -> 0 | I43: =SUM(I29:I42) -> 2475560.8 | J43: =SUM(J29:J42) -> 3457327.8
A46: Programación mensual por tipo de gasto año 2016, Expresado en Quetzales
A47: No. | B47: Categoría de Gasto | C47: Julio | E47: Agosto | G47: Septiembre
B48: Recurso Humano | C48: Pto. | D48: Real | E48: Pto. | F48: Real | G48: Pto. | H48: Real
B51: Gastos de Funcionamiento
B52: detallar cada gasto cargado
A60: TOTALES
A73: Programación mensual por tipo de gasto año 2018, Expresado en Quetzales segundo cuatrimestre 2018
...

Sheet MAYO F-6
B7: ÀREA FINANCIERA | J7: F-6
A9: UNIDAD DE CIRUGIA CARDIOVASCULAR DE GUATEMALA
A10: 5a. AVENIDA 6-22 ZONA 11
A11: CORREO ELECTRÓNICO Y TELÉFONO
A12: dgunicar@yahoo.es Tel. 24163000
A14: Ejecucion fìnanciera por categoria del gasto primer cuatrimestre 2023
A16: Categoría del gasto de funcionamiento | B16: Enero | D16: Febrero | F16: Marzo | H16: Abril | J16: Totales
B17: Prog. | C17: Ejecutado | D17: Prog. | E17: Ejecutado | F17: Prog. | G17: Ejecutado | H17: Prog. | I17: Ejecutado | J17: Prog. | K17: Ejecutado
A18: Recurso Humano | B18: 3361148.5 | C18: 2939970.1 | D18: 3361148.5 | E18: 2914006.4 | F18: 3361148.5 | G18: 4024889.6 | H18: 3361148.5 | I18: =2929171.29+358716.74 -> 3287888 | J18: =+B18+D18+F18+H18 -> 13444594 | K18: =+C18+E18+G18+I18 -> 13166754
A19: Gastos de operación | B19: 552569.77 | D19: 5817527.5 | E19: 135617.67 | F19: 848726.38 | G19: 1618801.8 | H19: 606473.63 | I19: 1614363.4 | J19: =+B19+D19+F19+H19 -> 7825297.3 | K19: =+C19+E19+G19+I19 -> 3368782.8
A20: Propiedad planta y equipo | J20: =+B20+D20+F20+H20 -> 0 | K20: =+C20+E20+G20+I20 -> 0
A21: TOTAL | B21: =SUM(B18:B20) -> 3913718.2 | C21: =SUM(C18:C20) -> 2939970.1 | D21: =SUM(D18:D20) -> 9178676 | E21: =SUM(E18:E20) -> 3049624.1 | F21: =SUM(F18:F20) -> 4209874.9 | G21: =SUM(G18:G20) -> 5643691.3 | H21: =SUM(H18:H20) -> 3967622.1 | I21: =SUM(I18:I20) -> 4902251.4 | ... K21: =SUM(K18:K20) -> 16535537
A23: Ejecucion fìnanciera por categoria del gasto segundo cuatrimestre 2023
A25: Categoría del gasto de funcionamiento | B25: Mayo | D25: Junio | F25: Julio | H25: Agosto | J25: Totales
B26: Prog. | C26: Ejecutado | D26: Prog. | E26: Ejecutado | F26: Prog. | G26: Ejecutado | H26: Prog. | I26: Ejecutado | J26: Prog. | K26: Ejecutado
A27: Recurso Humano | B27: 3361148.5 | C27: 3300467.4 | J27: =+B27+D27+F27+H27 -> 3361148.5 | K27: =+C27+E27+G27+I27 -> 3300467.4
A28: Gastos de operación | B28: 4893082.3 | C28: 1554870.2 | J28: =+B28+D28+F28+H28 -> 4893082.3 | K28: =+C28+E28+G28+I28 -> 1554870.2
A29: TOTAL | B29: =SUM(B27:B28) -> 8254230.8 | C29: =SUM(C27:C28) -> 4855337.6 | D29: =SUM(D27:D28) -> 0 | E29: =SUM(E27:E28) -> 0 | F29: =SUM(F27:F28) -> 0 | G29: =SUM(G27:G28) -> 0 | H29: =SUM(H27:H28) -> 0 | I29: =SUM(I27:I28) -> 0 | ... K29: =SUM(K27:K28) -> 4855337.6
A32: Ejecucion fìnanciera por categoria del gasto tercer cuatrimestre 2023
A34: Categoría del gasto de funcionamiento | B34: Septiembre | D34: Octubre | F34: Noviembre | H34: Diciembre | J34: Totales
B35: Prog. | C35: Ejecutado | D35: Prog. | E35: Ejecutado | F35: Prog. | G35: Ejecutado | H35: Prog. | I35: Ejecutado | J35: Prog. | K35: Ejecutado
A36: Recurso Humano | J36: =+B36+D36+F36+H36 -> 0 | K36: =+C36+E36+G36+I36 -> 0
A37: Gastos de operación | J37: =+B37+D37+F37+H37 -> 0 | K37: =+C37+E37+G37+I37 -> 0
A38: TOTAL | B38: =SUM(B36:B37) -> 0 | C38: =SUM(C36:C37) -> 0 | D38: =SUM(D36:D37) -> 0 | E38: =SUM(E36:E37) -> 0 | F38: =SUM(F36:F37) -> 0 | G38: =SUM(G36:G37) -> 0 | H38: =SUM(H36:H37) -> 0 | I38: =SUM(I36:I37) -> 0 | ... K38: =SUM(K36:K37) -> 0
A46: Resumen año 2023
A47: Categoría del gasto | B47: año 2023
B48: Presupuestado | C48: Ejecutado
A49: Recurso Humano | B49: =+J18+J27+J36 -> 16805742 | C49: =+K18+K27+K36 -> 16467222
A50: Gastos de operación | B50: =+J19+J28+J37 -> 12718380 | C50: =+K19+K28+K37 -> 4923653.1
A51: TOTAL | B51: =SUM(B49:B50) -> 29524122 | C51: =SUM(C49:C50) -> 21390875
A75: Elaborado por: | C75: ___________________________ | F75: Autorizado por: | H75: ___________________________________
C76: Víctor Cresencio Reyes Porres | H76: Lic. Douglas Antonio Díaz Rivera
C77: Jefe de Contabilidad | H77: Representante Legal
A78: Fecha: | C78: 9 de junio 2023

Sheet JUNIO F-6
B7: ÀREA FINANCIERA | J7: F-6
A9: UNIDAD DE CIRUGIA CARDIOVASCULAR DE GUATEMALA
A10: 5a. AVENIDA 6-22 ZONA 11
A11: CORREO ELECTRÓNICO Y TELÉFONO
A12: dgunicar@yahoo.es Tel. 24163000
A14: Ejecucion fìnanciera por categoria del gasto primer cuatrimestre 2023
A16: Categoría del gasto de funcionamiento | B16: Enero | D16: Febrero | F16: Marzo | H16: Abril | J16: Totales
B17: Prog. | C17: Ejecutado | D17: Prog. | E17: Ejecutado | F17: Prog. | G17: Ejecutado | H17: Prog. | I17: Ejecutado | J17: Prog. | K17: Ejecutado
A18: Recurso Humano | B18: 3361148.5 | C18: 2939970.1 | D18: 3361148.5 | E18: 2914006.4 | F18: 3361148.5 | G18: 4024889.6 | H18: 3361148.5 | I18: =2929171.29+358716.74 -> 3287888 | J18: =+B18+D18+F18+H18 -> 13444594 | K18: =+C18+E18+G18+I18 -> 13166754
A19: Gastos de operación | B19: 552569.77 | D19: 5817527.5 | E19: 135617.67 | F19: 848726.38 | G19: 1618801.8 | H19: 606473.63 | I19: 1614363.4 | J19: =+B19+D19+F19+H19 -> 7825297.3 | K19: =+C19+E19+G19+I19 -> 3368782.8
A20: Propiedad planta y equipo | J20: =+B20+D20+F20+H20 -> 0 | K20: =+C20+E20+G20+I20 -> 0
A21: TOTAL | B21: =SUM(B18:B20) -> 3913718.2 | C21: =SUM(C18:C20) -> 2939970.1 | D21: =SUM(D18:D20) -> 9178676 | E21: =SUM(E18:E20) -> 3049624.1 | F21: =SUM(F18:F20) -> 4209874.9 | G21: =SUM(G18:G20) -> 5643691.3 | H21: =SUM(H18:H20) -> 3967622.1 | I21: =SUM(I18:I20) -> 4902251.4 | ... K21: =SUM(K18:K20) -> 16535537
A23: Ejecucion fìnanciera por categoria del gasto segundo cuatrimestre 2023
A25: Categoría del gasto de funcionamiento | B25: Mayo | D25: Junio | F25: Julio | H25: Agosto | J25: Totales
B26: Prog. | C26: Ejecutado | D26: Prog. | E26: Ejecutado | F26: Prog. | G26: Ejecutado | H26: Prog. | I26: Ejecutado | J26: Prog. | K26: Ejecutado
A27: Recurso Humano | B27: 3361148.5 | C27: 3300467.4 | D27: 3361148.5 | E27: 3380648.2 | J27: =+B27+D27+F27+H27 -> 6722296.9 | K27: =+C27+E27+G27+I27 -> 6681115.6
A28: Gastos de operación | B28: 4893082.3 | C28: 1554870.2 | D28: 17602011 | E28: 3625974.8 | J28: =+B28+D28+F28+H28 -> 22495093 | K28: =+C28+E28+G28+I28 -> 5180845.1
A29: TOTAL | B29: =SUM(B27:B28) -> 8254230.8 | C29: =SUM(C27:C28) -> 4855337.6 | D29: =SUM(D27:D28) -> 20963159 | E29: =SUM(E27:E28) -> 7006623.1 | F29: =SUM(F27:F28) -> 0 | G29: =SUM(G27:G28) -> 0 | H29: =SUM(H27:H28) -> 0 | I29: =SUM(I27:I28) -> 0 | ... K29: =SUM(K27:K28) -> 11861961
A32: Ejecucion fìnanciera por categoria del gasto tercer cuatrimestre 2023
A34: Categoría del gasto de funcionamiento | B34: Septiembre | D34: Octubre | F34: Noviembre | H34: Diciembre | J34: Totales
B35: Prog. | C35: Ejecutado | D35: Prog. | E35: Ejecutado | F35: Prog. | G35: Ejecutado | H35: Prog. | I35: Ejecutado | J35: Prog. | K35: Ejecutado
A36: Recurso Humano | J36: =+B36+D36+F36+H36 -> 0 | K36: =+C36+E36+G36+I36 -> 0
A37: Gastos de operación | J37: =+B37+D37+F37+H37 -> 0 | K37: =+C37+E37+G37+I37 -> 0
A38: TOTAL | B38: =SUM(B36:B37) -> 0 | C38: =SUM(C36:C37) -> 0 | D38: =SUM(D36:D37) -> 0 | E38: =SUM(E36:E37) -> 0 | F38: =SUM(F36:F37) -> 0 | G38: =SUM(G36:G37) -> 0 | H38: =SUM(H36:H37) -> 0 | I38: =SUM(I36:I37) -> 0 | ... K38: =SUM(K36:K37) -> 0
A46: Resumen año 2023
A47: Categoría del gasto | B47: año 2023
B48: Presupuestado | C48: Ejecutado
A49: Recurso Humano | B49: =+J18+J27+J36 -> 20166891 | C49: =+K18+K27+K36 -> 19847870
A50: Gastos de operación | B50: =+J19+J28+J37 -> 30320391 | C50: =+K19+K28+K37 -> 8549627.9
A51: TOTAL | B51: =SUM(B49:B50) -> 50487281 | C51: =SUM(C49:C50) -> 28397498
A75: Elaborado por: | C75: ___________________________ | F75: Autorizado por: | H75: ___________________________________
C76: Víctor Cresencio Reyes Porres | H76: Lic. Douglas Antonio Díaz Rivera
C77: Jefe de Contabilidad | H77: Representante Legal
A78: Fecha: | C78: 10 de julio 2023

Sheet JULIO F-6
B7: ÀREA FINANCIERA | J7: F-6
A9: UNIDAD DE CIRUGIA CARDIOVASCULAR DE GUATEMALA
A10: 5a. AVENIDA 6-22 ZONA 11
A11: CORREO ELECTRÓNICO Y TELÉFONO
A12: dgunicar@yahoo.es Tel. 24163000
A14: Ejecucion fìnanciera por categoria del gasto primer cuatrimestre 2023
A16: Categoría del gasto de funcionamiento | B16: Enero | D16: Febrero | F16: Marzo | H16: Abril | J16: Totales
B17: Prog. | C17: Ejecutado | D17: Prog. | E17: Ejecutado | F17: Prog. | G17: Ejecutado | H17: Prog. | I17: Ejecutado | J17: Prog. | K17: Ejecutado
A18: Recurso Humano | B18: 3361148.5 | C18: 2939970.1 | D18: 3361148.5 | E18: 2914006.4 | F18: 3361148.5 | G18: 4024889.6 | H18: 3361148.5 | I18: =2929171.29+358716.74 -> 3287888 | J18: =+B18+D18+F18+H18 -> 13444594 | K18: =+C18+E18+G18+I18 -> 13166754
A19: Gastos de operación | B19: 552569.77 | D19: 5817527.5 | E19: 135617.67 | F19: 848726.38 | G19: 1618801.8 | H19: 606473.63 | I19: 1614363.4 | J19: =+B19+D19+F19+H19 -> 7825297.3 | K19: =+C19+E19+G19+I19 -> 3368782.8
A20: Propiedad planta y equipo | J20: =+B20+D20+F20+H20 -> 0 | K20: =+C20+E20+G20+I20 -> 0
A21: TOTAL | B21: =SUM(B18:B20) -> 3913718.2 | C21: =SUM(C18:C20) -> 2939970.1 | D21: =SUM(D18:D20) -> 9178676 | E21: =SUM(E18:E20) -> 3049624.1 | F21: =SUM(F18:F20) -> 4209874.9 | G21: =SUM(G18:G20) -> 5643691.3 | H21: =SUM(H18:H20) -> 3967622.1 | I21: =SUM(I18:I20) -> 4902251.4 | ... K21: =SUM(K18:K20) -> 16535537
A23: Ejecucion fìnanciera por categoria del gasto segundo cuatrimestre 2023
A25: Categoría del gasto de funcionamiento | B25: Mayo | D25: Junio | F25: Julio | H25: Agosto | J25: Totales
B26: Prog. | C26: Ejecutado | D26: Prog. | E26: Ejecutado | F26: Prog. | G26: Ejecutado | H26: Prog. | I26: Ejecutado | J26: Prog. | K26: Ejecutado
A27: Recurso Humano | B27: 3361148.5 | C27: 3300467.4 | D27: 3361148.5 | E27: 3380648.2 | F27: 6070495.5 | G27: 5696595.4 | J27: =+B27+D27+F27+H27 -> 12792792 | K27: =+C27+E27+G27+I27 -> 12377711
A28: Gastos de operación | B28: 4893082.3 | C28: 1554870.2 | D28: 17602011 | E28: 3625974.8 | F28: 806742.88 | G28: 5272466.1 | J28: =+B28+D28+F28+H28 -> 23301836 | K28: =+C28+E28+G28+I28 -> 10453311
A29: TOTAL | B29: =SUM(B27:B28) -> 8254230.8 | C29: =SUM(C27:C28) -> 4855337.6 | D29: =SUM(D27:D28) -> 20963159 | E29: =SUM(E27:E28) -> 7006623.1 | F29: =SUM(F27:F28) -> 6877238.3 | G29: =SUM(G27:G28) -> 10969062 | H29: =SUM(H27:H28) -> 0 | I29: =SUM(I27:I28) -> 0 | ... K29: =SUM(K27:K28) -> 22831022
A32: Ejecucion fìnanciera por categoria del gasto tercer cuatrimestre 2023
A34: Categoría del gasto de funcionamiento | B34: Septiembre | D34: Octubre | F34: Noviembre | H34: Diciembre | J34: Totales
B35: Prog. | C35: Ejecutado | D35: Prog. | E35: Ejecutado | F35: Prog. | G35: Ejecutado | H35: Prog. | I35: Ejecutado | J35: Prog. | K35: Ejecutado
A36: Recurso Humano | J36: =+B36+D36+F36+H36 -> 0 | K36: =+C36+E36+G36+I36 -> 0
A37: Gastos de operación | J37: =+B37+D37+F37+H37 -> 0 | K37: =+C37+E37+G37+I37 -> 0
A38: TOTAL | B38: =SUM(B36:B37) -> 0 | C38: =SUM(C36:C37) -> 0 | D38: =SUM(D36:D37) -> 0 | E38: =SUM(E36:E37) -> 0 | F38: =SUM(F36:F37) -> 0 | G38: =SUM(G36:G37) -> 0 | H38: =SUM(H36:H37) -> 0 | I38: =SUM(I36:I37) -> 0 | ... K38: =SUM(K36:K37) -> 0
A40: Resumen año 2023
A41: Categoría del gasto | B41: año 2023
B42: Presupuestado | C42: Ejecutado
A43: Recurso Humano | B43: =+J18+J27+J36 -> 26237386 | C43: =+K18+K27+K36 -> 25544465
A44: Gastos de operación | B44: =+J19+J28+J37 -> 31127133 | C44: =+K19+K28+K37 -> 13822094
A45: TOTAL | B45: =SUM(B43:B44) -> 57364520 | C45: =SUM(C43:C44) -> 39366559
A69: Elaborado por: | C69: ___________________________ | F69: Autorizado por: | H69: ___________________________________
C70: Víctor Cresencio Reyes Porres | H70: Lic. Douglas Antonio Díaz Rivera
C71: Jefe de Contabilidad | H71: Representante Legal
A72: Fecha: | C72: 10 de agosto 2023

Sheet AGOSTO F-6
B7: ÀREA FINANCIERA | J7: F-6
A9: UNIDAD DE CIRUGIA CARDIOVASCULAR DE GUATEMALA
A10: 5a. AVENIDA 6-22 ZONA 11
A11: CORREO ELECTRÓNICO Y TELÉFONO
A12: dgunicar@yahoo.es Tel. 24163000
A14: Ejecucion fìnanciera por categoria del gasto primer cuatrimestre 2023
A16: Categoría del gasto de funcionamiento | B16: Enero | D16: Febrero | F16: Marzo | H16: Abril | J16: Totales
B17: Prog. | C17: Ejecutado | D17: Prog. | E17: Ejecutado | F17: Prog. | G17: Ejecutado | H17: Prog. | I17: Ejecutado | J17: Prog. | K17: Ejecutado
A18: Recurso Humano | B18: 3361148.5 | C18: 2939970.1 | D18: 3361148.5 | E18: 2914006.4 | F18: 3361148.5 | G18: 4024889.6 | H18: 3361148.5 | I18: =2929171.29+358716.74 -> 3287888 | J18: =+B18+D18+F18+H18 -> 13444594 | K18: =+C18+E18+G18+I18 -> 13166754
A19: Gastos de operación | B19: 552569.77 | D19: 5817527.5 | E19: 135617.67 | F19: 848726.38 | G19: 1618801.8 | H19: 606473.63 | I19: 1614363.4 | J19: =+B19+D19+F19+H19 -> 7825297.3 | K19: =+C19+E19+G19+I19 -> 3368782.8
A20: Propiedad planta y equipo | J20: =+B20+D20+F20+H20 -> 0 | K20: =+C20+E20+G20+I20 -> 0
A21: TOTAL | B21: =SUM(B18:B20) -> 3913718.2 | C21: =SUM(C18:C20) -> 2939970.1 | D21: =SUM(D18:D20) -> 9178676 | E21: =SUM(E18:E20) -> 3049624.1 | F21: =SUM(F18:F20) -> 4209874.9 | G21: =SUM(G18:G20) -> 5643691.3 | H21: =SUM(H18:H20) -> 3967622.1 | I21: =SUM(I18:I20) -> 4902251.4 | ... K21: =SUM(K18:K20) -> 16535537
A23: Ejecucion fìnanciera por categoria del gasto segundo cuatrimestre 2023
A25: Categoría del gasto de funcionamiento | B25: Mayo | D25: Junio | F25: Julio | H25: Agosto | J25: Totales
B26: Prog. | C26: Ejecutado | D26: Prog. | E26: Ejecutado | F26: Prog. | G26: Ejecutado | H26: Prog. | I26: Ejecutado | J26: Prog. | K26: Ejecutado
A27: Recurso Humano | B27: 3361148.5 | C27: 3300467.4 | D27: 3361148.5 | E27: 3380648.2 | F27: 6070495.5 | G27: 5696595.4 | H27: 3361148.5 | I27: 3755859.3 | J27: =+B27+D27+F27+H27 -> 16153941 | K27: =+C27+E27+G27+I27 -> 16133570
A28: Gastos de operación | B28: 4893082.3 | C28: 1554870.2 | D28: 17602011 | E28: 3625974.8 | F28: 806742.88 | G28: 5272466.1 | H28: 591207.88 | I28: 2562957 | J28: =+B28+D28+F28+H28 -> 23893044 | K28: =+C28+E28+G28+I28 -> 13016268
A29: TOTAL | B29: =SUM(B27:B28) -> 8254230.8 | C29: =SUM(C27:C28) -> 4855337.6 | D29: =SUM(D27:D28) -> 20963159 | E29: =SUM(E27:E28) -> 7006623.1 | F29: =SUM(F27:F28) -> 6877238.3 | G29: =SUM(G27:G28) -> 10969062 | H29: =SUM(H27:H28) -> 3952356.4 | I29: =SUM(I27:I28) -> 6318816.3 | ... K29: =SUM(K27:K28) -> 29149839
A32: Ejecucion fìnanciera por categoria del gasto tercer cuatrimestre 2023
A34: Categoría del gasto de funcionamiento | B34: Septiembre | D34: Octubre | F34: Noviembre | H34: Diciembre | J34: Totales
B35: Prog. | C35: Ejecutado | D35: Prog. | E35: Ejecutado | F35: Prog. | G35: Ejecutado | H35: Prog. | I35: Ejecutado | J35: Prog. | K35: Ejecutado
A36: Recurso Humano | J36: =+B36+D36+F36+H36 -> 0 | K36: =+C36+E36+G36+I36 -> 0
A37: Gastos de operación | J37: =+B37+D37+F37+H37 -> 0 | K37: =+C37+E37+G37+I37 -> 0
A38: TOTAL | B38: =SUM(B36:B37) -> 0 | C38: =SUM(C36:C37) -> 0 | D38: =SUM(D36:D37) -> 0 | E38: =SUM(E36:E37) -> 0 | F38: =SUM(F36:F37) -> 0 | G38: =SUM(G36:G37) -> 0 | H38: =SUM(H36:H37) -> 0 | I38: =SUM(I36:I37) -> 0 | ... K38: =SUM(K36:K37) -> 0
A40: Resumen año 2023
A41: Categoría del gasto | B41: año 2023
B42: Presupuestado | C42: Ejecutado
A43: Recurso Humano | B43: =+J18+J27+J36 -> 29598535 | C43: =+K18+K27+K36 -> 29300324
A44: Gastos de operación | B44: =+J19+J28+J37 -> 31718341 | C44: =+K19+K28+K37 -> 16385051
A45: TOTAL | B45: =SUM(B43:B44) -> 61316876 | C45: =SUM(C43:C44) -> 45685376
A69: Elaborado por: | C69: ___________________________ | F69: Autorizado por: | H69: ___________________________________
C70: Víctor Cresencio Reyes Porres | H70: Lic. Douglas Antonio Díaz Rivera
C71: Jefe de Contabilidad | H71: Representante Legal
A72: Fecha: | C72: 8 de septiembre 2023

Sheet EJECUCION FISICA MAYO F-8
L2: F-8
A6: UNIDAD DE CIRUGIA CARDIOVASCULAR DE GUATEMALA
A7: 5a. AVENIDA 6-22 ZONA 11
A8: dgunicar@yahoo.es Tel. 24163000
B10: Ejecucion y/o avance de cumplimiento de metas fisicas correspondiente al primer cuatrimestre
