Workbook

Sheet ENERO CTE-5
B8: ÀREA FINANCIERA | K8: CTE-5
A10: UNIDAD DE CIRUGIA CARDIOVASCULAR DE GUATEMALA
A11: 5a. AVENIDA 6-22 ZONA 11
A12: dgunicar@yahoo.es Tel. 24163000
A14: Programación y ejecucion mensual por tipo de gasto año 2023, Expresado en Quetzales primer cuatrimestre 2023
A15: No. | B15: CATEGORIA DE GASTO | C15: ENERO | E15: FEBRERO | G15: MARZO | I15: ABRIL | K15: TOTAL CUATRIMESTRE
C16: PRESUPUESTO | D16: REAL | E16: PRESUPUESTO | F16: REAL | G16: PRESUPUESTO | H16: REAL | I16: PRESUPUESTO | J16: REAL | K16: PRESUPUESTO | L16: REAL
A17: 011 | B17: RECURSO HUMANO | C17: 3361148.5 | D17: 2939970.1 | K17: =+C17+E17+G17+I17 -> 3361148.5 | L17: =+D17+F17+H17+J17 -> 2939970.1
B19: GASTOS DE FUNCIONAMIENTO
A20: 111 | B20: ENERGIA ELECTRICA | C20: 0 | D20: 0 | K20: =+C20+E20+G20+I20 -> 0 | L20: =+D20+F20+H20+J20 -> 0
A21: 113 | B21: SERVICIO DE INTERNET Y TELEFONIA | C21: 0 | D21: 0 | K21: =+C21+E21+G21+I21 -> 0 | L21: =+D21+F21+H21+J21 -> 0
A22: 122 | B22: IMPRESIÓN, ENCUADERNACION Y REPRODUCCION | C22: 0 | D22: 0 | K22: =+C22+E22+G22+I22 -> 0 | L22: =+D22+F22+H22+J22 -> 0
A23: 163 | B23: MANT. Y REP. EQUIPO MEDICO SANITARIO Y DE LAB. | C23: 50000 | D23: 0 | K23: =+C23+E23+G23+I23 -> 50000 | L23: =+D23+F23+H23+J23 -> 0
A24: 168 | B24: MANTENIMIENTO Y REPARACION DE EQUIPO DE COMPUTO | C24: 1000 | D24: 0 | K24: =+C24+E24+G24+I24 -> 1000 | L24: =+D24+F24+H24+J24 -> 0
A25: 169 | B25: MANT. Y REP. DE OTRAS MAQ. Y EQUIPO | C25: 10000 | D25: 0 | K25: =+C25+E25+G25+I25 -> 10000 | L25: =+D25+F25+H25+J25 -> 0
A26: 171 | B26: MANT. Y REPARACION DE EDIFICIOS | C26: 10000 | D26: 0 | K26: =+C26+E26+G26+I26 -> 10000 | L26: =+D26+F26+H26+J26 -> 0
A27: 174 | B27: MANT. Y REP. DE INSTALACIONES | C27: 15765.66 | D27: 0 | K27: =+C27+E27+G27+I27 -> 15765.66 | L27: =+D27+F27+H27+J27 -> 0
A28: 182 | B28: SERVICIOS MEDICO-SANITARIOS | C28: 278286 | D28: 0 | K28: =+C28+E28+G28+I28 -> 278286 | L28: =+D28+F28+H28+J28 -> 0
A29: 197 | B29: SERVICIOS DE VIGILANCIA | C29: 0 | D29: 0 | K29: =+C29+E29+G29+I29 -> 0 | L29: =+D29+F29+H29+J29 -> 0
A30: 199 | B30: OTROS SERVICIOS NO PERSONALES | C30: 60838.7 | D30: 0 | K30: =+C30+E30+G30+I30 -> 60838.7 | L30: =+D30+F30+H30+J30 -> 0
A31: 211 | B31: ALIMENTOS PARA PERSONAS | C31: 37249 | D31: 0 | K31: =+C31+E31+G31+I31 -> 37249 | L31: =+D31+F31+H31+J31 -> 0
... A45: 323 | B45: EQUIPO MEDICO-SANITARIO Y DE LABORATORIO | C45: 0 | D45: 0 | K45: =+C45+E45+G45+I45 -> 0 | L45: =+D45+F45+H45+J45 -> 0
B46: TOTAL GASTOS DE FUNCIONAMIENTO | C46: =SUM(C20:C45) -> 552569.77 | D46: =SUM(D20:D45) -> 0 | E46: =SUM(E20:E45) -> 0 | F46: =SUM(F20:F45) -> 0 | G46: =SUM(G20:G45) -> 0 | H46: =SUM(H20:H45) -> 0 | I46: =SUM(I20:I45) -> 0 | J46: =SUM(J20:J45) -> 0 | ... L46: =SUM(L20:L45) -> 0
B47: PROPIEDAD PLANTA Y EQUIPO
B48: EQUIPO MEDICO SANITARIO Y DE LABORATORIO | C48: 0 | D48: 0 | E48: 0 | F48: 0 | H48: 0 | K48: =+C48+E48+G48+I48 -> 0 | L48: =+D48+F48+H48+J48 -> 0
B49: OTRAS MAQUINARIAS Y EQUIPOS | C49: 0 | D49: 0 | E49: 0 | F49: 0 | H49: 0 | I49: 0 | K49: =+C49+E49+G49+I49 -> 0 | L49: =+D49+F49+H49+J49 -> 0
B50: TOTAL PROPIEDAD PLANTA Y EQUIPO | C50: =SUM(C48:C49) -> 0 | D50: =SUM(D48:D49) -> 0 | E50: =SUM(E48:E49) -> 0 | F50: =SUM(F48:F49) -> 0 | G50: =SUM(G48:G49) -> 0 | H50: =SUM(H48:H49) -> 0 | I50: =SUM(I48:I49) -> 0 | J50: =SUM(J48:J49) -> 0 | ... L50: =SUM(L48:L49) -> 0
A59: Programación y ejecucion mensual por tipo de gasto año 2023, Expresado en Quetzales segundo cuatrimestre 2023
A60: No. | B60: CATEGORIA DE GASTO | C60: MAYO | E60: JUNIO | G60: JULIO | I60: AGOSTO | K60: TOTAL CUATRIMESTRE
C61: PRESUPUESTO | D61: REAL | E61: PRESUPUESTO | F61: REAL | G61: PRESUPUESTO | H61: REAL | I61: PRESUPUESTO | J61: REAL | K61: PRESUPUESTO | L61: REAL
A62: 011 | B62: RECURSO HUMANO | K62: =+C62+E62+G62+I62 -> 0 | L62: =+D62+F62+H62+J62 -> 0
B64: GASTOS DE FUNCIONAMIENTO
A65: 111 | B65: ENERGIA ELECTRICA | K65: =+C65+E65+G65+I65 -> 0 | L65: =+D65+F65+H65+J65 -> 0
A66: 113 | B66: TELEFONIA | K66: =+C66+E66+G66+I66 -> 0 | L66: =+D66+F66+H66+J66 -> 0
A67: 122 | B67: IMPRESIÓN, ENCUADERNACION Y REPRODUCCION | K67: =+C67+E67+G67+I67 -> 0 | L67: =+D67+F67+H67+J67 -> 0
A68: 163 | B68: MANT. Y REP. EQUIPO MEDICO SANITARIO Y DE LAB. | K68: =+C68+E68+G68+I68 -> 0 | L68: =+D68+F68+H68+J68 -> 0
A69: 168 | B69: MANTENIMIENTO Y REPARACION DE EQUIPO DE COMPUTO | K69: =+C69+E69+G69+I69 -> 0 | L69: =+D69+F69+H69+J69 -> 0
A70: 169 | B70: MANT. Y REP. DE OTRAS MAQ. Y EQUIPO | K70: =+C70+E70+G70+I70 -> 0 | L70: =+D70+F70+H70+J70 -> 0
A71: 171 | B71: MANT. Y REPARACION DE EDIFICIOS | K71: =+C71+E71+G71+I71 -> 0 | L71: =+D71+F71+H71+J71 -> 0
A72: 174 | B72: MANT. Y REP. DE INSTALACIONES | K72: =+C72+E72+G72+I72 -> 0 | L72: =+D72+F72+H72+J72 -> 0
...

Sheet FEBRERO CTE-5
B8: ÀREA FINANCIERA | K8: CTE-5
A10: UNIDAD DE CIRUGIA CARDIOVASCULAR DE GUATEMALA
A11: 5a. AVENIDA 6-22 ZONA 11
A12: dgunicar@yahoo.es Tel. 24163000
A14: Programación y ejecucion mensual por tipo de gasto año 2023, Expresado en Quetzales primer cuatrimestre 2023
A15: No. | B15: CATEGORIA DE GASTO | C15: ENERO | E15: FEBRERO | G15: MARZO | I15: ABRIL | K15: TOTAL CUATRIMESTRE
C16: PRESUPUESTO | D16: REAL | E16: PRESUPUESTO | F16: REAL | G16: PRESUPUESTO | H16: REAL | I16: PRESUPUESTO | J16: REAL | K16: PRESUPUESTO | L16: REAL
A17: 011 | B17: RECURSO HUMANO | C17: 3361148.5 | D17: 2939970.1 | E17: 3361148.5 | F17: 2914006.4 | K17: =+C17+E17+G17+I17 -> 6722296.9 | L17: =+D17+F17+H17+J17 -> 5853976.5
B19: GASTOS DE FUNCIONAMIENTO
A20: 111 | B20: ENERGIA ELECTRICA | C20: 0 | D20: 0 | E20: 88000 | F20: 0 | K20: =+C20+E20+G20+I20 -> 88000 | L20: =+D20+F20+H20+J20 -> 0
A21: 113 | B21: SERVICIO DE INTERNET Y TELEFONIA | C21: 0 | D21: 0 | E21: 11585.06 | F21: 8525.7 | K21: =+C21+E21+G21+I21 -> 11585.06 | L21: =+D21+F21+H21+J21 -> 8525.7
A22: 122 | B22: IMPRESIÓN, ENCUADERNACION Y REPRODUCCION | C22: 0 | D22: 0 | E22: 68124.37 | F22: 0 | K22: =+C22+E22+G22+I22 -> 68124.37 | L22: =+D22+F22+H22+J22 -> 0
A23: 163 | B23: MANT. Y REP. EQUIPO MEDICO SANITARIO Y DE LAB. | C23: 50000 | D23: 0 | E23: =16335+50000 -> 66335 | F23: 0 | K23: =+C23+E23+G23+I23 -> 116335 | L23: =+D23+F23+H23+J23 -> 0
A24: 168 | B24: MANTENIMIENTO Y REPARACION DE EQUIPO DE COMPUTO | C24: 1000 | D24: 0 | E24: 0 | F24: 0 | K24: =+C24+E24+G24+I24 -> 1000 | L24: =+D24+F24+H24+J24 -> 0
A25: 169 | B25: MANT. Y REP. DE OTRAS MAQ. Y EQUIPO | C25: 10000 | D25: 0 | E25: 0 | F25: 0 | K25: =+C25+E25+G25+I25 -> 10000 | L25: =+D25+F25+H25+J25 -> 0
A26: 171 | B26: MANT. Y REPARACION DE EDIFICIOS | C26: 10000 | D26: 0 | E26: 0 | F26: 0 | K26: =+C26+E26+G26+I26 -> 10000 | L26: =+D26+F26+H26+J26 -> 0
A27: 174 | B27: MANT. Y REP. DE INSTALACIONES | C27: 15765.66 | D27: 0 | E27: 5765.66 | F27: 5765.66 | K27: =+C27+E27+G27+I27 -> 21531.32 | L27: =+D27+F27+H27+J27 -> 5765.66
A28: 182 | B28: SERVICIOS MEDICO-SANITARIOS | C28: 278286 | D28: 0 | E28: 274686 | F28: 50615 | K28: =+C28+E28+G28+I28 -> 552972 | L28: =+D28+F28+H28+J28 -> 50615
A29: 197 | B29: SERVICIOS DE VIGILANCIA | C29: 0 | D29: 0 | E29: 43200 | F29: 0 | K29: =+C29+E29+G29+I29 -> 43200 | L29: =+D29+F29+H29+J29 -> 0
A30: 199 | B30: OTROS SERVICIOS NO PERSONALES | C30: 60838.7 | D30: 0 | E30: 147087.5 | F30: 8200.8 | K30: =+C30+E30+G30+I30 -> 207926.2 | L30: =+D30+F30+H30+J30 -> 8200.8
A31: 211 | B31: ALIMENTOS PARA PERSONAS | C31: 37249 | D31: 0 | E31: 47931.75 | F31: 0 | K31: =+C31+E31+G31+I31 -> 85180.75 | L31: =+D31+F31+H31+J31 -> 0
A32: 232 | B32: ACABADOS TEXTILES | C32: 0 | D32: 0 | E32: 86640 | F32: 0 | K32: =+C32+E32+G32+I32 -> 86640 | L32: =+D32+F32+H32+J32 -> 0
A33: 261 | B33: ELEMENTOS Y COMPUESTOS QUIMICOS | C33: 0 | D33: 0 | E33: 1009687.4 | F33: 62510.51 | K33: =+C33+E33+G33+I33 -> 1009687.4 | L33: =+D33+F33+H33+J33 -> 62510.51
A34: 262 | B34: COMBUSTIBLES Y LUBRICANTES | C34: 8000 | D34: 0 | E34: 0 | F34: 0 | K34: =+C34+E34+G34+I34 -> 8000 | L34: =+D34+F34+H34+J34 -> 0
A35: 266 | B35: PRODUCTOS MEDICINALES Y FARMACEUTICOS | C35: 0 | D35: 0 | E35: 619212.26 | F35: 0 | K35: =+C35+E35+G35+I35 -> 619212.26 | L35: =+D35+F35+H35+J35 -> 0
... A42: 297 | B42: UTILES, ACCESORIOS Y MATERIALES ELECTRICOS | C42: 10000 | D42: 0 | E42: 8945.44 | F42: 0 | K42: =+C42+E42+G42+I42 -> 18945.44 | L42: =+D42+F42+H42+J42 -> 0
A43: 298 | B43: ACCESORIOS Y REPUESTOS EN GENERAL | C43: 33333.33 | D43: 0 | E43: =33333.33+9801.67 -> 43135 | F43: 0 | K43: =+C43+E43+G43+I43 -> 76468.33 | L43: =+D43+F43+H43+J43 -> 0
A44: 299 | B44: OTROS MATERIALES Y SUMINISTROS | C44: 19097.08 | D44: 0 | E44: 19097.08 | F44: 0 | K44: =+C44+E44+G44+I44 -> 38194.16 | L44: =+D44+F44+H44+J44 -> 0
A45: 323 | B45: EQUIPO MEDICO-SANITARIO Y DE LABORATORIO | C45: 0 | D45: 0 | E45: 0 | F45: 0 | K45: =+C45+E45+G45+I45 -> 0 | L45: =+D45+F45+H45+J45 -> 0
B46: TOTAL GASTOS DE FUNCIONAMIENTO | C46: =SUM(C20:C45) -> 552569.77 | D46: =SUM(D20:D45) -> 0 | E46: =SUM(E20:E45) -> 5817527.5 | F46: =SUM(F20:F45) -> 135617.67 | G46: =SUM(G20:G45) -> 0 | H46: =SUM(H20:H45) -> 0 | I46: =SUM(I20:I45) -> 0 | J46: =SUM(J20:J45) -> 0 | ... L46: =SUM(L20:L45) -> 135617.67
B47: TOTAL GENERAL | C47: =+C46+C17 -> 3913718.2 | D47: =+D46+D17 -> 2939970.1 | E47: =+E46+E17 -> 9178676 | F47: =+F46+F17 -> 3049624.1 | G47: =+G46+G17 -> 0 | H47: =+H46+H17 -> 0 | I47: =+I46+I17 -> 0 | J47: =+J46+J17 -> 0 | ... L47: =+L46+L17 -> 5989594.2
A50: Programación y ejecucion mensual por tipo de gasto año 2023, Expresado en Quetzales segundo cuatrimestre 2023
A51: No. | B51: CATEGORIA DE GASTO | C51: MAYO | E51: JUNIO | G51: JULIO | I51: AGOSTO | K51: TOTAL CUATRIMESTRE
C52: PRESUPUESTO | D52: REAL | E52: PRESUPUESTO | F52: REAL | G52: PRESUPUESTO | H52: REAL | I52: PRESUPUESTO | J52: REAL | K52: PRESUPUESTO | L52: REAL
A53: 011 | B53: RECURSO HUMANO | K53: =+C53+E53+G53+I53 -> 0 | L53: =+D53+F53+H53+J53 -> 0
B55: GASTOS DE FUNCIONAMIENTO
A56: 111 | B56: ENERGIA ELECTRICA | K56: =+C56+E56+G56+I56 -> 0 | L56: =+D56+F56+H56+J56 -> 0
A57: 113 | B57: TELEFONIA | K57: =+C57+E57+G57+I57 -> 0 | L57: =+D57+F57+H57+J57 -> 0
A58: 122 | B58: IMPRESIÓN, ENCUADERNACION Y REPRODUCCION | K58: =+C58+E58+G58+I58 -> 0 | L58: =+D58+F58+H58+J58 -> 0
A59: 163 | B59: MANT. Y REP. EQUIPO MEDICO SANITARIO Y DE LAB. | K59: =+C59+E59+G59+I59 -> 0 | L59: =+D59+F59+H59+J59 -> 0
...

Sheet MARZO CTE-5
B8: ÀREA FINANCIERA | K8: CTE-5
A10: UNIDAD DE CIRUGIA CARDIOVASCULAR DE GUATEMALA
A11: 5a. AVENIDA 6-22 ZONA 11
A12: dgunicar@yahoo.es Tel. 24163000
A14: Programación y ejecucion mensual por tipo de gasto año 2023, Expresado en Quetzales primer cuatrimestre 2023
A15: No. | B15: CATEGORIA DE GASTO | C15: ENERO | E15: FEBRERO | G15: MARZO | I15: ABRIL | K15: TOTAL CUATRIMESTRE
C16: PRESUPUESTO | D16: REAL | E16: PRESUPUESTO | F16: REAL | G16: PRESUPUESTO | H16: REAL | I16: PRESUPUESTO | J16: REAL | K16: PRESUPUESTO | L16: REAL
B17: RECURSO HUMANO
A18: 011 | B18: SUELOS Y SALARIOS | C18: 3361148.5 | D18: 2939970.1 | E18: 3361148.5 | F18: 2914006.4 | G18: 3361148.5 | H18: 2948436.8 | K18: =+C18+E18+G18+I18 -> 10083445 | L18: =+D18+F18+H18+J18 -> 8802413.3
B19: CUOTA PATRONAL | H19: 1076452.8 | L19: =+D19+F19+H19+J19 -> 1076452.8
B20: TOTAL RECURSO HUMANO | C20: =SUM(C18:C19) -> 3361148.5 | D20: =SUM(D18:D19) -> 2939970.1 | E20: =SUM(E18:E19) -> 3361148.5 | F20: =SUM(F18:F19) -> 2914006.4 | G20: =SUM(G18:G19) -> 3361148.5 | H20: =SUM(H18:H19) -> 4024889.6 | I20: =SUM(I18:I19) -> 0 | J20: =SUM(J18:J19) -> 0 | ... L20: =SUM(L18:L19) -> 9878866.1
B22: GASTOS DE FUNCIONAMIENTO
A23: 111 | B23: ENERGIA ELECTRICA | C23: 0 | D23: 0 | E23: 88000 | F23: 0 | G23: 88000 | H23: 87425.59 | K23: =+C23+E23+G23+I23 -> 176000 | L23: =+D23+F23+H23+J23 -> 87425.59
A24: 113 | B24: SERVICIO DE INTERNET Y TELEFONIA | C24: 0 | D24: 0 | E24: 11585.06 | F24: 8525.7 | G24: 11585.06 | H24: 11440.41 | K24: =+C24+E24+G24+I24 -> 23170.12 | L24: =+D24+F24+H24+J24 -> 19966.11
A25: 122 | B25: IMPRESIÓN, ENCUADERNACION Y REPRODUCCION | C25: 0 | D25: 0 | E25: 68124.37 | F25: 0 | G25: 0 | H25: 440 | K25: =+C25+E25+G25+I25 -> 68124.37 | L25: =+D25+F25+H25+J25 -> 440
A26: 163 | B26: MANT. Y REP. EQUIPO MEDICO SANITARIO Y DE LAB. | C26: 50000 | D26: 0 | E26: =16335+50000 -> 66335 | F26: 0 | G26: =214550+50000 -> 264550 | H26: 6400.89 | K26: =+C26+E26+G26+I26 -> 380885 | L26: =+D26+F26+H26+J26 -> 6400.89
A27: 168 | B27: MANTENIMIENTO Y REPARACION DE EQUIPO DE COMPUTO | C27: 1000 | D27: 0 | E27: 0 | F27: 0 | G27: 0 | H27: 0 | K27: =+C27+E27+G27+I27 -> 1000 | L27: =+D27+F27+H27+J27 -> 0
A28: 169 | B28: MANT. Y REP. DE OTRAS MAQ. Y EQUIPO | C28: 10000 | D28: 0 | E28: 0 | F28: 0 | G28: 0 | H28: 0 | K28: =+C28+E28+G28+I28 -> 10000 | L28: =+D28+F28+H28+J28 -> 0
A29: 171 | B29: MANT. Y REPARACION DE EDIFICIOS | C29: 10000 | D29: 0 | E29: 0 | F29: 0 | G29: 8140 | H29: 0 | K29: =+C29+E29+G29+I29 -> 18140 | L29: =+D29+F29+H29+J29 -> 0
A30: 174 | B30: MANT. Y REP. DE INSTALACIONES | C30: 15765.66 | D30: 0 | E30: 5765.66 | F30: 5765.66 | G30: 7265.66 | H30: 5765.66 | K30: =+C30+E30+G30+I30 -> 28796.98 | L30: =+D30+F30+H30+J30 -> 11531.32
A31: 182 | B31: SERVICIOS MEDICO-SANITARIOS | C31: 278286 | D31: 0 | E31: 274686 | F31: 50615 | G31: 277086 | H31: 257315 | K31: =+C31+E31+G31+I31 -> 830058 | L31: =+D31+F31+H31+J31 -> 307930
A32: 197 | B32: SERVICIOS DE VIGILANCIA | C32: 0 | D32: 0 | E32: 43200 | F32: 0 | G32: 43200 | H32: 42000 | K32: =+C32+E32+G32+I32 -> 86400 | L32: =+D32+F32+H32+J32 -> 42000
A33: 199 | B33: OTROS SERVICIOS NO PERSONALES | C33: 60838.7 | D33: 0 | E33: 147087.5 | F33: 8200.8 | G33: 48537.5 | H33: 69332.8 | K33: =+C33+E33+G33+I33 -> 256463.7 | L33: =+D33+F33+H33+J33 -> 77533.6
A34: 211 | B34: ALIMENTOS PARA PERSONAS | C34: 37249 | D34: 0 | E34: 47931.75 | F34: 0 | G34: 47931.75 | H34: 59267.75 | K34: =+C34+E34+G34+I34 -> 133112.5 | L34: =+D34+F34+H34+J34 -> 59267.75
A35: 232 | B35: ACABADOS TEXTILES | C35: 0 | D35: 0 | E35: 86640 | F35: 0 | G35: 0 | H35: 0 | K35: =+C35+E35+G35+I35 -> 86640 | L35: =+D35+F35+H35+J35 -> 0
A36: 261 | B36: ELEMENTOS Y COMPUESTOS QUIMICOS | C36: 0 | D36: 0 | E36: 1009687.4 | F36: 62510.51 | G36: 0 | H36: 64391.24 | K36: =+C36+E36+G36+I36 -> 1009687.4 | L36: =+D36+F36+H36+J36 -> 126901.75
A37: 262 | B37: COMBUSTIBLES Y LUBRICANTES | C37: 8000 | D37: 0 | E37: 0 | F37: 0 | G37: 0 | H37: 0 | K37: =+C37+E37+G37+I37 -> 8000 | L37: =+D37+F37+H37+J37 -> 0
A38: 266 | B38: PRODUCTOS MEDICINALES Y FARMACEUTICOS | C38: 0 | D38: 0 | E38: 619212.26 | F38: 0 | G38: 0 | H38: 186614 | K38: =+C38+E38+G38+I38 -> 619212.26 | L38: =+D38+F38+H38+J38 -> 186614
... A45: 297 | B45: UTILES, ACCESORIOS Y MATERIALES ELECTRICOS | C45: 10000 | D45: 0 | E45: 8945.44 | F45: 0 | G45: 0 | H45: 0 | K45: =+C45+E45+G45+I45 -> 18945.44 | L45: =+D45+F45+H45+J45 -> 0
A46: 298 | B46: ACCESORIOS Y REPUESTOS EN GENERAL | C46: 33333.33 | D46: 0 | E46: =33333.33+9801.67 -> 43135 | F46: 0 | G46: 33333.33 | H46: 12500 | K46: =+C46+E46+G46+I46 -> 109801.66 | L46: =+D46+F46+H46+J46 -> 12500
A47: 299 | B47: OTROS MATERIALES Y SUMINISTROS | C47: 19097.08 | D47: 0 | E47: 19097.08 | F47: 0 | G47: 19097.08 | H47: 0 | K47: =+C47+E47+G47+I47 -> 57291.24 | L47: =+D47+F47+H47+J47 -> 0
A48: 323 | B48: EQUIPO MEDICO-SANITARIO Y DE LABORATORIO | C48: 0 | D48: 0 | E48: 0 | F48: 0 | G48: 0 | H48: 0 | K48: =+C48+E48+G48+I48 -> 0 | L48: =+D48+F48+H48+J48 -> 0
B49: TOTAL GASTOS DE FUNCIONAMIENTO | C49: =SUM(C23:C48) -> 552569.77 | D49: =SUM(D23:D48) -> 0 | E49: =SUM(E23:E48) -> 5817527.5 | F49: =SUM(F23:F48) -> 135617.67 | G49: =SUM(G23:G48) -> 848726.38 | H49: =SUM(H23:H48) -> 1618801.8 | I49: =SUM(I23:I48) -> 0 | J49: =SUM(J23:J48) -> 0 | ... L49: =SUM(L23:L48) -> 1754419.4
B50: TOTAL GENERAL | C50: =+C49+C20 -> 3913718.2 | D50: =+D49+D20 -> 2939970.1 | E50: =+E49+E20 -> 9178676 | F50: =+F49+F20 -> 3049624.1 | G50: =+G49+G20 -> 4209874.8 | H50: =+H49+H20 -> 5643691.3 | I50: =+I49+I20 -> 0 | J50: =+J49+J20 -> 0 | ... L50: =+L49+L20 -> 11633286
A53: Programación y ejecucion mensual por tipo de gasto año 2023, Expresado en Quetzales segundo cuatrimestre 2023
A54: No. | B54: CATEGORIA DE GASTO | C54: MAYO | E54: JUNIO | G54: JULIO | I54: AGOSTO | K54: TOTAL CUATRIMESTRE
C55: PRESUPUESTO | D55: REAL | E55: PRESUPUESTO | F55: REAL | G55: PRESUPUESTO | H55: REAL | I55: PRESUPUESTO | J55: REAL | K55: PRESUPUESTO | L55: REAL
A56: 011 | B56: RECURSO HUMANO | K56: =+C56+E56+G56+I56 -> 0 | L56: =+D56+F56+H56+J56 -> 0
B58: GASTOS DE FUNCIONAMIENTO
A59: 111 | B59: ENERGIA ELECTRICA | K59: =+C59+E59+G59+I59 -> 0 | L59: =+D59+F59+H59+J59 -> 0
...

Sheet ABRIL CTE-5
B8: ÀREA FINANCIERA | K8: CTE-5
A10: UNIDAD DE CIRUGIA CARDIOVASCULAR DE GUATEMALA
A11: 5a. AVENIDA 6-22 ZONA 11
A12: dgunicar@yahoo.es Tel. 24163000
A14: Programación y ejecucion mensual por tipo de gasto año 2023, Expresado en Quetzales primer cuatrimestre 2023
A15: No. | B15: CATEGORIA DE GASTO | C15: ENERO | E15: FEBRERO | G15: MARZO | I15: ABRIL | K15: TOTAL CUATRIMESTRE
C16: PRESUPUESTO | D16: REAL | E16: PRESUPUESTO | F16: REAL | G16: PRESUPUESTO | H16: REAL | I16: PRESUPUESTO | J16: REAL | K16: PRESUPUESTO | L16: REAL
B17: RECURSO HUMANO
A18: 011 | B18: SUELOS Y SALARIOS | C18: 3361148.5 | D18: 2939970.1 | E18: 3361148.5 | F18: 2914006.4 | G18: 3361148.5 | H18: 2948436.8 | I18: 3361148.5 | J18: 2929171.3 | K18: =+C18+E18+G18+I18 -> 13444594 | L18: =+D18+F18+H18+J18 -> 11731585
B19: CUOTA PATRONAL | H19: 1076452.8 | J19: 358716.74 | L19: =+D19+F19+H19+J19 -> 1435169.6
B20: TOTAL RECURSO HUMANO | C20: =SUM(C18:C19) -> 3361148.5 | D20: =SUM(D18:D19) -> 2939970.1 | E20: =SUM(E18:E19) -> 3361148.5 | F20: =SUM(F18:F19) -> 2914006.4 | G20: =SUM(G18:G19) -> 3361148.5 | H20: =SUM(H18:H19) -> 4024889.6 | I20: =SUM(I18:I19) -> 3361148.5 | J20: =SUM(J18:J19) -> 3287888 | ... L20: =SUM(L18:L19) -> 13166754
B22: GASTOS DE FUNCIONAMIENTO
A23: 111 | B23: ENERGIA ELECTRICA | C23: 0 | D23: 0 | E23: 88000 | F23: 0 | G23: 88000 | H23: 87425.59 | I23: 88000 | J23: 100265.42 | K23: =+C23+E23+G23+I23 -> 264000 | L23: =+D23+F23+H23+J23 -> 187691.01
A24: 113 | B24: SERVICIO DE INTERNET Y TELEFONIA | C24: 0 | D24: 0 | E24: 11585.06 | F24: 8525.7 | G24: 11585.06 | H24: 11440.41 | I24: 11585.06 | J24: 11412.67 | K24: =+C24+E24+G24+I24 -> 34755.18 | L24: =+D24+F24+H24+J24 -> 31378.78
A25: 122 | B25: IMPRESIÓN, ENCUADERNACION Y REPRODUCCION | C25: 0 | D25: 0 | E25: 68124.37 | F25: 0 | G25: 0 | H25: 440 | I25: 0 | J25: 42472.5 | K25: =+C25+E25+G25+I25 -> 68124.37 | L25: =+D25+F25+H25+J25 -> 42912.5
A26: 163 | B26: MANT. Y REP. EQUIPO MEDICO SANITARIO Y DE LAB. | C26: 50000 | D26: 0 | E26: =16335+50000 -> 66335 | F26: 0 | G26: =214550+50000 -> 264550 | H26: 6400.89 | I26: 50000 | J26: 133312.11 | K26: =+C26+E26+G26+I26 -> 430885 | L26: =+D26+F26+H26+J26 -> 139713
A27: 168 | B27: MANTENIMIENTO Y REPARACION DE EQUIPO DE COMPUTO | C27: 1000 | D27: 0 | E27: 0 | F27: 0 | G27: 0 | H27: 0 | I27: 0 | J27: 0 | K27: =+C27+E27+G27+I27 -> 1000 | L27: =+D27+F27+H27+J27 -> 0
A28: 169 | B28: MANT. Y REP. DE OTRAS MAQ. Y EQUIPO | C28: 10000 | D28: 0 | E28: 0 | F28: 0 | G28: 0 | H28: 0 | I28: 0 | J28: 0 | K28: =+C28+E28+G28+I28 -> 10000 | L28: =+D28+F28+H28+J28 -> 0
A29: 171 | B29: MANT. Y REPARACION DE EDIFICIOS | C29: 10000 | D29: 0 | E29: 0 | F29: 0 | G29: 8140 | H29: 0 | I29: 1320 | J29: 7400 | K29: =+C29+E29+G29+I29 -> 19460 | L29: =+D29+F29+H29+J29 -> 7400
A30: 174 | B30: MANT. Y REP. DE INSTALACIONES | C30: 15765.66 | D30: 0 | E30: 5765.66 | F30: 5765.66 | G30: 7265.66 | H30: 5765.66 | I30: 7265.66 | J30: 5765.66 | K30: =+C30+E30+G30+I30 -> 36062.64 | L30: =+D30+F30+H30+J30 -> 17296.98
A31: 182 | B31: SERVICIOS MEDICO-SANITARIOS | C31: 278286 | D31: 0 | E31: 274686 | F31: 50615 | G31: 277086 | H31: 257315 | I31: 266886 | J31: 288696 | K31: =+C31+E31+G31+I31 -> 1096944 | L31: =+D31+F31+H31+J31 -> 596626
A32: 197 | B32: SERVICIOS DE VIGILANCIA | C32: 0 | D32: 0 | E32: 43200 | F32: 0 | G32: 43200 | H32: 42000 | I32: 43200 | J32: 42000 | K32: =+C32+E32+G32+I32 -> 129600 | L32: =+D32+F32+H32+J32 -> 84000
A33: 199 | B33: OTROS SERVICIOS NO PERSONALES | C33: 60838.7 | D33: 0 | E33: 147087.5 | F33: 8200.8 | G33: 48537.5 | H33: 69332.8 | I33: 48537.5 | J33: 58547.1 | K33: =+C33+E33+G33+I33 -> 305001.2 | L33: =+D33+F33+H33+J33 -> 136080.7
A34: 211 | B34: ALIMENTOS PARA PERSONAS | C34: 37249 | D34: 0 | E34: 47931.75 | F34: 0 | G34: 47931.75 | H34: 59267.75 | I34: 37249 | J34: 51050.5 | K34: =+C34+E34+G34+I34 -> 170361.5 | L34: =+D34+F34+H34+J34 -> 110318.25
A35: 232 | B35: ACABADOS TEXTILES | C35: 0 | D35: 0 | E35: 86640 | F35: 0 | G35: 0 | H35: 0 | I35: 0 | J35: 0 | K35: =+C35+E35+G35+I35 -> 86640 | L35: =+D35+F35+H35+J35 -> 0
A36: 261 | B36: ELEMENTOS Y COMPUESTOS QUIMICOS | C36: 0 | D36: 0 | E36: 1009687.4 | F36: 62510.51 | G36: 0 | H36: 64391.24 | I36: 0 | J36: 162057.62 | K36: =+C36+E36+G36+I36 -> 1009687.4 | L36: =+D36+F36+H36+J36 -> 288959.37
A37: 262 | B37: COMBUSTIBLES Y LUBRICANTES | C37: 8000 | D37: 0 | E37: 0 | F37: 0 | G37: 0 | H37: 0 | I37: 0 | J37: 0 | K37: =+C37+E37+G37+I37 -> 8000 | L37: =+D37+F37+H37+J37 -> 0
A38: 266 | B38: PRODUCTOS MEDICINALES Y FARMACEUTICOS | C38: 0 | D38: 0 | E38: 619212.26 | F38: 0 | G38: 0 | H38: 186614 | I38: 0 | J38: 131300 | K38: =+C38+E38+G38+I38 -> 619212.26 | L38: =+D38+F38+H38+J38 -> 317914
... A45: 297 | B45: UTILES, ACCESORIOS Y MATERIALES ELECTRICOS | C45: 10000 | D45: 0 | E45: 8945.44 | F45: 0 | G45: 0 | H45: 0 | I45: 0 | J45: 16586.2 | K45: =+C45+E45+G45+I45 -> 18945.44 | L45: =+D45+F45+H45+J45 -> 16586.2
A46: 298 | B46: ACCESORIOS Y REPUESTOS EN GENERAL | C46: 33333.33 | D46: 0 | E46: =33333.33+9801.67 -> 43135 | F46: 0 | G46: 33333.33 | H46: 12500 | I46: 33333.33 | J46: 73419.55 | K46: =+C46+E46+G46+I46 -> 143134.99 | L46: =+D46+F46+H46+J46 -> 85919.55
A47: 299 | B47: OTROS MATERIALES Y SUMINISTROS | C47: 19097.08 | D47: 0 | E47: 19097.08 | F47: 0 | G47: 19097.08 | H47: 0 | I47: 19097.08 | J47: 11561.43 | K47: =+C47+E47+G47+I47 -> 76388.32 | L47: =+D47+F47+H47+J47 -> 11561.43
A48: 323 | B48: EQUIPO MEDICO-SANITARIO Y DE LABORATORIO | C48: 0 | D48: 0 | E48: 0 | F48: 0 | G48: 0 | H48: 0 | I48: 0 | J48: 0 | K48: =+C48+E48+G48+I48 -> 0 | L48: =+D48+F48+H48+J48 -> 0
B49: TOTAL GASTOS DE FUNCIONAMIENTO | C49: =SUM(C23:C48) -> 552569.77 | D49: =SUM(D23:D48) -> 0 | E49: =SUM(E23:E48) -> 5817527.5 | F49: =SUM(F23:F48) -> 135617.67 | G49: =SUM(G23:G48) -> 848726.38 | H49: =SUM(H23:H48) -> 1618801.8 | I49: =SUM(I23:I48) -> 606473.63 | J49: =SUM(J23:J48) -> 1614363.4 | ... L49: =SUM(L23:L48) -> 3368782.8
B50: TOTAL GENERAL | C50: =+C49+C20 -> 3913718.2 | D50: =+D49+D20 -> 2939970.1 | E50: =+E49+E20 -> 9178676 | F50: =+F49+F20 -> 3049624.1 | G50: =+G49+G20 -> 4209874.8 | H50: =+H49+H20 -> 5643691.3 | I50: =+I49+I20 -> 3967622.1 | J50: =+J49+J20 -> 4902251.4 | ... L50: =+L49+L20 -> 16535537
A53: Programación y ejecucion mensual por tipo de gasto año 2023, Expresado en Quetzales segundo cuatrimestre 2023
A54: No. | B54: CATEGORIA DE GASTO | C54: MAYO | E54: JUNIO | G54: JULIO | I54: AGOSTO | K54: TOTAL CUATRIMESTRE
C55: PRESUPUESTO | D55: REAL | E55: PRESUPUESTO | F55: REAL | G55: PRESUPUESTO | H55: REAL | I55: PRESUPUESTO | J55: REAL | K55: PRESUPUESTO | L55: REAL
A56: 011 | B56: RECURSO HUMANO | K56: =+C56+E56+G56+I56 -> 0 | L56: =+D56+F56+H56+J56 -> 0
B58: GASTOS DE FUNCIONAMIENTO
A59: 111 | B59: ENERGIA ELECTRICA | K59: =+C59+E59+G59+I59 -> 0 | L59: =+D59+F59+H59+J59 -> 0
...

Sheet ENERO ANEXO A CTE-5
B8: ÀREA FINANCIERA | I8: ANEXO DE CTE-5
A10: UNIDAD DE CIRUGIA CARDIOVASCULAR DE GUATEMALA
A11: 5a. AVENIDA 6-22 ZONA 11
A12: dgunicar@yahoo.es Tel. 24163000
A14: Programación mensual por tipo de gasto año 2018, Expresado en Quetzales primer cuatrimestre 2018
A15: No. | B15: CATEGORIA DE GASTO | C15: ENERO | E15: FEBRERO | G15: MARZO | I15: ABRIL
C16: PRESUPUESTO | D16: REAL | E16: PRESUPUESTO | F16: REAL | G16: PRESUPUESTO | H16: REAL | I16: PRESUPUESTO | J16: REAL
B17: RECURSO HUMANO | C17: 1764858.4 | D17: 1492317.4 | E17: 1764858.4 | F17: 1792563.6 | G17: 1764858.4 | H17: 1578007.9 | I17: 1764858.4 | J17: 1803793.6
B19: GASTOS DE FUNCIONAMIENTO | C19: =+C27+C43 -> 2818474.9 | D19: =+D27+D43 -> 0 | E19: =+E27+E43 -> 2818474.9 | F19: =+F27+F43 -> 67111.02 | G19: =+G27+G43 -> 2818474.9 | H19: =+H27+H43 -> 58543.64 | I19: =+I27+I43 -> 2818474.9 | J19: =+J27+J43 -> 3743927.3
B20: ENERGIA ELECTRICA | C20: 62500 | E20: 62500 | F20: 56112.02 | G20: 62500 | I20: 62500 | J20: 68083.01
B21: TELEFONIA | C21: 7500 | E21: 7500 | F21: 10999 | G21: 7500 | H21: 11011 | I21: 7500 | J21: 10992
B22: IMPRESIÓN, ENCUADERNACION Y REPRODUCCION | C22: 8133.97 | E22: 8133.97 | G22: 8133.97 | I22: 8133.97 | J22: 4358
B23: MANT. Y REP. EQUIPO MEDICO SANITARIO Y DE LAB. | C23: 33333.33 | E23: 33333.33 | G23: 33333.33 | I23: 33333.33 | J23: 45020
B24: SERVICIOS MEDICO-SANITARIOS | C24: 165141.75 | E24: 165141.75 | G24: 165141.75 | H24: 1000 | I24: 165141.75 | J24: 26842.86
B25: SERVICIOS DE VIGILANCIA | C25: 40000 | E25: 40000 | G25: 40000 | I25: 40000 | J25: 76240
B26: OTROS SERVICIOS NO PERSONALES | C26: 26305.03 | E26: 26305.03 | G26: 26305.03 | H26: 46532.64 | I26: 26305.03 | J26: 55063.68
B27: SUMA GASTOS GENERALES | C27: =SUM(C20:C26) -> 342914.08 | D27: =SUM(D20:D26) -> 0 | E27: =SUM(E20:E26) -> 342914.08 | F27: =SUM(F20:F26) -> 67111.02 | G27: =SUM(G20:G26) -> 342914.08 | H27: =SUM(H20:H26) -> 58543.64 | I27: =SUM(I20:I26) -> 342914.08 | J27: =SUM(J20:J26) -> 286599.55
B28: MATERIALES Y SUMINISTROS
B29: ALIMENTOS PARA PERSONAS | C29: 60936.45 | E29: 60936.45 | G29: 60936.45 | I29: 60936.45 | J29: 202940.25
B30: ACABADOS TEXTILES | C30: 600 | E30: 600 | G30: 600 | I30: 600
B31: PRODUCTOS DE PAPEL O CARTON | C31: 945.42 | E31: 945.42 | G31: 945.42 | I31: 945.42
B32: ELEMENTOS Y COMPUESTOS QUIMICOS | C32: 169652.57 | E32: 169652.57 | G32: 169652.57 | I32: 169652.57 | J32: 178282.05
B33: COMBUSTIBLES Y LUBRICANTES | C33: 912 | E33: 912 | G33: 912 | I33: 912
B34: PRODUCTOS MEDICINALES Y FARMACEUTICOS | C34: 427229.65 | E34: 427229.65 | G34: 427229.65 | I34: 427229.65 | J34: 1425199.8
B35: TINTES, PINTURAS Y COLORANTES | C35: 100 | E35: 100 | G35: 100 | I35: 100
B36: PRODUCTOS PLASTICOS, NYLON, VINIL Y PVC | C36: 13579.7 | E36: 13579.7 | G36: 13579.7 | I36: 13579.7 | J36: 75162.24
B37: OTROS PRODUCTOS METALICOS | C37: 310 | E37: 310 | G37: 310 | I37: 310
B38: UTILES DE LIMPIEZA Y PRODUCTOS SANITARIOS | C38: 10809.43 | E38: 10809.43 | G38: 10809.43 | I38: 10809.43 | J38: 14528.6
B39: UTILES MENORES MEDICO QUIRURGICOS Y DE LAB. | C39: 1780006.3 | E39: 1780006.3 | G39: 1780006.3 | I39: 1780006.3 | J39: 1545914.8
B40: UTILES, ACCESORIOS Y MATERIALES ELECTRICOS | C40: 2208.7 | E40: 2208.7 | G40: 2208.7 | I40: 2208.7 | J40: 15300
B41: ACCESORIOS Y REPUESTOS EN GENERAL | C41: 8105.1 | E41: 8105.1 | G41: 8105.1 | I41: 8105.1
B42: OTROS MATERIALES Y SUMINISTROS | C42: 165.5 | E42: 165.5 | G42: 165.5 | I42: 165.5
B43: TOTAL MATERIALES Y SUMINISTROS | C43: =SUM(C29:C42) -> 2475560.8 | D43: =SUM(D29:D42) -> 0 | E43: =SUM(E29:E42) -> 2475560.8 | F43: =SUM(F29:F42) -> 0 | G43: =SUM(G29:G42) -> 2475560.8 | H43: =SUM(H29:H42) -> 0 | I43: =SUM(I29:I42) -> 2475560.8 | J43: =SUM(J29:J42) -> 3457327.8
A46: Programación mensual por tipo de gasto año 2016, Expresado en Quetzales
A47: No. | B47: Categoría de Gasto | C47: Julio | E47: Agosto | G47: Septiembre
B48: Recurso Humano | C48: Pto. | D48: Real | E48: Pto. | F48: Real | G48: Pto. | H48: Real
B51: Gastos de Funcionamiento
B52: detallar cada gasto cargado
A60: TOTALES
A73: Programación mensual por tipo de gasto año 2018, Expresado en Quetzales segundo cuatrimestre 2018
...

Sheet FEBRERO ANEXO A CTE-5
B8: ÀREA FINANCIERA | I8: ANEXO DE CTE-5
A10: UNIDAD DE CIRUGIA CARDIOVASCULAR DE GUATEMALA
A11: 5a. AVENIDA 6-22 ZONA 11
A12: dgunicar@yahoo.es Tel. 24163000
A14: Programación mensual por tipo de gasto año 2018, Expresado en Quetzales primer cuatrimestre 2018
A15: No. | B15: CATEGORIA DE GASTO | C15: ENERO | E15: FEBRERO | G15: MARZO | I15: ABRIL
C16: PRESUPUESTO | D16: REAL | E16: PRESUPUESTO | F16: REAL | G16: PRESUPUESTO | H16: REAL | I16: PRESUPUESTO | J16: REAL
B17: RECURSO HUMANO | C17: 1764858.4 | D17: 1492317.4 | E17: 1764858.4 | F17: 1792563.6 | G17: 1764858.4 | H17: 1578007.9 | I17: 1764858.4 | J17: 1803793.6
B19: GASTOS DE FUNCIONAMIENTO | C19: =+C27+C43 -> 2818474.9 | D19: =+D27+D43 -> 0 | E19: =+E27+E43 -> 2818474.9 | F19: =+F27+F43 -> 67111.02 | G19: =+G27+G43 -> 2818474.9 | H19: =+H27+H43 -> 58543.64 | I19: =+I27+I43 -> 2818474.9 | J19: =+J27+J43 -> 3743927.3
B20: ENERGIA ELECTRICA | C20: 62500 | E20: 62500 | F20: 56112.02 | G20: 62500 | I20: 62500 | J20: 68083.01
B21: TELEFONIA | C21: 7500 | E21: 7500 | F21: 10999 | G21: 7500 | H21: 11011 | I21: 7500 | J21: 10992
B22: IMPRESIÓN, ENCUADERNACION Y REPRODUCCION | C22: 8133.97 | E22: 8133.97 | G22: 8133.97 | I22: 8133.97 | J22: 4358
B23: MANT. Y REP. EQUIPO MEDICO SANITARIO Y DE LAB. | C23: 33333.33 | E23: 33333.33 | G23: 33333.33 | I23: 33333.33 | J23: 45020
B24: SERVICIOS MEDICO-SANITARIOS | C24: 165141.75 | E24: 165141.75 | G24: 165141.75 | H24: 1000 | I24: 165141.75 | J24: 26842.86
B25: SERVICIOS DE VIGILANCIA | C25: 40000 | E25: 40000 | G25: 40000 | I25: 40000 | J25: 76240
B26: OTROS SERVICIOS NO PERSONALES | C26: 26305.03 | E26: 26305.03 | G26: 26305.03 | H26: 46532.64 | I26: 26305.03 | J26: 55063.68
B27: SUMA GASTOS GENERALES | C27: =SUM(C20:C26) -> 342914.08 | D27: =SUM(D20:D26) -> 0 | E27: =SUM(E20:E26) -> 342914.08 | F27: =SUM(F20:F26) -> 67111.02 | G27: =SUM(G20:G26) -> 342914.08 | H27: =SUM(H20:H26) -> 58543.64 | I27: =SUM(I20:I26) -> 342914.08 | J27: =SUM(J20:J26) -> 286599.55
B28: MATERIALES Y SUMINISTROS
B29: ALIMENTOS PARA PERSONAS | C29: 60936.45 | E29: 60936.45 | G29: 60936.45 | I29: 60936.45 | J29: 202940.25
B30: ACABADOS TEXTILES | C30: 600 | E30: 600 | G30: 600 | I30: 600
B31: PRODUCTOS DE PAPEL O CARTON | C31: 945.42 | E31: 945.42 | G31: 945.42 | I31: 945.42
B32: ELEMENTOS Y COMPUESTOS QUIMICOS | C32: 169652.57 | E32: 169652.57 | G32: 169652.57 | I32: 169652.57 | J32: 178282.05
B33: COMBUSTIBLES Y LUBRICANTES | C33: 912 | E33: 912 | G33: 912 | I33: 912
B34: PRODUCTOS MEDICINALES Y FARMACEUTICOS | C34: 427229.65 | E34: 427229.65 | G34: 427229.65 | I34: 427229.65 | J34: 1425199.8
B35: TINTES, PINTURAS Y COLORANTES | C35: 100 | E35: 100 | G35: 100 | I35: 100
B36: PRODUCTOS PLASTICOS, NYLON, VINIL Y PVC | C36: 13579.7 | E36: 13579.7 | G36: 13579.7 | I36: 13579.7 | J36: 75162.24
B37: OTROS PRODUCTOS METALICOS | C37: 310 | E37: 310 | G37: 310 | I37: 310
B38: UTILES DE LIMPIEZA Y PRODUCTOS SANITARIOS | C38: 10809.43 | E38: 10809.43 | G38: 10809.43 | I38: 10809.43 | J38: 14528.6
B39: UTILES MENORES MEDICO QUIRURGICOS Y DE LAB. | C39: 1780006.3 | E39: 1780006.3 | G39: 1780006.3 | I39: 1780006.3 | J39: 1545914.8
B40: UTILES, ACCESORIOS Y MATERIALES ELECTRICOS | C40: 2208.7 | E40: 2208.7 | G40: 2208.7 | I40: 2208.7 | J40: 15300
B41: ACCESORIOS Y REPUESTOS EN GENERAL | C41: 8105.1 | E41: 8105.1 | G41: 8105.1 | I41: 8105.1
B42: OTROS MATERIALES Y SUMINISTROS | C42: 165.5 | E42: 165.5 | G42: 165.5 | I42: 165.5
B43: TOTAL MATERIALES Y SUMINISTROS | C43: =SUM(C29:C42) -> 2475560.8 | D43: =SUM(D29:D42) -> 0 | E43: =SUM(E29:E42) -> 2475560.8 | F43: =SUM(F29:F42) -> 0 | G43: =SUM(G29:G42) -> 2475560.8 | H43: =SUM(H29:H42) -> 0 | I43: =SUM(I29:I42) -> 2475560.8 | J43: =SUM(J29:J42) -> 3457327.8
A46: Programación mensual por tipo de gasto año 2016, Expresado en Quetzales
A47: No. | B47: Categoría de Gasto | C47: Julio | E47: Agosto | G47: Septiembre
B48: Recurso Humano | C48: Pto. | D48: Real | E48: Pto. | F48: Real | G48: Pto. | H48: Real
B51: Gastos de Funcionamiento
B52: detallar cada gasto cargado
A60: TOTALES
A73: Programación mensual por tipo de gasto año 2018, Expresado en Quetzales segundo cuatrimestre 2018
...

Sheet MARZO ANEXO A CTE-5
B8: ÀREA FINANCIERA | I8: ANEXO DE CTE-5
A10: UNIDAD DE CIRUGIA CARDIOVASCULAR DE GUATEMALA
A11: 5a. AVENIDA 6-22 ZONA 11
A12: dgunicar@yahoo.es Tel. 24163000
A14: Programación mensual por tipo de gasto año 2018, Expresado en Quetzales primer cuatrimestre 2018
A15: No. | B15: CATEGORIA DE GASTO | C15: ENERO | E15: FEBRERO | G15: MARZO | I15: ABRIL
C16: PRESUPUESTO | D16: REAL | E16: PRESUPUESTO | F16: REAL | G16: PRESUPUESTO | H16: REAL | I16: PRESUPUESTO | J16: REAL
B17: RECURSO HUMANO | C17: 1764858.4 | D17: 1492317.4 | E17: 1764858.4 | F17: 1792563.6 | G17: 1764858.4 | H17: 1578007.9 | I17: 1764858.4 | J17: 1803793.6
B19: GASTOS DE FUNCIONAMIENTO | C19: =+C27+C43 -> 2818474.9 | D19: =+D27+D43 -> 0 | E19: =+E27+E43 -> 2818474.9 | F19: =+F27+F43 -> 67111.02 | G19: =+G27+G43 -> 2818474.9 | H19: =+H27+H43 -> 58543.64 | I19: =+I27+I43 -> 2818474.9 | J19: =+J27+J43 -> 3743927.3
B20: ENERGIA ELECTRICA | C20: 62500 | E20: 62500 | F20: 56112.02 | G20: 62500 | I20: 62500 | J20: 68083.01
B21: TELEFONIA | C21: 7500 | E21: 7500 | F21: 10999 | G21: 7500 | H21: 11011 | I21: 7500 | J21: 10992
B22: IMPRESIÓN, ENCUADERNACION Y REPRODUCCION | C22: 8133.97 | E22: 8133.97 | G22: 8133.97 | I22: 8133.97 | J22: 4358
B23: MANT. Y REP. EQUIPO MEDICO SANITARIO Y DE LAB. | C23: 33333.33 | E23: 33333.33 | G23: 33333.33 | I23: 33333.33 | J23: 45020
B24: SERVICIOS MEDICO-SANITARIOS | C24: 165141.75 | E24: 165141.75 | G24: 165141.75 | H24: 1000 | I24: 165141.75 | J24: 26842.86
B25: SERVICIOS DE VIGILANCIA | C25: 40000 | E25: 40000 | G25: 40000 | I25: 40000 | J25: 76240
B26: OTROS SERVICIOS NO PERSONALES | C26: 26305.03 | E26: 26305.03 | G26: 26305.03 | H26: 46532.64 | I26: 26305.03 | J26: 55063.68
B27: SUMA GASTOS GENERALES | C27: =SUM(C20:C26) -> 342914.08 | D27: =SUM(D20:D26) -> 0 | E27: =SUM(E20:E26) -> 342914.08 | F27: =SUM(F20:F26) -> 67111.02 | G27: =SUM(G20:G26) -> 342914.08 | H27: =SUM(H20:H26) -> 58543.64 | I27: =SUM(I20:I26) -> 342914.08 | J27: =SUM(J20:J26) -> 286599.55
B28: MATERIALES Y SUMINISTROS
B29: ALIMENTOS PARA PERSONAS | C29: 60936.45 | E29: 60936.45 | G29: 60936.45 | I29: 60936.45 | J29: 202940.25
B30: ACABADOS TEXTILES | C30: 600 | E30: 600 | G30: 600 | I30: 600
B31: PRODUCTOS DE PAPEL O CARTON | C31: 945.42 | E31: 945.42 | G31: 945.42 | I31: 945.42
B32: ELEMENTOS Y COMPUESTOS QUIMICOS | C32: 169652.57 | E32: 169652.57 | G32: 169652.57 | I32: 169652.57 | J32: 178282.05
B33: COMBUSTIBLES Y LUBRICANTES | C33: 912 | E33: 912 | G33: 912 | I33: 912
B34: PRODUCTOS MEDICINALES Y FARMACEUTICOS | C34: 427229.65 | E34: 427229.65 | G34: 427229.65 | I34: 427229.65 | J34: 1425199.8
B35: TINTES, PINTURAS Y COLORANTES | C35: 100 | E35: 100 | G35: 100 | I35: 100
B36: PRODUCTOS PLASTICOS, NYLON, VINIL Y PVC | C36: 13579.7 | E36: 13579.7 | G36: 13579.7 | I36: 13579.7 | J36: 75162.24
B37: OTROS PRODUCTOS METALICOS | C37: 310 | E37: 310 | G37: 310 | I37: 310
B38: UTILES DE LIMPIEZA Y PRODUCTOS SANITARIOS | C38: 10809.43 | E38: 10809.43 | G38: 10809.43 | I38: 10809.43 | J38: 14528.6
B39: UTILES MENORES MEDICO QUIRURGICOS Y DE LAB. | C39: 1780006.3 | E39: 1780006.3 | G39: 1780006.3 | I39: 1780006.3 | J39: 1545914.8
B40: UTILES, ACCESORIOS Y MATERIALES ELECTRICOS | C40: 2208.7 | E40: 2208.7 | G40: 2208.7 | I40: 2208.7 | J40: 15300
B41: ACCESORIOS Y REPUESTOS EN GENERAL | C41: 8105.1 | E41: 8105.1 | G41: 8105.1 | I41: 8105.1
B42: OTROS MATERIALES Y SUMINISTROS | C42: 165.5 | E42: 165.5 | G42: 165.5 | I42: 165.5
B43: TOTAL MATERIALES Y SUMINISTROS | C43: =SUM(C29:C42) -> 2475560.8 | D43: =SUM(D29:D42) -> 0 | E43: =SUM(E29:E42) -> 2475560.8 | F43: =SUM(F29:F42) -> 0 | G43: =SUM(G29:G42) -> 2475560.8 | H43: =SUM(H29:H42) -> 0 | I43: =SUM(I29:I42) -> 2475560.8 | J43: =SUM(J29:J42) -> 3457327.8
A46: Programación mensual por tipo de gasto año 2016, Expresado en Quetzales
A47: No. | B47: Categoría de Gasto | C47: Julio | E47: Agosto | G47: Septiembre
B48: Recurso Humano | C48: Pto. | D48: Real | E48: Pto. | F48: Real | G48: Pto. | H48: Real
B51: Gastos de Funcionamiento
B52: detallar cada gasto cargado
A60: TOTALES
A73: Programación mensual por tipo de gasto año 2018, Expresado en Quetzales segundo cuatrimestre 2018
...

Sheet ABRIL ANEXO A CTE-5
B8: ÀREA FINANCIERA | I8: ANEXO DE CTE-5
A10: UNIDAD DE CIRUGIA CARDIOVASCULAR DE GUATEMALA
A11: 5a. AVENIDA 6-22 ZONA 11
A12: dgunicar@yahoo.es Tel. 24163000
A14: Programación mensual por tipo de gasto año 2018, Expresado en Quetzales primer cuatrimestre 2018
A15: No. | B15: CATEGORIA DE GASTO | C15: ENERO | E15: FEBRERO | G15: MARZO | I15: ABRIL
C16: PRESUPUESTO | D16: REAL | E16: PRESUPUESTO | F16: REAL | G16: PRESUPUESTO | H16: REAL | I16: PRESUPUESTO | J16: REAL
B17: RECURSO HUMANO | C17: 1764858.4 | D17: 1492317.4 | E17: 1764858.4 | F17: 1792563.6 | G17: 1764858.4 | H17: 1578007.9 | I17: 1764858.4 | J17: 1803793.6
B19: GASTOS DE FUNCIONAMIENTO | C19: =+C27+C43 -> 2818474.9 | D19: =+D27+D43 -> 0 | E19: =+E27+E43 -> 2818474.9 | F19: =+F27+F43 -> 67111.02 | G19: =+G27+G43 -> 2818474.9 | H19: =+H27+H43 -> 58543.64 | I19: =+I27+I43 -> 2818474.9 | J19: =+J27+J43 -> 3743927.3
B20: ENERGIA ELECTRICA | C20: 62500 | E20: 62500 | F20: 56112.02 | G20: 62500 | I20: 62500 | J20: 68083.01
B21: TELEFONIA | C21: 7500 | E21: 7500 | F21: 10999 | G21: 7500 | H21: 11011 | I21: 7500 | J21: 10992
B22: IMPRESIÓN, ENCUADERNACION Y REPRODUCCION | C22: 8133.97 | E22: 8133.97 | G22: 8133.97 | I22: 8133.97 | J22: 4358
B23: MANT. Y REP. EQUIPO MEDICO SANITARIO Y DE LAB. | C23: 33333.33 | E23: 33333.33 | G23: 33333.33 | I23: 33333.33 | J23: 45020
B24: SERVICIOS MEDICO-SANITARIOS | C24: 165141.75 | E24: 165141.75 | G24: 165141.75 | H24: 1000 | I24: 165141.75 | J24: 26842.86
B25: SERVICIOS DE VIGILANCIA | C25: 40000 | E25: 40000 | G25: 40000 | I25: 40000 | J25: 76240
B26: OTROS SERVICIOS NO PERSONALES | C26: 26305.03 | E26: 26305.03 | G26: 26305.03 | H26: 46532.64 | I26: 26305.03 | J26: 55063.68
B27: SUMA GASTOS GENERALES | C27: =SUM(C20:C26) -> 342914.08 | D27: =SUM(D20:D26) -> 0 | E27: =SUM(E20:E26) -> 342914.08 | F27: =SUM(F20:F26) -> 67111.02 | G27: =SUM(G20:G26) -> 342914.08 | H27: =SUM(H20:H26) -> 58543.64 | I27: =SUM(I20:I26) -> 342914.08 | J27: =SUM(J20:J26) -> 286599.55
B28: MATERIALES Y SUMINISTROS
B29: ALIMENTOS PARA PERSONAS | C29: 60936.45 | E29: 60936.45 | G29: 60936.45 | I29: 60936.45 | J29: 202940.25
B30: ACABADOS TEXTILES | C30: 600 | E30: 600 | G30: 600 | I30: 600
B31: PRODUCTOS DE PAPEL O CARTON | C31: 945.42 | E31: 945.42 | G31: 945.42 | I31: 945.42
B32: ELEMENTOS Y COMPUESTOS QUIMICOS | C32: 169652.57 | E32: 169652.57 | G32: 169652.57 | I32: 169652.57 | J32: 178282.05
B33: COMBUSTIBLES Y LUBRICANTES | C33: 912 | E33: 912 | G33: 912 | I33: 912
B34: PRODUCTOS MEDICINALES Y FARMACEUTICOS | C34: 427229.65 | E34: 427229.65 | G34: 427229.65 | I34: 427229.65 | J34: 1425199.8
B35: TINTES, PINTURAS Y COLORANTES | C35: 100 | E35: 100 | G35: 100 | I35: 100
B36: PRODUCTOS PLASTICOS, NYLON, VINIL Y PVC | C36: 13579.7 | E36: 13579.7 | G36: 13579.7 | I36: 13579.7 | J36: 75162.24
B37: OTROS PRODUCTOS METALICOS | C37: 310 | E37: 310 | G37: 310 | I37: 310
B38: UTILES DE LIMPIEZA Y PRODUCTOS SANITARIOS | C38: 10809.43 | E38: 10809.43 | G38: 10809.43 | I38: 10809.43 | J38: 14528.6
B39: UTILES MENORES MEDICO QUIRURGICOS Y DE LAB. | C39: 1780006.3 | E39: 1780006.3 | G39: 1780006.3 | I39: 1780006.3 | J39: 1545914.8
B40: UTILES, ACCESORIOS Y MATERIALES ELECTRICOS | C40: 2208.7 | E40: 2208.7 | G40: 2208.7 | I40: 2208.7 | J40: 15300
B41: ACCESORIOS Y REPUESTOS EN GENERAL | C41: 8105.1 | E41: 8105.1 | G41: 8105.1 | I41: 8105.1
B42: OTROS MATERIALES Y SUMINISTROS | C42: 165.5 | E42: 165.5 | G42: 165.5 | I42: 165.5
B43: TOTAL MATERIALES Y SUMINISTROS | C43: =SUM(C29:C42) -> 2475560.8 | D43: =SUM(D29:D42) -> 0 | E43: =SUM(E29:E42) -> 2475560.8 | F43: =SUM(F29:F42) -> 0 | G43: =SUM(G29:G42) -> 2475560.8 | H43: =SUM(H29:H42) -> 0 | I43: =SUM(I29:I42) -> 2475560.8 | J43: =SUM(J29:J42) -> 3457327.8
A46: Programación mensual por tipo de gasto año 2016, Expresado en Quetzales
A47: No. | B47: Categoría de Gasto | C47: Julio | E47: Agosto | G47: Septiembre
B48: Recurso Humano | C48: Pto. | D48: Real | E48: Pto. | F48: Real | G48: Pto. | H48: Real
B51: Gastos de Funcionamiento
B52: detallar cada gasto cargado
A60: TOTALES
A73: Programación mensual por tipo de gasto año 2018, Expresado en Quetzales segundo cuatrimestre 2018
...

Sheet ENERO CTE-7
B7: ÀREA FINANCIERA | J7: CTE-7
A9: UNIDAD DE CIRUGIA CARDIOVASCULAR DE GUATEMALA
A10: 5a. AVENIDA 6-22 ZONA 11
A11: CORREO ELECTRÓNICO Y TELÉFONO
A12: dgunicar@yahoo.es Tel. 24163000
A14: Ejecucion de avance fìnanciero programado-ejecutado por categoria del gasto primer cuatrimestre 2023
A16: Categoría del gasto | B16: Enero | D16: Febrero | F16: Marzo | H16: Abril | J16: Totales
B17: Presupuestado | C17: Ejecutado | D17: Presupuestado | E17: Ejecutado | F17: Presupuestado | G17: Ejecutado | H17: Presupuestado | I17: Ejecutado | J17: Presupuestado | K17: Ejecutado
A18: Recurso Humano | B18: 3361148.5 | C18: 2939970.1 | J18: =+B18+D18+F18+H18 -> 3361148.5 | K18: =+C18+E18+G18+I18 -> 2939970.1
A19: Gastos de Funcionamiento | B19: 552569.77 | J19: =+B19+D19+F19+H19 -> 552569.77 | K19: =+C19+E19+G19+I19 -> 0
A20: Propiedad planta y equipo | J20: =+B20+D20+F20+H20 -> 0 | K20: =+C20+E20+G20+I20 -> 0
A21: TOTAL | B21: =SUM(B18:B20) -> 3913718.2 | C21: =SUM(C18:C20) -> 2939970.1 | D21: =SUM(D18:D20) -> 0 | E21: =SUM(E18:E20) -> 0 | F21: =SUM(F18:F20) -> 0 | G21: =SUM(G18:G20) -> 0 | H21: =SUM(H18:H20) -> 0 | I21: =SUM(I18:I20) -> 0 | ... K21: =SUM(K18:K20) -> 2939970.1
A23: Ejecucion de avance fìnanciero programado-ejecutado por categoria del gasto segundo cuatrimestre 2023
A25: Categoría del gasto | B25: Mayo | D25: Junio | F25: Julio | H25: Agosto | J25: Totales
B26: Presupuestado | C26: Ejecutado | D26: Presupuestado | E26: Ejecutado | F26: Presupuestado | G26: Ejecutado | H26: Presupuestado | I26: Ejecutado | J26: Presupuestado | K26: Ejecutado
A27: Recurso Humano | J27: =+B27+D27+F27+H27 -> 0 | K27: =+C27+E27+G27+I27 -> 0
A28: Gastos de Funcionamiento | J28: =+B28+D28+F28+H28 -> 0 | K28: =+C28+E28+G28+I28 -> 0
A29: Propiedad planta y equipo | J29: =+B29+D29+F29+H29 -> 0 | K29: =+C29+E29+G29+I29 -> 0
A30: TOTAL | B30: =SUM(B27:B29) -> 0 | C30: =SUM(C27:C29) -> 0 | D30: =SUM(D27:D29) -> 0 | E30: =SUM(E27:E29) -> 0 | F30: =SUM(F27:F29) -> 0 | G30: =SUM(G27:G29) -> 0 | H30: =SUM(H27:H29) -> 0 | I30: =SUM(I27:I29) -> 0 | ... K30: =SUM(K27:K29) -> 0
A33: Ejecucion de avance fìnanciero programado-ejecutado por categoria del gasto tercer cuatrimestre 2023
A35: Categoría del gasto | B35: Septiembre | D35: Octubre | F35: Noviembre | H35: Diciembre | J35: Totales
B36: Presupuestado | C36: Ejecutado | D36: Presupuestado | E36: Ejecutado | F36: Presupuestado | G36: Ejecutado | H36: Presupuestado | I36: Ejecutado | J36: Presupuestado | K36: Ejecutado
A37: Recurso Humano | J37: =+B37+D37+F37+H37 -> 0 | K37: =+C37+E37+G37+I37 -> 0
A38: Gastos de Funcionamiento | J38: =+B38+D38+F38+H38 -> 0 | K38: =+C38+E38+G38+I38 -> 0
A39: Propiedad Planta y Equipo | J39: =+B39+D39+F39+H39 -> 0 | K39: =+C39+E39+G39+I39 -> 0
A40: TOTAL | B40: =SUM(B37:B39) -> 0 | C40: =SUM(C37:C39) -> 0 | D40: =SUM(D37:D39) -> 0 | E40: =SUM(E37:E39) -> 0 | F40: =SUM(F37:F39) -> 0 | G40: =SUM(G37:G39) -> 0 | H40: =SUM(H37:H39) -> 0 | I40: =SUM(I37:I39) -> 0 | ... K40: =SUM(K37:K39) -> 0
A44: Resumen año 2023
A45: Categoría del gasto | B45: año 2023
B46: Presupuestado | C46: Ejecutado
A47: Recurso Humano | B47: =+J18+J27+J37 -> 3361148.5 | C47: =+K18+K27+K37 -> 2939970.1
A48: Gastos de Funcionamiento | B48: =+J19+J28+J38 -> 552569.77 | C48: =+K19+K28+K38 -> 0
A49: Propiedad Planta y Equipo | B49: =+J39+J29+J20 -> 0 | C49: =K39+K29+K20 -> 0
A50: TOTAL | B50: =SUM(B47:B49) -> 3913718.2 | C50: =SUM(C47:C49) -> 2939970.1
A78: Elaborado por: | C78: ___________________________ | F78: Autorizado por: | H78: ___________________________________
C79: Víctor Cresencio Reyes Porres | H79: Dr. Walter Antonio Mazariegos Samayoa
C80: Jefe de Contabilidad | H80: Director General
A81: Fecha: | C81: 10 de febrero 2023

Sheet FEBRERO CTE-7
B7: ÀREA FINANCIERA | J7: CTE-7
A9: UNIDAD DE CIRUGIA CARDIOVASCULAR DE GUATEMALA
A10: 5a. AVENIDA 6-22 ZONA 11
A11: CORREO ELECTRÓNICO Y TELÉFONO
A12: dgunicar@yahoo.es Tel. 24163000
A14: Ejecucion de avance fìnanciero programado-ejecutado por categoria del gasto primer cuatrimestre 2023
A16: Categoría del gasto | B16: Enero | D16: Febrero | F16: Marzo | H16: Abril | J16: Totales
B17: Presupuestado | C17: Ejecutado | D17: Presupuestado | E17: Ejecutado | F17: Presupuestado | G17: Ejecutado | H17: Presupuestado | I17: Ejecutado | J17: Presupuestado | K17: Ejecutado
A18: Recurso Humano | B18: 3361148.5 | C18: 2939970.1 | D18: 3361148.5 | E18: 2914006.4 | J18: =+B18+D18+F18+H18 -> 6722296.9 | K18: =+C18+E18+G18+I18 -> 5853976.5
A19: Gastos de Funcionamiento | B19: 552569.77 | D19: 5817527.5 | E19: 135617.67 | J19: =+B19+D19+F19+H19 -> 6370097.3 | K19: =+C19+E19+G19+I19 -> 135617.67
A20: Propiedad planta y equipo | J20: =+B20+D20+F20+H20 -> 0 | K20: =+C20+E20+G20+I20 -> 0
A21: TOTAL | B21: =SUM(B18:B20) -> 3913718.2 | C21: =SUM(C18:C20) -> 2939970.1 | D21: =SUM(D18:D20) -> 9178676 | E21: =SUM(E18:E20) -> 3049624.1 | F21: =SUM(F18:F20) -> 0 | G21: =SUM(G18:G20) -> 0 | H21: =SUM(H18:H20) -> 0 | I21: =SUM(I18:I20) -> 0 | ... K21: =SUM(K18:K20) -> 5989594.2
A23: Ejecucion de avance fìnanciero programado-ejecutado por categoria del gasto segundo cuatrimestre 2023
A25: Categoría del gasto | B25: Mayo | D25: Junio | F25: Julio | H25: Agosto | J25: Totales
B26: Presupuestado | C26: Ejecutado | D26: Presupuestado | E26: Ejecutado | F26: Presupuestado | G26: Ejecutado | H26: Presupuestado | I26: Ejecutado | J26: Presupuestado | K26: Ejecutado
A27: Recurso Humano | J27: =+B27+D27+F27+H27 -> 0 | K27: =+C27+E27+G27+I27 -> 0
A28: Gastos de Funcionamiento | J28: =+B28+D28+F28+H28 -> 0 | K28: =+C28+E28+G28+I28 -> 0
A29: Propiedad planta y equipo | J29: =+B29+D29+F29+H29 -> 0 | K29: =+C29+E29+G29+I29 -> 0
A30: TOTAL | B30: =SUM(B27:B29) -> 0 | C30: =SUM(C27:C29) -> 0 | D30: =SUM(D27:D29) -> 0 | E30: =SUM(E27:E29) -> 0 | F30: =SUM(F27:F29) -> 0 | G30: =SUM(G27:G29) -> 0 | H30: =SUM(H27:H29) -> 0 | I30: =SUM(I27:I29) -> 0 | ... K30: =SUM(K27:K29) -> 0
A33: Ejecucion de avance fìnanciero programado-ejecutado por categoria del gasto tercer cuatrimestre 2023
A35: Categoría del gasto | B35: Septiembre | D35: Octubre | F35: Noviembre | H35: Diciembre | J35: Totales
B36: Presupuestado | C36: Ejecutado | D36: Presupuestado | E36: Ejecutado | F36: Presupuestado | G36: Ejecutado | H36: Presupuestado | I36: Ejecutado | J36: Presupuestado | K36: Ejecutado
A37: Recurso Humano | J37: =+B37+D37+F37+H37 -> 0 | K37: =+C37+E37+G37+I37 -> 0
A38: Gastos de Funcionamiento | J38: =+B38+D38+F38+H38 -> 0 | K38: =+C38+E38+G38+I38 -> 0
A39: Propiedad Planta y Equipo | J39: =+B39+D39+F39+H39 -> 0 | K39: =+C39+E39+G39+I39 -> 0
A40: TOTAL | B40: =SUM(B37:B39) -> 0 | C40: =SUM(C37:C39) -> 0 | D40: =SUM(D37:D39) -> 0 | E40: =SUM(E37:E39) -> 0 | F40: =SUM(F37:F39) -> 0 | G40: =SUM(G37:G39) -> 0 | H40: =SUM(H37:H39) -> 0 | I40: =SUM(I37:I39) -> 0 | ... K40: =SUM(K37:K39) -> 0
A44: Resumen año 2023
A45: Categoría del gasto | B45: año 2023
B46: Presupuestado | C46: Ejecutado
A47: Recurso Humano | B47: =+J18+J27+J37 -> 6722296.9 | C47: =+K18+K27+K37 -> 5853976.5
A48: Gastos de Funcionamiento | B48: =+J19+J28+J38 -> 6370097.3 | C48: =+K19+K28+K38 -> 135617.67
A49: Propiedad Planta y Equipo | B49: =+J39+J29+J20 -> 0 | C49: =K39+K29+K20 -> 0
A50: TOTAL | B50: =SUM(B47:B49) -> 13092394 | C50: =SUM(C47:C49) -> 5989594.2
A74: Elaborado por: | C74: ___________________________ | F74: Autorizado por: | H74: ___________________________________
C75: Víctor Cresencio Reyes Porres | H75: Dr. Walter Antonio Mazariegos Samayoa
C76: Jefe de Contabilidad | H76: Director General
A77: Fecha: | C77: 10 de marzo 2023

Sheet MARZO CTE-7
B7: ÀREA FINANCIERA | J7: CTE-7
A9: UNIDAD DE CIRUGIA CARDIOVASCULAR DE GUATEMALA
A10: 5a. AVENIDA 6-22 ZONA 11
A11: CORREO ELECTRÓNICO Y TELÉFONO
A12: dgunicar@yahoo.es Tel. 24163000
A14: Ejecucion de avance fìnanciero programado-ejecutado por categoria del gasto primer cuatrimestre 2023
A16: Categoría del gasto | B16: Enero | D16: Febrero | F16: Marzo | H16: Abril | J16: Totales
B17: Presupuestado | C17: Ejecutado | D17: Presupuestado | E17: Ejecutado | F17: Presupuestado | G17: Ejecutado | H17: Presupuestado | I17: Ejecutado | J17: Presupuestado | K17: Ejecutado
A18: Recurso Humano | B18: 3361148.5 | C18: 2939970.1 | D18: 3361148.5 | E18: 2914006.4 | F18: 3361148.5 | G18: 4024889.6 | J18: =+B18+D18+F18+H18 -> 10083445 | K18: =+C18+E18+G18+I18 -> 9878866.1
A19: Gastos de Funcionamiento | B19: 552569.77 | D19: 5817527.5 | E19: 135617.67 | F19: 848726.38 | G19: 1618801.8 | J19: =+B19+D19+F19+H19 -> 7218823.6 | K19: =+C19+E19+G19+I19 -> 1754419.4
A20: Propiedad planta y equipo | J20: =+B20+D20+F20+H20 -> 0 | K20: =+C20+E20+G20+I20 -> 0
A21: TOTAL | B21: =SUM(B18:B20) -> 3913718.2 | C21: =SUM(C18:C20) -> 2939970.1 | D21: =SUM(D18:D20) -> 9178676 | E21: =SUM(E18:E20) -> 3049624.1 | F21: =SUM(F18:F20) -> 4209874.9 | G21: =SUM(G18:G20) -> 5643691.3 | H21: =SUM(H18:H20) -> 0 | I21: =SUM(I18:I20) -> 0 | ... K21: =SUM(K18:K20) -> 11633286
A23: Ejecucion de avance fìnanciero programado-ejecutado por categoria del gasto segundo cuatrimestre 2023
A25: Categoría del gasto | B25: Mayo | D25: Junio | F25: Julio | H25: Agosto | J25: Totales
B26: Presupuestado | C26: Ejecutado | D26: Presupuestado | E26: Ejecutado | F26: Presupuestado | G26: Ejecutado | H26: Presupuestado | I26: Ejecutado | J26: Presupuestado | K26: Ejecutado
A27: Recurso Humano | J27: =+B27+D27+F27+H27 -> 0 | K27: =+C27+E27+G27+I27 -> 0
A28: Gastos de Funcionamiento | J28: =+B28+D28+F28+H28 -> 0 | K28: =+C28+E28+G28+I28 -> 0
A29: Propiedad planta y equipo | J29: =+B29+D29+F29+H29 -> 0 | K29: =+C29+E29+G29+I29 -> 0
A30: TOTAL | B30: =SUM(B27:B29) -> 0 | C30: =SUM(C27:C29) -> 0 | D30: =SUM(D27:D29) -> 0 | E30: =SUM(E27:E29) -> 0 | F30: =SUM(F27:F29) -> 0 | G30: =SUM(G27:G29) -> 0 | H30: =SUM(H27:H29) -> 0 | I30: =SUM(I27:I29) -> 0 | ... K30: =SUM(K27:K29) -> 0
A33: Ejecucion de avance fìnanciero programado-ejecutado por categoria del gasto tercer cuatrimestre 2023
A35: Categoría del gasto | B35: Septiembre | D35: Octubre | F35: Noviembre | H35: Diciembre | J35: Totales
B36: Presupuestado | C36: Ejecutado | D36: Presupuestado | E36: Ejecutado | F36: Presupuestado | G36: Ejecutado | H36: Presupuestado | I36: Ejecutado | J36: Presupuestado | K36: Ejecutado
A37: Recurso Humano | J37: =+B37+D37+F37+H37 -> 0 | K37: =+C37+E37+G37+I37 -> 0
A38: Gastos de Funcionamiento | J38: =+B38+D38+F38+H38 -> 0 | K38: =+C38+E38+G38+I38 -> 0
A39: Propiedad Planta y Equipo | J39: =+B39+D39+F39+H39 -> 0 | K39: =+C39+E39+G39+I39 -> 0
A40: TOTAL | B40: =SUM(B37:B39) -> 0 | C40: =SUM(C37:C39) -> 0 | D40: =SUM(D37:D39) -> 0 | E40: =SUM(E37:E39) -> 0 | F40: =SUM(F37:F39) -> 0 | G40: =SUM(G37:G39) -> 0 | H40: =SUM(H37:H39) -> 0 | I40: =SUM(I37:I39) -> 0 | ... K40: =SUM(K37:K39) -> 0
A44: Resumen año 2023
A45: Categoría del gasto | B45: año 2023
B46: Presupuestado | C46: Ejecutado
A47: Recurso Humano | B47: =+J18+J27+J37 -> 10083445 | C47: =+K18+K27+K37 -> 9878866.1
A48: Gastos de Funcionamiento | B48: =+J19+J28+J38 -> 7218823.6 | C48: =+K19+K28+K38 -> 1754419.4
A49: Propiedad Planta y Equipo | B49: =+J39+J29+J20 -> 0 | C49: =K39+K29+K20 -> 0
A50: TOTAL | B50: =SUM(B47:B49) -> 17302269 | C50: =SUM(C47:C49) -> 11633286
A74: Elaborado por: | C74: ___________________________ | F74: Autorizado por: | H74: ___________________________________
C75: Víctor Cresencio Reyes Porres | H75: Dr. Walter Antonio Mazariegos Samayoa
C76: Jefe de Contabilidad | H76: Director General
A77: Fecha: | C77: 10 de abril 2023

Sheet ABRIL CTE-7
B7: ÀREA FINANCIERA | J7: CTE-7
A9: UNIDAD DE CIRUGIA CARDIOVASCULAR DE GUATEMALA
A10: 5a. AVENIDA 6-22 ZONA 11
A11: CORREO ELECTRÓNICO Y TELÉFONO
A12: dgunicar@yahoo.es Tel. 24163000
A14: Ejecucion de avance fìnanciero programado-ejecutado por categoria del gasto primer cuatrimestre 2023
A16: Categoría del gasto | B16: Enero | D16: Febrero | F16: Marzo | H16: Abril | J16: Totales
B17: Presupuestado | C17: Ejecutado | D17: Presupuestado | E17: Ejecutado | F17: Presupuestado | G17: Ejecutado | H17: Presupuestado | I17: Ejecutado | J17: Presupuestado | K17: Ejecutado
A18: Recurso Humano | B18: 3361148.5 | C18: 2939970.1 | D18: 3361148.5 | E18: 2914006.4 | F18: 3361148.5 | G18: 4024889.6 | H18: 3361148.5 | I18: =2929171.29+358716.74 -> 3287888 | J18: =+B18+D18+F18+H18 -> 13444594 | K18: =+C18+E18+G18+I18 -> 13166754
A19: Gastos de Funcionamiento | B19: 552569.77 | D19: 5817527.5 | E19: 135617.67 | F19: 848726.38 | G19: 1618801.8 | H19: 606473.63 | I19: 1614363.4 | J19: =+B19+D19+F19+H19 -> 7825297.3 | K19: =+C19+E19+G19+I19 -> 3368782.8
A20: Propiedad planta y equipo | J20: =+B20+D20+F20+H20 -> 0 | K20: =+C20+E20+G20+I20 -> 0
A21: TOTAL | B21: =SUM(B18:B20) -> 3913718.2 | C21: =SUM(C18:C20) -> 2939970.1 | D21: =SUM(D18:D20) -> 9178676 | E21: =SUM(E18:E20) -> 3049624.1 | F21: =SUM(F18:F20) -> 4209874.9 | G21: =SUM(G18:G20) -> 5643691.3 | H21: =SUM(H18:H20) -> 3967622.1 | I21: =SUM(I18:I20) -> 4902251.4 | ... K21: =SUM(K18:K20) -> 16535537
A23: Ejecucion de avance fìnanciero programado-ejecutado por categoria del gasto segundo cuatrimestre 2023
A25: Categoría del gasto | B25: Mayo | D25: Junio | F25: Julio | H25: Agosto | J25: Totales
B26: Presupuestado | C26: Ejecutado | D26: Presupuestado | E26: Ejecutado | F26: Presupuestado | G26: Ejecutado | H26: Presupuestado | I26: Ejecutado | J26: Presupuestado | K26: Ejecutado
A27: Recurso Humano | J27: =+B27+D27+F27+H27 -> 0 | K27: =+C27+E27+G27+I27 -> 0
A28: Gastos de Funcionamiento | J28: =+B28+D28+F28+H28 -> 0 | K28: =+C28+E28+G28+I28 -> 0
A29: Propiedad planta y equipo | J29: =+B29+D29+F29+H29 -> 0 | K29: =+C29+E29+G29+I29 -> 0
A30: TOTAL | B30: =SUM(B27:B29) -> 0 | C30: =SUM(C27:C29) -> 0 | D30: =SUM(D27:D29) -> 0 | E30: =SUM(E27:E29) -> 0 | F30: =SUM(F27:F29) -> 0 | G30: =SUM(G27:G29) -> 0 | H30: =SUM(H27:H29) -> 0 | I30: =SUM(I27:I29) -> 0 | ... K30: =SUM(K27:K29) -> 0
A33: Ejecucion de avance fìnanciero programado-ejecutado por categoria del gasto tercer cuatrimestre 2023
A35: Categoría del gasto | B35: Septiembre | D35: Octubre | F35: Noviembre | H35: Diciembre | J35: Totales
B36: Presupuestado | C36: Ejecutado | D36: Presupuestado | E36: Ejecutado | F36: Presupuestado | G36: Ejecutado | H36: Presupuestado | I36: Ejecutado | J36: Presupuestado | K36: Ejecutado
A37: Recurso Humano | J37: =+B37+D37+F37+H37 -> 0 | K37: =+C37+E37+G37+I37 -> 0
A38: Gastos de Funcionamiento | J38: =+B38+D38+F38+H38 -> 0 | K38: =+C38+E38+G38+I38 -> 0
A39: Propiedad Planta y Equipo | J39: =+B39+D39+F39+H39 -> 0 | K39: =+C39+E39+G39+I39 -> 0
A40: TOTAL | B40: =SUM(B37:B39) -> 0 | C40: =SUM(C37:C39) -> 0 | D40: =SUM(D37:D39) -> 0 | E40: =SUM(E37:E39) -> 0 | F40: =SUM(F37:F39) -> 0 | G40: =SUM(G37:G39) -> 0 | H40: =SUM(H37:H39) -> 0 | I40: =SUM(I37:I39) -> 0 | ... K40: =SUM(K37:K39) -> 0
A44: Resumen año 2023
A45: Categoría del gasto | B45: año 2023
B46: Presupuestado | C46: Ejecutado
A47: Recurso Humano | B47: =+J18+J27+J37 -> 13444594 | C47: =+K18+K27+K37 -> 13166754
A48: Gastos de Funcionamiento | B48: =+J19+J28+J38 -> 7825297.3 | C48: =+K19+K28+K38 -> 3368782.8
A49: Propiedad Planta y Equipo | B49: =+J39+J29+J20 -> 0 | C49: =K39+K29+K20 -> 0
A50: TOTAL | B50: =SUM(B47:B49) -> 21269891 | C50: =SUM(C47:C49) -> 16535537
A74: Elaborado por: | C74: ___________________________ | F74: Autorizado por: | H74: ___________________________________
C75: Víctor Cresencio Reyes Porres | H75: Dr. Walter Antonio Mazariegos Samayoa
C76: Jefe de Contabilidad | H76: Director General
A77: Fecha: | C77: 10 de mayo 2023

Sheet EJECUCION FISICA ENERO
L2: CTE-9
L3: Vigente abril 2022
A6: UNIDAD DE CIRUGIA CARDIOVASCULAR DE GUATEMALA
A7: 5a. AVENIDA 6-22 ZONA 11
A8: dgunicar@yahoo.es Tel. 24163000
B10: Ejecucion y/o avance de cumplimiento de metas fisicas correspondiente al primer cuatrimestre
A11: No. | B11: Servicio | C11: Enero | E11: Febrero | G11: Marzo | I11: Abril | K11: Total cuatrimestre
C12: Programado | D12: Ejecutado | E12: Programado | F12: Ejecutado | G12: Programado | H12: Ejecutado | I12: Programado | J12: Ejecutado | K12: Programado | L12: Ejecutado
A13: 1 | B13: CIRUGIA DE ADULTOS | C13: 7 | D13: 10 | K13: =+C13+E13+G13+I13 -> 7 | L13: =+D13+F13+H13+J13 -> 10
A14: 2 | B14: CIRUGIA DE PEDIATRIA | C14: 7 | D14: 9 | K14: =+C14+E14+G14+I14 -> 7 | L14: =+D14+F14+H14+J14 -> 9
A15: 3 | B15: HEMODINAMIA ADULTOS | C15: 42 | D15: 92 | K15: =+C15+E15+G15+I15 -> 42 | L15: =+D15+F15+H15+J15 -> 92
A16: 4 | B16: HEMODINAMIA PEDIATRIA | C16: 6 | D16: 14 | K16: =+C16+E16+G16+I16 -> 6 | L16: =+D16+F16+H16+J16 -> 14
A17: 5 | B17: ECOCARDIOGRAMA ADULTOS | C17: 195 | D17: 468 | K17: =+C17+E17+G17+I17 -> 195 | L17: =+D17+F17+H17+J17 -> 468
A18: 6 | B18: ECOCARDIOGRAMA PEDIATRIA | C18: 167 | D18: 419 | K18: =+C18+E18+G18+I18 -> 167 | L18: =+D18+F18+H18+J18 -> 419
A19: 7 | B19: ELECTROCARDIOGRAMAS ADULTOS | C19: 64 | D19: 133 | K19: =+C19+E19+G19+I19 -> 64 | L19: =+D19+F19+H19+J19 -> 133
A20: 8 | B20: ELECTROCARDIOGRAMAS PEDIATRIA | C20: 75 | D20: 184 | K20: =+C20+E20+G20+I20 -> 75 | L20: =+D20+F20+H20+J20 -> 184
A21: 9 | B21: CONSULTAS MEDICAS ADULTOS | C21: 482 | D21: 1075 | K21: =+C21+E21+G21+I21 -> 482 | L21: =+D21+F21+H21+J21 -> 1075
A22: 10 | B22: CONSULTA MEDICAS PEDIATRICAS | C22: 230 | D22: 505 | K22: =+C22+E22+G22+I22 -> 230 | L22: =+D22+F22+H22+J22 -> 505
A23: 11 | B23: ESTOMATOLOGIA | C23: 22 | D23: 47 | K23: =+C23+E23+G23+I23 -> 22 | L23: =+D23+F23+H23+J23 -> 47
A24: 12 | B24: ENCAMAMIENTO POR COMPLICACIONES | C24: 7 | D24: 20 | K24: =+C24+E24+G24+I24 -> 7 | L24: =+D24+F24+H24+J24 -> 20
... A28: 16 | B28: MONITOREO DE PRESION ARTERIAL | C28: 5 | D28: 0 | K28: =+C28+E28+G28+I28 -> 5 | L28: =+D28+F28+H28+J28 -> 0
A29: Total | C29: =SUM(C13:C28) -> 1368 | D29: =SUM(D13:D28) -> 3109 | E29: =SUM(E13:E28) -> 0 | F29: =SUM(F13:F28) -> 0 | G29: =SUM(G13:G28) -> 0 | H29: =SUM(H13:H28) -> 0 | I29: =SUM(I13:I28) -> 0 | J29: =SUM(J13:J28) -> 0 | ... L29: =SUM(L13:L28) -> 3109
B31: Programacion de metas fisicas versus ejecucion (mensual) segundo cuatrimestre
A32: No. | B32: Servicio | C32: Mayo | E32: Junio | G32: Julio | I32: Agosto | K32: Totales | M32: Total acumulado
C33: Programado | D33: Ejecutado | E33: Programado | F33: Ejecutado | G33: Programado | H33: Ejecutado | I33: Programado | J33: Ejecutado | K33: Programado | L33: Ejecutado | M33: Programado | N33: Ejecutado
A34: 1 | B34: CIRUGIA DE ADULTOS | K34: =+C34+E34+G34+I34 -> 0 | L34: =+D34+F34+H34+J34 -> 0 | M34: =+K34+K13 -> 7 | N34: =+L34+L13 -> 10
A35: 2 | B35: CIRUGIA DE PEDIATRIA | K35: =+C35+E35+G35+I35 -> 0 | L35: =+D35+F35+H35+J35 -> 0 | M35: =+K35+K14 -> 7 | N35: =+L35+L14 -> 9
A36: 3 | B36: HEMODINAMIA ADULTOS | K36: =+C36+E36+G36+I36 -> 0 | L36: =+D36+F36+H36+J36 -> 0 | M36: =+K36+K15 -> 42 | N36: =+L36+L15 -> 92
A37: 4 | B37: HEMODINAMIA PEDIATRIA | K37: =+C37+E37+G37+I37 -> 0 | L37: =+D37+F37+H37+J37 -> 0 | M37: =+K37+K16 -> 6 | N37: =+L37+L16 -> 14
A38: 5 | B38: ECOCARDIOGRAMA ADULTOS | K38: =+C38+E38+G38+I38 -> 0 | L38: =+D38+F38+H38+J38 -> 0 | M38: =+K38+K17 -> 195 | N38: =+L38+L17 -> 468
A39: 6 | B39: ECOCARDIOGRAMA PEDIATRIA | K39: =+C39+E39+G39+I39 -> 0 | L39: =+D39+F39+H39+J39 -> 0 | M39: =+K39+K18 -> 167 | N39: =+L39+L18 -> 419
A40: 7 | B40: ELECTROCARDIOGRAMAS ADULTOS | K40: =+C40+E40+G40+I40 -> 0 | L40: =+D40+F40+H40+J40 -> 0 | M40: =+K40+K19 -> 64 | N40: =+L40+L19 -> 133
A41: 8 | B41: ELECTROCARDIOGRAMAS PEDIATRIA | K41: =+C41+E41+G41+I41 -> 0 | L41: =+D41+F41+H41+J41 -> 0 | M41: =+K41+K20 -> 75 | N41: =+L41+L20 -> 184
A42: 9 | B42: CONSULTAS MEDICAS ADULTOS | K42: =+C42+E42+G42+I42 -> 0 | L42: =+D42+F42+H42+J42 -> 0 | M42: =+K42+K21 -> 482 | N42: =+L42+L21 -> 1075
A43: 10 | B43: CONSULTA MEDICAS PEDIATRICAS | K43: =+C43+E43+G43+I43 -> 0 | L43: =+D43+F43+H43+J43 -> 0 | M43: =+K43+K22 -> 230 | N43: =+L43+L22 -> 505
A44: 11 | B44: ESTOMATOLOGIA | K44: =+C44+E44+G44+I44 -> 0 | L44: =+D44+F44+H44+J44 -> 0 | M44: =+K44+K23 -> 22 | N44: =+L44+L23 -> 47
