Workbook

Sheet SEPTIEMBRE CTE-5
B8: ÀREA FINANCIERA | K8: CTE-5
A10: UNIDAD DE CIRUGIA CARDIOVASCULAR DE GUATEMALA
A11: 5a. AVENIDA 6-22 ZONA 11
A12: dgunicar@yahoo.es Tel. 24163000
A14: Programación y ejecucion mensual por tipo de gasto año 2022, Expresado en Quetzales primer cuatrimestre 2022
A15: No. | B15: CATEGORIA DE GASTO | C15: ENERO | E15: FEBRERO | G15: MARZO | I15: ABRIL | K15: TOTAL CUATRIMESTRE
C16: PRESUPUESTO | D16: REAL | E16: PRESUPUESTO | F16: REAL | G16: PRESUPUESTO | H16: REAL | I16: PRESUPUESTO | J16: REAL | K16: PRESUPUESTO | L16: REAL
A17: 011 | B17: RECURSO HUMANO | C17: 2414811.3 | D17: 2367268.7 | E17: 2414811.3 | F17: 2396683.9 | G17: 2414811.3 | H17: 2410583.5 | I17: 2414811.3 | J17: 2417060.8 | K17: =+C17+E17+G17+I17 -> 9659245.3 | L17: =+D17+F17+H17+J17 -> 9591596.9
B19: GASTOS DE FUNCIONAMIENTO | C19: =+C31+C47 -> 2612557.9 | D19: =+D31+D47 -> 0 | E19: =+E31+E47 -> 2689873.5 | F19: =+F31+F47 -> 16502.89 | G19: =+G31+G47 -> 2771983.2 | H19: =+H31+H47 -> 132643.57 | I19: =+I31+I47 -> 2771983.2 | J19: =+J31+J47 -> 748869.8 | K19: =+C19+E19+G19+I19 -> 10846398 | L19: =+D19+F19+H19+J19 -> 898016.26
A20: 111 | B20: ENERGIA ELECTRICA | C20: 0 | D20: 0 | E20: 77315.63 | F20: 0 | G20: 77315.63 | H20: 70182.48 | I20: 77315.63 | J20: 80017.57 | K20: =+C20+E20+G20+I20 -> 231946.89 | L20: =+D20+F20+H20+J20 -> 150200.05
A21: 113 | B21: TELEFONIA | C21: 10564.58 | D21: 0 | E21: 10564.58 | F21: 8302.09 | G21: 10564.58 | H21: 11306.4 | I21: 10564.58 | J21: 11126.04 | K21: =+C21+E21+G21+I21 -> 42258.32 | L21: =+D21+F21+H21+J21 -> 30734.53
A22: 122 | B22: IMPRESIÓN, ENCUADERNACION Y REPRODUCCION | C22: 0 | D22: 0 | E22: 0 | F22: 0 | G22: 6085.56 | H22: 0 | I22: 6085.56 | J22: 0 | K22: =+C22+E22+G22+I22 -> 12171.12 | L22: =+D22+F22+H22+J22 -> 0
A23: 163 | B23: MANT. Y REP. EQUIPO MEDICO SANITARIO Y DE LAB. | C23: 0 | D23: 0 | E23: 0 | F23: 0 | G23: 75924.2 | H23: 0 | I23: 75924.2 | J23: 0 | K23: =+C23+E23+G23+I23 -> 151848.4 | L23: =+D23+F23+H23+J23 -> 0
A24: 168 | B24: MANTENIMIENTO Y REPARACION DE EQUIPO DE COMPUTO | C24: 0 | D24: 0 | E24: 0 | F24: 0 | G24: 100 | H24: 0 | I24: 100 | J24: 0 | K24: =+C24+E24+G24+I24 -> 200 | L24: =+D24+F24+H24+J24 -> 0
A25: 169 | B25: MANT. Y REP. DE OTRAS MAQ. Y EQUIPO | C25: 3526.67 | D25: 0 | E25: 3526.67 | F25: 0 | G25: 3526.67 | H25: 0 | I25: 3526.67 | J25: 0 | K25: =+C25+E25+G25+I25 -> 14106.68 | L25: =+D25+F25+H25+J25 -> 0
A26: 171 | B26: MANT. Y REPARACION DE EDIFICIOS | C26: 3638.33 | D26: 0 | E26: 3638.33 | F26: 0 | G26: 3638.33 | H26: 0 | I26: 3638.33 | J26: 0 | K26: =+C26+E26+G26+I26 -> 14553.32 | L26: =+D26+F26+H26+J26 -> 0
A27: 174 | B27: MANT. Y REP. DE INSTALACIONES | C27: 7356.33 | D27: 0 | E27: 7356.33 | F27: 0 | G27: 7356.33 | H27: 0 | I27: 7356.33 | J27: 6360 | K27: =+C27+E27+G27+I27 -> 29425.32 | L27: =+D27+F27+H27+J27 -> 6360
A28: 182 | B28: SERVICIOS MEDICO-SANITARIOS | C28: 317986.83 | D28: 0 | E28: 317986.83 | F28: 0 | G28: 317986.83 | H28: 32843.76 | I28: 317986.83 | J28: 99905.74 | K28: =+C28+E28+G28+I28 -> 1271947.3 | L28: =+D28+F28+H28+J28 -> 132749.5
A29: 197 | B29: SERVICIOS DE VIGILANCIA | C29: 42350 | D29: 0 | E29: 42350 | F29: 0 | G29: 42350 | H29: 0 | I29: 42350 | J29: 84000 | K29: =+C29+E29+G29+I29 -> 169400 | L29: =+D29+F29+H29+J29 -> 84000
A30: 199 | B30: OTROS SERVICIOS NO PERSONALES | C30: 67060 | D30: 0 | E30: 67060 | F30: 8200.8 | G30: 67060 | H30: 4100 | I30: 67060 | J30: 6150.2 | K30: =+C30+E30+G30+I30 -> 268240 | L30: =+D30+F30+H30+J30 -> 18451
B31: SUMA GASTOS GENERALES | C31: =SUM(C20:C30) -> 452482.74 | D31: =SUM(D20:D30) -> 0 | E31: =SUM(E20:E30) -> 529798.37 | F31: =SUM(F20:F30) -> 16502.89 | G31: =SUM(G20:G30) -> 611908.13 | H31: =SUM(H20:H30) -> 118432.64 | I31: =SUM(I20:I30) -> 611908.13 | J31: =SUM(J20:J30) -> 287559.55 | ... L31: =SUM(L20:L30) -> 422495.08
B32: MATERIALES Y SUMINISTROS
A33: 211 | B33: ALIMENTOS PARA PERSONAS | C33: 58165.57 | D33: 0 | E33: 58165.57 | F33: 0 | G33: 58165.57 | H33: 13077 | I33: 58165.57 | J33: 90483.25 | K33: =+C33+E33+G33+I33 -> 232662.28 | L33: =+D33+F33+H33+J33 -> 103560.25
A34: 232 | B34: ACABADOS TEXTILES | C34: 12500 | D34: 0 | E34: 12500 | F34: 0 | G34: 12500 | H34: 0 | I34: 12500 | J34: 0 | K34: =+C34+E34+G34+I34 -> 50000 | L34: =+D34+F34+H34+J34 -> 0
A35: 261 | B35: ELEMENTOS Y COMPUESTOS QUIMICOS | C35: 82888.02 | D35: 0 | E35: 82888.02 | F35: 0 | G35: 82888.02 | H35: 0 | I35: 82888.02 | J35: 61685.07 | K35: =+C35+E35+G35+I35 -> 331552.08 | L35: =+D35+F35+H35+J35 -> 61685.07
A36: 262 | B36: COMBUSTIBLES Y LUBRICANTES | C36: 666.67 | D36: 0 | E36: 666.67 | F36: 0 | G36: 666.67 | H36: 0 | I36: 666.67 | J36: 0 | K36: =+C36+E36+G36+I36 -> 2666.68 | L36: =+D36+F36+H36+J36 -> 0
A37: 266 | B37: PRODUCTOS MEDICINALES Y FARMACEUTICOS | C37: 381939.32 | D37: 0 | E37: 381939.32 | F37: 0 | G37: 381939.32 | H37: 133.93 | I37: 381939.32 | J37: 194422.07 | K37: =+C37+E37+G37+I37 -> 1527757.3 | L37: =+D37+F37+H37+J37 -> 194556
A38: 267 | B38: TINTES, PINTURAS Y COLORANTES | C38: 750 | D38: 0 | E38: 750 | F38: 0 | G38: 750 | H38: 0 | I38: 750 | J38: 0 | K38: =+C38+E38+G38+I38 -> 3000 | L38: =+D38+F38+H38+J38 -> 0
A39: 268 | B39: PRODUCTOS PLASTICOS, NYLON, VINIL Y PVC | C39: 11811.29 | D39: 0 | E39: 11811.29 | F39: 0 | G39: 11811.29 | H39: 0 | I39: 11811.29 | J39: 0 | K39: =+C39+E39+G39+I39 -> 47245.16 | L39: =+D39+F39+H39+J39 -> 0
A40: 269 | B40: OTROS PRODUCTOS QUIMICOS Y CONEXOS | C40: 833.33 | D40: 0 | E40: 833.33 | F40: 0 | G40: 833.33 | H40: 0 | I40: 833.33 | J40: 0 | K40: =+C40+E40+G40+I40 -> 3333.32 | L40: =+D40+F40+H40+J40 -> 0
A41: 289 | B41: OTROS PRODUCTOS METALICOS | C41: 574.88 | D41: 0 | E41: 574.88 | F41: 0 | G41: 574.88 | H41: 0 | I41: 574.88 | J41: 0 | K41: =+C41+E41+G41+I41 -> 2299.52 | L41: =+D41+F41+H41+J41 -> 0
A42: 292 | B42: UTILES DE LIMPIEZA Y PRODUCTOS SANITARIOS | C42: 7014.93 | D42: 0 | E42: 7014.93 | F42: 0 | G42: 7014.93 | H42: 0 | I42: 7014.93 | J42: 0 | K42: =+C42+E42+G42+I42 -> 28059.72 | L42: =+D42+F42+H42+J42 -> 0
A43: 295 | B43: UTILES MENORES MEDICO QUIRURGICOS Y DE LAB. | C43: 1548540.1 | D43: 0 | E43: 1548540.1 | F43: 0 | G43: 1548540.1 | H43: 0 | I43: 1548540.1 | J43: 108377 | K43: =+C43+E43+G43+I43 -> 6194160.2 | L43: =+D43+F43+H43+J43 -> 108377
A44: 297 | B44: UTILES, ACCESORIOS Y MATERIALES ELECTRICOS | C44: 1591.07 | D44: 0 | E44: 1591.07 | F44: 0 | G44: 1591.07 | H44: 0 | I44: 1591.07 | J44: 0 | K44: =+C44+E44+G44+I44 -> 6364.28 | L44: =+D44+F44+H44+J44 -> 0
... A46: 299 | B46: OTROS MATERIALES Y SUMINISTROS | C46: 19041.83 | D46: 0 | E46: 19041.83 | F46: 0 | G46: 19041.83 | H46: 0 | I46: 19041.83 | J46: 0 | K46: =+C46+E46+G46+I46 -> 76167.32 | L46: =+D46+F46+H46+J46 -> 0
B47: TOTAL MATERIALES Y SUMINISTROS | C47: =SUM(C33:C46) -> 2160075.1 | D47: =SUM(D33:D46) -> 0 | E47: =SUM(E33:E46) -> 2160075.1 | F47: =SUM(F33:F46) -> 0 | G47: =SUM(G33:G46) -> 2160075.1 | H47: =SUM(H33:H46) -> 14210.93 | I47: =SUM(I33:I46) -> 2160075.1 | J47: =SUM(J33:J46) -> 461310.25 | ... L47: =SUM(L33:L46) -> 475521.18
B48: PROPIEDAD PLANTA Y EQUIPO
B49: EQUIPO MEDICO SANITARIO Y DE LABORATORIO | C49: 0 | D49: 0 | E49: 0 | F49: 0 | H49: 0 | K49: =+C49+E49+G49+I49 -> 0 | L49: =+D49+F49+H49+J49 -> 0
B50: OTRAS MAQUINARIAS Y EQUIPOS | C50: 0 | D50: 0 | E50: 0 | F50: 0 | H50: 0 | I50: 0 | K50: =+C50+E50+G50+I50 -> 0 | L50: =+D50+F50+H50+J50 -> 0
B51: TOTAL PROPIEDAD PLANTA Y EQUIPO | C51: =SUM(C49:C50) -> 0 | D51: =SUM(D49:D50) -> 0 | E51: =SUM(E49:E50) -> 0 | F51: =SUM(F49:F50) -> 0 | G51: =SUM(G49:G50) -> 0 | H51: =SUM(H49:H50) -> 0 | I51: =SUM(I49:I50) -> 0 | J51: =SUM(J49:J50) -> 0 | ... L51: =SUM(L49:L50) -> 0
...

Sheet OCTUBRE CTE-5
B8: ÀREA FINANCIERA | K8: CTE-5
A10: UNIDAD DE CIRUGIA CARDIOVASCULAR DE GUATEMALA
A11: 5a. AVENIDA 6-22 ZONA 11
A12: dgunicar@yahoo.es Tel. 24163000
A14: Programación y ejecucion mensual por tipo de gasto año 2022, Expresado en Quetzales primer cuatrimestre 2022
A15: No. | B15: CATEGORIA DE GASTO | C15: ENERO | E15: FEBRERO | G15: MARZO | I15: ABRIL | K15: TOTAL CUATRIMESTRE
C16: PRESUPUESTO | D16: REAL | E16: PRESUPUESTO | F16: REAL | G16: PRESUPUESTO | H16: REAL | I16: PRESUPUESTO | J16: REAL | K16: PRESUPUESTO | L16: REAL
A17: 011 | B17: RECURSO HUMANO | C17: 2414811.3 | D17: 2367268.7 | E17: 2414811.3 | F17: 2396683.9 | G17: 2414811.3 | H17: 2410583.5 | I17: 2414811.3 | J17: 2417060.8 | K17: =+C17+E17+G17+I17 -> 9659245.3 | L17: =+D17+F17+H17+J17 -> 9591596.9
B19: GASTOS DE FUNCIONAMIENTO | C19: =+C31+C47 -> 2612557.9 | D19: =+D31+D47 -> 0 | E19: =+E31+E47 -> 2689873.5 | F19: =+F31+F47 -> 16502.89 | G19: =+G31+G47 -> 2771983.2 | H19: =+H31+H47 -> 132643.57 | I19: =+I31+I47 -> 2771983.2 | J19: =+J31+J47 -> 748869.8 | K19: =+C19+E19+G19+I19 -> 10846398 | L19: =+D19+F19+H19+J19 -> 898016.26
A20: 111 | B20: ENERGIA ELECTRICA | C20: 0 | D20: 0 | E20: 77315.63 | F20: 0 | G20: 77315.63 | H20: 70182.48 | I20: 77315.63 | J20: 80017.57 | K20: =+C20+E20+G20+I20 -> 231946.89 | L20: =+D20+F20+H20+J20 -> 150200.05
A21: 113 | B21: TELEFONIA | C21: 10564.58 | D21: 0 | E21: 10564.58 | F21: 8302.09 | G21: 10564.58 | H21: 11306.4 | I21: 10564.58 | J21: 11126.04 | K21: =+C21+E21+G21+I21 -> 42258.32 | L21: =+D21+F21+H21+J21 -> 30734.53
A22: 122 | B22: IMPRESIÓN, ENCUADERNACION Y REPRODUCCION | C22: 0 | D22: 0 | E22: 0 | F22: 0 | G22: 6085.56 | H22: 0 | I22: 6085.56 | J22: 0 | K22: =+C22+E22+G22+I22 -> 12171.12 | L22: =+D22+F22+H22+J22 -> 0
A23: 163 | B23: MANT. Y REP. EQUIPO MEDICO SANITARIO Y DE LAB. | C23: 0 | D23: 0 | E23: 0 | F23: 0 | G23: 75924.2 | H23: 0 | I23: 75924.2 | J23: 0 | K23: =+C23+E23+G23+I23 -> 151848.4 | L23: =+D23+F23+H23+J23 -> 0
A24: 168 | B24: MANTENIMIENTO Y REPARACION DE EQUIPO DE COMPUTO | C24: 0 | D24: 0 | E24: 0 | F24: 0 | G24: 100 | H24: 0 | I24: 100 | J24: 0 | K24: =+C24+E24+G24+I24 -> 200 | L24: =+D24+F24+H24+J24 -> 0
A25: 169 | B25: MANT. Y REP. DE OTRAS MAQ. Y EQUIPO | C25: 3526.67 | D25: 0 | E25: 3526.67 | F25: 0 | G25: 3526.67 | H25: 0 | I25: 3526.67 | J25: 0 | K25: =+C25+E25+G25+I25 -> 14106.68 | L25: =+D25+F25+H25+J25 -> 0
A26: 171 | B26: MANT. Y REPARACION DE EDIFICIOS | C26: 3638.33 | D26: 0 | E26: 3638.33 | F26: 0 | G26: 3638.33 | H26: 0 | I26: 3638.33 | J26: 0 | K26: =+C26+E26+G26+I26 -> 14553.32 | L26: =+D26+F26+H26+J26 -> 0
A27: 174 | B27: MANT. Y REP. DE INSTALACIONES | C27: 7356.33 | D27: 0 | E27: 7356.33 | F27: 0 | G27: 7356.33 | H27: 0 | I27: 7356.33 | J27: 6360 | K27: =+C27+E27+G27+I27 -> 29425.32 | L27: =+D27+F27+H27+J27 -> 6360
A28: 182 | B28: SERVICIOS MEDICO-SANITARIOS | C28: 317986.83 | D28: 0 | E28: 317986.83 | F28: 0 | G28: 317986.83 | H28: 32843.76 | I28: 317986.83 | J28: 99905.74 | K28: =+C28+E28+G28+I28 -> 1271947.3 | L28: =+D28+F28+H28+J28 -> 132749.5
A29: 197 | B29: SERVICIOS DE VIGILANCIA | C29: 42350 | D29: 0 | E29: 42350 | F29: 0 | G29: 42350 | H29: 0 | I29: 42350 | J29: 84000 | K29: =+C29+E29+G29+I29 -> 169400 | L29: =+D29+F29+H29+J29 -> 84000
A30: 199 | B30: OTROS SERVICIOS NO PERSONALES | C30: 67060 | D30: 0 | E30: 67060 | F30: 8200.8 | G30: 67060 | H30: 4100 | I30: 67060 | J30: 6150.2 | K30: =+C30+E30+G30+I30 -> 268240 | L30: =+D30+F30+H30+J30 -> 18451
B31: SUMA GASTOS GENERALES | C31: =SUM(C20:C30) -> 452482.74 | D31: =SUM(D20:D30) -> 0 | E31: =SUM(E20:E30) -> 529798.37 | F31: =SUM(F20:F30) -> 16502.89 | G31: =SUM(G20:G30) -> 611908.13 | H31: =SUM(H20:H30) -> 118432.64 | I31: =SUM(I20:I30) -> 611908.13 | J31: =SUM(J20:J30) -> 287559.55 | ... L31: =SUM(L20:L30) -> 422495.08
B32: MATERIALES Y SUMINISTROS
A33: 211 | B33: ALIMENTOS PARA PERSONAS | C33: 58165.57 | D33: 0 | E33: 58165.57 | F33: 0 | G33: 58165.57 | H33: 13077 | I33: 58165.57 | J33: 90483.25 | K33: =+C33+E33+G33+I33 -> 232662.28 | L33: =+D33+F33+H33+J33 -> 103560.25
A34: 232 | B34: ACABADOS TEXTILES | C34: 12500 | D34: 0 | E34: 12500 | F34: 0 | G34: 12500 | H34: 0 | I34: 12500 | J34: 0 | K34: =+C34+E34+G34+I34 -> 50000 | L34: =+D34+F34+H34+J34 -> 0
A35: 261 | B35: ELEMENTOS Y COMPUESTOS QUIMICOS | C35: 82888.02 | D35: 0 | E35: 82888.02 | F35: 0 | G35: 82888.02 | H35: 0 | I35: 82888.02 | J35: 61685.07 | K35: =+C35+E35+G35+I35 -> 331552.08 | L35: =+D35+F35+H35+J35 -> 61685.07
A36: 262 | B36: COMBUSTIBLES Y LUBRICANTES | C36: 666.67 | D36: 0 | E36: 666.67 | F36: 0 | G36: 666.67 | H36: 0 | I36: 666.67 | J36: 0 | K36: =+C36+E36+G36+I36 -> 2666.68 | L36: =+D36+F36+H36+J36 -> 0
A37: 266 | B37: PRODUCTOS MEDICINALES Y FARMACEUTICOS | C37: 381939.32 | D37: 0 | E37: 381939.32 | F37: 0 | G37: 381939.32 | H37: 133.93 | I37: 381939.32 | J37: 194422.07 | K37: =+C37+E37+G37+I37 -> 1527757.3 | L37: =+D37+F37+H37+J37 -> 194556
A38: 267 | B38: TINTES, PINTURAS Y COLORANTES | C38: 750 | D38: 0 | E38: 750 | F38: 0 | G38: 750 | H38: 0 | I38: 750 | J38: 0 | K38: =+C38+E38+G38+I38 -> 3000 | L38: =+D38+F38+H38+J38 -> 0
A39: 268 | B39: PRODUCTOS PLASTICOS, NYLON, VINIL Y PVC | C39: 11811.29 | D39: 0 | E39: 11811.29 | F39: 0 | G39: 11811.29 | H39: 0 | I39: 11811.29 | J39: 0 | K39: =+C39+E39+G39+I39 -> 47245.16 | L39: =+D39+F39+H39+J39 -> 0
A40: 269 | B40: OTROS PRODUCTOS QUIMICOS Y CONEXOS | C40: 833.33 | D40: 0 | E40: 833.33 | F40: 0 | G40: 833.33 | H40: 0 | I40: 833.33 | J40: 0 | K40: =+C40+E40+G40+I40 -> 3333.32 | L40: =+D40+F40+H40+J40 -> 0
A41: 289 | B41: OTROS PRODUCTOS METALICOS | C41: 574.88 | D41: 0 | E41: 574.88 | F41: 0 | G41: 574.88 | H41: 0 | I41: 574.88 | J41: 0 | K41: =+C41+E41+G41+I41 -> 2299.52 | L41: =+D41+F41+H41+J41 -> 0
A42: 292 | B42: UTILES DE LIMPIEZA Y PRODUCTOS SANITARIOS | C42: 7014.93 | D42: 0 | E42: 7014.93 | F42: 0 | G42: 7014.93 | H42: 0 | I42: 7014.93 | J42: 0 | K42: =+C42+E42+G42+I42 -> 28059.72 | L42: =+D42+F42+H42+J42 -> 0
A43: 295 | B43: UTILES MENORES MEDICO QUIRURGICOS Y DE LAB. | C43: 1548540.1 | D43: 0 | E43: 1548540.1 | F43: 0 | G43: 1548540.1 | H43: 0 | I43: 1548540.1 | J43: 108377 | K43: =+C43+E43+G43+I43 -> 6194160.2 | L43: =+D43+F43+H43+J43 -> 108377
A44: 297 | B44: UTILES, ACCESORIOS Y MATERIALES ELECTRICOS | C44: 1591.07 | D44: 0 | E44: 1591.07 | F44: 0 | G44: 1591.07 | H44: 0 | I44: 1591.07 | J44: 0 | K44: =+C44+E44+G44+I44 -> 6364.28 | L44: =+D44+F44+H44+J44 -> 0
... A46: 299 | B46: OTROS MATERIALES Y SUMINISTROS | C46: 19041.83 | D46: 0 | E46: 19041.83 | F46: 0 | G46: 19041.83 | H46: 0 | I46: 19041.83 | J46: 0 | K46: =+C46+E46+G46+I46 -> 76167.32 | L46: =+D46+F46+H46+J46 -> 0
B47: TOTAL MATERIALES Y SUMINISTROS | C47: =SUM(C33:C46) -> 2160075.1 | D47: =SUM(D33:D46) -> 0 | E47: =SUM(E33:E46) -> 2160075.1 | F47: =SUM(F33:F46) -> 0 | G47: =SUM(G33:G46) -> 2160075.1 | H47: =SUM(H33:H46) -> 14210.93 | I47: =SUM(I33:I46) -> 2160075.1 | J47: =SUM(J33:J46) -> 461310.25 | ... L47: =SUM(L33:L46) -> 475521.18
B48: PROPIEDAD PLANTA Y EQUIPO
B49: EQUIPO MEDICO SANITARIO Y DE LABORATORIO | C49: 0 | D49: 0 | E49: 0 | F49: 0 | H49: 0 | K49: =+C49+E49+G49+I49 -> 0 | L49: =+D49+F49+H49+J49 -> 0
B50: OTRAS MAQUINARIAS Y EQUIPOS | C50: 0 | D50: 0 | E50: 0 | F50: 0 | H50: 0 | I50: 0 | K50: =+C50+E50+G50+I50 -> 0 | L50: =+D50+F50+H50+J50 -> 0
B51: TOTAL PROPIEDAD PLANTA Y EQUIPO | C51: =SUM(C49:C50) -> 0 | D51: =SUM(D49:D50) -> 0 | E51: =SUM(E49:E50) -> 0 | F51: =SUM(F49:F50) -> 0 | G51: =SUM(G49:G50) -> 0 | H51: =SUM(H49:H50) -> 0 | I51: =SUM(I49:I50) -> 0 | J51: =SUM(J49:J50) -> 0 | ... L51: =SUM(L49:L50) -> 0
...

Sheet NOVIEMBRE CTE-5
B8: ÀREA FINANCIERA | K8: CTE-5
A10: UNIDAD DE CIRUGIA CARDIOVASCULAR DE GUATEMALA
A11: 5a. AVENIDA 6-22 ZONA 11
A12: dgunicar@yahoo.es Tel. 24163000
A14: Programación y ejecucion mensual por tipo de gasto año 2022, Expresado en Quetzales primer cuatrimestre 2022
A15: No. | B15: CATEGORIA DE GASTO | C15: ENERO | E15: FEBRERO | G15: MARZO | I15: ABRIL | K15: TOTAL CUATRIMESTRE
C16: PRESUPUESTO | D16: REAL | E16: PRESUPUESTO | F16: REAL | G16: PRESUPUESTO | H16: REAL | I16: PRESUPUESTO | J16: REAL | K16: PRESUPUESTO | L16: REAL
A17: 011 | B17: RECURSO HUMANO | C17: 2414811.3 | D17: 2367268.7 | E17: 2414811.3 | F17: 2396683.9 | G17: 2414811.3 | H17: 2410583.5 | I17: 2414811.3 | J17: 2417060.8 | K17: =+C17+E17+G17+I17 -> 9659245.3 | L17: =+D17+F17+H17+J17 -> 9591596.9
B19: GASTOS DE FUNCIONAMIENTO | C19: =+C31+C47 -> 2612557.9 | D19: =+D31+D47 -> 0 | E19: =+E31+E47 -> 2689873.5 | F19: =+F31+F47 -> 16502.89 | G19: =+G31+G47 -> 2771883.2 | H19: =+H31+H47 -> 132643.57 | I19: =+I31+I47 -> 2771883.2 | J19: =+J31+J47 -> 748869.8 | K19: =+C19+E19+G19+I19 -> 10846198 | L19: =+D19+F19+H19+J19 -> 898016.26
A20: 111 | B20: ENERGIA ELECTRICA | C20: 0 | D20: 0 | E20: 77315.63 | F20: 0 | G20: 77315.63 | H20: 70182.48 | I20: 77315.63 | J20: 80017.57 | K20: =+C20+E20+G20+I20 -> 231946.89 | L20: =+D20+F20+H20+J20 -> 150200.05
A21: 113 | B21: TELEFONIA | C21: 10564.58 | D21: 0 | E21: 10564.58 | F21: 8302.09 | G21: 10564.58 | H21: 11306.4 | I21: 10564.58 | J21: 11126.04 | K21: =+C21+E21+G21+I21 -> 42258.32 | L21: =+D21+F21+H21+J21 -> 30734.53
A22: 122 | B22: IMPRESIÓN, ENCUADERNACION Y REPRODUCCION | C22: 0 | D22: 0 | E22: 0 | F22: 0 | G22: 6085.56 | H22: 0 | I22: 6085.56 | J22: 0 | K22: =+C22+E22+G22+I22 -> 12171.12 | L22: =+D22+F22+H22+J22 -> 0
A23: 163 | B23: MANT. Y REP. EQUIPO MEDICO SANITARIO Y DE LAB. | C23: 0 | D23: 0 | E23: 0 | F23: 0 | G23: 75924.2 | H23: 0 | I23: 75924.2 | J23: 0 | K23: =+C23+E23+G23+I23 -> 151848.4 | L23: =+D23+F23+H23+J23 -> 0
A24: 168 | B24: MANTENIMIENTO Y REPARACION DE EQUIPO DE COMPUTO | C24: 0 | D24: 0 | E24: 0 | F24: 0 | G24: 0 | H24: 0 | I24: 0 | J24: 0 | K24: =+C24+E24+G24+I24 -> 0 | L24: =+D24+F24+H24+J24 -> 0
A25: 169 | B25: MANT. Y REP. DE OTRAS MAQ. Y EQUIPO | C25: 3526.67 | D25: 0 | E25: 3526.67 | F25: 0 | G25: 3526.67 | H25: 0 | I25: 3526.67 | J25: 0 | K25: =+C25+E25+G25+I25 -> 14106.68 | L25: =+D25+F25+H25+J25 -> 0
A26: 171 | B26: MANT. Y REPARACION DE EDIFICIOS | C26: 3638.33 | D26: 0 | E26: 3638.33 | F26: 0 | G26: 3638.33 | H26: 0 | I26: 3638.33 | J26: 0 | K26: =+C26+E26+G26+I26 -> 14553.32 | L26: =+D26+F26+H26+J26 -> 0
A27: 174 | B27: MANT. Y REP. DE INSTALACIONES | C27: 7356.33 | D27: 0 | E27: 7356.33 | F27: 0 | G27: 7356.33 | H27: 0 | I27: 7356.33 | J27: 6360 | K27: =+C27+E27+G27+I27 -> 29425.32 | L27: =+D27+F27+H27+J27 -> 6360
A28: 182 | B28: SERVICIOS MEDICO-SANITARIOS | C28: 317986.83 | D28: 0 | E28: 317986.83 | F28: 0 | G28: 317986.83 | H28: 32843.76 | I28: 317986.83 | J28: 99905.74 | K28: =+C28+E28+G28+I28 -> 1271947.3 | L28: =+D28+F28+H28+J28 -> 132749.5
A29: 197 | B29: SERVICIOS DE VIGILANCIA | C29: 42350 | D29: 0 | E29: 42350 | F29: 0 | G29: 42350 | H29: 0 | I29: 42350 | J29: 84000 | K29: =+C29+E29+G29+I29 -> 169400 | L29: =+D29+F29+H29+J29 -> 84000
A30: 199 | B30: OTROS SERVICIOS NO PERSONALES | C30: 67060 | D30: 0 | E30: 67060 | F30: 8200.8 | G30: 67060 | H30: 4100 | I30: 67060 | J30: 6150.2 | K30: =+C30+E30+G30+I30 -> 268240 | L30: =+D30+F30+H30+J30 -> 18451
B31: SUMA GASTOS GENERALES | C31: =SUM(C20:C30) -> 452482.74 | D31: =SUM(D20:D30) -> 0 | E31: =SUM(E20:E30) -> 529798.37 | F31: =SUM(F20:F30) -> 16502.89 | G31: =SUM(G20:G30) -> 611808.13 | H31: =SUM(H20:H30) -> 118432.64 | I31: =SUM(I20:I30) -> 611808.13 | J31: =SUM(J20:J30) -> 287559.55 | ... L31: =SUM(L20:L30) -> 422495.08
B32: MATERIALES Y SUMINISTROS
A33: 211 | B33: ALIMENTOS PARA PERSONAS | C33: 58165.57 | D33: 0 | E33: 58165.57 | F33: 0 | G33: 58165.57 | H33: 13077 | I33: 58165.57 | J33: 90483.25 | K33: =+C33+E33+G33+I33 -> 232662.28 | L33: =+D33+F33+H33+J33 -> 103560.25
A34: 232 | B34: ACABADOS TEXTILES | C34: 12500 | D34: 0 | E34: 12500 | F34: 0 | G34: 12500 | H34: 0 | I34: 12500 | J34: 0 | K34: =+C34+E34+G34+I34 -> 50000 | L34: =+D34+F34+H34+J34 -> 0
A35: 261 | B35: ELEMENTOS Y COMPUESTOS QUIMICOS | C35: 82888.02 | D35: 0 | E35: 82888.02 | F35: 0 | G35: 82888.02 | H35: 0 | I35: 82888.02 | J35: 61685.07 | K35: =+C35+E35+G35+I35 -> 331552.08 | L35: =+D35+F35+H35+J35 -> 61685.07
A36: 262 | B36: COMBUSTIBLES Y LUBRICANTES | C36: 666.67 | D36: 0 | E36: 666.67 | F36: 0 | G36: 666.67 | H36: 0 | I36: 666.67 | J36: 0 | K36: =+C36+E36+G36+I36 -> 2666.68 | L36: =+D36+F36+H36+J36 -> 0
A37: 266 | B37: PRODUCTOS MEDICINALES Y FARMACEUTICOS | C37: 381939.32 | D37: 0 | E37: 381939.32 | F37: 0 | G37: 381939.32 | H37: 133.93 | I37: 381939.32 | J37: 194422.07 | K37: =+C37+E37+G37+I37 -> 1527757.3 | L37: =+D37+F37+H37+J37 -> 194556
A38: 267 | B38: TINTES, PINTURAS Y COLORANTES | C38: 750 | D38: 0 | E38: 750 | F38: 0 | G38: 750 | H38: 0 | I38: 750 | J38: 0 | K38: =+C38+E38+G38+I38 -> 3000 | L38: =+D38+F38+H38+J38 -> 0
A39: 268 | B39: PRODUCTOS PLASTICOS, NYLON, VINIL Y PVC | C39: 11811.29 | D39: 0 | E39: 11811.29 | F39: 0 | G39: 11811.29 | H39: 0 | I39: 11811.29 | J39: 0 | K39: =+C39+E39+G39+I39 -> 47245.16 | L39: =+D39+F39+H39+J39 -> 0
A40: 269 | B40: OTROS PRODUCTOS QUIMICOS Y CONEXOS | C40: 833.33 | D40: 0 | E40: 833.33 | F40: 0 | G40: 833.33 | H40: 0 | I40: 833.33 | J40: 0 | K40: =+C40+E40+G40+I40 -> 3333.32 | L40: =+D40+F40+H40+J40 -> 0
A41: 289 | B41: OTROS PRODUCTOS METALICOS | C41: 574.88 | D41: 0 | E41: 574.88 | F41: 0 | G41: 574.88 | H41: 0 | I41: 574.88 | J41: 0 | K41: =+C41+E41+G41+I41 -> 2299.52 | L41: =+D41+F41+H41+J41 -> 0
A42: 292 | B42: UTILES DE LIMPIEZA Y PRODUCTOS SANITARIOS | C42: 7014.93 | D42: 0 | E42: 7014.93 | F42: 0 | G42: 7014.93 | H42: 0 | I42: 7014.93 | J42: 0 | K42: =+C42+E42+G42+I42 -> 28059.72 | L42: =+D42+F42+H42+J42 -> 0
A43: 295 | B43: UTILES MENORES MEDICO QUIRURGICOS Y DE LAB. | C43: 1548540.1 | D43: 0 | E43: 1548540.1 | F43: 0 | G43: 1548540.1 | H43: 0 | I43: 1548540.1 | J43: 108377 | K43: =+C43+E43+G43+I43 -> 6194160.2 | L43: =+D43+F43+H43+J43 -> 108377
A44: 297 | B44: UTILES, ACCESORIOS Y MATERIALES ELECTRICOS | C44: 1591.07 | D44: 0 | E44: 1591.07 | F44: 0 | G44: 1591.07 | H44: 0 | I44: 1591.07 | J44: 0 | K44: =+C44+E44+G44+I44 -> 6364.28 | L44: =+D44+F44+H44+J44 -> 0
... A46: 299 | B46: OTROS MATERIALES Y SUMINISTROS | C46: 19041.83 | D46: 0 | E46: 19041.83 | F46: 0 | G46: 19041.83 | H46: 0 | I46: 19041.83 | J46: 0 | K46: =+C46+E46+G46+I46 -> 76167.32 | L46: =+D46+F46+H46+J46 -> 0
B47: TOTAL MATERIALES Y SUMINISTROS | C47: =SUM(C33:C46) -> 2160075.1 | D47: =SUM(D33:D46) -> 0 | E47: =SUM(E33:E46) -> 2160075.1 | F47: =SUM(F33:F46) -> 0 | G47: =SUM(G33:G46) -> 2160075.1 | H47: =SUM(H33:H46) -> 14210.93 | I47: =SUM(I33:I46) -> 2160075.1 | J47: =SUM(J33:J46) -> 461310.25 | ... L47: =SUM(L33:L46) -> 475521.18
B48: PROPIEDAD PLANTA Y EQUIPO
B49: EQUIPO MEDICO SANITARIO Y DE LABORATORIO | C49: 0 | D49: 0 | E49: 0 | F49: 0 | H49: 0 | K49: =+C49+E49+G49+I49 -> 0 | L49: =+D49+F49+H49+J49 -> 0
B50: OTRAS MAQUINARIAS Y EQUIPOS | C50: 0 | D50: 0 | E50: 0 | F50: 0 | H50: 0 | I50: 0 | K50: =+C50+E50+G50+I50 -> 0 | L50: =+D50+F50+H50+J50 -> 0
B51: TOTAL PROPIEDAD PLANTA Y EQUIPO | C51: =SUM(C49:C50) -> 0 | D51: =SUM(D49:D50) -> 0 | E51: =SUM(E49:E50) -> 0 | F51: =SUM(F49:F50) -> 0 | G51: =SUM(G49:G50) -> 0 | H51: =SUM(H49:H50) -> 0 | I51: =SUM(I49:I50) -> 0 | J51: =SUM(J49:J50) -> 0 | ... L51: =SUM(L49:L50) -> 0
...

Sheet DICIEMBRE CTE-5
B8: ÀREA FINANCIERA | K8: CTE-5
A10: UNIDAD DE CIRUGIA CARDIOVASCULAR DE GUATEMALA
A11: 5a. AVENIDA 6-22 ZONA 11
A12: dgunicar@yahoo.es Tel. 24163000
A14: Programación y ejecucion mensual por tipo de gasto año 2022, Expresado en Quetzales primer cuatrimestre 2022
A15: No. | B15: CATEGORIA DE GASTO | C15: ENERO | E15: FEBRERO | G15: MARZO | I15: ABRIL | K15: TOTAL CUATRIMESTRE
C16: PRESUPUESTO | D16: REAL | E16: PRESUPUESTO | F16: REAL | G16: PRESUPUESTO | H16: REAL | I16: PRESUPUESTO | J16: REAL | K16: PRESUPUESTO | L16: REAL
A17: 011 | B17: RECURSO HUMANO | C17: 2414811.3 | D17: 2367268.7 | E17: 2414811.3 | F17: 2396683.9 | G17: 2414811.3 | H17: 2410583.5 | I17: 2414811.3 | J17: 2417060.8 | K17: =+C17+E17+G17+I17 -> 9659245.3 | L17: =+D17+F17+H17+J17 -> 9591596.9
B19: GASTOS DE FUNCIONAMIENTO | C19: =+C31+C47 -> 2612557.9 | D19: =+D31+D47 -> 0 | E19: =+E31+E47 -> 2689873.5 | F19: =+F31+F47 -> 16502.89 | G19: =+G31+G47 -> 2771883.2 | H19: =+H31+H47 -> 132643.57 | I19: =+I31+I47 -> 2771883.2 | J19: =+J31+J47 -> 748869.8 | K19: =+C19+E19+G19+I19 -> 10846198 | L19: =+D19+F19+H19+J19 -> 898016.26
A20: 111 | B20: ENERGIA ELECTRICA | C20: 0 | D20: 0 | E20: 77315.63 | F20: 0 | G20: 77315.63 | H20: 70182.48 | I20: 77315.63 | J20: 80017.57 | K20: =+C20+E20+G20+I20 -> 231946.89 | L20: =+D20+F20+H20+J20 -> 150200.05
A21: 113 | B21: TELEFONIA | C21: 10564.58 | D21: 0 | E21: 10564.58 | F21: 8302.09 | G21: 10564.58 | H21: 11306.4 | I21: 10564.58 | J21: 11126.04 | K21: =+C21+E21+G21+I21 -> 42258.32 | L21: =+D21+F21+H21+J21 -> 30734.53
A22: 122 | B22: IMPRESIÓN, ENCUADERNACION Y REPRODUCCION | C22: 0 | D22: 0 | E22: 0 | F22: 0 | G22: 6085.56 | H22: 0 | I22: 6085.56 | J22: 0 | K22: =+C22+E22+G22+I22 -> 12171.12 | L22: =+D22+F22+H22+J22 -> 0
A23: 163 | B23: MANT. Y REP. EQUIPO MEDICO SANITARIO Y DE LAB. | C23: 0 | D23: 0 | E23: 0 | F23: 0 | G23: 75924.2 | H23: 0 | I23: 75924.2 | J23: 0 | K23: =+C23+E23+G23+I23 -> 151848.4 | L23: =+D23+F23+H23+J23 -> 0
A24: 168 | B24: MANTENIMIENTO Y REPARACION DE EQUIPO DE COMPUTO | C24: 0 | D24: 0 | E24: 0 | F24: 0 | G24: 0 | H24: 0 | I24: 0 | J24: 0 | K24: =+C24+E24+G24+I24 -> 0 | L24: =+D24+F24+H24+J24 -> 0
A25: 169 | B25: MANT. Y REP. DE OTRAS MAQ. Y EQUIPO | C25: 3526.67 | D25: 0 | E25: 3526.67 | F25: 0 | G25: 3526.67 | H25: 0 | I25: 3526.67 | J25: 0 | K25: =+C25+E25+G25+I25 -> 14106.68 | L25: =+D25+F25+H25+J25 -> 0
A26: 171 | B26: MANT. Y REPARACION DE EDIFICIOS | C26: 3638.33 | D26: 0 | E26: 3638.33 | F26: 0 | G26: 3638.33 | H26: 0 | I26: 3638.33 | J26: 0 | K26: =+C26+E26+G26+I26 -> 14553.32 | L26: =+D26+F26+H26+J26 -> 0
A27: 174 | B27: MANT. Y REP. DE INSTALACIONES | C27: 7356.33 | D27: 0 | E27: 7356.33 | F27: 0 | G27: 7356.33 | H27: 0 | I27: 7356.33 | J27: 6360 | K27: =+C27+E27+G27+I27 -> 29425.32 | L27: =+D27+F27+H27+J27 -> 6360
A28: 182 | B28: SERVICIOS MEDICO-SANITARIOS | C28: 317986.83 | D28: 0 | E28: 317986.83 | F28: 0 | G28: 317986.83 | H28: 32843.76 | I28: 317986.83 | J28: 99905.74 | K28: =+C28+E28+G28+I28 -> 1271947.3 | L28: =+D28+F28+H28+J28 -> 132749.5
A29: 197 | B29: SERVICIOS DE VIGILANCIA | C29: 42350 | D29: 0 | E29: 42350 | F29: 0 | G29: 42350 | H29: 0 | I29: 42350 | J29: 84000 | K29: =+C29+E29+G29+I29 -> 169400 | L29: =+D29+F29+H29+J29 -> 84000
A30: 199 | B30: OTROS SERVICIOS NO PERSONALES | C30: 67060 | D30: 0 | E30: 67060 | F30: 8200.8 | G30: 67060 | H30: 4100 | I30: 67060 | J30: 6150.2 | K30: =+C30+E30+G30+I30 -> 268240 | L30: =+D30+F30+H30+J30 -> 18451
B31: SUMA GASTOS GENERALES | C31: =SUM(C20:C30) -> 452482.74 | D31: =SUM(D20:D30) -> 0 | E31: =SUM(E20:E30) -> 529798.37 | F31: =SUM(F20:F30) -> 16502.89 | G31: =SUM(G20:G30) -> 611808.13 | H31: =SUM(H20:H30) -> 118432.64 | I31: =SUM(I20:I30) -> 611808.13 | J31: =SUM(J20:J30) -> 287559.55 | ... L31: =SUM(L20:L30) -> 422495.08
B32: MATERIALES Y SUMINISTROS
A33: 211 | B33: ALIMENTOS PARA PERSONAS | C33: 58165.57 | D33: 0 | E33: 58165.57 | F33: 0 | G33: 58165.57 | H33: 13077 | I33: 58165.57 | J33: 90483.25 | K33: =+C33+E33+G33+I33 -> 232662.28 | L33: =+D33+F33+H33+J33 -> 103560.25
A34: 232 | B34: ACABADOS TEXTILES | C34: 12500 | D34: 0 | E34: 12500 | F34: 0 | G34: 12500 | H34: 0 | I34: 12500 | J34: 0 | K34: =+C34+E34+G34+I34 -> 50000 | L34: =+D34+F34+H34+J34 -> 0
A35: 261 | B35: ELEMENTOS Y COMPUESTOS QUIMICOS | C35: 82888.02 | D35: 0 | E35: 82888.02 | F35: 0 | G35: 82888.02 | H35: 0 | I35: 82888.02 | J35: 61685.07 | K35: =+C35+E35+G35+I35 -> 331552.08 | L35: =+D35+F35+H35+J35 -> 61685.07
A36: 262 | B36: COMBUSTIBLES Y LUBRICANTES | C36: 666.67 | D36: 0 | E36: 666.67 | F36: 0 | G36: 666.67 | H36: 0 | I36: 666.67 | J36: 0 | K36: =+C36+E36+G36+I36 -> 2666.68 | L36: =+D36+F36+H36+J36 -> 0
A37: 266 | B37: PRODUCTOS MEDICINALES Y FARMACEUTICOS | C37: 381939.32 | D37: 0 | E37: 381939.32 | F37: 0 | G37: 381939.32 | H37: 133.93 | I37: 381939.32 | J37: 194422.07 | K37: =+C37+E37+G37+I37 -> 1527757.3 | L37: =+D37+F37+H37+J37 -> 194556
A38: 267 | B38: TINTES, PINTURAS Y COLORANTES | C38: 750 | D38: 0 | E38: 750 | F38: 0 | G38: 750 | H38: 0 | I38: 750 | J38: 0 | K38: =+C38+E38+G38+I38 -> 3000 | L38: =+D38+F38+H38+J38 -> 0
A39: 268 | B39: PRODUCTOS PLASTICOS, NYLON, VINIL Y PVC | C39: 11811.29 | D39: 0 | E39: 11811.29 | F39: 0 | G39: 11811.29 | H39: 0 | I39: 11811.29 | J39: 0 | K39: =+C39+E39+G39+I39 -> 47245.16 | L39: =+D39+F39+H39+J39 -> 0
A40: 269 | B40: OTROS PRODUCTOS QUIMICOS Y CONEXOS | C40: 833.33 | D40: 0 | E40: 833.33 | F40: 0 | G40: 833.33 | H40: 0 | I40: 833.33 | J40: 0 | K40: =+C40+E40+G40+I40 -> 3333.32 | L40: =+D40+F40+H40+J40 -> 0
A41: 289 | B41: OTROS PRODUCTOS METALICOS | C41: 574.88 | D41: 0 | E41: 574.88 | F41: 0 | G41: 574.88 | H41: 0 | I41: 574.88 | J41: 0 | K41: =+C41+E41+G41+I41 -> 2299.52 | L41: =+D41+F41+H41+J41 -> 0
A42: 292 | B42: UTILES DE LIMPIEZA Y PRODUCTOS SANITARIOS | C42: 7014.93 | D42: 0 | E42: 7014.93 | F42: 0 | G42: 7014.93 | H42: 0 | I42: 7014.93 | J42: 0 | K42: =+C42+E42+G42+I42 -> 28059.72 | L42: =+D42+F42+H42+J42 -> 0
A43: 295 | B43: UTILES MENORES MEDICO QUIRURGICOS Y DE LAB. | C43: 1548540.1 | D43: 0 | E43: 1548540.1 | F43: 0 | G43: 1548540.1 | H43: 0 | I43: 1548540.1 | J43: 108377 | K43: =+C43+E43+G43+I43 -> 6194160.2 | L43: =+D43+F43+H43+J43 -> 108377
A44: 297 | B44: UTILES, ACCESORIOS Y MATERIALES ELECTRICOS | C44: 1591.07 | D44: 0 | E44: 1591.07 | F44: 0 | G44: 1591.07 | H44: 0 | I44: 1591.07 | J44: 0 | K44: =+C44+E44+G44+I44 -> 6364.28 | L44: =+D44+F44+H44+J44 -> 0
... A46: 299 | B46: OTROS MATERIALES Y SUMINISTROS | C46: 19041.83 | D46: 0 | E46: 19041.83 | F46: 0 | G46: 19041.83 | H46: 0 | I46: 19041.83 | J46: 0 | K46: =+C46+E46+G46+I46 -> 76167.32 | L46: =+D46+F46+H46+J46 -> 0
B47: TOTAL MATERIALES Y SUMINISTROS | C47: =SUM(C33:C46) -> 2160075.1 | D47: =SUM(D33:D46) -> 0 | E47: =SUM(E33:E46) -> 2160075.1 | F47: =SUM(F33:F46) -> 0 | G47: =SUM(G33:G46) -> 2160075.1 | H47: =SUM(H33:H46) -> 14210.93 | I47: =SUM(I33:I46) -> 2160075.1 | J47: =SUM(J33:J46) -> 461310.25 | ... L47: =SUM(L33:L46) -> 475521.18
B48: PROPIEDAD PLANTA Y EQUIPO
B49: EQUIPO MEDICO SANITARIO Y DE LABORATORIO | C49: 0 | D49: 0 | E49: 0 | F49: 0 | H49: 0 | K49: =+C49+E49+G49+I49 -> 0 | L49: =+D49+F49+H49+J49 -> 0
B50: OTRAS MAQUINARIAS Y EQUIPOS | C50: 0 | D50: 0 | E50: 0 | F50: 0 | H50: 0 | I50: 0 | K50: =+C50+E50+G50+I50 -> 0 | L50: =+D50+F50+H50+J50 -> 0
B51: TOTAL PROPIEDAD PLANTA Y EQUIPO | C51: =SUM(C49:C50) -> 0 | D51: =SUM(D49:D50) -> 0 | E51: =SUM(E49:E50) -> 0 | F51: =SUM(F49:F50) -> 0 | G51: =SUM(G49:G50) -> 0 | H51: =SUM(H49:H50) -> 0 | I51: =SUM(I49:I50) -> 0 | J51: =SUM(J49:J50) -> 0 | ... L51: =SUM(L49:L50) -> 0
...

Sheet SEPTIEMBRE ANEXO A CTE-5
B8: ÀREA FINANCIERA | I8: ANEXO DE CTE-5
A10: UNIDAD DE CIRUGIA CARDIOVASCULAR DE GUATEMALA
A11: 5a. AVENIDA 6-22 ZONA 11
A12: dgunicar@yahoo.es Tel. 24163000
A14: Programación mensual por tipo de gasto año 2018, Expresado en Quetzales primer cuatrimestre 2018
A15: No. | B15: CATEGORIA DE GASTO | C15: ENERO | E15: FEBRERO | G15: MARZO | I15: ABRIL
C16: PRESUPUESTO | D16: REAL | E16: PRESUPUESTO | F16: REAL | G16: PRESUPUESTO | H16: REAL | I16: PRESUPUESTO | J16: REAL
B17: RECURSO HUMANO | C17: 1764858.4 | D17: 1492317.4 | E17: 1764858.4 | F17: 1792563.6 | G17: 1764858.4 | H17: 1578007.9 | I17: 1764858.4 | J17: 1803793.6
B19: GASTOS DE FUNCIONAMIENTO | C19: =+C27+C43 -> 2818474.9 | D19: =+D27+D43 -> 0 | E19: =+E27+E43 -> 2818474.9 | F19: =+F27+F43 -> 67111.02 | G19: =+G27+G43 -> 2818474.9 | H19: =+H27+H43 -> 58543.64 | I19: =+I27+I43 -> 2818474.9 | J19: =+J27+J43 -> 3743927.3
B20: ENERGIA ELECTRICA | C20: 62500 | E20: 62500 | F20: 56112.02 | G20: 62500 | I20: 62500 | J20: 68083.01
B21: TELEFONIA | C21: 7500 | E21: 7500 | F21: 10999 | G21: 7500 | H21: 11011 | I21: 7500 | J21: 10992
B22: IMPRESIÓN, ENCUADERNACION Y REPRODUCCION | C22: 8133.97 | E22: 8133.97 | G22: 8133.97 | I22: 8133.97 | J22: 4358
B23: MANT. Y REP. EQUIPO MEDICO SANITARIO Y DE LAB. | C23: 33333.33 | E23: 33333.33 | G23: 33333.33 | I23: 33333.33 | J23: 45020
B24: SERVICIOS MEDICO-SANITARIOS | C24: 165141.75 | E24: 165141.75 | G24: 165141.75 | H24: 1000 | I24: 165141.75 | J24: 26842.86
B25: SERVICIOS DE VIGILANCIA | C25: 40000 | E25: 40000 | G25: 40000 | I25: 40000 | J25: 76240
B26: OTROS SERVICIOS NO PERSONALES | C26: 26305.03 | E26: 26305.03 | G26: 26305.03 | H26: 46532.64 | I26: 26305.03 | J26: 55063.68
B27: SUMA GASTOS GENERALES | C27: =SUM(C20:C26) -> 342914.08 | D27: =SUM(D20:D26) -> 0 | E27: =SUM(E20:E26) -> 342914.08 | F27: =SUM(F20:F26) -> 67111.02 | G27: =SUM(G20:G26) -> 342914.08 | H27: =SUM(H20:H26) -> 58543.64 | I27: =SUM(I20:I26) -> 342914.08 | J27: =SUM(J20:J26) -> 286599.55
B28: MATERIALES Y SUMINISTROS
B29: ALIMENTOS PARA PERSONAS | C29: 60936.45 | E29: 60936.45 | G29: 60936.45 | I29: 60936.45 | J29: 202940.25
B30: ACABADOS TEXTILES | C30: 600 | E30: 600 | G30: 600 | I30: 600
B31: PRODUCTOS DE PAPEL O CARTON | C31: 945.42 | E31: 945.42 | G31: 945.42 | I31: 945.42
B32: ELEMENTOS Y COMPUESTOS QUIMICOS | C32: 169652.57 | E32: 169652.57 | G32: 169652.57 | I32: 169652.57 | J32: 178282.05
B33: COMBUSTIBLES Y LUBRICANTES | C33: 912 | E33: 912 | G33: 912 | I33: 912
B34: PRODUCTOS MEDICINALES Y FARMACEUTICOS | C34: 427229.65 | E34: 427229.65 | G34: 427229.65 | I34: 427229.65 | J34: 1425199.8
B35: TINTES, PINTURAS Y COLORANTES | C35: 100 | E35: 100 | G35: 100 | I35: 100
B36: PRODUCTOS PLASTICOS, NYLON, VINIL Y PVC | C36: 13579.7 | E36: 13579.7 | G36: 13579.7 | I36: 13579.7 | J36: 75162.24
B37: OTROS PRODUCTOS METALICOS | C37: 310 | E37: 310 | G37: 310 | I37: 310
B38: UTILES DE LIMPIEZA Y PRODUCTOS SANITARIOS | C38: 10809.43 | E38: 10809.43 | G38: 10809.43 | I38: 10809.43 | J38: 14528.6
B39: UTILES MENORES MEDICO QUIRURGICOS Y DE LAB. | C39: 1780006.3 | E39: 1780006.3 | G39: 1780006.3 | I39: 1780006.3 | J39: 1545914.8
B40: UTILES, ACCESORIOS Y MATERIALES ELECTRICOS | C40: 2208.7 | E40: 2208.7 | G40: 2208.7 | I40: 2208.7 | J40: 15300
B41: ACCESORIOS Y REPUESTOS EN GENERAL | C41: 8105.1 | E41: 8105.1 | G41: 8105.1 | I41: 8105.1
B42: OTROS MATERIALES Y SUMINISTROS | C42: 165.5 | E42: 165.5 | G42: 165.5 | I42: 165.5
B43: TOTAL MATERIALES Y SUMINISTROS | C43: =SUM(C29:C42) -> 2475560.8 | D43: =SUM(D29:D42) -> 0 | E43: =SUM(E29:E42) -> 2475560.8 | F43: =SUM(F29:F42) -> 0 | G43: =SUM(G29:G42) -> 2475560.8 | H43: =SUM(H29:H42) -> 0 | I43: =SUM(I29:I42) -> 2475560.8 | J43: =SUM(J29:J42) -> 3457327.8
A46: Programación mensual por tipo de gasto año 2016, Expresado en Quetzales
A47: No. | B47: Categoría de Gasto | C47: Julio | E47: Agosto | G47: Septiembre
B48: Recurso Humano | C48: Pto. | D48: Real | E48: Pto. | F48: Real | G48: Pto. | H48: Real
B51: Gastos de Funcionamiento
B52: detallar cada gasto cargado
A60: TOTALES
A73: Programación mensual por tipo de gasto año 2018, Expresado en Quetzales segundo cuatrimestre 2018
...

Sheet OCTUBRE ANEXO A CTE-5
B8: ÀREA FINANCIERA | I8: ANEXO DE CTE-5
A10: UNIDAD DE CIRUGIA CARDIOVASCULAR DE GUATEMALA
A11: 5a. AVENIDA 6-22 ZONA 11
A12: dgunicar@yahoo.es Tel. 24163000
A14: Programación mensual por tipo de gasto año 2018, Expresado en Quetzales primer cuatrimestre 2018
A15: No. | B15: CATEGORIA DE GASTO | C15: ENERO | E15: FEBRERO | G15: MARZO | I15: ABRIL
C16: PRESUPUESTO | D16: REAL | E16: PRESUPUESTO | F16: REAL | G16: PRESUPUESTO | H16: REAL | I16: PRESUPUESTO | J16: REAL
B17: RECURSO HUMANO | C17: 1764858.4 | D17: 1492317.4 | E17: 1764858.4 | F17: 1792563.6 | G17: 1764858.4 | H17: 1578007.9 | I17: 1764858.4 | J17: 1803793.6
B19: GASTOS DE FUNCIONAMIENTO | C19: =+C27+C43 -> 2818474.9 | D19: =+D27+D43 -> 0 | E19: =+E27+E43 -> 2818474.9 | F19: =+F27+F43 -> 67111.02 | G19: =+G27+G43 -> 2818474.9 | H19: =+H27+H43 -> 58543.64 | I19: =+I27+I43 -> 2818474.9 | J19: =+J27+J43 -> 3743927.3
B20: ENERGIA ELECTRICA | C20: 62500 | E20: 62500 | F20: 56112.02 | G20: 62500 | I20: 62500 | J20: 68083.01
B21: TELEFONIA | C21: 7500 | E21: 7500 | F21: 10999 | G21: 7500 | H21: 11011 | I21: 7500 | J21: 10992
B22: IMPRESIÓN, ENCUADERNACION Y REPRODUCCION | C22: 8133.97 | E22: 8133.97 | G22: 8133.97 | I22: 8133.97 | J22: 4358
B23: MANT. Y REP. EQUIPO MEDICO SANITARIO Y DE LAB. | C23: 33333.33 | E23: 33333.33 | G23: 33333.33 | I23: 33333.33 | J23: 45020
B24: SERVICIOS MEDICO-SANITARIOS | C24: 165141.75 | E24: 165141.75 | G24: 165141.75 | H24: 1000 | I24: 165141.75 | J24: 26842.86
B25: SERVICIOS DE VIGILANCIA | C25: 40000 | E25: 40000 | G25: 40000 | I25: 40000 | J25: 76240
B26: OTROS SERVICIOS NO PERSONALES | C26: 26305.03 | E26: 26305.03 | G26: 26305.03 | H26: 46532.64 | I26: 26305.03 | J26: 55063.68
B27: SUMA GASTOS GENERALES | C27: =SUM(C20:C26) -> 342914.08 | D27: =SUM(D20:D26) -> 0 | E27: =SUM(E20:E26) -> 342914.08 | F27: =SUM(F20:F26) -> 67111.02 | G27: =SUM(G20:G26) -> 342914.08 | H27: =SUM(H20:H26) -> 58543.64 | I27: =SUM(I20:I26) -> 342914.08 | J27: =SUM(J20:J26) -> 286599.55
B28: MATERIALES Y SUMINISTROS
B29: ALIMENTOS PARA PERSONAS | C29: 60936.45 | E29: 60936.45 | G29: 60936.45 | I29: 60936.45 | J29: 202940.25
B30: ACABADOS TEXTILES | C30: 600 | E30: 600 | G30: 600 | I30: 600
B31: PRODUCTOS DE PAPEL O CARTON | C31: 945.42 | E31: 945.42 | G31: 945.42 | I31: 945.42
B32: ELEMENTOS Y COMPUESTOS QUIMICOS | C32: 169652.57 | E32: 169652.57 | G32: 169652.57 | I32: 169652.57 | J32: 178282.05
B33: COMBUSTIBLES Y LUBRICANTES | C33: 912 | E33: 912 | G33: 912 | I33: 912
B34: PRODUCTOS MEDICINALES Y FARMACEUTICOS | C34: 427229.65 | E34: 427229.65 | G34: 427229.65 | I34: 427229.65 | J34: 1425199.8
B35: TINTES, PINTURAS Y COLORANTES | C35: 100 | E35: 100 | G35: 100 | I35: 100
B36: PRODUCTOS PLASTICOS, NYLON, VINIL Y PVC | C36: 13579.7 | E36: 13579.7 | G36: 13579.7 | I36: 13579.7 | J36: 75162.24
B37: OTROS PRODUCTOS METALICOS | C37: 310 | E37: 310 | G37: 310 | I37: 310
B38: UTILES DE LIMPIEZA Y PRODUCTOS SANITARIOS | C38: 10809.43 | E38: 10809.43 | G38: 10809.43 | I38: 10809.43 | J38: 14528.6
B39: UTILES MENORES MEDICO QUIRURGICOS Y DE LAB. | C39: 1780006.3 | E39: 1780006.3 | G39: 1780006.3 | I39: 1780006.3 | J39: 1545914.8
B40: UTILES, ACCESORIOS Y MATERIALES ELECTRICOS | C40: 2208.7 | E40: 2208.7 | G40: 2208.7 | I40: 2208.7 | J40: 15300
B41: ACCESORIOS Y REPUESTOS EN GENERAL | C41: 8105.1 | E41: 8105.1 | G41: 8105.1 | I41: 8105.1
B42: OTROS MATERIALES Y SUMINISTROS | C42: 165.5 | E42: 165.5 | G42: 165.5 | I42: 165.5
B43: TOTAL MATERIALES Y SUMINISTROS | C43: =SUM(C29:C42) -> 2475560.8 | D43: =SUM(D29:D42) -> 0 | E43: =SUM(E29:E42) -> 2475560.8 | F43: =SUM(F29:F42) -> 0 | G43: =SUM(G29:G42) -> 2475560.8 | H43: =SUM(H29:H42) -> 0 | I43: =SUM(I29:I42) -> 2475560.8 | J43: =SUM(J29:J42) -> 3457327.8
A46: Programación mensual por tipo de gasto año 2016, Expresado en Quetzales
A47: No. | B47: Categoría de Gasto | C47: Julio | E47: Agosto | G47: Septiembre
B48: Recurso Humano | C48: Pto. | D48: Real | E48: Pto. | F48: Real | G48: Pto. | H48: Real
B51: Gastos de Funcionamiento
B52: detallar cada gasto cargado
A60: TOTALES
A73: Programación mensual por tipo de gasto año 2018, Expresado en Quetzales segundo cuatrimestre 2018
...

Sheet NOVIEMBRE ANEXO A CTE-5
B8: ÀREA FINANCIERA | H8: ANEXO DE CTE-5
A10: UNIDAD DE CIRUGIA CARDIOVASCULAR DE GUATEMALA
A11: 5a. AVENIDA 6-22 ZONA 11
A12: dgunicar@yahoo.es Tel. 24163000
A14: Programación mensual por tipo de gasto año 2018, Expresado en Quetzales primer cuatrimestre 2018
A15: No. | B15: CATEGORIA DE GASTO | C15: ENERO | E15: FEBRERO | H15: ABRIL
C16: PRESUPUESTO | D16: REAL | E16: PRESUPUESTO | F16: REAL | G16: REAL | H16: PRESUPUESTO | I16: REAL
B17: RECURSO HUMANO | C17: 1764858.4 | D17: 1492317.4 | E17: 1764858.4 | F17: 1792563.6 | G17: 1578007.9 | H17: 1764858.4 | I17: 1803793.6
B19: GASTOS DE FUNCIONAMIENTO | C19: =+C27+C43 -> 2818474.9 | D19: =+D27+D43 -> 0 | E19: =+E27+E43 -> 2818474.9 | F19: =+F27+F43 -> 67111.02 | G19: =+G27+G43 -> 58543.64 | H19: =+H27+H43 -> 2818474.9 | I19: =+I27+I43 -> 3743927.3
B20: ENERGIA ELECTRICA | C20: 62500 | E20: 62500 | F20: 56112.02 | H20: 62500 | I20: 68083.01
B21: TELEFONIA | C21: 7500 | E21: 7500 | F21: 10999 | G21: 11011 | H21: 7500 | I21: 10992
B22: IMPRESIÓN, ENCUADERNACION Y REPRODUCCION | C22: 8133.97 | E22: 8133.97 | H22: 8133.97 | I22: 4358
B23: MANT. Y REP. EQUIPO MEDICO SANITARIO Y DE LAB. | C23: 33333.33 | E23: 33333.33 | H23: 33333.33 | I23: 45020
B24: SERVICIOS MEDICO-SANITARIOS | C24: 165141.75 | E24: 165141.75 | G24: 1000 | H24: 165141.75 | I24: 26842.86
B25: SERVICIOS DE VIGILANCIA | C25: 40000 | E25: 40000 | H25: 40000 | I25: 76240
B26: OTROS SERVICIOS NO PERSONALES | C26: 26305.03 | E26: 26305.03 | G26: 46532.64 | H26: 26305.03 | I26: 55063.68
B27: SUMA GASTOS GENERALES | C27: =SUM(C20:C26) -> 342914.08 | D27: =SUM(D20:D26) -> 0 | E27: =SUM(E20:E26) -> 342914.08 | F27: =SUM(F20:F26) -> 67111.02 | G27: =SUM(G20:G26) -> 58543.64 | H27: =SUM(H20:H26) -> 342914.08 | I27: =SUM(I20:I26) -> 286599.55
B28: MATERIALES Y SUMINISTROS
B29: ALIMENTOS PARA PERSONAS | C29: 60936.45 | E29: 60936.45 | H29: 60936.45 | I29: 202940.25
B30: ACABADOS TEXTILES | C30: 600 | E30: 600 | H30: 600
B31: PRODUCTOS DE PAPEL O CARTON | C31: 945.42 | E31: 945.42 | H31: 945.42
B32: ELEMENTOS Y COMPUESTOS QUIMICOS | C32: 169652.57 | E32: 169652.57 | H32: 169652.57 | I32: 178282.05
B33: COMBUSTIBLES Y LUBRICANTES | C33: 912 | E33: 912 | H33: 912
B34: PRODUCTOS MEDICINALES Y FARMACEUTICOS | C34: 427229.65 | E34: 427229.65 | H34: 427229.65 | I34: 1425199.8
B35: TINTES, PINTURAS Y COLORANTES | C35: 100 | E35: 100 | H35: 100
B36: PRODUCTOS PLASTICOS, NYLON, VINIL Y PVC | C36: 13579.7 | E36: 13579.7 | H36: 13579.7 | I36: 75162.24
B37: OTROS PRODUCTOS METALICOS | C37: 310 | E37: 310 | H37: 310
B38: UTILES DE LIMPIEZA Y PRODUCTOS SANITARIOS | C38: 10809.43 | E38: 10809.43 | H38: 10809.43 | I38: 14528.6
B39: UTILES MENORES MEDICO QUIRURGICOS Y DE LAB. | C39: 1780006.3 | E39: 1780006.3 | H39: 1780006.3 | I39: 1545914.8
B40: UTILES, ACCESORIOS Y MATERIALES ELECTRICOS | C40: 2208.7 | E40: 2208.7 | H40: 2208.7 | I40: 15300
B41: ACCESORIOS Y REPUESTOS EN GENERAL | C41: 8105.1 | E41: 8105.1 | H41: 8105.1
B42: OTROS MATERIALES Y SUMINISTROS | C42: 165.5 | E42: 165.5 | H42: 165.5
B43: TOTAL MATERIALES Y SUMINISTROS | C43: =SUM(C29:C42) -> 2475560.8 | D43: =SUM(D29:D42) -> 0 | E43: =SUM(E29:E42) -> 2475560.8 | F43: =SUM(F29:F42) -> 0 | G43: =SUM(G29:G42) -> 0 | H43: =SUM(H29:H42) -> 2475560.8 | I43: =SUM(I29:I42) -> 3457327.8
A46: Programación mensual por tipo de gasto año 2016, Expresado en Quetzales
A47: No. | B47: Categoría de Gasto | C47: Julio | E47: Agosto
B48: Recurso Humano | C48: Pto. | D48: Real | E48: Pto. | F48: Real | G48: Real
B51: Gastos de Funcionamiento
B52: detallar cada gasto cargado
A60: TOTALES
A73: Programación mensual por tipo de gasto año 2018, Expresado en Quetzales segundo cuatrimestre 2018
...

Sheet DICIEMBRE ANEXO A CTE-5
B8: ÀREA FINANCIERA | I8: ANEXO DE CTE-5
A10: UNIDAD DE CIRUGIA CARDIOVASCULAR DE GUATEMALA
A11: 5a. AVENIDA 6-22 ZONA 11
A12: dgunicar@yahoo.es Tel. 24163000
A14: Programación mensual por tipo de gasto año 2018, Expresado en Quetzales primer cuatrimestre 2018
A15: No. | B15: CATEGORIA DE GASTO | C15: ENERO | E15: FEBRERO | G15: MARZO | I15: ABRIL
C16: PRESUPUESTO | D16: REAL | E16: PRESUPUESTO | F16: REAL | G16: PRESUPUESTO | H16: REAL | I16: PRESUPUESTO | J16: REAL
B17: RECURSO HUMANO | C17: 1764858.4 | D17: 1492317.4 | E17: 1764858.4 | F17: 1792563.6 | G17: 1764858.4 | H17: 1578007.9 | I17: 1764858.4 | J17: 1803793.6
B19: GASTOS DE FUNCIONAMIENTO | C19: =+C27+C43 -> 2818474.9 | D19: =+D27+D43 -> 0 | E19: =+E27+E43 -> 2818474.9 | F19: =+F27+F43 -> 67111.02 | G19: =+G27+G43 -> 2818474.9 | H19: =+H27+H43 -> 58543.64 | I19: =+I27+I43 -> 2818474.9 | J19: =+J27+J43 -> 3743927.3
B20: ENERGIA ELECTRICA | C20: 62500 | E20: 62500 | F20: 56112.02 | G20: 62500 | I20: 62500 | J20: 68083.01
B21: TELEFONIA | C21: 7500 | E21: 7500 | F21: 10999 | G21: 7500 | H21: 11011 | I21: 7500 | J21: 10992
B22: IMPRESIÓN, ENCUADERNACION Y REPRODUCCION | C22: 8133.97 | E22: 8133.97 | G22: 8133.97 | I22: 8133.97 | J22: 4358
B23: MANT. Y REP. EQUIPO MEDICO SANITARIO Y DE LAB. | C23: 33333.33 | E23: 33333.33 | G23: 33333.33 | I23: 33333.33 | J23: 45020
B24: SERVICIOS MEDICO-SANITARIOS | C24: 165141.75 | E24: 165141.75 | G24: 165141.75 | H24: 1000 | I24: 165141.75 | J24: 26842.86
B25: SERVICIOS DE VIGILANCIA | C25: 40000 | E25: 40000 | G25: 40000 | I25: 40000 | J25: 76240
B26: OTROS SERVICIOS NO PERSONALES | C26: 26305.03 | E26: 26305.03 | G26: 26305.03 | H26: 46532.64 | I26: 26305.03 | J26: 55063.68
B27: SUMA GASTOS GENERALES | C27: =SUM(C20:C26) -> 342914.08 | D27: =SUM(D20:D26) -> 0 | E27: =SUM(E20:E26) -> 342914.08 | F27: =SUM(F20:F26) -> 67111.02 | G27: =SUM(G20:G26) -> 342914.08 | H27: =SUM(H20:H26) -> 58543.64 | I27: =SUM(I20:I26) -> 342914.08 | J27: =SUM(J20:J26) -> 286599.55
B28: MATERIALES Y SUMINISTROS
B29: ALIMENTOS PARA PERSONAS | C29: 60936.45 | E29: 60936.45 | G29: 60936.45 | I29: 60936.45 | J29: 202940.25
B30: ACABADOS TEXTILES | C30: 600 | E30: 600 | G30: 600 | I30: 600
B31: PRODUCTOS DE PAPEL O CARTON | C31: 945.42 | E31: 945.42 | G31: 945.42 | I31: 945.42
B32: ELEMENTOS Y COMPUESTOS QUIMICOS | C32: 169652.57 | E32: 169652.57 | G32: 169652.57 | I32: 169652.57 | J32: 178282.05
B33: COMBUSTIBLES Y LUBRICANTES | C33: 912 | E33: 912 | G33: 912 | I33: 912
B34: PRODUCTOS MEDICINALES Y FARMACEUTICOS | C34: 427229.65 | E34: 427229.65 | G34: 427229.65 | I34: 427229.65 | J34: 1425199.8
B35: TINTES, PINTURAS Y COLORANTES | C35: 100 | E35: 100 | G35: 100 | I35: 100
B36: PRODUCTOS PLASTICOS, NYLON, VINIL Y PVC | C36: 13579.7 | E36: 13579.7 | G36: 13579.7 | I36: 13579.7 | J36: 75162.24
B37: OTROS PRODUCTOS METALICOS | C37: 310 | E37: 310 | G37: 310 | I37: 310
B38: UTILES DE LIMPIEZA Y PRODUCTOS SANITARIOS | C38: 10809.43 | E38: 10809.43 | G38: 10809.43 | I38: 10809.43 | J38: 14528.6
B39: UTILES MENORES MEDICO QUIRURGICOS Y DE LAB. | C39: 1780006.3 | E39: 1780006.3 | G39: 1780006.3 | I39: 1780006.3 | J39: 1545914.8
B40: UTILES, ACCESORIOS Y MATERIALES ELECTRICOS | C40: 2208.7 | E40: 2208.7 | G40: 2208.7 | I40: 2208.7 | J40: 15300
B41: ACCESORIOS Y REPUESTOS EN GENERAL | C41: 8105.1 | E41: 8105.1 | G41: 8105.1 | I41: 8105.1
B42: OTROS MATERIALES Y SUMINISTROS | C42: 165.5 | E42: 165.5 | G42: 165.5 | I42: 165.5
B43: TOTAL MATERIALES Y SUMINISTROS | C43: =SUM(C29:C42) -> 2475560.8 | D43: =SUM(D29:D42) -> 0 | E43: =SUM(E29:E42) -> 2475560.8 | F43: =SUM(F29:F42) -> 0 | G43: =SUM(G29:G42) -> 2475560.8 | H43: =SUM(H29:H42) -> 0 | I43: =SUM(I29:I42) -> 2475560.8 | J43: =SUM(J29:J42) -> 3457327.8
A46: Programación mensual por tipo de gasto año 2016, Expresado en Quetzales
A47: No. | B47: Categoría de Gasto | C47: Julio | E47: Agosto | G47: Septiembre
B48: Recurso Humano | C48: Pto. | D48: Real | E48: Pto. | F48: Real | G48: Pto. | H48: Real
B51: Gastos de Funcionamiento
B52: detallar cada gasto cargado
A60: TOTALES
A73: Programación mensual por tipo de gasto año 2018, Expresado en Quetzales segundo cuatrimestre 2018
...

Sheet SEPTIEMBRE CTE-7
B7: ÀREA FINANCIERA | J7: CTE-7
A9: UNIDAD DE CIRUGIA CARDIOVASCULAR DE GUATEMALA
A10: 5a. AVENIDA 6-22 ZONA 11
A11: dgunicar@yahoo.es Tel. 24163000
A13: Ejecucion de avance fìnanciero programado-ejecutado por categoria del gasto primer cuatrimestre 2022
A15: Categoría del gasto | B15: Enero | D15: Febrero | F15: Marzo | H15: Abril | J15: Totales
B16: Presupuestado | C16: Ejecutado | D16: Presupuestado | E16: Ejecutado | F16: Presupuestado | G16: Ejecutado | H16: Presupuestado | I16: Ejecutado | J16: Presupuestado | K16: Ejecutado
A17: Recurso Humano | B17: 2414811.3 | C17: 2367268.7 | D17: 2414811.3 | E17: 2396683.9 | F17: 2414811.3 | G17: 2410583.5 | H17: 2414811.3 | I17: 2417060.8 | J17: =+B17+D17+F17+H17 -> 9659245.3 | K17: =+C17+E17+G17+I17 -> 9591596.9
A18: Gastos de Funcionamiento | B18: 2612557.9 | C18: 0 | D18: 2689873.5 | E18: 16502.89 | F18: 2771983.2 | G18: 132643.57 | H18: 2771983.2 | I18: 748869.8 | J18: =+B18+D18+F18+H18 -> 10846398 | K18: =+C18+E18+G18+I18 -> 898016.26
A19: Propiedad planta y equipo | J19: =+B19+D19+F19+H19 -> 0 | K19: =+C19+E19+G19+I19 -> 0
A20: TOTAL | B20: =SUM(B17:B19) -> 5027369.2 | C20: =SUM(C17:C19) -> 2367268.7 | D20: =SUM(D17:D19) -> 5104684.8 | E20: =SUM(E17:E19) -> 2413186.8 | F20: =SUM(F17:F19) -> 5186794.6 | G20: =SUM(G17:G19) -> 2543227.1 | H20: =SUM(H17:H19) -> 5186794.6 | I20: =SUM(I17:I19) -> 3165930.6 | ... K20: =SUM(K17:K19) -> 10489613
A22: Ejecucion de avance fìnanciero programado-ejecutado por categoria del gasto segundo cuatrimestre 2022
A24: Categoría del gasto | B24: Mayo | D24: Junio | F24: Julio | H24: Agosto | J24: Totales | L24: Total acumulado
B25: Presupuestado | C25: Ejecutado | D25: Presupuestado | E25: Ejecutado | F25: Presupuestado | G25: Ejecutado | H25: Presupuestado | I25: Ejecutado | J25: Presupuestado | K25: Ejecutado | L25: Presupuestado | M25: Ejecutado
A26: Recurso Humano | B26: 2414811.3 | C26: 2417711.1 | D26: 2414811.3 | E26: 2408593 | F26: 2414811.3 | G26: 2416876.5 | H26: 2414811.3 | I26: 2426363.1 | J26: =+B26+D26+F26+H26 -> 9659245.3 | K26: =+C26+E26+G26+I26 -> 9669543.8
A27: Gastos de Funcionamiento | B27: 2771983.2 | C27: 1295730.8 | D27: 2771983.2 | E27: 3338607.9 | F27: 2771983.2 | G27: 2433144.6 | H27: 2771983.2 | I27: 4481129.3 | J27: =+B27+D27+F27+H27 -> 11087933 | K27: =+C27+E27+G27+I27 -> 11548613
A28: Propiedad planta y equipo | J28: =+B28+D28+F28+H28 -> 0 | K28: =+C28+E28+G28+I28 -> 0
A29: TOTAL | B29: =SUM(B26:B28) -> 5186794.6 | C29: =SUM(C26:C28) -> 3713441.9 | D29: =SUM(D26:D28) -> 5186794.6 | E29: =SUM(E26:E28) -> 5747200.9 | F29: =SUM(F26:F28) -> 5186794.6 | G29: =SUM(G26:G28) -> 4850021.2 | H29: =SUM(H26:H28) -> 5186794.6 | I29: =SUM(I26:I28) -> 6907492.4 | ... K29: =SUM(K26:K28) -> 21218156
A31: Ejecucion de avance fìnanciero programado-ejecutado por categoria del gasto tercer cuatrimestre 2022
A33: Categoría del gasto | B33: Septiembre | D33: Octubre | F33: Noviembre | H33: Diciembre | J33: Totales | L33: Total acumulado
B34: Presupuestado | C34: Ejecutado | D34: Presupuestado | E34: Ejecutado | F34: Presupuestado | G34: Ejecutado | H34: Presupuestado | I34: Ejecutado | J34: Presupuestado | K34: Ejecutado | L34: Presupuestado | M34: Ejecutado
A35: Recurso Humano | B35: 2414811.3 | C35: 2400886.3 | J35: =+B35+D35+F35+H35 -> 2414811.3 | K35: =+C35+E35+G35+I35 -> 2400886.3
A36: Gastos de Funcionamiento | B36: 2606983.3 | C36: 2328043.9 | J36: =+B36+D36+F36+H36 -> 2606983.3 | K36: =+C36+E36+G36+I36 -> 2328043.9
A37: Propiedad Planta y Equipo | B37: 4000000 | C37: 0 | J37: =+B37+D37+F37+H37 -> 4000000 | K37: =+C37+E37+G37+I37 -> 0
A38: TOTAL | B38: =SUM(B35:B37) -> 9021794.7 | C38: =SUM(C35:C37) -> 4728930.1 | D38: =SUM(D35:D37) -> 0 | E38: =SUM(E35:E37) -> 0 | F38: =SUM(F35:F37) -> 0 | G38: =SUM(G35:G37) -> 0 | H38: =SUM(H35:H37) -> 0 | I38: =SUM(I35:I37) -> 0 | ... K38: =SUM(K35:K37) -> 4728930.1
A40: Resumen año 2022
A41: Categoría del gasto | B41: año 2022
B42: Presupuestado | C42: Ejecutado
A43: Recurso Humano | B43: =+J17+J26+J35 -> 21733302 | C43: =+K17+K26+K35 -> 21662027
A44: Gastos de Funcionamiento | B44: =+J18+J27+J36 -> 24541314 | C44: =+K18+K27+K36 -> 14774673
A45: Propiedad Planta y Equipo | B45: =+J37+J28+J19 -> 4000000 | C45: =K37+K28+K19 -> 0
A46: TOTAL | B46: =SUM(B43:B45) -> 50274616 | C46: =SUM(C43:C45) -> 36436700
A64: Elaborado por: | C64: ___________________________ | F64: Autorizado por: | H64: ___________________________________
C65: Víctor Cresencio Reyes Porres | H65: Dr. Walter Antonio Mazariegos Samayoa
C66: Jefe de Contabilidad | H66: Director General
A67: Fecha: | C67: 10 de octubre 2022

Sheet OCTUBRE CTE-7
B7: ÀREA FINANCIERA | J7: CTE-7
A9: UNIDAD DE CIRUGIA CARDIOVASCULAR DE GUATEMALA
A10: 5a. AVENIDA 6-22 ZONA 11
A11: dgunicar@yahoo.es Tel. 24163000
A13: Ejecucion de avance fìnanciero programado-ejecutado por categoria del gasto primer cuatrimestre 2022
A15: Categoría del gasto | B15: Enero | D15: Febrero | F15: Marzo | H15: Abril | J15: Totales
B16: Presupuestado | C16: Ejecutado | D16: Presupuestado | E16: Ejecutado | F16: Presupuestado | G16: Ejecutado | H16: Presupuestado | I16: Ejecutado | J16: Presupuestado | K16: Ejecutado
A17: Recurso Humano | B17: 2414811.3 | C17: 2367268.7 | D17: 2414811.3 | E17: 2396683.9 | F17: 2414811.3 | G17: 2410583.5 | H17: 2414811.3 | I17: 2417060.8 | J17: =+B17+D17+F17+H17 -> 9659245.3 | K17: =+C17+E17+G17+I17 -> 9591596.9
A18: Gastos de Funcionamiento | B18: 2612557.9 | C18: 0 | D18: 2689873.5 | E18: 16502.89 | F18: 2771983.2 | G18: 132643.57 | H18: 2771983.2 | I18: 748869.8 | J18: =+B18+D18+F18+H18 -> 10846398 | K18: =+C18+E18+G18+I18 -> 898016.26
A19: Propiedad planta y equipo | J19: =+B19+D19+F19+H19 -> 0 | K19: =+C19+E19+G19+I19 -> 0
A20: TOTAL | B20: =SUM(B17:B19) -> 5027369.2 | C20: =SUM(C17:C19) -> 2367268.7 | D20: =SUM(D17:D19) -> 5104684.8 | E20: =SUM(E17:E19) -> 2413186.8 | F20: =SUM(F17:F19) -> 5186794.6 | G20: =SUM(G17:G19) -> 2543227.1 | H20: =SUM(H17:H19) -> 5186794.6 | I20: =SUM(I17:I19) -> 3165930.6 | ... K20: =SUM(K17:K19) -> 10489613
A22: Ejecucion de avance fìnanciero programado-ejecutado por categoria del gasto segundo cuatrimestre 2022
A24: Categoría del gasto | B24: Mayo | D24: Junio | F24: Julio | H24: Agosto | J24: Totales | L24: Total acumulado
B25: Presupuestado | C25: Ejecutado | D25: Presupuestado | E25: Ejecutado | F25: Presupuestado | G25: Ejecutado | H25: Presupuestado | I25: Ejecutado | J25: Presupuestado | K25: Ejecutado | L25: Presupuestado | M25: Ejecutado
A26: Recurso Humano | B26: 2414811.3 | C26: 2417711.1 | D26: 2414811.3 | E26: 2408593 | F26: 2414811.3 | G26: 2416876.5 | H26: 2414811.3 | I26: 2426363.1 | J26: =+B26+D26+F26+H26 -> 9659245.3 | K26: =+C26+E26+G26+I26 -> 9669543.8
A27: Gastos de Funcionamiento | B27: 2771983.2 | C27: 1295730.8 | D27: 2771983.2 | E27: 3338607.9 | F27: 2771983.2 | G27: 2433144.6 | H27: 2771983.2 | I27: 4481129.3 | J27: =+B27+D27+F27+H27 -> 11087933 | K27: =+C27+E27+G27+I27 -> 11548613
A28: Propiedad planta y equipo | J28: =+B28+D28+F28+H28 -> 0 | K28: =+C28+E28+G28+I28 -> 0
A29: TOTAL | B29: =SUM(B26:B28) -> 5186794.6 | C29: =SUM(C26:C28) -> 3713441.9 | D29: =SUM(D26:D28) -> 5186794.6 | E29: =SUM(E26:E28) -> 5747200.9 | F29: =SUM(F26:F28) -> 5186794.6 | G29: =SUM(G26:G28) -> 4850021.2 | H29: =SUM(H26:H28) -> 5186794.6 | I29: =SUM(I26:I28) -> 6907492.4 | ... K29: =SUM(K26:K28) -> 21218156
A32: Ejecucion de avance fìnanciero programado-ejecutado por categoria del gasto tercer cuatrimestre 2022
A34: Categoría del gasto | B34: Septiembre | D34: Octubre | F34: Noviembre | H34: Diciembre | J34: Totales | L34: Total acumulado
B35: Presupuestado | C35: Ejecutado | D35: Presupuestado | E35: Ejecutado | F35: Presupuestado | G35: Ejecutado | H35: Presupuestado | I35: Ejecutado | J35: Presupuestado | K35: Ejecutado | L35: Presupuestado | M35: Ejecutado
A36: Recurso Humano | B36: 2414811.3 | C36: 2400886.3 | D36: 2414811.3 | E36: 2409784.7 | J36: =+B36+D36+F36+H36 -> 4829622.7 | K36: =+C36+E36+G36+I36 -> 4810671
A37: Gastos de Funcionamiento | B37: 2606983.3 | C37: 2328043.9 | D37: 2606983.3 | E37: 3874897.3 | J37: =+B37+D37+F37+H37 -> 5213966.6 | K37: =+C37+E37+G37+I37 -> 6202941.2
A38: Propiedad Planta y Equipo | B38: 4000000 | C38: 0 | D38: 4660000 | J38: =+B38+D38+F38+H38 -> 8660000 | K38: =+C38+E38+G38+I38 -> 0
A39: TOTAL | B39: =SUM(B36:B38) -> 9021794.7 | C39: =SUM(C36:C38) -> 4728930.1 | D39: =SUM(D36:D38) -> 9681794.6 | E39: =SUM(E36:E38) -> 6284682 | F39: =SUM(F36:F38) -> 0 | G39: =SUM(G36:G38) -> 0 | H39: =SUM(H36:H38) -> 0 | I39: =SUM(I36:I38) -> 0 | ... K39: =SUM(K36:K38) -> 11013612
A46: Resumen año 2022
A47: Categoría del gasto | B47: año 2022
B48: Presupuestado | C48: Ejecutado
A49: Recurso Humano | B49: =+J17+J26+J36 -> 24148113 | C49: =+K17+K26+K36 -> 24071812
A50: Gastos de Funcionamiento | B50: =+J18+J27+J37 -> 27148297 | C50: =+K18+K27+K37 -> 18649570
A51: Propiedad Planta y Equipo | B51: =+J38+J28+J19 -> 8660000 | C51: =K38+K28+K19 -> 0
A52: TOTAL | B52: =SUM(B49:B51) -> 59956411 | C52: =SUM(C49:C51) -> 42721382
A70: Elaborado por: | C70: ___________________________ | F70: Autorizado por: | H70: ___________________________________
C71: Víctor Cresencio Reyes Porres | H71: Dr. Walter Antonio Mazariegos Samayoa
C72: Jefe de Contabilidad | H72: Director General
A73: Fecha: | C73: 10 de noviembre 2022

Sheet NOVIEMBRE CTE-7
B7: ÀREA FINANCIERA | J7: CTE-7
A9: UNIDAD DE CIRUGIA CARDIOVASCULAR DE GUATEMALA
A10: 5a. AVENIDA 6-22 ZONA 11
A11: dgunicar@yahoo.es Tel. 24163000
A13: Ejecucion de avance fìnanciero programado-ejecutado por categoria del gasto primer cuatrimestre 2022
A15: Categoría del gasto | B15: Enero | D15: Febrero | F15: Marzo | H15: Abril | J15: Totales
B16: Presupuestado | C16: Ejecutado | D16: Presupuestado | E16: Ejecutado | F16: Presupuestado | G16: Ejecutado | H16: Presupuestado | I16: Ejecutado | J16: Presupuestado | K16: Ejecutado
A17: Recurso Humano | B17: 2414811.3 | C17: 2367268.7 | D17: 2414811.3 | E17: 2396683.9 | F17: 2414811.3 | G17: 2410583.5 | H17: 2414811.3 | I17: 2417060.8 | J17: =+B17+D17+F17+H17 -> 9659245.3 | K17: =+C17+E17+G17+I17 -> 9591596.9
A18: Gastos de Funcionamiento | B18: 2612557.9 | C18: 0 | D18: 2689873.5 | E18: 16502.89 | F18: 2771883.2 | G18: 132643.57 | H18: 2771883.2 | I18: 748869.8 | J18: =+B18+D18+F18+H18 -> 10846198 | K18: =+C18+E18+G18+I18 -> 898016.26
A19: Propiedad planta y equipo | J19: =+B19+D19+F19+H19 -> 0 | K19: =+C19+E19+G19+I19 -> 0
A20: TOTAL | B20: =SUM(B17:B19) -> 5027369.2 | C20: =SUM(C17:C19) -> 2367268.7 | D20: =SUM(D17:D19) -> 5104684.8 | E20: =SUM(E17:E19) -> 2413186.8 | F20: =SUM(F17:F19) -> 5186694.6 | G20: =SUM(G17:G19) -> 2543227.1 | H20: =SUM(H17:H19) -> 5186694.6 | I20: =SUM(I17:I19) -> 3165930.6 | ... K20: =SUM(K17:K19) -> 10489613
A22: Ejecucion de avance fìnanciero programado-ejecutado por categoria del gasto segundo cuatrimestre 2022
A24: Categoría del gasto | B24: Mayo | D24: Junio | F24: Julio | H24: Agosto | J24: Totales | L24: Total acumulado
B25: Presupuestado | C25: Ejecutado | D25: Presupuestado | E25: Ejecutado | F25: Presupuestado | G25: Ejecutado | H25: Presupuestado | I25: Ejecutado | J25: Presupuestado | K25: Ejecutado | L25: Presupuestado | M25: Ejecutado
A26: Recurso Humano | B26: 2414811.3 | C26: 2417711.1 | D26: 2414811.3 | E26: 2408593 | F26: 2414811.3 | G26: 2416876.5 | H26: 2414811.3 | I26: 2426363.1 | J26: =+B26+D26+F26+H26 -> 9659245.3 | K26: =+C26+E26+G26+I26 -> 9669543.8 | L26: =+J26+J17 -> 19318491 | M26: =+K26+K17 -> 19261141
A27: Gastos de Funcionamiento | B27: 2771883.2 | C27: 1295730.8 | D27: 2771883.2 | E27: 3338607.9 | F27: 2771883.2 | G27: 2433144.6 | H27: 2771883.2 | I27: 4481129.3 | J27: =+B27+D27+F27+H27 -> 11087533 | K27: =+C27+E27+G27+I27 -> 11548613 | L27: =+J27+J18 -> 21933731 | M27: =+K27+K18 -> 12446629
A28: Propiedad planta y equipo | J28: =+B28+D28+F28+H28 -> 0 | K28: =+C28+E28+G28+I28 -> 0
A29: TOTAL | B29: =SUM(B26:B28) -> 5186694.6 | C29: =SUM(C26:C28) -> 3713441.9 | D29: =SUM(D26:D28) -> 5186694.6 | E29: =SUM(E26:E28) -> 5747200.9 | F29: =SUM(F26:F28) -> 5186694.6 | G29: =SUM(G26:G28) -> 4850021.2 | H29: =SUM(H26:H28) -> 5186694.6 | I29: =SUM(I26:I28) -> 6907492.4 | ... K29: =SUM(K26:K28) -> 21218156 | L29: =+J29+J20 -> 41252222 | M29: =+K29+K20 -> 31707770
A32: Ejecucion de avance fìnanciero programado-ejecutado por categoria del gasto tercer cuatrimestre 2022
A34: Categoría del gasto | B34: Septiembre | D34: Octubre | F34: Noviembre | H34: Diciembre | J34: Totales | L34: Total acumulado
B35: Presupuestado | C35: Ejecutado | D35: Presupuestado | E35: Ejecutado | F35: Presupuestado | G35: Ejecutado | H35: Presupuestado | I35: Ejecutado | J35: Presupuestado | K35: Ejecutado | L35: Presupuestado | M35: Ejecutado
A36: Recurso Humano | B36: 2414811.3 | C36: 2400886.3 | D36: 2414811.3 | E36: 2409784.7 | F36: 2414811.3 | G36: 2486510.3 | J36: =+B36+D36+F36+H36 -> 7244434 | K36: =+C36+E36+G36+I36 -> 7297181.3 | L36: =+L26+J36 -> 26562925 | M36: =+M26+K36 -> 26558322
A37: Gastos de Funcionamiento | B37: 2573947.4 | C37: 2328043.9 | D37: 2497042 | E37: 3874897.3 | F37: 2678771.9 | G37: 2968160.4 | J37: =+B37+D37+F37+H37 -> 7749761.2 | K37: =+C37+E37+G37+I37 -> 9171101.6 | L37: =+L27+J37 -> 29683492 | M37: =+M27+K37 -> 21617730
