Workbook

Sheet ENERO CTE-5
B8: ÀREA FINANCIERA | K8: CTE-5
A10: UNIDAD DE CIRUGIA CARDIOVASCULAR DE GUATEMALA
A11: 5a. AVENIDA 6-22 ZONA 11
A12: dgunicar@yahoo.es Tel. 24163000
A14: Programación y ejecucion mensual por tipo de gasto año 2022, Expresado en Quetzales primer cuatrimestre 2022
A15: No. | B15: CATEGORIA DE GASTO | C15: ENERO | E15: FEBRERO | G15: MARZO | I15: ABRIL | K15: TOTAL CUATRIMESTRE
C16: PRESUPUESTO | D16: REAL | E16: PRESUPUESTO | F16: REAL | G16: PRESUPUESTO | H16: REAL | I16: PRESUPUESTO | J16: REAL | K16: PRESUPUESTO | L16: REAL
A17: 011 | B17: RECURSO HUMANO | C17: 2414811.3 | D17: 2367268.7 | K17: =+C17+E17+G17+I17 -> 2414811.3 | L17: =+D17+F17+H17+J17 -> 2367268.7
B19: GASTOS DE FUNCIONAMIENTO | C19: =+C31+C47 -> 2612557.9 | D19: =+D31+D47 -> 0 | E19: =+E31+E47 -> 0 | F19: =+F31+F47 -> 0 | G19: =+G31+G47 -> 0 | H19: =+H31+H47 -> 0 | I19: =+I31+I47 -> 0 | J19: =+J31+J47 -> 0 | K19: =+C19+E19+G19+I19 -> 2612557.9 | L19: =+D19+F19+H19+J19 -> 0
A20: 111 | B20: ENERGIA ELECTRICA | C20: 0 | D20: 0 | K20: =+C20+E20+G20+I20 -> 0 | L20: =+D20+F20+H20+J20 -> 0
A21: 113 | B21: TELEFONIA | C21: 10564.58 | D21: 0 | K21: =+C21+E21+G21+I21 -> 10564.58 | L21: =+D21+F21+H21+J21 -> 0
A22: 122 | B22: IMPRESIÓN, ENCUADERNACION Y REPRODUCCION | C22: 0 | D22: 0 | K22: =+C22+E22+G22+I22 -> 0 | L22: =+D22+F22+H22+J22 -> 0
A23: 163 | B23: MANT. Y REP. EQUIPO MEDICO SANITARIO Y DE LAB. | C23: 0 | D23: 0 | K23: =+C23+E23+G23+I23 -> 0 | L23: =+D23+F23+H23+J23 -> 0
A24: 168 | B24: MANTENIMIENTO Y REPARACION DE EQUIPO DE COMPUTO | C24: 0 | D24: 0 | K24: =+C24+E24+G24+I24 -> 0 | L24: =+D24+F24+H24+J24 -> 0
A25: 169 | B25: MANT. Y REP. DE OTRAS MAQ. Y EQUIPO | C25: 3526.67 | D25: 0 | K25: =+C25+E25+G25+I25 -> 3526.67 | L25: =+D25+F25+H25+J25 -> 0
A26: 171 | B26: MANT. Y REPARACION DE EDIFICIOS | C26: 3638.33 | D26: 0 | K26: =+C26+E26+G26+I26 -> 3638.33 | L26: =+D26+F26+H26+J26 -> 0
A27: 174 | B27: MANT. Y REP. DE INSTALACIONES | C27: 7356.33 | D27: 0 | K27: =+C27+E27+G27+I27 -> 7356.33 | L27: =+D27+F27+H27+J27 -> 0
A28: 182 | B28: SERVICIOS MEDICO-SANITARIOS | C28: 317986.83 | D28: 0 | K28: =+C28+E28+G28+I28 -> 317986.83 | L28: =+D28+F28+H28+J28 -> 0
A29: 197 | B29: SERVICIOS DE VIGILANCIA | C29: 42350 | D29: 0 | K29: =+C29+E29+G29+I29 -> 42350 | L29: =+D29+F29+H29+J29 -> 0
A30: 199 | B30: OTROS SERVICIOS NO PERSONALES | C30: 67060 | D30: 0 | K30: =+C30+E30+G30+I30 -> 67060 | L30: =+D30+F30+H30+J30 -> 0
B31: SUMA GASTOS GENERALES | C31: =SUM(C20:C30) -> 452482.74 | D31: =SUM(D20:D30) -> 0 | E31: =SUM(E20:E30) -> 0 | F31: =SUM(F20:F30) -> 0 | G31: =SUM(G20:G30) -> 0 | H31: =SUM(H20:H30) -> 0 | I31: =SUM(I20:I30) -> 0 | J31: =SUM(J20:J30) -> 0 | ... L31: =SUM(L20:L30) -> 0
B32: MATERIALES Y SUMINISTROS
A33: 211 | B33: ALIMENTOS PARA PERSONAS | C33: 58165.57 | D33: 0 | K33: =+C33+E33+G33+I33 -> 58165.57 | L33: =+D33+F33+H33+J33 -> 0
A34: 232 | B34: ACABADOS TEXTILES | C34: 12500 | D34: 0 | K34: =+C34+E34+G34+I34 -> 12500 | L34: =+D34+F34+H34+J34 -> 0
A35: 261 | B35: ELEMENTOS Y COMPUESTOS QUIMICOS | C35: 82888.02 | D35: 0 | K35: =+C35+E35+G35+I35 -> 82888.02 | L35: =+D35+F35+H35+J35 -> 0
A36: 262 | B36: COMBUSTIBLES Y LUBRICANTES | C36: 666.67 | D36: 0 | K36: =+C36+E36+G36+I36 -> 666.67 | L36: =+D36+F36+H36+J36 -> 0
A37: 266 | B37: PRODUCTOS MEDICINALES Y FARMACEUTICOS | C37: 381939.32 | D37: 0 | K37: =+C37+E37+G37+I37 -> 381939.32 | L37: =+D37+F37+H37+J37 -> 0
A38: 267 | B38: TINTES, PINTURAS Y COLORANTES | C38: 750 | D38: 0 | K38: =+C38+E38+G38+I38 -> 750 | L38: =+D38+F38+H38+J38 -> 0
A39: 268 | B39: PRODUCTOS PLASTICOS, NYLON, VINIL Y PVC | C39: 11811.29 | D39: 0 | K39: =+C39+E39+G39+I39 -> 11811.29 | L39: =+D39+F39+H39+J39 -> 0
A40: 269 | B40: OTROS PRODUCTOS QUIMICOS Y CONEXOS | C40: 833.33 | D40: 0 | K40: =+C40+E40+G40+I40 -> 833.33 | L40: =+D40+F40+H40+J40 -> 0
A41: 289 | B41: OTROS PRODUCTOS METALICOS | C41: 574.88 | D41: 0 | K41: =+C41+E41+G41+I41 -> 574.88 | L41: =+D41+F41+H41+J41 -> 0
A42: 292 | B42: UTILES DE LIMPIEZA Y PRODUCTOS SANITARIOS | C42: 7014.93 | D42: 0 | K42: =+C42+E42+G42+I42 -> 7014.93 | L42: =+D42+F42+H42+J42 -> 0
A43: 295 | B43: UTILES MENORES MEDICO QUIRURGICOS Y DE LAB. | C43: 1548540.1 | D43: 0 | K43: =+C43+E43+G43+I43 -> 1548540.1 | L43: =+D43+F43+H43+J43 -> 0
A44: 297 | B44: UTILES, ACCESORIOS Y MATERIALES ELECTRICOS | C44: 1591.07 | D44: 0 | K44: =+C44+E44+G44+I44 -> 1591.07 | L44: =+D44+F44+H44+J44 -> 0
... A46: 299 | B46: OTROS MATERIALES Y SUMINISTROS | C46: 19041.83 | D46: 0 | K46: =+C46+E46+G46+I46 -> 19041.83 | L46: =+D46+F46+H46+J46 -> 0
B47: TOTAL MATERIALES Y SUMINISTROS | C47: =SUM(C33:C46) -> 2160075.1 | D47: =SUM(D33:D46) -> 0 | E47: =SUM(E33:E46) -> 0 | F47: =SUM(F33:F46) -> 0 | G47: =SUM(G33:G46) -> 0 | H47: =SUM(H33:H46) -> 0 | I47: =SUM(I33:I46) -> 0 | J47: =SUM(J33:J46) -> 0 | ... L47: =SUM(L33:L46) -> 0
B48: PROPIEDAD PLANTA Y EQUIPO
B49: EQUIPO MEDICO SANITARIO Y DE LABORATORIO | C49: 0 | D49: 0 | E49: 0 | F49: 0 | H49: 0 | K49: =+C49+E49+G49+I49 -> 0 | L49: =+D49+F49+H49+J49 -> 0
B50: OTRAS MAQUINARIAS Y EQUIPOS | C50: 0 | D50: 0 | E50: 0 | F50: 0 | H50: 0 | I50: 0 | K50: =+C50+E50+G50+I50 -> 0 | L50: =+D50+F50+H50+J50 -> 0
B51: TOTAL PROPIEDAD PLANTA Y EQUIPO | C51: =SUM(C49:C50) -> 0 | D51: =SUM(D49:D50) -> 0 | E51: =SUM(E49:E50) -> 0 | F51: =SUM(F49:F50) -> 0 | G51: =SUM(G49:G50) -> 0 | H51: =SUM(H49:H50) -> 0 | I51: =SUM(I49:I50) -> 0 | J51: =SUM(J49:J50) -> 0 | ... L51: =SUM(L49:L50) -> 0
A60: Programación y ejecucion mensual por tipo de gasto año 2022, Expresado en Quetzales segundo cuatrimestre 2022
A61: No. | B61: CATEGORIA DE GASTO | C61: MAYO | E61: JUNIO | G61: JULIO | I61: AGOSTO | K61: TOTAL CUATRIMESTRE
C62: PRESUPUESTO | D62: REAL | E62: PRESUPUESTO | F62: REAL | G62: PRESUPUESTO | H62: REAL | I62: PRESUPUESTO | J62: REAL | K62: PRESUPUESTO | L62: REAL
A63: 011 | B63: RECURSO HUMANO | K63: =+C63+E63+G63+I63 -> 0 | L63: =+D63+F63+H63+J63 -> 0
B65: GASTOS DE FUNCIONAMIENTO | C65: =+C77+C93 -> 0 | D65: =+D77+D93+D99 -> 0 | E65: =+E77+E93 -> 0 | F65: =+F77+F93 -> 0 | G65: =+G77+G93 -> 0 | H65: =+H77+H93 -> 0 | I65: =+I77+I93 -> 0 | J65: =+J77+J93 -> 0 | K65: =+C65+E65+G65+I65 -> 0 | L65: =+D65+F65+H65+J65 -> 0
A66: 111 | B66: ENERGIA ELECTRICA | K66: =+C66+E66+G66+I66 -> 0 | L66: =+D66+F66+H66+J66 -> 0
A67: 113 | B67: TELEFONIA | K67: =+C67+E67+G67+I67 -> 0 | L67: =+D67+F67+H67+J67 -> 0
A68: 122 | B68: IMPRESIÓN, ENCUADERNACION Y REPRODUCCION | K68: =+C68+E68+G68+I68 -> 0 | L68: =+D68+F68+H68+J68 -> 0
A69: 163 | B69: MANT. Y REP. EQUIPO MEDICO SANITARIO Y DE LAB. | K69: =+C69+E69+G69+I69 -> 0 | L69: =+D69+F69+H69+J69 -> 0
A70: 168 | B70: MANTENIMIENTO Y REPARACION DE EQUIPO DE COMPUTO | K70: =+C70+E70+G70+I70 -> 0 | L70: =+D70+F70+H70+J70 -> 0
A71: 169 | B71: MANT. Y REP. DE OTRAS MAQ. Y EQUIPO | K71: =+C71+E71+G71+I71 -> 0 | L71: =+D71+F71+H71+J71 -> 0
A72: 171 | B72: MANT. Y REPARACION DE EDIFICIOS | K72: =+C72+E72+G72+I72 -> 0 | L72: =+D72+F72+H72+J72 -> 0
A73: 174 | B73: MANT. Y REP. DE INSTALACIONES | K73: =+C73+E73+G73+I73 -> 0 | L73: =+D73+F73+H73+J73 -> 0
A74: 182 | B74: SERVICIOS MEDICO-SANITARIOS | K74: =+C74+E74+G74+I74 -> 0 | L74: =+D74+F74+H74+J74 -> 0
A75: 197 | B75: SERVICIOS DE VIGILANCIA | K75: =+C75+E75+G75+I75 -> 0 | L75: =+D75+F75+H75+J75 -> 0
A76: 199 | B76: OTROS SERVICIOS NO PERSONALES | K76: =+C76+E76+G76+I76 -> 0 | L76: =+D76+F76+H76+J76 -> 0
B77: SUMA GASTOS GENERALES | C77: =SUM(C66:C76) -> 0 | D77: =SUM(D66:D76) -> 0 | E77: =SUM(E66:E76) -> 0 | F77: =SUM(F66:F76) -> 0 | G77: =SUM(G66:G76) -> 0 | H77: =SUM(H66:H76) -> 0 | I77: =SUM(I66:I76) -> 0 | J77: =SUM(J66:J76) -> 0 | ... L77: =SUM(L66:L76) -> 0
B78: MATERIALES Y SUMINISTROS
A79: 211 | B79: ALIMENTOS PARA PERSONAS | K79: =+C79+E79+G79+I79 -> 0 | L79: =+D79+F79+H79+J79 -> 0
A80: 232 | B80: ACABADOS TEXTILES | K80: =+C80+E80+G80+I80 -> 0 | L80: =+D80+F80+H80+J80 -> 0
A81: 261 | B81: ELEMENTOS Y COMPUESTOS QUIMICOS | K81: =+C81+E81+G81+I81 -> 0 | L81: =+D81+F81+H81+J81 -> 0
A82: 262 | B82: COMBUSTIBLES Y LUBRICANTES | K82: =+C82+E82+G82+I82 -> 0 | L82: =+D82+F82+H82+J82 -> 0
A83: 266 | B83: PRODUCTOS MEDICINALES Y FARMACEUTICOS | K83: =+C83+E83+G83+I83 -> 0 | L83: =+D83+F83+H83+J83 -> 0
A84: 267 | B84: TINTES, PINTURAS Y COLORANTES | K84: =+C84+E84+G84+I84 -> 0 | L84: =+D84+F84+H84+J84 -> 0
A85: 268 | B85: PRODUCTOS PLASTICOS, NYLON, VINIL Y PVC | K85: =+C85+E85+G85+I85 -> 0 | L85: =+D85+F85+H85+J85 -> 0
A86: 269 | B86: OTROS PRODUCTOS QUIMICOS Y CONEXOS | K86: =+C86+E86+G86+I86 -> 0 | L86: =+D86+F86+H86+J86 -> 0
A87: 289 | B87: OTROS PRODUCTOS METALICOS | K87: =+C87+E87+G87+I87 -> 0 | L87: =+D87+F87+H87+J87 -> 0
A88: 292 | B88: UTILES DE LIMPIEZA Y PRODUCTOS SANITARIOS | K88: =+C88+E88+G88+I88 -> 0 | L88: =+D88+F88+H88+J88 -> 0
A89: 295 | B89: UTILES MENORES MEDICO QUIRURGICOS Y DE LAB. | K89: =+C89+E89+G89+I89 -> 0 | L89: =+D89+F89+H89+J89 -> 0
A90: 297 | B90: UTILES, ACCESORIOS Y MATERIALES ELECTRICOS | K90: =+C90+E90+G90+I90 -> 0 | L90: =+D90+F90+H90+J90 -> 0
... A92: 299 | B92: OTROS MATERIALES Y SUMINISTROS | K92: =+C92+E92+G92+I92 -> 0 | L92: =+D92+F92+H92+J92 -> 0
B93: TOTAL MATERIALES Y SUMINISTROS | C93: =SUM(C79:C92) -> 0 | D93: =SUM(D79:D92) -> 0 | E93: =SUM(E79:E92) -> 0 | F93: =SUM(F79:F92) -> 0 | G93: =SUM(G79:G92) -> 0 | H93: =SUM(H79:H92) -> 0 | I93: =SUM(I79:I92) -> 0 | J93: =SUM(J79:J92) -> 0 | ... L93: =SUM(L79:L92) -> 0
B94: PROPIEDAD PLANTA Y EQUIPO
B95: EQUIPO DE OFICINA | K95: =+C95+E95+G95+I95 -> 0 | L95: =+D95+F95+H95+J95 -> 0
B96: EQUIPO MEDICO SANITARIO Y DE LABORATORIO | K96: =+C96+E96+G96+I96 -> 0 | L96: =+D96+F96+H96+J96 -> 0
B97: EQUIPO DE COMPUTACION | K97: =+C97+E97+G97+I97 -> 0 | L97: =+D97+F97+H97+J97 -> 0
B98: OTRAS MAQUINARIAS Y EQUIPOS | K98: =+C98+E98+G98+I98 -> 0 | L98: =+D98+F98+H98+J98 -> 0
B99: TOTAL PROPIEDAD PLANTA Y EQUIPO | C99: =SUM(C95:C98) -> 0 | D99: =SUM(D95:D98) -> 0 | E99: =SUM(E95:E98) -> 0 | F99: =SUM(F95:F98) -> 0 | G99: =SUM(G95:G98) -> 0 | H99: =SUM(H95:H98) -> 0 | I99: =SUM(I95:I98) -> 0 | J99: =SUM(J95:J98) -> 0 | ... L99: =SUM(L95:L98) -> 0
A102: Programación y ejecucion mensual por tipo de gasto año 2022, Expresado en Quetzales tercer cuatrimestre 2022
A103: No. | B103: CATEGORIA DE GASTO | C103: SEPTIEMBRE | E103: OCTUBRE | G103: NOVIEMBRE | I103: DICIEMBRE | K103: TOTAL CUATRIMESTRE
C104: PRESUPUESTO | D104: REAL | E104: PRESUPUESTO | F104: REAL | G104: PRESUPUESTO | H104: REAL | I104: PRESUPUESTO | J104: REAL | K104: PRESUPUESTO | L104: REAL
A105: 011 | B105: RECURSO HUMANO | K105: =+C105+E105+G105+I105 -> 0 | L105: =+D105+F105+H105+J105 -> 0
B107: GASTOS DE FUNCIONAMIENTO | C107: =+C119+C135 -> 0 | D107: =+D119+D135 -> 0 | E107: =+E119+E135 -> 0 | F107: =+F119+F135 -> 0 | G107: =+G119+G135 -> 0 | H107: =+H119+H135 -> 0 | I107: =+I119+I135 -> 0 | J107: =+J119+J135 -> 0 | K107: =+C107+E107+G107+I107 -> 0 | L107: =+D107+F107+H107+J107 -> 0
A108: 111 | B108: ENERGIA ELECTRICA | K108: =+C108+E108+G108+I108 -> 0 | L108: =+D108+F108+H108+J108 -> 0
A109: 113 | B109: TELEFONIA | K109: =+C109+E109+G109+I109 -> 0 | L109: =+D109+F109+H109+J109 -> 0
A110: 122 | B110: IMPRESIÓN, ENCUADERNACION Y REPRODUCCION | K110: =+C110+E110+G110+I110 -> 0 | L110: =+D110+F110+H110+J110 -> 0
A111: 163 | B111: MANT. Y REP. EQUIPO MEDICO SANITARIO Y DE LAB. | K111: =+C111+E111+G111+I111 -> 0 | L111: =+D111+F111+H111+J111 -> 0
A112: 168 | B112: MANTENIMIENTO Y REPARACION DE EQUIPO DE COMPUTO | K112: =+C112+E112+G112+I112 -> 0 | L112: =+D112+F112+H112+J112 -> 0
A113: 169 | B113: MANT. Y REP. DE OTRAS MAQ. Y EQUIPO | K113: =+C113+E113+G113+I113 -> 0 | L113: =+D113+F113+H113+J113 -> 0
A114: 171 | B114: MANT. Y REPARACION DE EDIFICIOS | K114: =+C114+E114+G114+I114 -> 0 | L114: =+D114+F114+H114+J114 -> 0
A115: 174 | B115: MANT. Y REP. DE INSTALACIONES | K115: =+C115+E115+G115+I115 -> 0 | L115: =+D115+F115+H115+J115 -> 0
A116: 182 | B116: SERVICIOS MEDICO-SANITARIOS | K116: =+C116+E116+G116+I116 -> 0 | L116: =+D116+F116+H116+J116 -> 0
A117: 197 | B117: SERVICIOS DE VIGILANCIA | K117: =+C117+E117+G117+I117 -> 0 | L117: =+D117+F117+H117+J117 -> 0
A118: 199 | B118: OTROS SERVICIOS NO PERSONALES | K118: =+C118+E118+G118+I118 -> 0 | L118: =+D118+F118+H118+J118 -> 0
B119: SUMA GASTOS GENERALES | C119: =SUM(C108:C118) -> 0 | D119: =SUM(D108:D118) -> 0 | E119: =SUM(E108:E118) -> 0 | F119: =SUM(F108:F118) -> 0 | G119: =SUM(G108:G118) -> 0 | H119: =SUM(H108:H118) -> 0 | I119: =SUM(I108:I118) -> 0 | J119: =SUM(J108:J118) -> 0 | ... L119: =SUM(L108:L118) -> 0
B120: MATERIALES Y SUMINISTROS
A121: 211 | B121: ALIMENTOS PARA PERSONAS | K121: =+C121+E121+G121+I121 -> 0 | L121: =+D121+F121+H121+J121 -> 0
A122: 232 | B122: ACABADOS TEXTILES | K122: =+C122+E122+G122+I122 -> 0 | L122: =+D122+F122+H122+J122 -> 0
A123: 261 | B123: ELEMENTOS Y COMPUESTOS QUIMICOS | K123: =+C123+E123+G123+I123 -> 0 | L123: =+D123+F123+H123+J123 -> 0
A124: 262 | B124: COMBUSTIBLES Y LUBRICANTES | K124: =+C124+E124+G124+I124 -> 0 | L124: =+D124+F124+H124+J124 -> 0
...

Sheet FEBRERO CTE-5
B8: ÀREA FINANCIERA | K8: CTE-5
A10: UNIDAD DE CIRUGIA CARDIOVASCULAR DE GUATEMALA
A11: 5a. AVENIDA 6-22 ZONA 11
A12: dgunicar@yahoo.es Tel. 24163000
A14: Programación y ejecucion mensual por tipo de gasto año 2022, Expresado en Quetzales primer cuatrimestre 2022
A15: No. | B15: CATEGORIA DE GASTO | C15: ENERO | E15: FEBRERO | G15: MARZO | I15: ABRIL | K15: TOTAL CUATRIMESTRE
C16: PRESUPUESTO | D16: REAL | E16: PRESUPUESTO | F16: REAL | G16: PRESUPUESTO | H16: REAL | I16: PRESUPUESTO | J16: REAL | K16: PRESUPUESTO | L16: REAL
A17: 011 | B17: RECURSO HUMANO | C17: 2414811.3 | D17: 2367268.7 | E17: 2414811.3 | F17: 2396683.9 | K17: =+C17+E17+G17+I17 -> 4829622.7 | L17: =+D17+F17+H17+J17 -> 4763952.6
B19: GASTOS DE FUNCIONAMIENTO | C19: =+C31+C47 -> 2612557.9 | D19: =+D31+D47 -> 0 | E19: =+E31+E47 -> 2689873.5 | F19: =+F31+F47 -> 16502.89 | G19: =+G31+G47 -> 0 | H19: =+H31+H47 -> 0 | I19: =+I31+I47 -> 0 | J19: =+J31+J47 -> 0 | K19: =+C19+E19+G19+I19 -> 5302431.4 | L19: =+D19+F19+H19+J19 -> 16502.89
A20: 111 | B20: ENERGIA ELECTRICA | C20: 0 | D20: 0 | E20: 77315.63 | F20: 0 | K20: =+C20+E20+G20+I20 -> 77315.63 | L20: =+D20+F20+H20+J20 -> 0
A21: 113 | B21: TELEFONIA | C21: 10564.58 | D21: 0 | E21: 10564.58 | F21: 8302.09 | K21: =+C21+E21+G21+I21 -> 21129.16 | L21: =+D21+F21+H21+J21 -> 8302.09
A22: 122 | B22: IMPRESIÓN, ENCUADERNACION Y REPRODUCCION | C22: 0 | D22: 0 | E22: 0 | F22: 0 | K22: =+C22+E22+G22+I22 -> 0 | L22: =+D22+F22+H22+J22 -> 0
A23: 163 | B23: MANT. Y REP. EQUIPO MEDICO SANITARIO Y DE LAB. | C23: 0 | D23: 0 | E23: 0 | F23: 0 | K23: =+C23+E23+G23+I23 -> 0 | L23: =+D23+F23+H23+J23 -> 0
A24: 168 | B24: MANTENIMIENTO Y REPARACION DE EQUIPO DE COMPUTO | C24: 0 | D24: 0 | E24: 0 | F24: 0 | K24: =+C24+E24+G24+I24 -> 0 | L24: =+D24+F24+H24+J24 -> 0
A25: 169 | B25: MANT. Y REP. DE OTRAS MAQ. Y EQUIPO | C25: 3526.67 | D25: 0 | E25: 3526.67 | F25: 0 | K25: =+C25+E25+G25+I25 -> 7053.34 | L25: =+D25+F25+H25+J25 -> 0
A26: 171 | B26: MANT. Y REPARACION DE EDIFICIOS | C26: 3638.33 | D26: 0 | E26: 3638.33 | F26: 0 | K26: =+C26+E26+G26+I26 -> 7276.66 | L26: =+D26+F26+H26+J26 -> 0
A27: 174 | B27: MANT. Y REP. DE INSTALACIONES | C27: 7356.33 | D27: 0 | E27: 7356.33 | F27: 0 | K27: =+C27+E27+G27+I27 -> 14712.66 | L27: =+D27+F27+H27+J27 -> 0
A28: 182 | B28: SERVICIOS MEDICO-SANITARIOS | C28: 317986.83 | D28: 0 | E28: 317986.83 | F28: 0 | K28: =+C28+E28+G28+I28 -> 635973.66 | L28: =+D28+F28+H28+J28 -> 0
A29: 197 | B29: SERVICIOS DE VIGILANCIA | C29: 42350 | D29: 0 | E29: 42350 | F29: 0 | K29: =+C29+E29+G29+I29 -> 84700 | L29: =+D29+F29+H29+J29 -> 0
A30: 199 | B30: OTROS SERVICIOS NO PERSONALES | C30: 67060 | D30: 0 | E30: 67060 | F30: 8200.8 | K30: =+C30+E30+G30+I30 -> 134120 | L30: =+D30+F30+H30+J30 -> 8200.8
B31: SUMA GASTOS GENERALES | C31: =SUM(C20:C30) -> 452482.74 | D31: =SUM(D20:D30) -> 0 | E31: =SUM(E20:E30) -> 529798.37 | F31: =SUM(F20:F30) -> 16502.89 | G31: =SUM(G20:G30) -> 0 | H31: =SUM(H20:H30) -> 0 | I31: =SUM(I20:I30) -> 0 | J31: =SUM(J20:J30) -> 0 | ... L31: =SUM(L20:L30) -> 16502.89
B32: MATERIALES Y SUMINISTROS
A33: 211 | B33: ALIMENTOS PARA PERSONAS | C33: 58165.57 | D33: 0 | E33: 58165.57 | F33: 0 | K33: =+C33+E33+G33+I33 -> 116331.14 | L33: =+D33+F33+H33+J33 -> 0
A34: 232 | B34: ACABADOS TEXTILES | C34: 12500 | D34: 0 | E34: 12500 | F34: 0 | K34: =+C34+E34+G34+I34 -> 25000 | L34: =+D34+F34+H34+J34 -> 0
A35: 261 | B35: ELEMENTOS Y COMPUESTOS QUIMICOS | C35: 82888.02 | D35: 0 | E35: 82888.02 | F35: 0 | K35: =+C35+E35+G35+I35 -> 165776.04 | L35: =+D35+F35+H35+J35 -> 0
A36: 262 | B36: COMBUSTIBLES Y LUBRICANTES | C36: 666.67 | D36: 0 | E36: 666.67 | F36: 0 | K36: =+C36+E36+G36+I36 -> 1333.34 | L36: =+D36+F36+H36+J36 -> 0
A37: 266 | B37: PRODUCTOS MEDICINALES Y FARMACEUTICOS | C37: 381939.32 | D37: 0 | E37: 381939.32 | F37: 0 | K37: =+C37+E37+G37+I37 -> 763878.64 | L37: =+D37+F37+H37+J37 -> 0
A38: 267 | B38: TINTES, PINTURAS Y COLORANTES | C38: 750 | D38: 0 | E38: 750 | F38: 0 | K38: =+C38+E38+G38+I38 -> 1500 | L38: =+D38+F38+H38+J38 -> 0
A39: 268 | B39: PRODUCTOS PLASTICOS, NYLON, VINIL Y PVC | C39: 11811.29 | D39: 0 | E39: 11811.29 | F39: 0 | K39: =+C39+E39+G39+I39 -> 23622.58 | L39: =+D39+F39+H39+J39 -> 0
A40: 269 | B40: OTROS PRODUCTOS QUIMICOS Y CONEXOS | C40: 833.33 | D40: 0 | E40: 833.33 | F40: 0 | K40: =+C40+E40+G40+I40 -> 1666.66 | L40: =+D40+F40+H40+J40 -> 0
A41: 289 | B41: OTROS PRODUCTOS METALICOS | C41: 574.88 | D41: 0 | E41: 574.88 | F41: 0 | K41: =+C41+E41+G41+I41 -> 1149.76 | L41: =+D41+F41+H41+J41 -> 0
A42: 292 | B42: UTILES DE LIMPIEZA Y PRODUCTOS SANITARIOS | C42: 7014.93 | D42: 0 | E42: 7014.93 | F42: 0 | K42: =+C42+E42+G42+I42 -> 14029.86 | L42: =+D42+F42+H42+J42 -> 0
A43: 295 | B43: UTILES MENORES MEDICO QUIRURGICOS Y DE LAB. | C43: 1548540.1 | D43: 0 | E43: 1548540.1 | F43: 0 | K43: =+C43+E43+G43+I43 -> 3097080.1 | L43: =+D43+F43+H43+J43 -> 0
A44: 297 | B44: UTILES, ACCESORIOS Y MATERIALES ELECTRICOS | C44: 1591.07 | D44: 0 | E44: 1591.07 | F44: 0 | K44: =+C44+E44+G44+I44 -> 3182.14 | L44: =+D44+F44+H44+J44 -> 0
... A46: 299 | B46: OTROS MATERIALES Y SUMINISTROS | C46: 19041.83 | D46: 0 | E46: 19041.83 | F46: 0 | K46: =+C46+E46+G46+I46 -> 38083.66 | L46: =+D46+F46+H46+J46 -> 0
B47: TOTAL MATERIALES Y SUMINISTROS | C47: =SUM(C33:C46) -> 2160075.1 | D47: =SUM(D33:D46) -> 0 | E47: =SUM(E33:E46) -> 2160075.1 | F47: =SUM(F33:F46) -> 0 | G47: =SUM(G33:G46) -> 0 | H47: =SUM(H33:H46) -> 0 | I47: =SUM(I33:I46) -> 0 | J47: =SUM(J33:J46) -> 0 | ... L47: =SUM(L33:L46) -> 0
B48: PROPIEDAD PLANTA Y EQUIPO
B49: EQUIPO MEDICO SANITARIO Y DE LABORATORIO | C49: 0 | D49: 0 | E49: 0 | F49: 0 | H49: 0 | K49: =+C49+E49+G49+I49 -> 0 | L49: =+D49+F49+H49+J49 -> 0
B50: OTRAS MAQUINARIAS Y EQUIPOS | C50: 0 | D50: 0 | E50: 0 | F50: 0 | H50: 0 | I50: 0 | K50: =+C50+E50+G50+I50 -> 0 | L50: =+D50+F50+H50+J50 -> 0
B51: TOTAL PROPIEDAD PLANTA Y EQUIPO | C51: =SUM(C49:C50) -> 0 | D51: =SUM(D49:D50) -> 0 | E51: =SUM(E49:E50) -> 0 | F51: =SUM(F49:F50) -> 0 | G51: =SUM(G49:G50) -> 0 | H51: =SUM(H49:H50) -> 0 | I51: =SUM(I49:I50) -> 0 | J51: =SUM(J49:J50) -> 0 | ... L51: =SUM(L49:L50) -> 0
A60: Programación y ejecucion mensual por tipo de gasto año 2022, Expresado en Quetzales segundo cuatrimestre 2022
A61: No. | B61: CATEGORIA DE GASTO | C61: MAYO | E61: JUNIO | G61: JULIO | I61: AGOSTO | K61: TOTAL CUATRIMESTRE
C62: PRESUPUESTO | D62: REAL | E62: PRESUPUESTO | F62: REAL | G62: PRESUPUESTO | H62: REAL | I62: PRESUPUESTO | J62: REAL | K62: PRESUPUESTO | L62: REAL
A63: 011 | B63: RECURSO HUMANO | K63: =+C63+E63+G63+I63 -> 0 | L63: =+D63+F63+H63+J63 -> 0
B65: GASTOS DE FUNCIONAMIENTO | C65: =+C77+C93 -> 0 | D65: =+D77+D93+D99 -> 0 | E65: =+E77+E93 -> 0 | F65: =+F77+F93 -> 0 | G65: =+G77+G93 -> 0 | H65: =+H77+H93 -> 0 | I65: =+I77+I93 -> 0 | J65: =+J77+J93 -> 0 | K65: =+C65+E65+G65+I65 -> 0 | L65: =+D65+F65+H65+J65 -> 0
A66: 111 | B66: ENERGIA ELECTRICA | K66: =+C66+E66+G66+I66 -> 0 | L66: =+D66+F66+H66+J66 -> 0
A67: 113 | B67: TELEFONIA | K67: =+C67+E67+G67+I67 -> 0 | L67: =+D67+F67+H67+J67 -> 0
A68: 122 | B68: IMPRESIÓN, ENCUADERNACION Y REPRODUCCION | K68: =+C68+E68+G68+I68 -> 0 | L68: =+D68+F68+H68+J68 -> 0
A69: 163 | B69: MANT. Y REP. EQUIPO MEDICO SANITARIO Y DE LAB. | K69: =+C69+E69+G69+I69 -> 0 | L69: =+D69+F69+H69+J69 -> 0
A70: 168 | B70: MANTENIMIENTO Y REPARACION DE EQUIPO DE COMPUTO | K70: =+C70+E70+G70+I70 -> 0 | L70: =+D70+F70+H70+J70 -> 0
A71: 169 | B71: MANT. Y REP. DE OTRAS MAQ. Y EQUIPO | K71: =+C71+E71+G71+I71 -> 0 | L71: =+D71+F71+H71+J71 -> 0
A72: 171 | B72: MANT. Y REPARACION DE EDIFICIOS | K72: =+C72+E72+G72+I72 -> 0 | L72: =+D72+F72+H72+J72 -> 0
A73: 174 | B73: MANT. Y REP. DE INSTALACIONES | K73: =+C73+E73+G73+I73 -> 0 | L73: =+D73+F73+H73+J73 -> 0
A74: 182 | B74: SERVICIOS MEDICO-SANITARIOS | K74: =+C74+E74+G74+I74 -> 0 | L74: =+D74+F74+H74+J74 -> 0
A75: 197 | B75: SERVICIOS DE VIGILANCIA | K75: =+C75+E75+G75+I75 -> 0 | L75: =+D75+F75+H75+J75 -> 0
A76: 199 | B76: OTROS SERVICIOS NO PERSONALES | K76: =+C76+E76+G76+I76 -> 0 | L76: =+D76+F76+H76+J76 -> 0
B77: SUMA GASTOS GENERALES | C77: =SUM(C66:C76) -> 0 | D77: =SUM(D66:D76) -> 0 | E77: =SUM(E66:E76) -> 0 | F77: =SUM(F66:F76) -> 0 | G77: =SUM(G66:G76) -> 0 | H77: =SUM(H66:H76) -> 0 | I77: =SUM(I66:I76) -> 0 | J77: =SUM(J66:J76) -> 0 | ... L77: =SUM(L66:L76) -> 0
B78: MATERIALES Y SUMINISTROS
A79: 211 | B79: ALIMENTOS PARA PERSONAS | K79: =+C79+E79+G79+I79 -> 0 | L79: =+D79+F79+H79+J79 -> 0
A80: 232 | B80: ACABADOS TEXTILES | K80: =+C80+E80+G80+I80 -> 0 | L80: =+D80+F80+H80+J80 -> 0
A81: 261 | B81: ELEMENTOS Y COMPUESTOS QUIMICOS | K81: =+C81+E81+G81+I81 -> 0 | L81: =+D81+F81+H81+J81 -> 0
A82: 262 | B82: COMBUSTIBLES Y LUBRICANTES | K82: =+C82+E82+G82+I82 -> 0 | L82: =+D82+F82+H82+J82 -> 0
A83: 266 | B83: PRODUCTOS MEDICINALES Y FARMACEUTICOS | K83: =+C83+E83+G83+I83 -> 0 | L83: =+D83+F83+H83+J83 -> 0
A84: 267 | B84: TINTES, PINTURAS Y COLORANTES | K84: =+C84+E84+G84+I84 -> 0 | L84: =+D84+F84+H84+J84 -> 0
A85: 268 | B85: PRODUCTOS PLASTICOS, NYLON, VINIL Y PVC | K85: =+C85+E85+G85+I85 -> 0 | L85: =+D85+F85+H85+J85 -> 0
A86: 269 | B86: OTROS PRODUCTOS QUIMICOS Y CONEXOS | K86: =+C86+E86+G86+I86 -> 0 | L86: =+D86+F86+H86+J86 -> 0
A87: 289 | B87: OTROS PRODUCTOS METALICOS | K87: =+C87+E87+G87+I87 -> 0 | L87: =+D87+F87+H87+J87 -> 0
A88: 292 | B88: UTILES DE LIMPIEZA Y PRODUCTOS SANITARIOS | K88: =+C88+E88+G88+I88 -> 0 | L88: =+D88+F88+H88+J88 -> 0
A89: 295 | B89: UTILES MENORES MEDICO QUIRURGICOS Y DE LAB. | K89: =+C89+E89+G89+I89 -> 0 | L89: =+D89+F89+H89+J89 -> 0
A90: 297 | B90: UTILES, ACCESORIOS Y MATERIALES ELECTRICOS | K90: =+C90+E90+G90+I90 -> 0 | L90: =+D90+F90+H90+J90 -> 0
... A92: 299 | B92: OTROS MATERIALES Y SUMINISTROS | K92: =+C92+E92+G92+I92 -> 0 | L92: =+D92+F92+H92+J92 -> 0
B93: TOTAL MATERIALES Y SUMINISTROS | C93: =SUM(C79:C92) -> 0 | D93: =SUM(D79:D92) -> 0 | E93: =SUM(E79:E92) -> 0 | F93: =SUM(F79:F92) -> 0 | G93: =SUM(G79:G92) -> 0 | H93: =SUM(H79:H92) -> 0 | I93: =SUM(I79:I92) -> 0 | J93: =SUM(J79:J92) -> 0 | ... L93: =SUM(L79:L92) -> 0
B94: PROPIEDAD PLANTA Y EQUIPO
B95: EQUIPO DE OFICINA | K95: =+C95+E95+G95+I95 -> 0 | L95: =+D95+F95+H95+J95 -> 0
B96: EQUIPO MEDICO SANITARIO Y DE LABORATORIO | K96: =+C96+E96+G96+I96 -> 0 | L96: =+D96+F96+H96+J96 -> 0
B97: EQUIPO DE COMPUTACION | K97: =+C97+E97+G97+I97 -> 0 | L97: =+D97+F97+H97+J97 -> 0
B98: OTRAS MAQUINARIAS Y EQUIPOS | K98: =+C98+E98+G98+I98 -> 0 | L98: =+D98+F98+H98+J98 -> 0
B99: TOTAL PROPIEDAD PLANTA Y EQUIPO | C99: =SUM(C95:C98) -> 0 | D99: =SUM(D95:D98) -> 0 | E99: =SUM(E95:E98) -> 0 | F99: =SUM(F95:F98) -> 0 | G99: =SUM(G95:G98) -> 0 | H99: =SUM(H95:H98) -> 0 | I99: =SUM(I95:I98) -> 0 | J99: =SUM(J95:J98) -> 0 | ... L99: =SUM(L95:L98) -> 0
A102: Programación y ejecucion mensual por tipo de gasto año 2022, Expresado en Quetzales tercer cuatrimestre 2022
A103: No. | B103: CATEGORIA DE GASTO | C103: SEPTIEMBRE | E103: OCTUBRE | G103: NOVIEMBRE | I103: DICIEMBRE | K103: TOTAL CUATRIMESTRE
C104: PRESUPUESTO | D104: REAL | E104: PRESUPUESTO | F104: REAL | G104: PRESUPUESTO | H104: REAL | I104: PRESUPUESTO | J104: REAL | K104: PRESUPUESTO | L104: REAL
A105: 011 | B105: RECURSO HUMANO | K105: =+C105+E105+G105+I105 -> 0 | L105: =+D105+F105+H105+J105 -> 0
B107: GASTOS DE FUNCIONAMIENTO | C107: =+C119+C135 -> 0 | D107: =+D119+D135 -> 0 | E107: =+E119+E135 -> 0 | F107: =+F119+F135 -> 0 | G107: =+G119+G135 -> 0 | H107: =+H119+H135 -> 0 | I107: =+I119+I135 -> 0 | J107: =+J119+J135 -> 0 | K107: =+C107+E107+G107+I107 -> 0 | L107: =+D107+F107+H107+J107 -> 0
A108: 111 | B108: ENERGIA ELECTRICA | K108: =+C108+E108+G108+I108 -> 0 | L108: =+D108+F108+H108+J108 -> 0
A109: 113 | B109: TELEFONIA | K109: =+C109+E109+G109+I109 -> 0 | L109: =+D109+F109+H109+J109 -> 0
A110: 122 | B110: IMPRESIÓN, ENCUADERNACION Y REPRODUCCION | K110: =+C110+E110+G110+I110 -> 0 | L110: =+D110+F110+H110+J110 -> 0
A111: 163 | B111: MANT. Y REP. EQUIPO MEDICO SANITARIO Y DE LAB. | K111: =+C111+E111+G111+I111 -> 0 | L111: =+D111+F111+H111+J111 -> 0
A112: 168 | B112: MANTENIMIENTO Y REPARACION DE EQUIPO DE COMPUTO | K112: =+C112+E112+G112+I112 -> 0 | L112: =+D112+F112+H112+J112 -> 0
A113: 169 | B113: MANT. Y REP. DE OTRAS MAQ. Y EQUIPO | K113: =+C113+E113+G113+I113 -> 0 | L113: =+D113+F113+H113+J113 -> 0
A114: 171 | B114: MANT. Y REPARACION DE EDIFICIOS | K114: =+C114+E114+G114+I114 -> 0 | L114: =+D114+F114+H114+J114 -> 0
A115: 174 | B115: MANT. Y REP. DE INSTALACIONES | K115: =+C115+E115+G115+I115 -> 0 | L115: =+D115+F115+H115+J115 -> 0
A116: 182 | B116: SERVICIOS MEDICO-SANITARIOS | K116: =+C116+E116+G116+I116 -> 0 | L116: =+D116+F116+H116+J116 -> 0
A117: 197 | B117: SERVICIOS DE VIGILANCIA | K117: =+C117+E117+G117+I117 -> 0 | L117: =+D117+F117+H117+J117 -> 0
A118: 199 | B118: OTROS SERVICIOS NO PERSONALES | K118: =+C118+E118+G118+I118 -> 0 | L118: =+D118+F118+H118+J118 -> 0
B119: SUMA GASTOS GENERALES | C119: =SUM(C108:C118) -> 0 | D119: =SUM(D108:D118) -> 0 | E119: =SUM(E108:E118) -> 0 | F119: =SUM(F108:F118) -> 0 | G119: =SUM(G108:G118) -> 0 | H119: =SUM(H108:H118) -> 0 | I119: =SUM(I108:I118) -> 0 | J119: =SUM(J108:J118) -> 0 | ... L119: =SUM(L108:L118) -> 0
B120: MATERIALES Y SUMINISTROS
A121: 211 | B121: ALIMENTOS PARA PERSONAS | K121: =+C121+E121+G121+I121 -> 0 | L121: =+D121+F121+H121+J121 -> 0
A122: 232 | B122: ACABADOS TEXTILES | K122: =+C122+E122+G122+I122 -> 0 | L122: =+D122+F122+H122+J122 -> 0
A123: 261 | B123: ELEMENTOS Y COMPUESTOS QUIMICOS | K123: =+C123+E123+G123+I123 -> 0 | L123: =+D123+F123+H123+J123 -> 0
A124: 262 | B124: COMBUSTIBLES Y LUBRICANTES | K124: =+C124+E124+G124+I124 -> 0 | L124: =+D124+F124+H124+J124 -> 0
...

Sheet MARZO CTE-5
B8: ÀREA FINANCIERA | K8: CTE-5
A10: UNIDAD DE CIRUGIA CARDIOVASCULAR DE GUATEMALA
A11: 5a. AVENIDA 6-22 ZONA 11
A12: dgunicar@yahoo.es Tel. 24163000
A14: Programación y ejecucion mensual por tipo de gasto año 2022, Expresado en Quetzales primer cuatrimestre 2022
A15: No. | B15: CATEGORIA DE GASTO | C15: ENERO | E15: FEBRERO | G15: MARZO | I15: ABRIL | K15: TOTAL CUATRIMESTRE
C16: PRESUPUESTO | D16: REAL | E16: PRESUPUESTO | F16: REAL | G16: PRESUPUESTO | H16: REAL | I16: PRESUPUESTO | J16: REAL | K16: PRESUPUESTO | L16: REAL
A17: 011 | B17: RECURSO HUMANO | C17: 2414811.3 | D17: 2367268.7 | E17: 2414811.3 | F17: 2396683.9 | G17: 2414811.3 | H17: 2410583.5 | K17: =+C17+E17+G17+I17 -> 7244434 | L17: =+D17+F17+H17+J17 -> 7174536.1
B19: GASTOS DE FUNCIONAMIENTO | C19: =+C31+C47 -> 2612557.9 | D19: =+D31+D47 -> 0 | E19: =+E31+E47 -> 2689873.5 | F19: =+F31+F47 -> 16502.89 | G19: =+G31+G47 -> 2771983.2 | H19: =+H31+H47 -> 132643.57 | I19: =+I31+I47 -> 0 | J19: =+J31+J47 -> 0 | K19: =+C19+E19+G19+I19 -> 8074414.6 | L19: =+D19+F19+H19+J19 -> 149146.46
A20: 111 | B20: ENERGIA ELECTRICA | C20: 0 | D20: 0 | E20: 77315.63 | F20: 0 | G20: 77315.63 | H20: 70182.48 | K20: =+C20+E20+G20+I20 -> 154631.26 | L20: =+D20+F20+H20+J20 -> 70182.48
A21: 113 | B21: TELEFONIA | C21: 10564.58 | D21: 0 | E21: 10564.58 | F21: 8302.09 | G21: 10564.58 | H21: 11306.4 | K21: =+C21+E21+G21+I21 -> 31693.74 | L21: =+D21+F21+H21+J21 -> 19608.49
A22: 122 | B22: IMPRESIÓN, ENCUADERNACION Y REPRODUCCION | C22: 0 | D22: 0 | E22: 0 | F22: 0 | G22: 6085.56 | H22: 0 | K22: =+C22+E22+G22+I22 -> 6085.56 | L22: =+D22+F22+H22+J22 -> 0
A23: 163 | B23: MANT. Y REP. EQUIPO MEDICO SANITARIO Y DE LAB. | C23: 0 | D23: 0 | E23: 0 | F23: 0 | G23: 75924.2 | H23: 0 | K23: =+C23+E23+G23+I23 -> 75924.2 | L23: =+D23+F23+H23+J23 -> 0
A24: 168 | B24: MANTENIMIENTO Y REPARACION DE EQUIPO DE COMPUTO | C24: 0 | D24: 0 | E24: 0 | F24: 0 | G24: 100 | H24: 0 | K24: =+C24+E24+G24+I24 -> 100 | L24: =+D24+F24+H24+J24 -> 0
A25: 169 | B25: MANT. Y REP. DE OTRAS MAQ. Y EQUIPO | C25: 3526.67 | D25: 0 | E25: 3526.67 | F25: 0 | G25: 3526.67 | H25: 0 | K25: =+C25+E25+G25+I25 -> 10580.01 | L25: =+D25+F25+H25+J25 -> 0
A26: 171 | B26: MANT. Y REPARACION DE EDIFICIOS | C26: 3638.33 | D26: 0 | E26: 3638.33 | F26: 0 | G26: 3638.33 | H26: 0 | K26: =+C26+E26+G26+I26 -> 10914.99 | L26: =+D26+F26+H26+J26 -> 0
A27: 174 | B27: MANT. Y REP. DE INSTALACIONES | C27: 7356.33 | D27: 0 | E27: 7356.33 | F27: 0 | G27: 7356.33 | H27: 0 | K27: =+C27+E27+G27+I27 -> 22068.99 | L27: =+D27+F27+H27+J27 -> 0
A28: 182 | B28: SERVICIOS MEDICO-SANITARIOS | C28: 317986.83 | D28: 0 | E28: 317986.83 | F28: 0 | G28: 317986.83 | H28: 32843.76 | K28: =+C28+E28+G28+I28 -> 953960.49 | L28: =+D28+F28+H28+J28 -> 32843.76
A29: 197 | B29: SERVICIOS DE VIGILANCIA | C29: 42350 | D29: 0 | E29: 42350 | F29: 0 | G29: 42350 | H29: 0 | K29: =+C29+E29+G29+I29 -> 127050 | L29: =+D29+F29+H29+J29 -> 0
A30: 199 | B30: OTROS SERVICIOS NO PERSONALES | C30: 67060 | D30: 0 | E30: 67060 | F30: 8200.8 | G30: 67060 | H30: 4100 | K30: =+C30+E30+G30+I30 -> 201180 | L30: =+D30+F30+H30+J30 -> 12300.8
B31: SUMA GASTOS GENERALES | C31: =SUM(C20:C30) -> 452482.74 | D31: =SUM(D20:D30) -> 0 | E31: =SUM(E20:E30) -> 529798.37 | F31: =SUM(F20:F30) -> 16502.89 | G31: =SUM(G20:G30) -> 611908.13 | H31: =SUM(H20:H30) -> 118432.64 | I31: =SUM(I20:I30) -> 0 | J31: =SUM(J20:J30) -> 0 | ... L31: =SUM(L20:L30) -> 134935.53
B32: MATERIALES Y SUMINISTROS
A33: 211 | B33: ALIMENTOS PARA PERSONAS | C33: 58165.57 | D33: 0 | E33: 58165.57 | F33: 0 | G33: 58165.57 | H33: 13077 | K33: =+C33+E33+G33+I33 -> 174496.71 | L33: =+D33+F33+H33+J33 -> 13077
A34: 232 | B34: ACABADOS TEXTILES | C34: 12500 | D34: 0 | E34: 12500 | F34: 0 | G34: 12500 | H34: 0 | K34: =+C34+E34+G34+I34 -> 37500 | L34: =+D34+F34+H34+J34 -> 0
A35: 261 | B35: ELEMENTOS Y COMPUESTOS QUIMICOS | C35: 82888.02 | D35: 0 | E35: 82888.02 | F35: 0 | G35: 82888.02 | H35: 0 | K35: =+C35+E35+G35+I35 -> 248664.06 | L35: =+D35+F35+H35+J35 -> 0
A36: 262 | B36: COMBUSTIBLES Y LUBRICANTES | C36: 666.67 | D36: 0 | E36: 666.67 | F36: 0 | G36: 666.67 | H36: 0 | K36: =+C36+E36+G36+I36 -> 2000.01 | L36: =+D36+F36+H36+J36 -> 0
A37: 266 | B37: PRODUCTOS MEDICINALES Y FARMACEUTICOS | C37: 381939.32 | D37: 0 | E37: 381939.32 | F37: 0 | G37: 381939.32 | H37: 133.93 | K37: =+C37+E37+G37+I37 -> 1145818 | L37: =+D37+F37+H37+J37 -> 133.93
A38: 267 | B38: TINTES, PINTURAS Y COLORANTES | C38: 750 | D38: 0 | E38: 750 | F38: 0 | G38: 750 | H38: 0 | K38: =+C38+E38+G38+I38 -> 2250 | L38: =+D38+F38+H38+J38 -> 0
A39: 268 | B39: PRODUCTOS PLASTICOS, NYLON, VINIL Y PVC | C39: 11811.29 | D39: 0 | E39: 11811.29 | F39: 0 | G39: 11811.29 | H39: 0 | K39: =+C39+E39+G39+I39 -> 35433.87 | L39: =+D39+F39+H39+J39 -> 0
A40: 269 | B40: OTROS PRODUCTOS QUIMICOS Y CONEXOS | C40: 833.33 | D40: 0 | E40: 833.33 | F40: 0 | G40: 833.33 | H40: 0 | K40: =+C40+E40+G40+I40 -> 2499.99 | L40: =+D40+F40+H40+J40 -> 0
A41: 289 | B41: OTROS PRODUCTOS METALICOS | C41: 574.88 | D41: 0 | E41: 574.88 | F41: 0 | G41: 574.88 | H41: 0 | K41: =+C41+E41+G41+I41 -> 1724.64 | L41: =+D41+F41+H41+J41 -> 0
A42: 292 | B42: UTILES DE LIMPIEZA Y PRODUCTOS SANITARIOS | C42: 7014.93 | D42: 0 | E42: 7014.93 | F42: 0 | G42: 7014.93 | H42: 0 | K42: =+C42+E42+G42+I42 -> 21044.79 | L42: =+D42+F42+H42+J42 -> 0
A43: 295 | B43: UTILES MENORES MEDICO QUIRURGICOS Y DE LAB. | C43: 1548540.1 | D43: 0 | E43: 1548540.1 | F43: 0 | G43: 1548540.1 | H43: 0 | K43: =+C43+E43+G43+I43 -> 4645620.2 | L43: =+D43+F43+H43+J43 -> 0
A44: 297 | B44: UTILES, ACCESORIOS Y MATERIALES ELECTRICOS | C44: 1591.07 | D44: 0 | E44: 1591.07 | F44: 0 | G44: 1591.07 | H44: 0 | K44: =+C44+E44+G44+I44 -> 4773.21 | L44: =+D44+F44+H44+J44 -> 0
... A46: 299 | B46: OTROS MATERIALES Y SUMINISTROS | C46: 19041.83 | D46: 0 | E46: 19041.83 | F46: 0 | G46: 19041.83 | H46: 0 | K46: =+C46+E46+G46+I46 -> 57125.49 | L46: =+D46+F46+H46+J46 -> 0
B47: TOTAL MATERIALES Y SUMINISTROS | C47: =SUM(C33:C46) -> 2160075.1 | D47: =SUM(D33:D46) -> 0 | E47: =SUM(E33:E46) -> 2160075.1 | F47: =SUM(F33:F46) -> 0 | G47: =SUM(G33:G46) -> 2160075.1 | H47: =SUM(H33:H46) -> 14210.93 | I47: =SUM(I33:I46) -> 0 | J47: =SUM(J33:J46) -> 0 | ... L47: =SUM(L33:L46) -> 14210.93
B48: PROPIEDAD PLANTA Y EQUIPO
B49: EQUIPO MEDICO SANITARIO Y DE LABORATORIO | C49: 0 | D49: 0 | E49: 0 | F49: 0 | H49: 0 | K49: =+C49+E49+G49+I49 -> 0 | L49: =+D49+F49+H49+J49 -> 0
B50: OTRAS MAQUINARIAS Y EQUIPOS | C50: 0 | D50: 0 | E50: 0 | F50: 0 | H50: 0 | I50: 0 | K50: =+C50+E50+G50+I50 -> 0 | L50: =+D50+F50+H50+J50 -> 0
B51: TOTAL PROPIEDAD PLANTA Y EQUIPO | C51: =SUM(C49:C50) -> 0 | D51: =SUM(D49:D50) -> 0 | E51: =SUM(E49:E50) -> 0 | F51: =SUM(F49:F50) -> 0 | G51: =SUM(G49:G50) -> 0 | H51: =SUM(H49:H50) -> 0 | I51: =SUM(I49:I50) -> 0 | J51: =SUM(J49:J50) -> 0 | ... L51: =SUM(L49:L50) -> 0
A60: Programación y ejecucion mensual por tipo de gasto año 2022, Expresado en Quetzales segundo cuatrimestre 2022
A61: No. | B61: CATEGORIA DE GASTO | C61: MAYO | E61: JUNIO | G61: JULIO | I61: AGOSTO | K61: TOTAL CUATRIMESTRE
C62: PRESUPUESTO | D62: REAL | E62: PRESUPUESTO | F62: REAL | G62: PRESUPUESTO | H62: REAL | I62: PRESUPUESTO | J62: REAL | K62: PRESUPUESTO | L62: REAL
A63: 011 | B63: RECURSO HUMANO | K63: =+C63+E63+G63+I63 -> 0 | L63: =+D63+F63+H63+J63 -> 0
B65: GASTOS DE FUNCIONAMIENTO | C65: =+C77+C93 -> 0 | D65: =+D77+D93+D99 -> 0 | E65: =+E77+E93 -> 0 | F65: =+F77+F93 -> 0 | G65: =+G77+G93 -> 0 | H65: =+H77+H93 -> 0 | I65: =+I77+I93 -> 0 | J65: =+J77+J93 -> 0 | K65: =+C65+E65+G65+I65 -> 0 | L65: =+D65+F65+H65+J65 -> 0
A66: 111 | B66: ENERGIA ELECTRICA | K66: =+C66+E66+G66+I66 -> 0 | L66: =+D66+F66+H66+J66 -> 0
A67: 113 | B67: TELEFONIA | K67: =+C67+E67+G67+I67 -> 0 | L67: =+D67+F67+H67+J67 -> 0
A68: 122 | B68: IMPRESIÓN, ENCUADERNACION Y REPRODUCCION | K68: =+C68+E68+G68+I68 -> 0 | L68: =+D68+F68+H68+J68 -> 0
A69: 163 | B69: MANT. Y REP. EQUIPO MEDICO SANITARIO Y DE LAB. | K69: =+C69+E69+G69+I69 -> 0 | L69: =+D69+F69+H69+J69 -> 0
A70: 168 | B70: MANTENIMIENTO Y REPARACION DE EQUIPO DE COMPUTO | K70: =+C70+E70+G70+I70 -> 0 | L70: =+D70+F70+H70+J70 -> 0
A71: 169 | B71: MANT. Y REP. DE OTRAS MAQ. Y EQUIPO | K71: =+C71+E71+G71+I71 -> 0 | L71: =+D71+F71+H71+J71 -> 0
A72: 171 | B72: MANT. Y REPARACION DE EDIFICIOS | K72: =+C72+E72+G72+I72 -> 0 | L72: =+D72+F72+H72+J72 -> 0
A73: 174 | B73: MANT. Y REP. DE INSTALACIONES | K73: =+C73+E73+G73+I73 -> 0 | L73: =+D73+F73+H73+J73 -> 0
A74: 182 | B74: SERVICIOS MEDICO-SANITARIOS | K74: =+C74+E74+G74+I74 -> 0 | L74: =+D74+F74+H74+J74 -> 0
A75: 197 | B75: SERVICIOS DE VIGILANCIA | K75: =+C75+E75+G75+I75 -> 0 | L75: =+D75+F75+H75+J75 -> 0
A76: 199 | B76: OTROS SERVICIOS NO PERSONALES | K76: =+C76+E76+G76+I76 -> 0 | L76: =+D76+F76+H76+J76 -> 0
B77: SUMA GASTOS GENERALES | C77: =SUM(C66:C76) -> 0 | D77: =SUM(D66:D76) -> 0 | E77: =SUM(E66:E76) -> 0 | F77: =SUM(F66:F76) -> 0 | G77: =SUM(G66:G76) -> 0 | H77: =SUM(H66:H76) -> 0 | I77: =SUM(I66:I76) -> 0 | J77: =SUM(J66:J76) -> 0 | ... L77: =SUM(L66:L76) -> 0
B78: MATERIALES Y SUMINISTROS
A79: 211 | B79: ALIMENTOS PARA PERSONAS | K79: =+C79+E79+G79+I79 -> 0 | L79: =+D79+F79+H79+J79 -> 0
A80: 232 | B80: ACABADOS TEXTILES | K80: =+C80+E80+G80+I80 -> 0 | L80: =+D80+F80+H80+J80 -> 0
A81: 261 | B81: ELEMENTOS Y COMPUESTOS QUIMICOS | K81: =+C81+E81+G81+I81 -> 0 | L81: =+D81+F81+H81+J81 -> 0
A82: 262 | B82: COMBUSTIBLES Y LUBRICANTES | K82: =+C82+E82+G82+I82 -> 0 | L82: =+D82+F82+H82+J82 -> 0
A83: 266 | B83: PRODUCTOS MEDICINALES Y FARMACEUTICOS | K83: =+C83+E83+G83+I83 -> 0 | L83: =+D83+F83+H83+J83 -> 0
A84: 267 | B84: TINTES, PINTURAS Y COLORANTES | K84: =+C84+E84+G84+I84 -> 0 | L84: =+D84+F84+H84+J84 -> 0
A85: 268 | B85: PRODUCTOS PLASTICOS, NYLON, VINIL Y PVC | K85: =+C85+E85+G85+I85 -> 0 | L85: =+D85+F85+H85+J85 -> 0
A86: 269 | B86: OTROS PRODUCTOS QUIMICOS Y CONEXOS | K86: =+C86+E86+G86+I86 -> 0 | L86: =+D86+F86+H86+J86 -> 0
A87: 289 | B87: OTROS PRODUCTOS METALICOS | K87: =+C87+E87+G87+I87 -> 0 | L87: =+D87+F87+H87+J87 -> 0
A88: 292 | B88: UTILES DE LIMPIEZA Y PRODUCTOS SANITARIOS | K88: =+C88+E88+G88+I88 -> 0 | L88: =+D88+F88+H88+J88 -> 0
A89: 295 | B89: UTILES MENORES MEDICO QUIRURGICOS Y DE LAB. | K89: =+C89+E89+G89+I89 -> 0 | L89: =+D89+F89+H89+J89 -> 0
A90: 297 | B90: UTILES, ACCESORIOS Y MATERIALES ELECTRICOS | K90: =+C90+E90+G90+I90 -> 0 | L90: =+D90+F90+H90+J90 -> 0
... A92: 299 | B92: OTROS MATERIALES Y SUMINISTROS | K92: =+C92+E92+G92+I92 -> 0 | L92: =+D92+F92+H92+J92 -> 0
B93: TOTAL MATERIALES Y SUMINISTROS | C93: =SUM(C79:C92) -> 0 | D93: =SUM(D79:D92) -> 0 | E93: =SUM(E79:E92) -> 0 | F93: =SUM(F79:F92) -> 0 | G93: =SUM(G79:G92) -> 0 | H93: =SUM(H79:H92) -> 0 | I93: =SUM(I79:I92) -> 0 | J93: =SUM(J79:J92) -> 0 | ... L93: =SUM(L79:L92) -> 0
B94: PROPIEDAD PLANTA Y EQUIPO
B95: EQUIPO DE OFICINA | K95: =+C95+E95+G95+I95 -> 0 | L95: =+D95+F95+H95+J95 -> 0
B96: EQUIPO MEDICO SANITARIO Y DE LABORATORIO | K96: =+C96+E96+G96+I96 -> 0 | L96: =+D96+F96+H96+J96 -> 0
B97: EQUIPO DE COMPUTACION | K97: =+C97+E97+G97+I97 -> 0 | L97: =+D97+F97+H97+J97 -> 0
B98: OTRAS MAQUINARIAS Y EQUIPOS | K98: =+C98+E98+G98+I98 -> 0 | L98: =+D98+F98+H98+J98 -> 0
B99: TOTAL PROPIEDAD PLANTA Y EQUIPO | C99: =SUM(C95:C98) -> 0 | D99: =SUM(D95:D98) -> 0 | E99: =SUM(E95:E98) -> 0 | F99: =SUM(F95:F98) -> 0 | G99: =SUM(G95:G98) -> 0 | H99: =SUM(H95:H98) -> 0 | I99: =SUM(I95:I98) -> 0 | J99: =SUM(J95:J98) -> 0 | ... L99: =SUM(L95:L98) -> 0
A102: Programación y ejecucion mensual por tipo de gasto año 2022, Expresado en Quetzales tercer cuatrimestre 2022
A103: No. | B103: CATEGORIA DE GASTO | C103: SEPTIEMBRE | E103: OCTUBRE | G103: NOVIEMBRE | I103: DICIEMBRE | K103: TOTAL CUATRIMESTRE
C104: PRESUPUESTO | D104: REAL | E104: PRESUPUESTO | F104: REAL | G104: PRESUPUESTO | H104: REAL | I104: PRESUPUESTO | J104: REAL | K104: PRESUPUESTO | L104: REAL
A105: 011 | B105: RECURSO HUMANO | K105: =+C105+E105+G105+I105 -> 0 | L105: =+D105+F105+H105+J105 -> 0
B107: GASTOS DE FUNCIONAMIENTO | C107: =+C119+C135 -> 0 | D107: =+D119+D135 -> 0 | E107: =+E119+E135 -> 0 | F107: =+F119+F135 -> 0 | G107: =+G119+G135 -> 0 | H107: =+H119+H135 -> 0 | I107: =+I119+I135 -> 0 | J107: =+J119+J135 -> 0 | K107: =+C107+E107+G107+I107 -> 0 | L107: =+D107+F107+H107+J107 -> 0
A108: 111 | B108: ENERGIA ELECTRICA | K108: =+C108+E108+G108+I108 -> 0 | L108: =+D108+F108+H108+J108 -> 0
A109: 113 | B109: TELEFONIA | K109: =+C109+E109+G109+I109 -> 0 | L109: =+D109+F109+H109+J109 -> 0
A110: 122 | B110: IMPRESIÓN, ENCUADERNACION Y REPRODUCCION | K110: =+C110+E110+G110+I110 -> 0 | L110: =+D110+F110+H110+J110 -> 0
A111: 163 | B111: MANT. Y REP. EQUIPO MEDICO SANITARIO Y DE LAB. | K111: =+C111+E111+G111+I111 -> 0 | L111: =+D111+F111+H111+J111 -> 0
A112: 168 | B112: MANTENIMIENTO Y REPARACION DE EQUIPO DE COMPUTO | K112: =+C112+E112+G112+I112 -> 0 | L112: =+D112+F112+H112+J112 -> 0
A113: 169 | B113: MANT. Y REP. DE OTRAS MAQ. Y EQUIPO | K113: =+C113+E113+G113+I113 -> 0 | L113: =+D113+F113+H113+J113 -> 0
A114: 171 | B114: MANT. Y REPARACION DE EDIFICIOS | K114: =+C114+E114+G114+I114 -> 0 | L114: =+D114+F114+H114+J114 -> 0
A115: 174 | B115: MANT. Y REP. DE INSTALACIONES | K115: =+C115+E115+G115+I115 -> 0 | L115: =+D115+F115+H115+J115 -> 0
A116: 182 | B116: SERVICIOS MEDICO-SANITARIOS | K116: =+C116+E116+G116+I116 -> 0 | L116: =+D116+F116+H116+J116 -> 0
A117: 197 | B117: SERVICIOS DE VIGILANCIA | K117: =+C117+E117+G117+I117 -> 0 | L117: =+D117+F117+H117+J117 -> 0
A118: 199 | B118: OTROS SERVICIOS NO PERSONALES | K118: =+C118+E118+G118+I118 -> 0 | L118: =+D118+F118+H118+J118 -> 0
B119: SUMA GASTOS GENERALES | C119: =SUM(C108:C118) -> 0 | D119: =SUM(D108:D118) -> 0 | E119: =SUM(E108:E118) -> 0 | F119: =SUM(F108:F118) -> 0 | G119: =SUM(G108:G118) -> 0 | H119: =SUM(H108:H118) -> 0 | I119: =SUM(I108:I118) -> 0 | J119: =SUM(J108:J118) -> 0 | ... L119: =SUM(L108:L118) -> 0
B120: MATERIALES Y SUMINISTROS
A121: 211 | B121: ALIMENTOS PARA PERSONAS | K121: =+C121+E121+G121+I121 -> 0 | L121: =+D121+F121+H121+J121 -> 0
A122: 232 | B122: ACABADOS TEXTILES | K122: =+C122+E122+G122+I122 -> 0 | L122: =+D122+F122+H122+J122 -> 0
A123: 261 | B123: ELEMENTOS Y COMPUESTOS QUIMICOS | K123: =+C123+E123+G123+I123 -> 0 | L123: =+D123+F123+H123+J123 -> 0
A124: 262 | B124: COMBUSTIBLES Y LUBRICANTES | K124: =+C124+E124+G124+I124 -> 0 | L124: =+D124+F124+H124+J124 -> 0
...

Sheet ABRIL CTE-5
B8: ÀREA FINANCIERA | K8: CTE-5
A10: UNIDAD DE CIRUGIA CARDIOVASCULAR DE GUATEMALA
A11: 5a. AVENIDA 6-22 ZONA 11
A12: dgunicar@yahoo.es Tel. 24163000
A14: Programación y ejecucion mensual por tipo de gasto año 2022, Expresado en Quetzales primer cuatrimestre 2022
A15: No. | B15: CATEGORIA DE GASTO | C15: ENERO | E15: FEBRERO | G15: MARZO | I15: ABRIL | K15: TOTAL CUATRIMESTRE
C16: PRESUPUESTO | D16: REAL | E16: PRESUPUESTO | F16: REAL | G16: PRESUPUESTO | H16: REAL | I16: PRESUPUESTO | J16: REAL | K16: PRESUPUESTO | L16: REAL
A17: 011 | B17: RECURSO HUMANO | C17: 2414811.3 | D17: 2367268.7 | E17: 2414811.3 | F17: 2396683.9 | G17: 2414811.3 | H17: 2410583.5 | I17: 2414811.3 | J17: 2417060.8 | K17: =+C17+E17+G17+I17 -> 9659245.3 | L17: =+D17+F17+H17+J17 -> 9591596.9
B19: GASTOS DE FUNCIONAMIENTO | C19: =+C31+C47 -> 2612557.9 | D19: =+D31+D47 -> 0 | E19: =+E31+E47 -> 2689873.5 | F19: =+F31+F47 -> 16502.89 | G19: =+G31+G47 -> 2771983.2 | H19: =+H31+H47 -> 132643.57 | I19: =+I31+I47 -> 2771983.2 | J19: =+J31+J47 -> 748869.8 | K19: =+C19+E19+G19+I19 -> 10846398 | L19: =+D19+F19+H19+J19 -> 898016.26
A20: 111 | B20: ENERGIA ELECTRICA | C20: 0 | D20: 0 | E20: 77315.63 | F20: 0 | G20: 77315.63 | H20: 70182.48 | I20: 77315.63 | J20: 80017.57 | K20: =+C20+E20+G20+I20 -> 231946.89 | L20: =+D20+F20+H20+J20 -> 150200.05
A21: 113 | B21: TELEFONIA | C21: 10564.58 | D21: 0 | E21: 10564.58 | F21: 8302.09 | G21: 10564.58 | H21: 11306.4 | I21: 10564.58 | J21: 11126.04 | K21: =+C21+E21+G21+I21 -> 42258.32 | L21: =+D21+F21+H21+J21 -> 30734.53
A22: 122 | B22: IMPRESIÓN, ENCUADERNACION Y REPRODUCCION | C22: 0 | D22: 0 | E22: 0 | F22: 0 | G22: 6085.56 | H22: 0 | I22: 6085.56 | J22: 0 | K22: =+C22+E22+G22+I22 -> 12171.12 | L22: =+D22+F22+H22+J22 -> 0
A23: 163 | B23: MANT. Y REP. EQUIPO MEDICO SANITARIO Y DE LAB. | C23: 0 | D23: 0 | E23: 0 | F23: 0 | G23: 75924.2 | H23: 0 | I23: 75924.2 | J23: 0 | K23: =+C23+E23+G23+I23 -> 151848.4 | L23: =+D23+F23+H23+J23 -> 0
A24: 168 | B24: MANTENIMIENTO Y REPARACION DE EQUIPO DE COMPUTO | C24: 0 | D24: 0 | E24: 0 | F24: 0 | G24: 100 | H24: 0 | I24: 100 | J24: 0 | K24: =+C24+E24+G24+I24 -> 200 | L24: =+D24+F24+H24+J24 -> 0
A25: 169 | B25: MANT. Y REP. DE OTRAS MAQ. Y EQUIPO | C25: 3526.67 | D25: 0 | E25: 3526.67 | F25: 0 | G25: 3526.67 | H25: 0 | I25: 3526.67 | J25: 0 | K25: =+C25+E25+G25+I25 -> 14106.68 | L25: =+D25+F25+H25+J25 -> 0
A26: 171 | B26: MANT. Y REPARACION DE EDIFICIOS | C26: 3638.33 | D26: 0 | E26: 3638.33 | F26: 0 | G26: 3638.33 | H26: 0 | I26: 3638.33 | J26: 0 | K26: =+C26+E26+G26+I26 -> 14553.32 | L26: =+D26+F26+H26+J26 -> 0
A27: 174 | B27: MANT. Y REP. DE INSTALACIONES | C27: 7356.33 | D27: 0 | E27: 7356.33 | F27: 0 | G27: 7356.33 | H27: 0 | I27: 7356.33 | J27: 6360 | K27: =+C27+E27+G27+I27 -> 29425.32 | L27: =+D27+F27+H27+J27 -> 6360
A28: 182 | B28: SERVICIOS MEDICO-SANITARIOS | C28: 317986.83 | D28: 0 | E28: 317986.83 | F28: 0 | G28: 317986.83 | H28: 32843.76 | I28: 317986.83 | J28: 99905.74 | K28: =+C28+E28+G28+I28 -> 1271947.3 | L28: =+D28+F28+H28+J28 -> 132749.5
A29: 197 | B29: SERVICIOS DE VIGILANCIA | C29: 42350 | D29: 0 | E29: 42350 | F29: 0 | G29: 42350 | H29: 0 | I29: 42350 | J29: 84000 | K29: =+C29+E29+G29+I29 -> 169400 | L29: =+D29+F29+H29+J29 -> 84000
A30: 199 | B30: OTROS SERVICIOS NO PERSONALES | C30: 67060 | D30: 0 | E30: 67060 | F30: 8200.8 | G30: 67060 | H30: 4100 | I30: 67060 | J30: 6150.2 | K30: =+C30+E30+G30+I30 -> 268240 | L30: =+D30+F30+H30+J30 -> 18451
B31: SUMA GASTOS GENERALES | C31: =SUM(C20:C30) -> 452482.74 | D31: =SUM(D20:D30) -> 0 | E31: =SUM(E20:E30) -> 529798.37 | F31: =SUM(F20:F30) -> 16502.89 | G31: =SUM(G20:G30) -> 611908.13 | H31: =SUM(H20:H30) -> 118432.64 | I31: =SUM(I20:I30) -> 611908.13 | J31: =SUM(J20:J30) -> 287559.55 | ... L31: =SUM(L20:L30) -> 422495.08
B32: MATERIALES Y SUMINISTROS
A33: 211 | B33: ALIMENTOS PARA PERSONAS | C33: 58165.57 | D33: 0 | E33: 58165.57 | F33: 0 | G33: 58165.57 | H33: 13077 | I33: 58165.57 | J33: 90483.25 | K33: =+C33+E33+G33+I33 -> 232662.28 | L33: =+D33+F33+H33+J33 -> 103560.25
A34: 232 | B34: ACABADOS TEXTILES | C34: 12500 | D34: 0 | E34: 12500 | F34: 0 | G34: 12500 | H34: 0 | I34: 12500 | J34: 0 | K34: =+C34+E34+G34+I34 -> 50000 | L34: =+D34+F34+H34+J34 -> 0
A35: 261 | B35: ELEMENTOS Y COMPUESTOS QUIMICOS | C35: 82888.02 | D35: 0 | E35: 82888.02 | F35: 0 | G35: 82888.02 | H35: 0 | I35: 82888.02 | J35: 61685.07 | K35: =+C35+E35+G35+I35 -> 331552.08 | L35: =+D35+F35+H35+J35 -> 61685.07
A36: 262 | B36: COMBUSTIBLES Y LUBRICANTES | C36: 666.67 | D36: 0 | E36: 666.67 | F36: 0 | G36: 666.67 | H36: 0 | I36: 666.67 | J36: 0 | K36: =+C36+E36+G36+I36 -> 2666.68 | L36: =+D36+F36+H36+J36 -> 0
A37: 266 | B37: PRODUCTOS MEDICINALES Y FARMACEUTICOS | C37: 381939.32 | D37: 0 | E37: 381939.32 | F37: 0 | G37: 381939.32 | H37: 133.93 | I37: 381939.32 | J37: 194422.07 | K37: =+C37+E37+G37+I37 -> 1527757.3 | L37: =+D37+F37+H37+J37 -> 194556
A38: 267 | B38: TINTES, PINTURAS Y COLORANTES | C38: 750 | D38: 0 | E38: 750 | F38: 0 | G38: 750 | H38: 0 | I38: 750 | J38: 0 | K38: =+C38+E38+G38+I38 -> 3000 | L38: =+D38+F38+H38+J38 -> 0
A39: 268 | B39: PRODUCTOS PLASTICOS, NYLON, VINIL Y PVC | C39: 11811.29 | D39: 0 | E39: 11811.29 | F39: 0 | G39: 11811.29 | H39: 0 | I39: 11811.29 | J39: 0 | K39: =+C39+E39+G39+I39 -> 47245.16 | L39: =+D39+F39+H39+J39 -> 0
A40: 269 | B40: OTROS PRODUCTOS QUIMICOS Y CONEXOS | C40: 833.33 | D40: 0 | E40: 833.33 | F40: 0 | G40: 833.33 | H40: 0 | I40: 833.33 | J40: 0 | K40: =+C40+E40+G40+I40 -> 3333.32 | L40: =+D40+F40+H40+J40 -> 0
A41: 289 | B41: OTROS PRODUCTOS METALICOS | C41: 574.88 | D41: 0 | E41: 574.88 | F41: 0 | G41: 574.88 | H41: 0 | I41: 574.88 | J41: 0 | K41: =+C41+E41+G41+I41 -> 2299.52 | L41: =+D41+F41+H41+J41 -> 0
A42: 292 | B42: UTILES DE LIMPIEZA Y PRODUCTOS SANITARIOS | C42: 7014.93 | D42: 0 | E42: 7014.93 | F42: 0 | G42: 7014.93 | H42: 0 | I42: 7014.93 | J42: 0 | K42: =+C42+E42+G42+I42 -> 28059.72 | L42: =+D42+F42+H42+J42 -> 0
A43: 295 | B43: UTILES MENORES MEDICO QUIRURGICOS Y DE LAB. | C43: 1548540.1 | D43: 0 | E43: 1548540.1 | F43: 0 | G43: 1548540.1 | H43: 0 | I43: 1548540.1 | J43: 108377 | K43: =+C43+E43+G43+I43 -> 6194160.2 | L43: =+D43+F43+H43+J43 -> 108377
A44: 297 | B44: UTILES, ACCESORIOS Y MATERIALES ELECTRICOS | C44: 1591.07 | D44: 0 | E44: 1591.07 | F44: 0 | G44: 1591.07 | H44: 0 | I44: 1591.07 | J44: 0 | K44: =+C44+E44+G44+I44 -> 6364.28 | L44: =+D44+F44+H44+J44 -> 0
... A46: 299 | B46: OTROS MATERIALES Y SUMINISTROS | C46: 19041.83 | D46: 0 | E46: 19041.83 | F46: 0 | G46: 19041.83 | H46: 0 | I46: 19041.83 | J46: 0 | K46: =+C46+E46+G46+I46 -> 76167.32 | L46: =+D46+F46+H46+J46 -> 0
B47: TOTAL MATERIALES Y SUMINISTROS | C47: =SUM(C33:C46) -> 2160075.1 | D47: =SUM(D33:D46) -> 0 | E47: =SUM(E33:E46) -> 2160075.1 | F47: =SUM(F33:F46) -> 0 | G47: =SUM(G33:G46) -> 2160075.1 | H47: =SUM(H33:H46) -> 14210.93 | I47: =SUM(I33:I46) -> 2160075.1 | J47: =SUM(J33:J46) -> 461310.25 | ... L47: =SUM(L33:L46) -> 475521.18
B48: PROPIEDAD PLANTA Y EQUIPO
B49: EQUIPO MEDICO SANITARIO Y DE LABORATORIO | C49: 0 | D49: 0 | E49: 0 | F49: 0 | H49: 0 | K49: =+C49+E49+G49+I49 -> 0 | L49: =+D49+F49+H49+J49 -> 0
B50: OTRAS MAQUINARIAS Y EQUIPOS | C50: 0 | D50: 0 | E50: 0 | F50: 0 | H50: 0 | I50: 0 | K50: =+C50+E50+G50+I50 -> 0 | L50: =+D50+F50+H50+J50 -> 0
B51: TOTAL PROPIEDAD PLANTA Y EQUIPO | C51: =SUM(C49:C50) -> 0 | D51: =SUM(D49:D50) -> 0 | E51: =SUM(E49:E50) -> 0 | F51: =SUM(F49:F50) -> 0 | G51: =SUM(G49:G50) -> 0 | H51: =SUM(H49:H50) -> 0 | I51: =SUM(I49:I50) -> 0 | J51: =SUM(J49:J50) -> 0 | ... L51: =SUM(L49:L50) -> 0
A60: Programación y ejecucion mensual por tipo de gasto año 2022, Expresado en Quetzales segundo cuatrimestre 2022
A61: No. | B61: CATEGORIA DE GASTO | C61: MAYO | E61: JUNIO | G61: JULIO | I61: AGOSTO | K61: TOTAL CUATRIMESTRE
C62: PRESUPUESTO | D62: REAL | E62: PRESUPUESTO | F62: REAL | G62: PRESUPUESTO | H62: REAL | I62: PRESUPUESTO | J62: REAL | K62: PRESUPUESTO | L62: REAL
A63: 011 | B63: RECURSO HUMANO | K63: =+C63+E63+G63+I63 -> 0 | L63: =+D63+F63+H63+J63 -> 0
B65: GASTOS DE FUNCIONAMIENTO | C65: =+C77+C93 -> 0 | D65: =+D77+D93+D99 -> 0 | E65: =+E77+E93 -> 0 | F65: =+F77+F93 -> 0 | G65: =+G77+G93 -> 0 | H65: =+H77+H93 -> 0 | I65: =+I77+I93 -> 0 | J65: =+J77+J93 -> 0 | K65: =+C65+E65+G65+I65 -> 0 | L65: =+D65+F65+H65+J65 -> 0
A66: 111 | B66: ENERGIA ELECTRICA | K66: =+C66+E66+G66+I66 -> 0 | L66: =+D66+F66+H66+J66 -> 0
A67: 113 | B67: TELEFONIA | K67: =+C67+E67+G67+I67 -> 0 | L67: =+D67+F67+H67+J67 -> 0
A68: 122 | B68: IMPRESIÓN, ENCUADERNACION Y REPRODUCCION | K68: =+C68+E68+G68+I68 -> 0 | L68: =+D68+F68+H68+J68 -> 0
A69: 163 | B69: MANT. Y REP. EQUIPO MEDICO SANITARIO Y DE LAB. | K69: =+C69+E69+G69+I69 -> 0 | L69: =+D69+F69+H69+J69 -> 0
A70: 168 | B70: MANTENIMIENTO Y REPARACION DE EQUIPO DE COMPUTO | K70: =+C70+E70+G70+I70 -> 0 | L70: =+D70+F70+H70+J70 -> 0
A71: 169 | B71: MANT. Y REP. DE OTRAS MAQ. Y EQUIPO | K71: =+C71+E71+G71+I71 -> 0 | L71: =+D71+F71+H71+J71 -> 0
A72: 171 | B72: MANT. Y REPARACION DE EDIFICIOS | K72: =+C72+E72+G72+I72 -> 0 | L72: =+D72+F72+H72+J72 -> 0
A73: 174 | B73: MANT. Y REP. DE INSTALACIONES | K73: =+C73+E73+G73+I73 -> 0 | L73: =+D73+F73+H73+J73 -> 0
A74: 182 | B74: SERVICIOS MEDICO-SANITARIOS | K74: =+C74+E74+G74+I74 -> 0 | L74: =+D74+F74+H74+J74 -> 0
A75: 197 | B75: SERVICIOS DE VIGILANCIA | K75: =+C75+E75+G75+I75 -> 0 | L75: =+D75+F75+H75+J75 -> 0
A76: 199 | B76: OTROS SERVICIOS NO PERSONALES | K76: =+C76+E76+G76+I76 -> 0 | L76: =+D76+F76+H76+J76 -> 0
B77: SUMA GASTOS GENERALES | C77: =SUM(C66:C76) -> 0 | D77: =SUM(D66:D76) -> 0 | E77: =SUM(E66:E76) -> 0 | F77: =SUM(F66:F76) -> 0 | G77: =SUM(G66:G76) -> 0 | H77: =SUM(H66:H76) -> 0 | I77: =SUM(I66:I76) -> 0 | J77: =SUM(J66:J76) -> 0 | ... L77: =SUM(L66:L76) -> 0
B78: MATERIALES Y SUMINISTROS
A79: 211 | B79: ALIMENTOS PARA PERSONAS | K79: =+C79+E79+G79+I79 -> 0 | L79: =+D79+F79+H79+J79 -> 0
A80: 232 | B80: ACABADOS TEXTILES | K80: =+C80+E80+G80+I80 -> 0 | L80: =+D80+F80+H80+J80 -> 0
A81: 261 | B81: ELEMENTOS Y COMPUESTOS QUIMICOS | K81: =+C81+E81+G81+I81 -> 0 | L81: =+D81+F81+H81+J81 -> 0
A82: 262 | B82: COMBUSTIBLES Y LUBRICANTES | K82: =+C82+E82+G82+I82 -> 0 | L82: =+D82+F82+H82+J82 -> 0
A83: 266 | B83: PRODUCTOS MEDICINALES Y FARMACEUTICOS | K83: =+C83+E83+G83+I83 -> 0 | L83: =+D83+F83+H83+J83 -> 0
A84: 267 | B84: TINTES, PINTURAS Y COLORANTES | K84: =+C84+E84+G84+I84 -> 0 | L84: =+D84+F84+H84+J84 -> 0
A85: 268 | B85: PRODUCTOS PLASTICOS, NYLON, VINIL Y PVC | K85: =+C85+E85+G85+I85 -> 0 | L85: =+D85+F85+H85+J85 -> 0
A86: 269 | B86: OTROS PRODUCTOS QUIMICOS Y CONEXOS | K86: =+C86+E86+G86+I86 -> 0 | L86: =+D86+F86+H86+J86 -> 0
A87: 289 | B87: OTROS PRODUCTOS METALICOS | K87: =+C87+E87+G87+I87 -> 0 | L87: =+D87+F87+H87+J87 -> 0
A88: 292 | B88: UTILES DE LIMPIEZA Y PRODUCTOS SANITARIOS | K88: =+C88+E88+G88+I88 -> 0 | L88: =+D88+F88+H88+J88 -> 0
A89: 295 | B89: UTILES MENORES MEDICO QUIRURGICOS Y DE LAB. | K89: =+C89+E89+G89+I89 -> 0 | L89: =+D89+F89+H89+J89 -> 0
A90: 297 | B90: UTILES, ACCESORIOS Y MATERIALES ELECTRICOS | K90: =+C90+E90+G90+I90 -> 0 | L90: =+D90+F90+H90+J90 -> 0
... A92: 299 | B92: OTROS MATERIALES Y SUMINISTROS | K92: =+C92+E92+G92+I92 -> 0 | L92: =+D92+F92+H92+J92 -> 0
B93: TOTAL MATERIALES Y SUMINISTROS | C93: =SUM(C79:C92) -> 0 | D93: =SUM(D79:D92) -> 0 | E93: =SUM(E79:E92) -> 0 | F93: =SUM(F79:F92) -> 0 | G93: =SUM(G79:G92) -> 0 | H93: =SUM(H79:H92) -> 0 | I93: =SUM(I79:I92) -> 0 | J93: =SUM(J79:J92) -> 0 | ... L93: =SUM(L79:L92) -> 0
B94: PROPIEDAD PLANTA Y EQUIPO
B95: EQUIPO DE OFICINA | K95: =+C95+E95+G95+I95 -> 0 | L95: =+D95+F95+H95+J95 -> 0
B96: EQUIPO MEDICO SANITARIO Y DE LABORATORIO | K96: =+C96+E96+G96+I96 -> 0 | L96: =+D96+F96+H96+J96 -> 0
B97: EQUIPO DE COMPUTACION | K97: =+C97+E97+G97+I97 -> 0 | L97: =+D97+F97+H97+J97 -> 0
B98: OTRAS MAQUINARIAS Y EQUIPOS | K98: =+C98+E98+G98+I98 -> 0 | L98: =+D98+F98+H98+J98 -> 0
B99: TOTAL PROPIEDAD PLANTA Y EQUIPO | C99: =SUM(C95:C98) -> 0 | D99: =SUM(D95:D98) -> 0 | E99: =SUM(E95:E98) -> 0 | F99: =SUM(F95:F98) -> 0 | G99: =SUM(G95:G98) -> 0 | H99: =SUM(H95:H98) -> 0 | I99: =SUM(I95:I98) -> 0 | J99: =SUM(J95:J98) -> 0 | ... L99: =SUM(L95:L98) -> 0
A102: Programación y ejecucion mensual por tipo de gasto año 2022, Expresado en Quetzales tercer cuatrimestre 2022
A103: No. | B103: CATEGORIA DE GASTO | C103: SEPTIEMBRE | E103: OCTUBRE | G103: NOVIEMBRE | I103: DICIEMBRE | K103: TOTAL CUATRIMESTRE
C104: PRESUPUESTO | D104: REAL | E104: PRESUPUESTO | F104: REAL | G104: PRESUPUESTO | H104: REAL | I104: PRESUPUESTO | J104: REAL | K104: PRESUPUESTO | L104: REAL
A105: 011 | B105: RECURSO HUMANO | K105: =+C105+E105+G105+I105 -> 0 | L105: =+D105+F105+H105+J105 -> 0
B107: GASTOS DE FUNCIONAMIENTO | C107: =+C119+C135 -> 0 | D107: =+D119+D135 -> 0 | E107: =+E119+E135 -> 0 | F107: =+F119+F135 -> 0 | G107: =+G119+G135 -> 0 | H107: =+H119+H135 -> 0 | I107: =+I119+I135 -> 0 | J107: =+J119+J135 -> 0 | K107: =+C107+E107+G107+I107 -> 0 | L107: =+D107+F107+H107+J107 -> 0
A108: 111 | B108: ENERGIA ELECTRICA | K108: =+C108+E108+G108+I108 -> 0 | L108: =+D108+F108+H108+J108 -> 0
A109: 113 | B109: TELEFONIA | K109: =+C109+E109+G109+I109 -> 0 | L109: =+D109+F109+H109+J109 -> 0
A110: 122 | B110: IMPRESIÓN, ENCUADERNACION Y REPRODUCCION | K110: =+C110+E110+G110+I110 -> 0 | L110: =+D110+F110+H110+J110 -> 0
A111: 163 | B111: MANT. Y REP. EQUIPO MEDICO SANITARIO Y DE LAB. | K111: =+C111+E111+G111+I111 -> 0 | L111: =+D111+F111+H111+J111 -> 0
A112: 168 | B112: MANTENIMIENTO Y REPARACION DE EQUIPO DE COMPUTO | K112: =+C112+E112+G112+I112 -> 0 | L112: =+D112+F112+H112+J112 -> 0
A113: 169 | B113: MANT. Y REP. DE OTRAS MAQ. Y EQUIPO | K113: =+C113+E113+G113+I113 -> 0 | L113: =+D113+F113+H113+J113 -> 0
A114: 171 | B114: MANT. Y REPARACION DE EDIFICIOS | K114: =+C114+E114+G114+I114 -> 0 | L114: =+D114+F114+H114+J114 -> 0
A115: 174 | B115: MANT. Y REP. DE INSTALACIONES | K115: =+C115+E115+G115+I115 -> 0 | L115: =+D115+F115+H115+J115 -> 0
A116: 182 | B116: SERVICIOS MEDICO-SANITARIOS | K116: =+C116+E116+G116+I116 -> 0 | L116: =+D116+F116+H116+J116 -> 0
A117: 197 | B117: SERVICIOS DE VIGILANCIA | K117: =+C117+E117+G117+I117 -> 0 | L117: =+D117+F117+H117+J117 -> 0
A118: 199 | B118: OTROS SERVICIOS NO PERSONALES | K118: =+C118+E118+G118+I118 -> 0 | L118: =+D118+F118+H118+J118 -> 0
B119: SUMA GASTOS GENERALES | C119: =SUM(C108:C118) -> 0 | D119: =SUM(D108:D118) -> 0 | E119: =SUM(E108:E118) -> 0 | F119: =SUM(F108:F118) -> 0 | G119: =SUM(G108:G118) -> 0 | H119: =SUM(H108:H118) -> 0 | I119: =SUM(I108:I118) -> 0 | J119: =SUM(J108:J118) -> 0 | ... L119: =SUM(L108:L118) -> 0
B120: MATERIALES Y SUMINISTROS
A121: 211 | B121: ALIMENTOS PARA PERSONAS | K121: =+C121+E121+G121+I121 -> 0 | L121: =+D121+F121+H121+J121 -> 0
A122: 232 | B122: ACABADOS TEXTILES | K122: =+C122+E122+G122+I122 -> 0 | L122: =+D122+F122+H122+J122 -> 0
A123: 261 | B123: ELEMENTOS Y COMPUESTOS QUIMICOS | K123: =+C123+E123+G123+I123 -> 0 | L123: =+D123+F123+H123+J123 -> 0
A124: 262 | B124: COMBUSTIBLES Y LUBRICANTES | K124: =+C124+E124+G124+I124 -> 0 | L124: =+D124+F124+H124+J124 -> 0
...

Sheet ENERO ANEXO A CTE-5
B8: ÀREA FINANCIERA | I8: ANEXO DE CTE-5
A10: UNIDAD DE CIRUGIA CARDIOVASCULAR DE GUATEMALA
A11: 5a. AVENIDA 6-22 ZONA 11
A12: dgunicar@yahoo.es Tel. 24163000
A14: Programación mensual por tipo de gasto año 2018, Expresado en Quetzales primer cuatrimestre 2018
A15: No. | B15: CATEGORIA DE GASTO | C15: ENERO | E15: FEBRERO | G15: MARZO | I15: ABRIL
C16: PRESUPUESTO | D16: REAL | E16: PRESUPUESTO | F16: REAL | G16: PRESUPUESTO | H16: REAL | I16: PRESUPUESTO | J16: REAL
B17: RECURSO HUMANO | C17: 1764858.4 | D17: 1492317.4 | E17: 1764858.4 | F17: 1792563.6 | G17: 1764858.4 | H17: 1578007.9 | I17: 1764858.4 | J17: 1803793.6
B19: GASTOS DE FUNCIONAMIENTO | C19: =+C27+C43 -> 2818474.9 | D19: =+D27+D43 -> 0 | E19: =+E27+E43 -> 2818474.9 | F19: =+F27+F43 -> 67111.02 | G19: =+G27+G43 -> 2818474.9 | H19: =+H27+H43 -> 58543.64 | I19: =+I27+I43 -> 2818474.9 | J19: =+J27+J43 -> 3743927.3
B20: ENERGIA ELECTRICA | C20: 62500 | E20: 62500 | F20: 56112.02 | G20: 62500 | I20: 62500 | J20: 68083.01
B21: TELEFONIA | C21: 7500 | E21: 7500 | F21: 10999 | G21: 7500 | H21: 11011 | I21: 7500 | J21: 10992
B22: IMPRESIÓN, ENCUADERNACION Y REPRODUCCION | C22: 8133.97 | E22: 8133.97 | G22: 8133.97 | I22: 8133.97 | J22: 4358
B23: MANT. Y REP. EQUIPO MEDICO SANITARIO Y DE LAB. | C23: 33333.33 | E23: 33333.33 | G23: 33333.33 | I23: 33333.33 | J23: 45020
B24: SERVICIOS MEDICO-SANITARIOS | C24: 165141.75 | E24: 165141.75 | G24: 165141.75 | H24: 1000 | I24: 165141.75 | J24: 26842.86
B25: SERVICIOS DE VIGILANCIA | C25: 40000 | E25: 40000 | G25: 40000 | I25: 40000 | J25: 76240
B26: OTROS SERVICIOS NO PERSONALES | C26: 26305.03 | E26: 26305.03 | G26: 26305.03 | H26: 46532.64 | I26: 26305.03 | J26: 55063.68
B27: SUMA GASTOS GENERALES | C27: =SUM(C20:C26) -> 342914.08 | D27: =SUM(D20:D26) -> 0 | E27: =SUM(E20:E26) -> 342914.08 | F27: =SUM(F20:F26) -> 67111.02 | G27: =SUM(G20:G26) -> 342914.08 | H27: =SUM(H20:H26) -> 58543.64 | I27: =SUM(I20:I26) -> 342914.08 | J27: =SUM(J20:J26) -> 286599.55
B28: MATERIALES Y SUMINISTROS
B29: ALIMENTOS PARA PERSONAS | C29: 60936.45 | E29: 60936.45 | G29: 60936.45 | I29: 60936.45 | J29: 202940.25
B30: ACABADOS TEXTILES | C30: 600 | E30: 600 | G30: 600 | I30: 600
B31: PRODUCTOS DE PAPEL O CARTON | C31: 945.42 | E31: 945.42 | G31: 945.42 | I31: 945.42
B32: ELEMENTOS Y COMPUESTOS QUIMICOS | C32: 169652.57 | E32: 169652.57 | G32: 169652.57 | I32: 169652.57 | J32: 178282.05
B33: COMBUSTIBLES Y LUBRICANTES | C33: 912 | E33: 912 | G33: 912 | I33: 912
B34: PRODUCTOS MEDICINALES Y FARMACEUTICOS | C34: 427229.65 | E34: 427229.65 | G34: 427229.65 | I34: 427229.65 | J34: 1425199.8
B35: TINTES, PINTURAS Y COLORANTES | C35: 100 | E35: 100 | G35: 100 | I35: 100
B36: PRODUCTOS PLASTICOS, NYLON, VINIL Y PVC | C36: 13579.7 | E36: 13579.7 | G36: 13579.7 | I36: 13579.7 | J36: 75162.24
B37: OTROS PRODUCTOS METALICOS | C37: 310 | E37: 310 | G37: 310 | I37: 310
B38: UTILES DE LIMPIEZA Y PRODUCTOS SANITARIOS | C38: 10809.43 | E38: 10809.43 | G38: 10809.43 | I38: 10809.43 | J38: 14528.6
B39: UTILES MENORES MEDICO QUIRURGICOS Y DE LAB. | C39: 1780006.3 | E39: 1780006.3 | G39: 1780006.3 | I39: 1780006.3 | J39: 1545914.8
B40: UTILES, ACCESORIOS Y MATERIALES ELECTRICOS | C40: 2208.7 | E40: 2208.7 | G40: 2208.7 | I40: 2208.7 | J40: 15300
B41: ACCESORIOS Y REPUESTOS EN GENERAL | C41: 8105.1 | E41: 8105.1 | G41: 8105.1 | I41: 8105.1
B42: OTROS MATERIALES Y SUMINISTROS | C42: 165.5 | E42: 165.5 | G42: 165.5 | I42: 165.5
B43: TOTAL MATERIALES Y SUMINISTROS | C43: =SUM(C29:C42) -> 2475560.8 | D43: =SUM(D29:D42) -> 0 | E43: =SUM(E29:E42) -> 2475560.8 | F43: =SUM(F29:F42) -> 0 | G43: =SUM(G29:G42) -> 2475560.8 | H43: =SUM(H29:H42) -> 0 | I43: =SUM(I29:I42) -> 2475560.8 | J43: =SUM(J29:J42) -> 3457327.8
A46: Programación mensual por tipo de gasto año 2016, Expresado en Quetzales
A47: No. | B47: Categoría de Gasto | C47: Julio | E47: Agosto | G47: Septiembre
B48: Recurso Humano | C48: Pto. | D48: Real | E48: Pto. | F48: Real | G48: Pto. | H48: Real
B51: Gastos de Funcionamiento
B52: detallar cada gasto cargado
A60: TOTALES
A73: Programación mensual por tipo de gasto año 2018, Expresado en Quetzales segundo cuatrimestre 2018
A74: No. | B74: CATEGORIA DE GASTO | C74: MAYO | E74: JUNIO | G74: JULIO | I74: AGOSTO
C75: PRESUPUESTO | D75: REAL | E75: PRESUPUESTO | F75: REAL | G75: PRESUPUESTO | H75: REAL | I75: PRESUPUESTO | J75: REAL
B76: RECURSO HUMANO | C76: 1764858.4 | D76: 2281196.2 | E76: 1764858.4 | F76: 1896496.9
B78: GASTOS DE FUNCIONAMIENTO | C78: =+C86+C102 -> 2818474.9 | D78: =+D86+D102 -> 3820610.3 | E78: =+E86+E102 -> 2818474.9 | F78: =+F86+F102 -> 2361172.2 | G78: =+G86+G102 -> 0 | H78: =+H86+H102 -> 0 | I78: =+I86+I102 -> 0 | J78: =+J86+J102 -> 0
B79: ENERGIA ELECTRICA | C79: 62500 | D79: 138609.61 | E79: 62500
B80: TELEFONIA | C80: 7500 | D80: 9818.25 | E80: 7500 | F80: 9560.36
B81: IMPRESIÓN, ENCUADERNACION Y REPRODUCCION | C81: 8133.97 | E81: 8133.97 | F81: 39787
B82: MANT. Y REP. EQUIPO MEDICO SANITARIO Y DE LAB. | C82: 33333.33 | D82: 19161.8 | E82: 33333.33
B83: SERVICIOS MEDICO-SANITARIOS | C83: 165141.75 | D83: 4057.14 | E83: 165141.75 | F83: 184282.78
B84: SERVICIOS DE VIGILANCIA | C84: 40000 | D84: 38120 | E84: 40000 | F84: 38120
B85: OTROS SERVICIOS NO PERSONALES | C85: 26305.03 | D85: 48548.64 | E85: 26305.03 | F85: 44604
B86: SUMA GASTOS GENERALES | C86: =SUM(C79:C85) -> 342914.08 | D86: =SUM(D79:D85) -> 258315.44 | E86: =SUM(E79:E85) -> 342914.08 | F86: =SUM(F79:F85) -> 316354.14 | G86: =SUM(G79:G85) -> 0 | H86: =SUM(H79:H85) -> 0 | I86: =SUM(I79:I85) -> 0 | J86: =SUM(J79:J85) -> 0
B87: MATERIALES Y SUMINISTROS
B88: ALIMENTOS PARA PERSONAS | C88: 60936.45 | D88: 1023 | E88: 60936.45 | F88: 58023.7
B89: ACABADOS TEXTILES | C89: 600 | E89: 600
B90: PRODUCTOS DE PAPEL O CARTON | C90: 945.42 | E90: 945.42
B91: ELEMENTOS Y COMPUESTOS QUIMICOS | C91: 169652.57 | D91: 181188.84 | E91: 169652.57 | F91: 66957.58
B92: COMBUSTIBLES Y LUBRICANTES | C92: 912 | E92: 912
B93: PRODUCTOS MEDICINALES Y FARMACEUTICOS | C93: 427229.65 | D93: 535053.33 | E93: 427229.65 | F93: 261536.69
B94: TINTES, PINTURAS Y COLORANTES | C94: 100 | E94: 100
B95: PRODUCTOS PLASTICOS, NYLON, VINIL Y PVC | C95: 13579.7 | D95: 6224.76 | E95: 13579.7 | F95: 6630
B96: OTROS PRODUCTOS METALICOS | C96: 310 | D96: 3610 | E96: 310
B97: UTILES DE LIMPIEZA Y PRODUCTOS SANITARIOS | C97: 10809.43 | D97: 39404.76 | E97: 10809.43 | F97: 23463
B98: UTILES MENORES MEDICO QUIRURGICOS Y DE LAB. | C98: 1780006.3 | D98: 2752150.2 | E98: 1780006.3 | F98: 1617110.1
B99: UTILES, ACCESORIOS Y MATERIALES ELECTRICOS | C99: 2208.7 | E99: 2208.7 | F99: 11097
B100: ACCESORIOS Y REPUESTOS EN GENERAL | C100: 8105.1 | D100: 43640 | E100: 8105.1
B101: OTROS MATERIALES Y SUMINISTROS | C101: 165.5 | E101: 165.5
B102: TOTAL MATERIALES Y SUMINISTROS | C102: =SUM(C88:C101) -> 2475560.8 | D102: =SUM(D88:D101) -> 3562294.9 | E102: =SUM(E88:E101) -> 2475560.8 | F102: =SUM(F88:F101) -> 2044818 | G102: =SUM(G88:G101) -> 0 | H102: =SUM(H88:H101) -> 0 | I102: =SUM(I88:I101) -> 0 | J102: =SUM(J88:J101) -> 0
A123: Programación mensual por tipo de gasto año 2017, Expresado en Quetzales tercer cuatrimestre 2018
A124: No. | B124: CATEGORIA DE GASTO | C124: SEPTIEMBRE | E124: OCTUBRE | G124: NOVIEMBRE | I124: DICIEMBRE
C125: PRESUPUESTO | D125: REAL | E125: PRESUPUESTO | F125: REAL | G125: PRESUPUESTO | H125: REAL | I125: PRESUPUESTO | J125: REAL
B126: RECURSO HUMANO
B128: GASTOS DE FUNCIONAMIENTO | C128: =+C136+C152 -> 0 | D128: =+D136+D152 -> 0 | E128: =+E136+E152 -> 0 | F128: =+F136+F152 -> 0 | G128: =+G136+G152 -> 0 | H128: =+H136+H152 -> 0 | I128: =+I136+I152 -> 0 | J128: =+J136+J152 -> 0
B129: ENERGIA ELECTRICA
B130: TELEFONIA
B131: IMPRESIÓN, ENCUADERNACION Y REPRODUCCION
B132: MANT. Y REP. EQUIPO MEDICO SANITARIO Y DE LAB.
B133: SERVICIOS MEDICO-SANITARIOS
B134: SERVICIOS DE VIGILANCIA
B135: OTROS SERVICIOS NO PERSONALES
B136: SUMA GASTOS GENERALES | C136: =SUM(C129:C135) -> 0 | D136: =SUM(D129:D135) -> 0 | E136: =SUM(E129:E135) -> 0 | F136: =SUM(F129:F135) -> 0 | G136: =SUM(G129:G135) -> 0 | H136: =SUM(H129:H135) -> 0 | I136: =SUM(I129:I135) -> 0 | J136: =SUM(J129:J135) -> 0
B137: MATERIALES Y SUMINISTROS
B138: ALIMENTOS PARA PERSONAS
B139: AVABADOS TEXTILES
B140: PRODUCTOS DE PAPEL O CARTON
B141: ELEMENTOS Y COMPUESTOS QUIMICOS
B142: COMBUSTIBLES Y LUBRICANTES
B143: PRODUCTOS MEDICINALES Y FARMACEUTICOS
B144: TINTES, PINTURAS Y COLORANTES
B145: PRODUCTOS PLASTICOS, NYLON, VINIL Y PVC
B146: OTROS PRODUCTOS METALICOS
B147: UTILES DE LIMPIEZA Y PRODUCTOS SANITARIOS
B148: UTILES MENORES MEDICO QUIRURGICOS Y DE LAB.
... B151: OTROS MATERIALES Y SUMINISTROS
B152: TOTAL MATERIALES Y SUMINISTROS | C152: =SUM(C138:C151) -> 0 | D152: =SUM(D138:D151) -> 0 | E152: =SUM(E138:E151) -> 0 | F152: =SUM(F138:F151) -> 0 | G152: =SUM(G138:G151) -> 0 | H152: =SUM(H138:H151) -> 0 | I152: =SUM(I138:I151) -> 0 | J152: =SUM(J138:J151) -> 0
C177: PROGRAMACION POR TIPO DE GASTO AÑO 2022
C178: RESUMEN AL 31 DE ENERO 2022
C179: No. | D179: CATEGORIA DE GASTO | E179: TOTAL ANUAL
E180: PRESUPUESTO | F180: COMPROMETIDO
D181: RECURSO HUMANO | E181: =+'ENERO CTE-5'!C168 -> 2414811.3 | F181: =+'ENERO CTE-5'!D168 -> 2367268.7
...

Sheet FEBRERO ANEXO A CTE-5
B8: ÀREA FINANCIERA | I8: ANEXO DE CTE-5
A10: UNIDAD DE CIRUGIA CARDIOVASCULAR DE GUATEMALA
A11: 5a. AVENIDA 6-22 ZONA 11
A12: dgunicar@yahoo.es Tel. 24163000
A14: Programación mensual por tipo de gasto año 2018, Expresado en Quetzales primer cuatrimestre 2018
A15: No. | B15: CATEGORIA DE GASTO | C15: ENERO | E15: FEBRERO | G15: MARZO | I15: ABRIL
C16: PRESUPUESTO | D16: REAL | E16: PRESUPUESTO | F16: REAL | G16: PRESUPUESTO | H16: REAL | I16: PRESUPUESTO | J16: REAL
B17: RECURSO HUMANO | C17: 1764858.4 | D17: 1492317.4 | E17: 1764858.4 | F17: 1792563.6 | G17: 1764858.4 | H17: 1578007.9 | I17: 1764858.4 | J17: 1803793.6
B19: GASTOS DE FUNCIONAMIENTO | C19: =+C27+C43 -> 2818474.9 | D19: =+D27+D43 -> 0 | E19: =+E27+E43 -> 2818474.9 | F19: =+F27+F43 -> 67111.02 | G19: =+G27+G43 -> 2818474.9 | H19: =+H27+H43 -> 58543.64 | I19: =+I27+I43 -> 2818474.9 | J19: =+J27+J43 -> 3743927.3
B20: ENERGIA ELECTRICA | C20: 62500 | E20: 62500 | F20: 56112.02 | G20: 62500 | I20: 62500 | J20: 68083.01
B21: TELEFONIA | C21: 7500 | E21: 7500 | F21: 10999 | G21: 7500 | H21: 11011 | I21: 7500 | J21: 10992
B22: IMPRESIÓN, ENCUADERNACION Y REPRODUCCION | C22: 8133.97 | E22: 8133.97 | G22: 8133.97 | I22: 8133.97 | J22: 4358
B23: MANT. Y REP. EQUIPO MEDICO SANITARIO Y DE LAB. | C23: 33333.33 | E23: 33333.33 | G23: 33333.33 | I23: 33333.33 | J23: 45020
B24: SERVICIOS MEDICO-SANITARIOS | C24: 165141.75 | E24: 165141.75 | G24: 165141.75 | H24: 1000 | I24: 165141.75 | J24: 26842.86
B25: SERVICIOS DE VIGILANCIA | C25: 40000 | E25: 40000 | G25: 40000 | I25: 40000 | J25: 76240
B26: OTROS SERVICIOS NO PERSONALES | C26: 26305.03 | E26: 26305.03 | G26: 26305.03 | H26: 46532.64 | I26: 26305.03 | J26: 55063.68
B27: SUMA GASTOS GENERALES | C27: =SUM(C20:C26) -> 342914.08 | D27: =SUM(D20:D26) -> 0 | E27: =SUM(E20:E26) -> 342914.08 | F27: =SUM(F20:F26) -> 67111.02 | G27: =SUM(G20:G26) -> 342914.08 | H27: =SUM(H20:H26) -> 58543.64 | I27: =SUM(I20:I26) -> 342914.08 | J27: =SUM(J20:J26) -> 286599.55
B28: MATERIALES Y SUMINISTROS
B29: ALIMENTOS PARA PERSONAS | C29: 60936.45 | E29: 60936.45 | G29: 60936.45 | I29: 60936.45 | J29: 202940.25
B30: ACABADOS TEXTILES | C30: 600 | E30: 600 | G30: 600 | I30: 600
B31: PRODUCTOS DE PAPEL O CARTON | C31: 945.42 | E31: 945.42 | G31: 945.42 | I31: 945.42
B32: ELEMENTOS Y COMPUESTOS QUIMICOS | C32: 169652.57 | E32: 169652.57 | G32: 169652.57 | I32: 169652.57 | J32: 178282.05
B33: COMBUSTIBLES Y LUBRICANTES | C33: 912 | E33: 912 | G33: 912 | I33: 912
B34: PRODUCTOS MEDICINALES Y FARMACEUTICOS | C34: 427229.65 | E34: 427229.65 | G34: 427229.65 | I34: 427229.65 | J34: 1425199.8
B35: TINTES, PINTURAS Y COLORANTES | C35: 100 | E35: 100 | G35: 100 | I35: 100
B36: PRODUCTOS PLASTICOS, NYLON, VINIL Y PVC | C36: 13579.7 | E36: 13579.7 | G36: 13579.7 | I36: 13579.7 | J36: 75162.24
B37: OTROS PRODUCTOS METALICOS | C37: 310 | E37: 310 | G37: 310 | I37: 310
B38: UTILES DE LIMPIEZA Y PRODUCTOS SANITARIOS | C38: 10809.43 | E38: 10809.43 | G38: 10809.43 | I38: 10809.43 | J38: 14528.6
B39: UTILES MENORES MEDICO QUIRURGICOS Y DE LAB. | C39: 1780006.3 | E39: 1780006.3 | G39: 1780006.3 | I39: 1780006.3 | J39: 1545914.8
B40: UTILES, ACCESORIOS Y MATERIALES ELECTRICOS | C40: 2208.7 | E40: 2208.7 | G40: 2208.7 | I40: 2208.7 | J40: 15300
B41: ACCESORIOS Y REPUESTOS EN GENERAL | C41: 8105.1 | E41: 8105.1 | G41: 8105.1 | I41: 8105.1
B42: OTROS MATERIALES Y SUMINISTROS | C42: 165.5 | E42: 165.5 | G42: 165.5 | I42: 165.5
B43: TOTAL MATERIALES Y SUMINISTROS | C43: =SUM(C29:C42) -> 2475560.8 | D43: =SUM(D29:D42) -> 0 | E43: =SUM(E29:E42) -> 2475560.8 | F43: =SUM(F29:F42) -> 0 | G43: =SUM(G29:G42) -> 2475560.8 | H43: =SUM(H29:H42) -> 0 | I43: =SUM(I29:I42) -> 2475560.8 | J43: =SUM(J29:J42) -> 3457327.8
A46: Programación mensual por tipo de gasto año 2016, Expresado en Quetzales
A47: No. | B47: Categoría de Gasto | C47: Julio | E47: Agosto | G47: Septiembre
B48: Recurso Humano | C48: Pto. | D48: Real | E48: Pto. | F48: Real | G48: Pto. | H48: Real
B51: Gastos de Funcionamiento
B52: detallar cada gasto cargado
A60: TOTALES
A73: Programación mensual por tipo de gasto año 2018, Expresado en Quetzales segundo cuatrimestre 2018
A74: No. | B74: CATEGORIA DE GASTO | C74: MAYO | E74: JUNIO | G74: JULIO | I74: AGOSTO
C75: PRESUPUESTO | D75: REAL | E75: PRESUPUESTO | F75: REAL | G75: PRESUPUESTO | H75: REAL | I75: PRESUPUESTO | J75: REAL
B76: RECURSO HUMANO | C76: 1764858.4 | D76: 2281196.2 | E76: 1764858.4 | F76: 1896496.9
B78: GASTOS DE FUNCIONAMIENTO | C78: =+C86+C102 -> 2818474.9 | D78: =+D86+D102 -> 3820610.3 | E78: =+E86+E102 -> 2818474.9 | F78: =+F86+F102 -> 2361172.2 | G78: =+G86+G102 -> 0 | H78: =+H86+H102 -> 0 | I78: =+I86+I102 -> 0 | J78: =+J86+J102 -> 0
B79: ENERGIA ELECTRICA | C79: 62500 | D79: 138609.61 | E79: 62500
B80: TELEFONIA | C80: 7500 | D80: 9818.25 | E80: 7500 | F80: 9560.36
B81: IMPRESIÓN, ENCUADERNACION Y REPRODUCCION | C81: 8133.97 | E81: 8133.97 | F81: 39787
B82: MANT. Y REP. EQUIPO MEDICO SANITARIO Y DE LAB. | C82: 33333.33 | D82: 19161.8 | E82: 33333.33
B83: SERVICIOS MEDICO-SANITARIOS | C83: 165141.75 | D83: 4057.14 | E83: 165141.75 | F83: 184282.78
B84: SERVICIOS DE VIGILANCIA | C84: 40000 | D84: 38120 | E84: 40000 | F84: 38120
B85: OTROS SERVICIOS NO PERSONALES | C85: 26305.03 | D85: 48548.64 | E85: 26305.03 | F85: 44604
B86: SUMA GASTOS GENERALES | C86: =SUM(C79:C85) -> 342914.08 | D86: =SUM(D79:D85) -> 258315.44 | E86: =SUM(E79:E85) -> 342914.08 | F86: =SUM(F79:F85) -> 316354.14 | G86: =SUM(G79:G85) -> 0 | H86: =SUM(H79:H85) -> 0 | I86: =SUM(I79:I85) -> 0 | J86: =SUM(J79:J85) -> 0
B87: MATERIALES Y SUMINISTROS
B88: ALIMENTOS PARA PERSONAS | C88: 60936.45 | D88: 1023 | E88: 60936.45 | F88: 58023.7
B89: ACABADOS TEXTILES | C89: 600 | E89: 600
B90: PRODUCTOS DE PAPEL O CARTON | C90: 945.42 | E90: 945.42
B91: ELEMENTOS Y COMPUESTOS QUIMICOS | C91: 169652.57 | D91: 181188.84 | E91: 169652.57 | F91: 66957.58
B92: COMBUSTIBLES Y LUBRICANTES | C92: 912 | E92: 912
B93: PRODUCTOS MEDICINALES Y FARMACEUTICOS | C93: 427229.65 | D93: 535053.33 | E93: 427229.65 | F93: 261536.69
B94: TINTES, PINTURAS Y COLORANTES | C94: 100 | E94: 100
B95: PRODUCTOS PLASTICOS, NYLON, VINIL Y PVC | C95: 13579.7 | D95: 6224.76 | E95: 13579.7 | F95: 6630
B96: OTROS PRODUCTOS METALICOS | C96: 310 | D96: 3610 | E96: 310
B97: UTILES DE LIMPIEZA Y PRODUCTOS SANITARIOS | C97: 10809.43 | D97: 39404.76 | E97: 10809.43 | F97: 23463
B98: UTILES MENORES MEDICO QUIRURGICOS Y DE LAB. | C98: 1780006.3 | D98: 2752150.2 | E98: 1780006.3 | F98: 1617110.1
B99: UTILES, ACCESORIOS Y MATERIALES ELECTRICOS | C99: 2208.7 | E99: 2208.7 | F99: 11097
B100: ACCESORIOS Y REPUESTOS EN GENERAL | C100: 8105.1 | D100: 43640 | E100: 8105.1
B101: OTROS MATERIALES Y SUMINISTROS | C101: 165.5 | E101: 165.5
B102: TOTAL MATERIALES Y SUMINISTROS | C102: =SUM(C88:C101) -> 2475560.8 | D102: =SUM(D88:D101) -> 3562294.9 | E102: =SUM(E88:E101) -> 2475560.8 | F102: =SUM(F88:F101) -> 2044818 | G102: =SUM(G88:G101) -> 0 | H102: =SUM(H88:H101) -> 0 | I102: =SUM(I88:I101) -> 0 | J102: =SUM(J88:J101) -> 0
A123: Programación mensual por tipo de gasto año 2017, Expresado en Quetzales tercer cuatrimestre 2018
A124: No. | B124: CATEGORIA DE GASTO | C124: SEPTIEMBRE | E124: OCTUBRE | G124: NOVIEMBRE | I124: DICIEMBRE
C125: PRESUPUESTO | D125: REAL | E125: PRESUPUESTO | F125: REAL | G125: PRESUPUESTO | H125: REAL | I125: PRESUPUESTO | J125: REAL
B126: RECURSO HUMANO
B128: GASTOS DE FUNCIONAMIENTO | C128: =+C136+C152 -> 0 | D128: =+D136+D152 -> 0 | E128: =+E136+E152 -> 0 | F128: =+F136+F152 -> 0 | G128: =+G136+G152 -> 0 | H128: =+H136+H152 -> 0 | I128: =+I136+I152 -> 0 | J128: =+J136+J152 -> 0
B129: ENERGIA ELECTRICA
B130: TELEFONIA
B131: IMPRESIÓN, ENCUADERNACION Y REPRODUCCION
B132: MANT. Y REP. EQUIPO MEDICO SANITARIO Y DE LAB.
B133: SERVICIOS MEDICO-SANITARIOS
B134: SERVICIOS DE VIGILANCIA
B135: OTROS SERVICIOS NO PERSONALES
B136: SUMA GASTOS GENERALES | C136: =SUM(C129:C135) -> 0 | D136: =SUM(D129:D135) -> 0 | E136: =SUM(E129:E135) -> 0 | F136: =SUM(F129:F135) -> 0 | G136: =SUM(G129:G135) -> 0 | H136: =SUM(H129:H135) -> 0 | I136: =SUM(I129:I135) -> 0 | J136: =SUM(J129:J135) -> 0
B137: MATERIALES Y SUMINISTROS
B138: ALIMENTOS PARA PERSONAS
B139: AVABADOS TEXTILES
B140: PRODUCTOS DE PAPEL O CARTON
B141: ELEMENTOS Y COMPUESTOS QUIMICOS
B142: COMBUSTIBLES Y LUBRICANTES
B143: PRODUCTOS MEDICINALES Y FARMACEUTICOS
B144: TINTES, PINTURAS Y COLORANTES
B145: PRODUCTOS PLASTICOS, NYLON, VINIL Y PVC
B146: OTROS PRODUCTOS METALICOS
B147: UTILES DE LIMPIEZA Y PRODUCTOS SANITARIOS
B148: UTILES MENORES MEDICO QUIRURGICOS Y DE LAB.
... B151: OTROS MATERIALES Y SUMINISTROS
B152: TOTAL MATERIALES Y SUMINISTROS | C152: =SUM(C138:C151) -> 0 | D152: =SUM(D138:D151) -> 0 | E152: =SUM(E138:E151) -> 0 | F152: =SUM(F138:F151) -> 0 | G152: =SUM(G138:G151) -> 0 | H152: =SUM(H138:H151) -> 0 | I152: =SUM(I138:I151) -> 0 | J152: =SUM(J138:J151) -> 0
C177: PROGRAMACION POR TIPO DE GASTO AÑO 2022
C178: RESUMEN AL 28 DE FEBRERO 2022
C179: No. | D179: CATEGORIA DE GASTO | E179: TOTAL ANUAL
E180: PRESUPUESTO | F180: COMPROMETIDO
D181: RECURSO HUMANO | E181: =+'FEBRERO CTE-5'!C168 -> 4829622.7 | F181: =+'FEBRERO CTE-5'!D168 -> 4763952.6
...

Sheet MARZO ANEXO A CTE-5
B8: ÀREA FINANCIERA | I8: ANEXO DE CTE-5
A10: UNIDAD DE CIRUGIA CARDIOVASCULAR DE GUATEMALA
A11: 5a. AVENIDA 6-22 ZONA 11
A12: dgunicar@yahoo.es Tel. 24163000
A14: Programación mensual por tipo de gasto año 2018, Expresado en Quetzales primer cuatrimestre 2018
A15: No. | B15: CATEGORIA DE GASTO | C15: ENERO | E15: FEBRERO | G15: MARZO | I15: ABRIL
C16: PRESUPUESTO | D16: REAL | E16: PRESUPUESTO | F16: REAL | G16: PRESUPUESTO | H16: REAL | I16: PRESUPUESTO | J16: REAL
B17: RECURSO HUMANO | C17: 1764858.4 | D17: 1492317.4 | E17: 1764858.4 | F17: 1792563.6 | G17: 1764858.4 | H17: 1578007.9 | I17: 1764858.4 | J17: 1803793.6
B19: GASTOS DE FUNCIONAMIENTO | C19: =+C27+C43 -> 2818474.9 | D19: =+D27+D43 -> 0 | E19: =+E27+E43 -> 2818474.9 | F19: =+F27+F43 -> 67111.02 | G19: =+G27+G43 -> 2818474.9 | H19: =+H27+H43 -> 58543.64 | I19: =+I27+I43 -> 2818474.9 | J19: =+J27+J43 -> 3743927.3
B20: ENERGIA ELECTRICA | C20: 62500 | E20: 62500 | F20: 56112.02 | G20: 62500 | I20: 62500 | J20: 68083.01
B21: TELEFONIA | C21: 7500 | E21: 7500 | F21: 10999 | G21: 7500 | H21: 11011 | I21: 7500 | J21: 10992
B22: IMPRESIÓN, ENCUADERNACION Y REPRODUCCION | C22: 8133.97 | E22: 8133.97 | G22: 8133.97 | I22: 8133.97 | J22: 4358
B23: MANT. Y REP. EQUIPO MEDICO SANITARIO Y DE LAB. | C23: 33333.33 | E23: 33333.33 | G23: 33333.33 | I23: 33333.33 | J23: 45020
B24: SERVICIOS MEDICO-SANITARIOS | C24: 165141.75 | E24: 165141.75 | G24: 165141.75 | H24: 1000 | I24: 165141.75 | J24: 26842.86
B25: SERVICIOS DE VIGILANCIA | C25: 40000 | E25: 40000 | G25: 40000 | I25: 40000 | J25: 76240
B26: OTROS SERVICIOS NO PERSONALES | C26: 26305.03 | E26: 26305.03 | G26: 26305.03 | H26: 46532.64 | I26: 26305.03 | J26: 55063.68
B27: SUMA GASTOS GENERALES | C27: =SUM(C20:C26) -> 342914.08 | D27: =SUM(D20:D26) -> 0 | E27: =SUM(E20:E26) -> 342914.08 | F27: =SUM(F20:F26) -> 67111.02 | G27: =SUM(G20:G26) -> 342914.08 | H27: =SUM(H20:H26) -> 58543.64 | I27: =SUM(I20:I26) -> 342914.08 | J27: =SUM(J20:J26) -> 286599.55
B28: MATERIALES Y SUMINISTROS
B29: ALIMENTOS PARA PERSONAS | C29: 60936.45 | E29: 60936.45 | G29: 60936.45 | I29: 60936.45 | J29: 202940.25
B30: ACABADOS TEXTILES | C30: 600 | E30: 600 | G30: 600 | I30: 600
B31: PRODUCTOS DE PAPEL O CARTON | C31: 945.42 | E31: 945.42 | G31: 945.42 | I31: 945.42
B32: ELEMENTOS Y COMPUESTOS QUIMICOS | C32: 169652.57 | E32: 169652.57 | G32: 169652.57 | I32: 169652.57 | J32: 178282.05
B33: COMBUSTIBLES Y LUBRICANTES | C33: 912 | E33: 912 | G33: 912 | I33: 912
B34: PRODUCTOS MEDICINALES Y FARMACEUTICOS | C34: 427229.65 | E34: 427229.65 | G34: 427229.65 | I34: 427229.65 | J34: 1425199.8
B35: TINTES, PINTURAS Y COLORANTES | C35: 100 | E35: 100 | G35: 100 | I35: 100
B36: PRODUCTOS PLASTICOS, NYLON, VINIL Y PVC | C36: 13579.7 | E36: 13579.7 | G36: 13579.7 | I36: 13579.7 | J36: 75162.24
B37: OTROS PRODUCTOS METALICOS | C37: 310 | E37: 310 | G37: 310 | I37: 310
B38: UTILES DE LIMPIEZA Y PRODUCTOS SANITARIOS | C38: 10809.43 | E38: 10809.43 | G38: 10809.43 | I38: 10809.43 | J38: 14528.6
B39: UTILES MENORES MEDICO QUIRURGICOS Y DE LAB. | C39: 1780006.3 | E39: 1780006.3 | G39: 1780006.3 | I39: 1780006.3 | J39: 1545914.8
B40: UTILES, ACCESORIOS Y MATERIALES ELECTRICOS | C40: 2208.7 | E40: 2208.7 | G40: 2208.7 | I40: 2208.7 | J40: 15300
B41: ACCESORIOS Y REPUESTOS EN GENERAL | C41: 8105.1 | E41: 8105.1 | G41: 8105.1 | I41: 8105.1
B42: OTROS MATERIALES Y SUMINISTROS | C42: 165.5 | E42: 165.5 | G42: 165.5 | I42: 165.5
B43: TOTAL MATERIALES Y SUMINISTROS | C43: =SUM(C29:C42) -> 2475560.8 | D43: =SUM(D29:D42) -> 0 | E43: =SUM(E29:E42) -> 2475560.8 | F43: =SUM(F29:F42) -> 0 | G43: =SUM(G29:G42) -> 2475560.8 | H43: =SUM(H29:H42) -> 0 | I43: =SUM(I29:I42) -> 2475560.8 | J43: =SUM(J29:J42) -> 3457327.8
A46: Programación mensual por tipo de gasto año 2016, Expresado en Quetzales
A47: No. | B47: Categoría de Gasto | C47: Julio | E47: Agosto | G47: Septiembre
B48: Recurso Humano | C48: Pto. | D48: Real | E48: Pto. | F48: Real | G48: Pto. | H48: Real
B51: Gastos de Funcionamiento
B52: detallar cada gasto cargado
A60: TOTALES
A73: Programación mensual por tipo de gasto año 2018, Expresado en Quetzales segundo cuatrimestre 2018
A74: No. | B74: CATEGORIA DE GASTO | C74: MAYO | E74: JUNIO | G74: JULIO | I74: AGOSTO
C75: PRESUPUESTO | D75: REAL | E75: PRESUPUESTO | F75: REAL | G75: PRESUPUESTO | H75: REAL | I75: PRESUPUESTO | J75: REAL
B76: RECURSO HUMANO | C76: 1764858.4 | D76: 2281196.2 | E76: 1764858.4 | F76: 1896496.9
B78: GASTOS DE FUNCIONAMIENTO | C78: =+C86+C102 -> 2818474.9 | D78: =+D86+D102 -> 3820610.3 | E78: =+E86+E102 -> 2818474.9 | F78: =+F86+F102 -> 2361172.2 | G78: =+G86+G102 -> 0 | H78: =+H86+H102 -> 0 | I78: =+I86+I102 -> 0 | J78: =+J86+J102 -> 0
B79: ENERGIA ELECTRICA | C79: 62500 | D79: 138609.61 | E79: 62500
B80: TELEFONIA | C80: 7500 | D80: 9818.25 | E80: 7500 | F80: 9560.36
B81: IMPRESIÓN, ENCUADERNACION Y REPRODUCCION | C81: 8133.97 | E81: 8133.97 | F81: 39787
B82: MANT. Y REP. EQUIPO MEDICO SANITARIO Y DE LAB. | C82: 33333.33 | D82: 19161.8 | E82: 33333.33
B83: SERVICIOS MEDICO-SANITARIOS | C83: 165141.75 | D83: 4057.14 | E83: 165141.75 | F83: 184282.78
B84: SERVICIOS DE VIGILANCIA | C84: 40000 | D84: 38120 | E84: 40000 | F84: 38120
B85: OTROS SERVICIOS NO PERSONALES | C85: 26305.03 | D85: 48548.64 | E85: 26305.03 | F85: 44604
B86: SUMA GASTOS GENERALES | C86: =SUM(C79:C85) -> 342914.08 | D86: =SUM(D79:D85) -> 258315.44 | E86: =SUM(E79:E85) -> 342914.08 | F86: =SUM(F79:F85) -> 316354.14 | G86: =SUM(G79:G85) -> 0 | H86: =SUM(H79:H85) -> 0 | I86: =SUM(I79:I85) -> 0 | J86: =SUM(J79:J85) -> 0
B87: MATERIALES Y SUMINISTROS
B88: ALIMENTOS PARA PERSONAS | C88: 60936.45 | D88: 1023 | E88: 60936.45 | F88: 58023.7
B89: ACABADOS TEXTILES | C89: 600 | E89: 600
B90: PRODUCTOS DE PAPEL O CARTON | C90: 945.42 | E90: 945.42
B91: ELEMENTOS Y COMPUESTOS QUIMICOS | C91: 169652.57 | D91: 181188.84 | E91: 169652.57 | F91: 66957.58
B92: COMBUSTIBLES Y LUBRICANTES | C92: 912 | E92: 912
B93: PRODUCTOS MEDICINALES Y FARMACEUTICOS | C93: 427229.65 | D93: 535053.33 | E93: 427229.65 | F93: 261536.69
B94: TINTES, PINTURAS Y COLORANTES | C94: 100 | E94: 100
B95: PRODUCTOS PLASTICOS, NYLON, VINIL Y PVC | C95: 13579.7 | D95: 6224.76 | E95: 13579.7 | F95: 6630
B96: OTROS PRODUCTOS METALICOS | C96: 310 | D96: 3610 | E96: 310
B97: UTILES DE LIMPIEZA Y PRODUCTOS SANITARIOS | C97: 10809.43 | D97: 39404.76 | E97: 10809.43 | F97: 23463
B98: UTILES MENORES MEDICO QUIRURGICOS Y DE LAB. | C98: 1780006.3 | D98: 2752150.2 | E98: 1780006.3 | F98: 1617110.1
B99: UTILES, ACCESORIOS Y MATERIALES ELECTRICOS | C99: 2208.7 | E99: 2208.7 | F99: 11097
B100: ACCESORIOS Y REPUESTOS EN GENERAL | C100: 8105.1 | D100: 43640 | E100: 8105.1
B101: OTROS MATERIALES Y SUMINISTROS | C101: 165.5 | E101: 165.5
B102: TOTAL MATERIALES Y SUMINISTROS | C102: =SUM(C88:C101) -> 2475560.8 | D102: =SUM(D88:D101) -> 3562294.9 | E102: =SUM(E88:E101) -> 2475560.8 | F102: =SUM(F88:F101) -> 2044818 | G102: =SUM(G88:G101) -> 0 | H102: =SUM(H88:H101) -> 0 | I102: =SUM(I88:I101) -> 0 | J102: =SUM(J88:J101) -> 0
A123: Programación mensual por tipo de gasto año 2017, Expresado en Quetzales tercer cuatrimestre 2018
A124: No. | B124: CATEGORIA DE GASTO | C124: SEPTIEMBRE | E124: OCTUBRE | G124: NOVIEMBRE | I124: DICIEMBRE
C125: PRESUPUESTO | D125: REAL | E125: PRESUPUESTO | F125: REAL | G125: PRESUPUESTO | H125: REAL | I125: PRESUPUESTO | J125: REAL
B126: RECURSO HUMANO
B128: GASTOS DE FUNCIONAMIENTO | C128: =+C136+C152 -> 0 | D128: =+D136+D152 -> 0 | E128: =+E136+E152 -> 0 | F128: =+F136+F152 -> 0 | G128: =+G136+G152 -> 0 | H128: =+H136+H152 -> 0 | I128: =+I136+I152 -> 0 | J128: =+J136+J152 -> 0
B129: ENERGIA ELECTRICA
B130: TELEFONIA
B131: IMPRESIÓN, ENCUADERNACION Y REPRODUCCION
B132: MANT. Y REP. EQUIPO MEDICO SANITARIO Y DE LAB.
B133: SERVICIOS MEDICO-SANITARIOS
B134: SERVICIOS DE VIGILANCIA
B135: OTROS SERVICIOS NO PERSONALES
B136: SUMA GASTOS GENERALES | C136: =SUM(C129:C135) -> 0 | D136: =SUM(D129:D135) -> 0 | E136: =SUM(E129:E135) -> 0 | F136: =SUM(F129:F135) -> 0 | G136: =SUM(G129:G135) -> 0 | H136: =SUM(H129:H135) -> 0 | I136: =SUM(I129:I135) -> 0 | J136: =SUM(J129:J135) -> 0
B137: MATERIALES Y SUMINISTROS
B138: ALIMENTOS PARA PERSONAS
B139: AVABADOS TEXTILES
B140: PRODUCTOS DE PAPEL O CARTON
B141: ELEMENTOS Y COMPUESTOS QUIMICOS
B142: COMBUSTIBLES Y LUBRICANTES
B143: PRODUCTOS MEDICINALES Y FARMACEUTICOS
B144: TINTES, PINTURAS Y COLORANTES
B145: PRODUCTOS PLASTICOS, NYLON, VINIL Y PVC
B146: OTROS PRODUCTOS METALICOS
B147: UTILES DE LIMPIEZA Y PRODUCTOS SANITARIOS
B148: UTILES MENORES MEDICO QUIRURGICOS Y DE LAB.
... B151: OTROS MATERIALES Y SUMINISTROS
B152: TOTAL MATERIALES Y SUMINISTROS | C152: =SUM(C138:C151) -> 0 | D152: =SUM(D138:D151) -> 0 | E152: =SUM(E138:E151) -> 0 | F152: =SUM(F138:F151) -> 0 | G152: =SUM(G138:G151) -> 0 | H152: =SUM(H138:H151) -> 0 | I152: =SUM(I138:I151) -> 0 | J152: =SUM(J138:J151) -> 0
C177: PROGRAMACION POR TIPO DE GASTO AÑO 2022
C178: RESUMEN AL 31 DE MARZO 2022
C179: No. | D179: CATEGORIA DE GASTO | E179: TOTAL ANUAL
E180: PRESUPUESTO | F180: COMPROMETIDO
D181: RECURSO HUMANO | E181: =+'MARZO CTE-5'!C168 -> 7244434 | F181: =+'MARZO CTE-5'!D168 -> 7174536.1
...

Sheet ABRIL ANEXO A CTE-5
B8: ÀREA FINANCIERA | I8: ANEXO DE CTE-5
A10: UNIDAD DE CIRUGIA CARDIOVASCULAR DE GUATEMALA
A11: 5a. AVENIDA 6-22 ZONA 11
A12: dgunicar@yahoo.es Tel. 24163000
A14: Programación mensual por tipo de gasto año 2018, Expresado en Quetzales primer cuatrimestre 2018
A15: No. | B15: CATEGORIA DE GASTO | C15: ENERO | E15: FEBRERO | G15: MARZO | I15: ABRIL
C16: PRESUPUESTO | D16: REAL | E16: PRESUPUESTO | F16: REAL | G16: PRESUPUESTO | H16: REAL | I16: PRESUPUESTO | J16: REAL
B17: RECURSO HUMANO | C17: 1764858.4 | D17: 1492317.4 | E17: 1764858.4 | F17: 1792563.6 | G17: 1764858.4 | H17: 1578007.9 | I17: 1764858.4 | J17: 1803793.6
B19: GASTOS DE FUNCIONAMIENTO | C19: =+C27+C43 -> 2818474.9 | D19: =+D27+D43 -> 0 | E19: =+E27+E43 -> 2818474.9 | F19: =+F27+F43 -> 67111.02 | G19: =+G27+G43 -> 2818474.9 | H19: =+H27+H43 -> 58543.64 | I19: =+I27+I43 -> 2818474.9 | J19: =+J27+J43 -> 3743927.3
B20: ENERGIA ELECTRICA | C20: 62500 | E20: 62500 | F20: 56112.02 | G20: 62500 | I20: 62500 | J20: 68083.01
B21: TELEFONIA | C21: 7500 | E21: 7500 | F21: 10999 | G21: 7500 | H21: 11011 | I21: 7500 | J21: 10992
B22: IMPRESIÓN, ENCUADERNACION Y REPRODUCCION | C22: 8133.97 | E22: 8133.97 | G22: 8133.97 | I22: 8133.97 | J22: 4358
B23: MANT. Y REP. EQUIPO MEDICO SANITARIO Y DE LAB. | C23: 33333.33 | E23: 33333.33 | G23: 33333.33 | I23: 33333.33 | J23: 45020
B24: SERVICIOS MEDICO-SANITARIOS | C24: 165141.75 | E24: 165141.75 | G24: 165141.75 | H24: 1000 | I24: 165141.75 | J24: 26842.86
B25: SERVICIOS DE VIGILANCIA | C25: 40000 | E25: 40000 | G25: 40000 | I25: 40000 | J25: 76240
B26: OTROS SERVICIOS NO PERSONALES | C26: 26305.03 | E26: 26305.03 | G26: 26305.03 | H26: 46532.64 | I26: 26305.03 | J26: 55063.68
B27: SUMA GASTOS GENERALES | C27: =SUM(C20:C26) -> 342914.08 | D27: =SUM(D20:D26) -> 0 | E27: =SUM(E20:E26) -> 342914.08 | F27: =SUM(F20:F26) -> 67111.02 | G27: =SUM(G20:G26) -> 342914.08 | H27: =SUM(H20:H26) -> 58543.64 | I27: =SUM(I20:I26) -> 342914.08 | J27: =SUM(J20:J26) -> 286599.55
B28: MATERIALES Y SUMINISTROS
B29: ALIMENTOS PARA PERSONAS | C29: 60936.45 | E29: 60936.45 | G29: 60936.45 | I29: 60936.45 | J29: 202940.25
B30: ACABADOS TEXTILES | C30: 600 | E30: 600 | G30: 600 | I30: 600
B31: PRODUCTOS DE PAPEL O CARTON | C31: 945.42 | E31: 945.42 | G31: 945.42 | I31: 945.42
B32: ELEMENTOS Y COMPUESTOS QUIMICOS | C32: 169652.57 | E32: 169652.57 | G32: 169652.57 | I32: 169652.57 | J32: 178282.05
B33: COMBUSTIBLES Y LUBRICANTES | C33: 912 | E33: 912 | G33: 912 | I33: 912
B34: PRODUCTOS MEDICINALES Y FARMACEUTICOS | C34: 427229.65 | E34: 427229.65 | G34: 427229.65 | I34: 427229.65 | J34: 1425199.8
B35: TINTES, PINTURAS Y COLORANTES | C35: 100 | E35: 100 | G35: 100 | I35: 100
B36: PRODUCTOS PLASTICOS, NYLON, VINIL Y PVC | C36: 13579.7 | E36: 13579.7 | G36: 13579.7 | I36: 13579.7 | J36: 75162.24
B37: OTROS PRODUCTOS METALICOS | C37: 310 | E37: 310 | G37: 310 | I37: 310
B38: UTILES DE LIMPIEZA Y PRODUCTOS SANITARIOS | C38: 10809.43 | E38: 10809.43 | G38: 10809.43 | I38: 10809.43 | J38: 14528.6
B39: UTILES MENORES MEDICO QUIRURGICOS Y DE LAB. | C39: 1780006.3 | E39: 1780006.3 | G39: 1780006.3 | I39: 1780006.3 | J39: 1545914.8
B40: UTILES, ACCESORIOS Y MATERIALES ELECTRICOS | C40: 2208.7 | E40: 2208.7 | G40: 2208.7 | I40: 2208.7 | J40: 15300
B41: ACCESORIOS Y REPUESTOS EN GENERAL | C41: 8105.1 | E41: 8105.1 | G41: 8105.1 | I41: 8105.1
B42: OTROS MATERIALES Y SUMINISTROS | C42: 165.5 | E42: 165.5 | G42: 165.5 | I42: 165.5
B43: TOTAL MATERIALES Y SUMINISTROS | C43: =SUM(C29:C42) -> 2475560.8 | D43: =SUM(D29:D42) -> 0 | E43: =SUM(E29:E42) -> 2475560.8 | F43: =SUM(F29:F42) -> 0 | G43: =SUM(G29:G42) -> 2475560.8 | H43: =SUM(H29:H42) -> 0 | I43: =SUM(I29:I42) -> 2475560.8 | J43: =SUM(J29:J42) -> 3457327.8
A46: Programación mensual por tipo de gasto año 2016, Expresado en Quetzales
A47: No. | B47: Categoría de Gasto | C47: Julio | E47: Agosto | G47: Septiembre
B48: Recurso Humano | C48: Pto. | D48: Real | E48: Pto. | F48: Real | G48: Pto. | H48: Real
B51: Gastos de Funcionamiento
B52: detallar cada gasto cargado
A60: TOTALES
A73: Programación mensual por tipo de gasto año 2018, Expresado en Quetzales segundo cuatrimestre 2018
A74: No. | B74: CATEGORIA DE GASTO | C74: MAYO | E74: JUNIO | G74: JULIO | I74: AGOSTO
C75: PRESUPUESTO | D75: REAL | E75: PRESUPUESTO | F75: REAL | G75: PRESUPUESTO | H75: REAL | I75: PRESUPUESTO | J75: REAL
B76: RECURSO HUMANO | C76: 1764858.4 | D76: 2281196.2 | E76: 1764858.4 | F76: 1896496.9
B78: GASTOS DE FUNCIONAMIENTO | C78: =+C86+C102 -> 2818474.9 | D78: =+D86+D102 -> 3820610.3 | E78: =+E86+E102 -> 2818474.9 | F78: =+F86+F102 -> 2361172.2 | G78: =+G86+G102 -> 0 | H78: =+H86+H102 -> 0 | I78: =+I86+I102 -> 0 | J78: =+J86+J102 -> 0
B79: ENERGIA ELECTRICA | C79: 62500 | D79: 138609.61 | E79: 62500
B80: TELEFONIA | C80: 7500 | D80: 9818.25 | E80: 7500 | F80: 9560.36
B81: IMPRESIÓN, ENCUADERNACION Y REPRODUCCION | C81: 8133.97 | E81: 8133.97 | F81: 39787
B82: MANT. Y REP. EQUIPO MEDICO SANITARIO Y DE LAB. | C82: 33333.33 | D82: 19161.8 | E82: 33333.33
B83: SERVICIOS MEDICO-SANITARIOS | C83: 165141.75 | D83: 4057.14 | E83: 165141.75 | F83: 184282.78
B84: SERVICIOS DE VIGILANCIA | C84: 40000 | D84: 38120 | E84: 40000 | F84: 38120
B85: OTROS SERVICIOS NO PERSONALES | C85: 26305.03 | D85: 48548.64 | E85: 26305.03 | F85: 44604
B86: SUMA GASTOS GENERALES | C86: =SUM(C79:C85) -> 342914.08 | D86: =SUM(D79:D85) -> 258315.44 | E86: =SUM(E79:E85) -> 342914.08 | F86: =SUM(F79:F85) -> 316354.14 | G86: =SUM(G79:G85) -> 0 | H86: =SUM(H79:H85) -> 0 | I86: =SUM(I79:I85) -> 0 | J86: =SUM(J79:J85) -> 0
B87: MATERIALES Y SUMINISTROS
B88: ALIMENTOS PARA PERSONAS | C88: 60936.45 | D88: 1023 | E88: 60936.45 | F88: 58023.7
B89: ACABADOS TEXTILES | C89: 600 | E89: 600
B90: PRODUCTOS DE PAPEL O CARTON | C90: 945.42 | E90: 945.42
B91: ELEMENTOS Y COMPUESTOS QUIMICOS | C91: 169652.57 | D91: 181188.84 | E91: 169652.57 | F91: 66957.58
B92: COMBUSTIBLES Y LUBRICANTES | C92: 912 | E92: 912
B93: PRODUCTOS MEDICINALES Y FARMACEUTICOS | C93: 427229.65 | D93: 535053.33 | E93: 427229.65 | F93: 261536.69
B94: TINTES, PINTURAS Y COLORANTES | C94: 100 | E94: 100
B95: PRODUCTOS PLASTICOS, NYLON, VINIL Y PVC | C95: 13579.7 | D95: 6224.76 | E95: 13579.7 | F95: 6630
B96: OTROS PRODUCTOS METALICOS | C96: 310 | D96: 3610 | E96: 310
B97: UTILES DE LIMPIEZA Y PRODUCTOS SANITARIOS | C97: 10809.43 | D97: 39404.76 | E97: 10809.43 | F97: 23463
B98: UTILES MENORES MEDICO QUIRURGICOS Y DE LAB. | C98: 1780006.3 | D98: 2752150.2 | E98: 1780006.3 | F98: 1617110.1
B99: UTILES, ACCESORIOS Y MATERIALES ELECTRICOS | C99: 2208.7 | E99: 2208.7 | F99: 11097
B100: ACCESORIOS Y REPUESTOS EN GENERAL | C100: 8105.1 | D100: 43640 | E100: 8105.1
B101: OTROS MATERIALES Y SUMINISTROS | C101: 165.5 | E101: 165.5
B102: TOTAL MATERIALES Y SUMINISTROS | C102: =SUM(C88:C101) -> 2475560.8 | D102: =SUM(D88:D101) -> 3562294.9 | E102: =SUM(E88:E101) -> 2475560.8 | F102: =SUM(F88:F101) -> 2044818 | G102: =SUM(G88:G101) -> 0 | H102: =SUM(H88:H101) -> 0 | I102: =SUM(I88:I101) -> 0 | J102: =SUM(J88:J101) -> 0
A123: Programación mensual por tipo de gasto año 2017, Expresado en Quetzales tercer cuatrimestre 2018
A124: No. | B124: CATEGORIA DE GASTO | C124: SEPTIEMBRE | E124: OCTUBRE | G124: NOVIEMBRE | I124: DICIEMBRE
C125: PRESUPUESTO | D125: REAL | E125: PRESUPUESTO | F125: REAL | G125: PRESUPUESTO | H125: REAL | I125: PRESUPUESTO | J125: REAL
B126: RECURSO HUMANO
B128: GASTOS DE FUNCIONAMIENTO | C128: =+C136+C152 -> 0 | D128: =+D136+D152 -> 0 | E128: =+E136+E152 -> 0 | F128: =+F136+F152 -> 0 | G128: =+G136+G152 -> 0 | H128: =+H136+H152 -> 0 | I128: =+I136+I152 -> 0 | J128: =+J136+J152 -> 0
B129: ENERGIA ELECTRICA
B130: TELEFONIA
B131: IMPRESIÓN, ENCUADERNACION Y REPRODUCCION
B132: MANT. Y REP. EQUIPO MEDICO SANITARIO Y DE LAB.
B133: SERVICIOS MEDICO-SANITARIOS
B134: SERVICIOS DE VIGILANCIA
B135: OTROS SERVICIOS NO PERSONALES
B136: SUMA GASTOS GENERALES | C136: =SUM(C129:C135) -> 0 | D136: =SUM(D129:D135) -> 0 | E136: =SUM(E129:E135) -> 0 | F136: =SUM(F129:F135) -> 0 | G136: =SUM(G129:G135) -> 0 | H136: =SUM(H129:H135) -> 0 | I136: =SUM(I129:I135) -> 0 | J136: =SUM(J129:J135) -> 0
B137: MATERIALES Y SUMINISTROS
B138: ALIMENTOS PARA PERSONAS
B139: AVABADOS TEXTILES
B140: PRODUCTOS DE PAPEL O CARTON
B141: ELEMENTOS Y COMPUESTOS QUIMICOS
B142: COMBUSTIBLES Y LUBRICANTES
B143: PRODUCTOS MEDICINALES Y FARMACEUTICOS
B144: TINTES, PINTURAS Y COLORANTES
B145: PRODUCTOS PLASTICOS, NYLON, VINIL Y PVC
B146: OTROS PRODUCTOS METALICOS
B147: UTILES DE LIMPIEZA Y PRODUCTOS SANITARIOS
B148: UTILES MENORES MEDICO QUIRURGICOS Y DE LAB.
... B151: OTROS MATERIALES Y SUMINISTROS
B152: TOTAL MATERIALES Y SUMINISTROS | C152: =SUM(C138:C151) -> 0 | D152: =SUM(D138:D151) -> 0 | E152: =SUM(E138:E151) -> 0 | F152: =SUM(F138:F151) -> 0 | G152: =SUM(G138:G151) -> 0 | H152: =SUM(H138:H151) -> 0 | I152: =SUM(I138:I151) -> 0 | J152: =SUM(J138:J151) -> 0
C177: PROGRAMACION POR TIPO DE GASTO AÑO 2022
C178: RESUMEN AL 30 DE ABRIL 2022
C179: No. | D179: CATEGORIA DE GASTO | E179: TOTAL ANUAL
E180: PRESUPUESTO | F180: COMPROMETIDO
D181: RECURSO HUMANO | E181: =+'ABRIL CTE-5'!C168 -> 9659245.3 | F181: =+'ABRIL CTE-5'!D168 -> 9591596.9
...

Sheet ENERO CTE-7
B7: ÀREA FINANCIERA | J7: CTE-7
A9: UNIDAD DE CIRUGIA CARDIOVASCULAR DE GUATEMALA
A10: 5a. AVENIDA 6-22 ZONA 11
A11: CORREO ELECTRÓNICO Y TELÉFONO
A12: dgunicar@yahoo.es Tel. 24163000
A14: Ejecucion de avance fìnanciero programado-ejecutado por categoria del gasto primer cuatrimestre 2022
A16: Categoría del gasto | B16: Enero | D16: Febrero | F16: Marzo | H16: Abril | J16: Totales
B17: Presupuestado | C17: Ejecutado | D17: Presupuestado | E17: Ejecutado | F17: Presupuestado | G17: Ejecutado | H17: Presupuestado | I17: Ejecutado | J17: Presupuestado | K17: Ejecutado
A18: Recurso Humano | B18: 2414811.3 | C18: 2367268.7 | J18: =+B18+D18+F18+H18 -> 2414811.3 | K18: =+C18+E18+G18+I18 -> 2367268.7
A19: Gastos de Funcionamiento | B19: 2612557.9 | C19: 0 | J19: =+B19+D19+F19+H19 -> 2612557.9 | K19: =+C19+E19+G19+I19 -> 0
A20: Propiedad planta y equipo | J20: =+B20+D20+F20+H20 -> 0 | K20: =+C20+E20+G20+I20 -> 0
A21: TOTAL | B21: =SUM(B18:B20) -> 5027369.2 | C21: =SUM(C18:C20) -> 2367268.7 | D21: =SUM(D18:D20) -> 0 | E21: =SUM(E18:E20) -> 0 | F21: =SUM(F18:F20) -> 0 | G21: =SUM(G18:G20) -> 0 | H21: =SUM(H18:H20) -> 0 | I21: =SUM(I18:I20) -> 0 | ... K21: =SUM(K18:K20) -> 2367268.7
A23: Ejecucion de avance fìnanciero programado-ejecutado por categoria del gasto segundo cuatrimestre 2022
A25: Categoría del gasto | B25: Mayo | D25: Junio | F25: Julio | H25: Agosto | J25: Totales
B26: Presupuestado | C26: Ejecutado | D26: Presupuestado | E26: Ejecutado | F26: Presupuestado | G26: Ejecutado | H26: Presupuestado | I26: Ejecutado | J26: Presupuestado | K26: Ejecutado
A27: Recurso Humano | J27: =+B27+D27+F27+H27 -> 0 | K27: =+C27+E27+G27+I27 -> 0
A28: Gastos de Funcionamiento | J28: =+B28+D28+F28+H28 -> 0 | K28: =+C28+E28+G28+I28 -> 0
A29: Propiedad planta y equipo | J29: =+B29+D29+F29+H29 -> 0 | K29: =+C29+E29+G29+I29 -> 0
A30: TOTAL | B30: =SUM(B27:B29) -> 0 | C30: =SUM(C27:C29) -> 0 | D30: =SUM(D27:D29) -> 0 | E30: =SUM(E27:E29) -> 0 | F30: =SUM(F27:F29) -> 0 | G30: =SUM(G27:G29) -> 0 | H30: =SUM(H27:H29) -> 0 | I30: =SUM(I27:I29) -> 0 | ... K30: =SUM(K27:K29) -> 0
A33: Ejecucion de avance fìnanciero programado-ejecutado por categoria del gasto tercer cuatrimestre 2022
A35: Categoría del gasto | B35: Septiembre | D35: Octubre | F35: Noviembre | H35: Diciembre | J35: Totales
B36: Presupuestado | C36: Ejecutado | D36: Presupuestado | E36: Ejecutado | F36: Presupuestado | G36: Ejecutado | H36: Presupuestado | I36: Ejecutado | J36: Presupuestado | K36: Ejecutado
A37: Recurso Humano | J37: =+B37+D37+F37+H37 -> 0 | K37: =+C37+E37+G37+I37 -> 0
A38: Gastos de Funcionamiento | J38: =+B38+D38+F38+H38 -> 0 | K38: =+C38+E38+G38+I38 -> 0
A39: Propiedad Planta y Equipo | J39: =+B39+D39+F39+H39 -> 0 | K39: =+C39+E39+G39+I39 -> 0
A40: TOTAL | B40: =SUM(B37:B39) -> 0 | C40: =SUM(C37:C39) -> 0 | D40: =SUM(D37:D39) -> 0 | E40: =SUM(E37:E39) -> 0 | F40: =SUM(F37:F39) -> 0 | G40: =SUM(G37:G39) -> 0 | H40: =SUM(H37:H39) -> 0 | I40: =SUM(I37:I39) -> 0 | ... K40: =SUM(K37:K39) -> 0
A49: Resumen año 2022
A50: Categoría del gasto | B50: año 2022
B51: Presupuestado | C51: Ejecutado
A52: Recurso Humano | B52: =+J18+J27+J37 -> 2414811.3 | C52: =+K18+K27+K37 -> 2367268.7
A53: Gastos de Funcionamiento | B53: =+J19+J28+J38 -> 2612557.9 | C53: =+K19+K28+K38 -> 0
A54: Propiedad Planta y Equipo | B54: =+J39+J29+J20 -> 0 | C54: =K39+K29+K20 -> 0
A55: TOTAL | B55: =SUM(B52:B54) -> 5027369.2 | C55: =SUM(C52:C54) -> 2367268.7
A75: Elaborado por: | C75: ___________________________ | F75: Autorizado por: | H75: ___________________________________
C76: Víctor Cresencio Reyes Porres | H76: Dr. Walter Antonio Mazariegos Samayoa
C77: Jefe de Contabilidad | H77: Director General
A78: Fecha: | C78: 10 de febrero 2022

Sheet FEBRERO CTE-7
B7: ÀREA FINANCIERA | J7: CTE-7
A9: UNIDAD DE CIRUGIA CARDIOVASCULAR DE GUATEMALA
A10: 5a. AVENIDA 6-22 ZONA 11
A11: CORREO ELECTRÓNICO Y TELÉFONO
A12: dgunicar@yahoo.es Tel. 24163000
A14: Ejecucion de avance fìnanciero programado-ejecutado por categoria del gasto primer cuatrimestre 2022
A16: Categoría del gasto | B16: Enero | D16: Febrero | F16: Marzo | H16: Abril | J16: Totales
B17: Presupuestado | C17: Ejecutado | D17: Presupuestado | E17: Ejecutado | F17: Presupuestado | G17: Ejecutado | H17: Presupuestado | I17: Ejecutado | J17: Presupuestado | K17: Ejecutado
A18: Recurso Humano | B18: 2414811.3 | C18: 2367268.7 | D18: 2414811.3 | E18: 2396683.9 | J18: =+B18+D18+F18+H18 -> 4829622.7 | K18: =+C18+E18+G18+I18 -> 4763952.6
A19: Gastos de Funcionamiento | B19: 2612557.9 | C19: 0 | D19: 2689873.5 | E19: 16502.89 | J19: =+B19+D19+F19+H19 -> 5302431.3 | K19: =+C19+E19+G19+I19 -> 16502.89
A20: Propiedad planta y equipo | J20: =+B20+D20+F20+H20 -> 0 | K20: =+C20+E20+G20+I20 -> 0
A21: TOTAL | B21: =SUM(B18:B20) -> 5027369.2 | C21: =SUM(C18:C20) -> 2367268.7 | D21: =SUM(D18:D20) -> 5104684.8 | E21: =SUM(E18:E20) -> 2413186.8 | F21: =SUM(F18:F20) -> 0 | G21: =SUM(G18:G20) -> 0 | H21: =SUM(H18:H20) -> 0 | I21: =SUM(I18:I20) -> 0 | ... K21: =SUM(K18:K20) -> 4780455.5
A23: Ejecucion de avance fìnanciero programado-ejecutado por categoria del gasto segundo cuatrimestre 2022
A25: Categoría del gasto | B25: Mayo | D25: Junio | F25: Julio | H25: Agosto | J25: Totales
B26: Presupuestado | C26: Ejecutado | D26: Presupuestado | E26: Ejecutado | F26: Presupuestado | G26: Ejecutado | H26: Presupuestado | I26: Ejecutado | J26: Presupuestado | K26: Ejecutado
A27: Recurso Humano | J27: =+B27+D27+F27+H27 -> 0 | K27: =+C27+E27+G27+I27 -> 0
A28: Gastos de Funcionamiento | J28: =+B28+D28+F28+H28 -> 0 | K28: =+C28+E28+G28+I28 -> 0
A29: Propiedad planta y equipo | J29: =+B29+D29+F29+H29 -> 0 | K29: =+C29+E29+G29+I29 -> 0
A30: TOTAL | B30: =SUM(B27:B29) -> 0 | C30: =SUM(C27:C29) -> 0 | D30: =SUM(D27:D29) -> 0 | E30: =SUM(E27:E29) -> 0 | F30: =SUM(F27:F29) -> 0 | G30: =SUM(G27:G29) -> 0 | H30: =SUM(H27:H29) -> 0 | I30: =SUM(I27:I29) -> 0 | ... K30: =SUM(K27:K29) -> 0
A33: Ejecucion de avance fìnanciero programado-ejecutado por categoria del gasto tercer cuatrimestre 2022
A35: Categoría del gasto | B35: Septiembre | D35: Octubre | F35: Noviembre | H35: Diciembre | J35: Totales
B36: Presupuestado | C36: Ejecutado | D36: Presupuestado | E36: Ejecutado | F36: Presupuestado | G36: Ejecutado | H36: Presupuestado | I36: Ejecutado | J36: Presupuestado | K36: Ejecutado
A37: Recurso Humano | J37: =+B37+D37+F37+H37 -> 0 | K37: =+C37+E37+G37+I37 -> 0
A38: Gastos de Funcionamiento | J38: =+B38+D38+F38+H38 -> 0 | K38: =+C38+E38+G38+I38 -> 0
A39: Propiedad Planta y Equipo | J39: =+B39+D39+F39+H39 -> 0 | K39: =+C39+E39+G39+I39 -> 0
A40: TOTAL | B40: =SUM(B37:B39) -> 0 | C40: =SUM(C37:C39) -> 0 | D40: =SUM(D37:D39) -> 0 | E40: =SUM(E37:E39) -> 0 | F40: =SUM(F37:F39) -> 0 | G40: =SUM(G37:G39) -> 0 | H40: =SUM(H37:H39) -> 0 | I40: =SUM(I37:I39) -> 0 | ... K40: =SUM(K37:K39) -> 0
A44: Resumen año 2022
A45: Categoría del gasto | B45: año 2022
B46: Presupuestado | C46: Ejecutado
A47: Recurso Humano | B47: =+J18+J27+J37 -> 4829622.7 | C47: =+K18+K27+K37 -> 4763952.6
A48: Gastos de Funcionamiento | B48: =+J19+J28+J38 -> 5302431.3 | C48: =+K19+K28+K38 -> 16502.89
A49: Propiedad Planta y Equipo | B49: =+J39+J29+J20 -> 0 | C49: =K39+K29+K20 -> 0
A50: TOTAL | B50: =SUM(B47:B49) -> 10132054 | C50: =SUM(C47:C49) -> 4780455.5
A68: Elaborado por: | C68: ___________________________ | F68: Autorizado por: | H68: ___________________________________
C69: Víctor Cresencio Reyes Porres | H69: Dr. Walter Antonio Mazariegos Samayoa
C70: Jefe de Contabilidad | H70: Director General
A71: Fecha: | C71: 10 de marzo 2022

Sheet MARZO CTE-7
B7: ÀREA FINANCIERA | J7: CTE-7
A9: UNIDAD DE CIRUGIA CARDIOVASCULAR DE GUATEMALA
A10: 5a. AVENIDA 6-22 ZONA 11
A11: CORREO ELECTRÓNICO Y TELÉFONO
A12: dgunicar@yahoo.es Tel. 24163000
A14: Ejecucion de avance fìnanciero programado-ejecutado por categoria del gasto primer cuatrimestre 2022
A16: Categoría del gasto | B16: Enero | D16: Febrero | F16: Marzo | H16: Abril | J16: Totales
B17: Presupuestado | C17: Ejecutado | D17: Presupuestado | E17: Ejecutado | F17: Presupuestado | G17: Ejecutado | H17: Presupuestado | I17: Ejecutado | J17: Presupuestado | K17: Ejecutado
A18: Recurso Humano | B18: 2414811.3 | C18: 2367268.7 | D18: 2414811.3 | E18: 2396683.9 | F18: 2414811.3 | G18: 2410583.5 | J18: =+B18+D18+F18+H18 -> 7244434 | K18: =+C18+E18+G18+I18 -> 7174536.1
A19: Gastos de Funcionamiento | B19: 2612557.9 | C19: 0 | D19: 2689873.5 | E19: 16502.89 | F19: 2771983.2 | G19: 132643.57 | J19: =+B19+D19+F19+H19 -> 8074414.6 | K19: =+C19+E19+G19+I19 -> 149146.46
A20: Propiedad planta y equipo | J20: =+B20+D20+F20+H20 -> 0 | K20: =+C20+E20+G20+I20 -> 0
A21: TOTAL | B21: =SUM(B18:B20) -> 5027369.2 | C21: =SUM(C18:C20) -> 2367268.7 | D21: =SUM(D18:D20) -> 5104684.8 | E21: =SUM(E18:E20) -> 2413186.8 | F21: =SUM(F18:F20) -> 5186794.6 | G21: =SUM(G18:G20) -> 2543227.1 | H21: =SUM(H18:H20) -> 0 | I21: =SUM(I18:I20) -> 0 | ... K21: =SUM(K18:K20) -> 7323682.6
A23: Ejecucion de avance fìnanciero programado-ejecutado por categoria del gasto segundo cuatrimestre 2022
A25: Categoría del gasto | B25: Mayo | D25: Junio | F25: Julio | H25: Agosto | J25: Totales
B26: Presupuestado | C26: Ejecutado | D26: Presupuestado | E26: Ejecutado | F26: Presupuestado | G26: Ejecutado | H26: Presupuestado | I26: Ejecutado | J26: Presupuestado | K26: Ejecutado
A27: Recurso Humano | J27: =+B27+D27+F27+H27 -> 0 | K27: =+C27+E27+G27+I27 -> 0
A28: Gastos de Funcionamiento | J28: =+B28+D28+F28+H28 -> 0 | K28: =+C28+E28+G28+I28 -> 0
A29: Propiedad planta y equipo | J29: =+B29+D29+F29+H29 -> 0 | K29: =+C29+E29+G29+I29 -> 0
A30: TOTAL | B30: =SUM(B27:B29) -> 0 | C30: =SUM(C27:C29) -> 0 | D30: =SUM(D27:D29) -> 0 | E30: =SUM(E27:E29) -> 0 | F30: =SUM(F27:F29) -> 0 | G30: =SUM(G27:G29) -> 0 | H30: =SUM(H27:H29) -> 0 | I30: =SUM(I27:I29) -> 0 | ... K30: =SUM(K27:K29) -> 0
A33: Ejecucion de avance fìnanciero programado-ejecutado por categoria del gasto tercer cuatrimestre 2022
A35: Categoría del gasto | B35: Septiembre | D35: Octubre | F35: Noviembre | H35: Diciembre | J35: Totales
B36: Presupuestado | C36: Ejecutado | D36: Presupuestado | E36: Ejecutado | F36: Presupuestado | G36: Ejecutado | H36: Presupuestado | I36: Ejecutado | J36: Presupuestado | K36: Ejecutado
A37: Recurso Humano | J37: =+B37+D37+F37+H37 -> 0 | K37: =+C37+E37+G37+I37 -> 0
A38: Gastos de Funcionamiento | J38: =+B38+D38+F38+H38 -> 0 | K38: =+C38+E38+G38+I38 -> 0
A39: Propiedad Planta y Equipo | J39: =+B39+D39+F39+H39 -> 0 | K39: =+C39+E39+G39+I39 -> 0
A40: TOTAL | B40: =SUM(B37:B39) -> 0 | C40: =SUM(C37:C39) -> 0 | D40: =SUM(D37:D39) -> 0 | E40: =SUM(E37:E39) -> 0 | F40: =SUM(F37:F39) -> 0 | G40: =SUM(G37:G39) -> 0 | H40: =SUM(H37:H39) -> 0 | I40: =SUM(I37:I39) -> 0 | ... K40: =SUM(K37:K39) -> 0
A44: Resumen año 2022
A45: Categoría del gasto | B45: año 2022
B46: Presupuestado | C46: Ejecutado
A47: Recurso Humano | B47: =+J18+J27+J37 -> 7244434 | C47: =+K18+K27+K37 -> 7174536.1
A48: Gastos de Funcionamiento | B48: =+J19+J28+J38 -> 8074414.6 | C48: =+K19+K28+K38 -> 149146.46
A49: Propiedad Planta y Equipo | B49: =+J39+J29+J20 -> 0 | C49: =K39+K29+K20 -> 0
A50: TOTAL | B50: =SUM(B47:B49) -> 15318849 | C50: =SUM(C47:C49) -> 7323682.6
A68: Elaborado por: | C68: ___________________________ | F68: Autorizado por: | H68: ___________________________________
C69: Víctor Cresencio Reyes Porres | H69: Dr. Walter Antonio Mazariegos Samayoa
C70: Jefe de Contabilidad | H70: Director General
A71: Fecha: | C71: 8 de abril 2022

Sheet ABRIL CTE-7
B7: ÀREA FINANCIERA | J7: CTE-7
A9: UNIDAD DE CIRUGIA CARDIOVASCULAR DE GUATEMALA
A10: 5a. AVENIDA 6-22 ZONA 11
A11: CORREO ELECTRÓNICO Y TELÉFONO
A12: dgunicar@yahoo.es Tel. 24163000
A14: Ejecucion de avance fìnanciero programado-ejecutado por categoria del gasto primer cuatrimestre 2022
A16: Categoría del gasto | B16: Enero | D16: Febrero | F16: Marzo | H16: Abril | J16: Totales
B17: Presupuestado | C17: Ejecutado | D17: Presupuestado | E17: Ejecutado | F17: Presupuestado | G17: Ejecutado | H17: Presupuestado | I17: Ejecutado | J17: Presupuestado | K17: Ejecutado
A18: Recurso Humano | B18: 2414811.3 | C18: 2367268.7 | D18: 2414811.3 | E18: 2396683.9 | F18: 2414811.3 | G18: 2410583.5 | H18: 2414811.3 | I18: 2417060.8 | J18: =+B18+D18+F18+H18 -> 9659245.3 | K18: =+C18+E18+G18+I18 -> 9591596.9
A19: Gastos de Funcionamiento | B19: 2612557.9 | C19: 0 | D19: 2689873.5 | E19: 16502.89 | F19: 2771983.2 | G19: 132643.57 | H19: 2771983.2 | I19: 748869.8 | J19: =+B19+D19+F19+H19 -> 10846398 | K19: =+C19+E19+G19+I19 -> 898016.26
A20: Propiedad planta y equipo | J20: =+B20+D20+F20+H20 -> 0 | K20: =+C20+E20+G20+I20 -> 0
A21: TOTAL | B21: =SUM(B18:B20) -> 5027369.2 | C21: =SUM(C18:C20) -> 2367268.7 | D21: =SUM(D18:D20) -> 5104684.8 | E21: =SUM(E18:E20) -> 2413186.8 | F21: =SUM(F18:F20) -> 5186794.6 | G21: =SUM(G18:G20) -> 2543227.1 | H21: =SUM(H18:H20) -> 5186794.6 | I21: =SUM(I18:I20) -> 3165930.6 | ... K21: =SUM(K18:K20) -> 10489613
A23: Ejecucion de avance fìnanciero programado-ejecutado por categoria del gasto segundo cuatrimestre 2022
A25: Categoría del gasto | B25: Mayo | D25: Junio | F25: Julio | H25: Agosto | J25: Totales
B26: Presupuestado | C26: Ejecutado | D26: Presupuestado | E26: Ejecutado | F26: Presupuestado | G26: Ejecutado | H26: Presupuestado | I26: Ejecutado | J26: Presupuestado | K26: Ejecutado
A27: Recurso Humano | J27: =+B27+D27+F27+H27 -> 0 | K27: =+C27+E27+G27+I27 -> 0
A28: Gastos de Funcionamiento | J28: =+B28+D28+F28+H28 -> 0 | K28: =+C28+E28+G28+I28 -> 0
A29: Propiedad planta y equipo | J29: =+B29+D29+F29+H29 -> 0 | K29: =+C29+E29+G29+I29 -> 0
A30: TOTAL | B30: =SUM(B27:B29) -> 0 | C30: =SUM(C27:C29) -> 0 | D30: =SUM(D27:D29) -> 0 | E30: =SUM(E27:E29) -> 0 | F30: =SUM(F27:F29) -> 0 | G30: =SUM(G27:G29) -> 0 | H30: =SUM(H27:H29) -> 0 | I30: =SUM(I27:I29) -> 0 | ... K30: =SUM(K27:K29) -> 0
A33: Ejecucion de avance fìnanciero programado-ejecutado por categoria del gasto tercer cuatrimestre 2022
A35: Categoría del gasto | B35: Septiembre | D35: Octubre | F35: Noviembre | H35: Diciembre | J35: Totales
B36: Presupuestado | C36: Ejecutado | D36: Presupuestado | E36: Ejecutado | F36: Presupuestado | G36: Ejecutado | H36: Presupuestado | I36: Ejecutado | J36: Presupuestado | K36: Ejecutado
A37: Recurso Humano | J37: =+B37+D37+F37+H37 -> 0 | K37: =+C37+E37+G37+I37 -> 0
A38: Gastos de Funcionamiento | J38: =+B38+D38+F38+H38 -> 0 | K38: =+C38+E38+G38+I38 -> 0
A39: Propiedad Planta y Equipo | J39: =+B39+D39+F39+H39 -> 0 | K39: =+C39+E39+G39+I39 -> 0
A40: TOTAL | B40: =SUM(B37:B39) -> 0 | C40: =SUM(C37:C39) -> 0 | D40: =SUM(D37:D39) -> 0 | E40: =SUM(E37:E39) -> 0 | F40: =SUM(F37:F39) -> 0 | G40: =SUM(G37:G39) -> 0 | H40: =SUM(H37:H39) -> 0 | I40: =SUM(I37:I39) -> 0 | ... K40: =SUM(K37:K39) -> 0
A44: Resumen año 2022
A45: Categoría del gasto | B45: año 2022
B46: Presupuestado | C46: Ejecutado
A47: Recurso Humano | B47: =+J18+J27+J37 -> 9659245.3 | C47: =+K18+K27+K37 -> 9591596.9
A48: Gastos de Funcionamiento | B48: =+J19+J28+J38 -> 10846398 | C48: =+K19+K28+K38 -> 898016.26
A49: Propiedad Planta y Equipo | B49: =+J39+J29+J20 -> 0 | C49: =K39+K29+K20 -> 0
A50: TOTAL | B50: =SUM(B47:B49) -> 20505643 | C50: =SUM(C47:C49) -> 10489613
A68: Elaborado por: | C68: ___________________________ | F68: Autorizado por: | H68: ___________________________________
C69: Víctor Cresencio Reyes Porres | H69: Dr. Walter Antonio Mazariegos Samayoa
C70: Jefe de Contabilidad | H70: Director General
A71: Fecha: | C71: 10 de mayo 2022

Sheet EJEC. FISICA ENERO
L2: CTE-9
A6: UNIDAD DE CIRUGIA CARDIOVASCULAR DE GUATEMALA
A7: 5a. AVENIDA 6-22 ZONA 11
A8: dgunicar@yahoo.es Tel. 24163000
B10: Programacion de metas fisicas versus ejecucion (mensual) primer cuatrimestre
A11: No. | B11: Servicio | C11: Enero | E11: Febrero | G11: Marzo | I11: Abril | K11: Total cuatrimestre
C12: Programado | D12: Ejecutado | E12: Programado | F12: Ejecutado | G12: Programado | H12: Ejecutado | I12: Programado | J12: Ejecutado | K12: Programado | L12: Ejecutado
A13: 1 | B13: CIRUGIA DE ADULTOS | C13: 6 | D13: 9 | K13: =+C13+E13+G13+I13 -> 6 | L13: =+D13+F13+H13+J13 -> 9
A14: 2 | B14: CIRUGIA DE PEDIATRIA | C14: 6 | D14: 8 | K14: =+C14+E14+G14+I14 -> 6 | L14: =+D14+F14+H14+J14 -> 8
A15: 3 | B15: HEMODINAMIA ADULTOS | C15: 26 | D15: 84 | K15: =+C15+E15+G15+I15 -> 26 | L15: =+D15+F15+H15+J15 -> 84
A16: 4 | B16: HEMODINAMIA PEDIATRIA | C16: 5 | D16: 9 | K16: =+C16+E16+G16+I16 -> 5 | L16: =+D16+F16+H16+J16 -> 9
A17: 5 | B17: ECOCARDIOGRAMA ADULTOS | C17: 158 | D17: 411 | K17: =+C17+E17+G17+I17 -> 158 | L17: =+D17+F17+H17+J17 -> 411
A18: 6 | B18: ECOCARDIOGRAMA PEDIATRIA | C18: 85 | D18: 130 | K18: =+C18+E18+G18+I18 -> 85 | L18: =+D18+F18+H18+J18 -> 130
A19: 7 | B19: ELECTROCARDIOGRAMAS ADULTOS | C19: 65 | D19: 148 | K19: =+C19+E19+G19+I19 -> 65 | L19: =+D19+F19+H19+J19 -> 148
A20: 8 | B20: ELECTROCARDIOGRAMAS PEDIATRIA | C20: 62 | D20: 132 | K20: =+C20+E20+G20+I20 -> 62 | L20: =+D20+F20+H20+J20 -> 132
A21: 9 | B21: CONSULTAS MEDICAS ADULTOS | C21: 408 | D21: 935 | K21: =+C21+E21+G21+I21 -> 408 | L21: =+D21+F21+H21+J21 -> 935
A22: 10 | B22: CONSULTA MEDICAS PEDIATRICAS | C22: 208 | D22: 398 | K22: =+C22+E22+G22+I22 -> 208 | L22: =+D22+F22+H22+J22 -> 398
A23: 11 | B23: ESTOMATOLOGIA | C23: 20 | D23: 57 | K23: =+C23+E23+G23+I23 -> 20 | L23: =+D23+F23+H23+J23 -> 57
A24: 12 | B24: ENCAMAMIENTO POR COMPLICACIONES | C24: 10 | D24: 18 | K24: =+C24+E24+G24+I24 -> 10 | L24: =+D24+F24+H24+J24 -> 18
... A27: 15 | B27: HOLTERS | C27: 14 | D27: 17 | K27: =+C27+E27+G27+I27 -> 14 | L27: =+D27+F27+H27+J27 -> 17
A28: Total | C28: =SUM(C13:C27) -> 1091 | D28: =SUM(D13:D27) -> 2402 | E28: =SUM(E13:E27) -> 0 | F28: =SUM(F13:F27) -> 0 | G28: =SUM(G13:G27) -> 0 | H28: =SUM(H13:H27) -> 0 | I28: =SUM(I13:I27) -> 0 | J28: =SUM(J13:J27) -> 0 | ... L28: =SUM(L13:L27) -> 2402
B30: Programacion de metas fisicas versus ejecucion (mensual) segundo cuatrimestre
A31: No. | B31: Servicio | C31: Mayo | E31: Junio | G31: Julio | I31: Agosto | K31: Totales | M31: Total acumulado
C32: Programado | D32: Ejecutado | E32: Programado | F32: Ejecutado | G32: Programado | H32: Ejecutado | I32: Programado | J32: Ejecutado | K32: Programado | L32: Ejecutado | M32: Programado | N32: Ejecutado
A33: 1 | B33: CIRUGIA DE ADULTOS | K33: =+C33+E33+G33+I33 -> 0 | L33: =+D33+F33+H33+J33 -> 0 | M33: =+K33+K13 -> 6 | N33: =+L33+L13 -> 9
A34: 2 | B34: CIRUGIA DE PEDIATRIA | K34: =+C34+E34+G34+I34 -> 0 | L34: =+D34+F34+H34+J34 -> 0 | M34: =+K34+K14 -> 6 | N34: =+L34+L14 -> 8
A35: 3 | B35: HEMODINAMIA ADULTOS | K35: =+C35+E35+G35+I35 -> 0 | L35: =+D35+F35+H35+J35 -> 0 | M35: =+K35+K15 -> 26 | N35: =+L35+L15 -> 84
A36: 4 | B36: HEMODINAMIA PEDIATRIA | K36: =+C36+E36+G36+I36 -> 0 | L36: =+D36+F36+H36+J36 -> 0 | M36: =+K36+K16 -> 5 | N36: =+L36+L16 -> 9
A37: 5 | B37: ECOCARDIOGRAMA ADULTOS | K37: =+C37+E37+G37+I37 -> 0 | L37: =+D37+F37+H37+J37 -> 0 | M37: =+K37+K17 -> 158 | N37: =+L37+L17 -> 411
A38: 6 | B38: ECOCARDIOGRAMA PEDIATRIA | K38: =+C38+E38+G38+I38 -> 0 | L38: =+D38+F38+H38+J38 -> 0 | M38: =+K38+K18 -> 85 | N38: =+L38+L18 -> 130
A39: 7 | B39: ELECTROCARDIOGRAMAS ADULTOS | K39: =+C39+E39+G39+I39 -> 0 | L39: =+D39+F39+H39+J39 -> 0 | M39: =+K39+K19 -> 65 | N39: =+L39+L19 -> 148
A40: 8 | B40: ELECTROCARDIOGRAMAS PEDIATRIA | K40: =+C40+E40+G40+I40 -> 0 | L40: =+D40+F40+H40+J40 -> 0 | M40: =+K40+K20 -> 62 | N40: =+L40+L20 -> 132
A41: 9 | B41: CONSULTAS MEDICAS ADULTOS | K41: =+C41+E41+G41+I41 -> 0 | L41: =+D41+F41+H41+J41 -> 0 | M41: =+K41+K21 -> 408 | N41: =+L41+L21 -> 935
A42: 10 | B42: CONSULTA MEDICAS PEDIATRICAS | K42: =+C42+E42+G42+I42 -> 0 | L42: =+D42+F42+H42+J42 -> 0 | M42: =+K42+K22 -> 208 | N42: =+L42+L22 -> 398
A43: 11 | B43: ESTOMATOLOGIA | K43: =+C43+E43+G43+I43 -> 0 | L43: =+D43+F43+H43+J43 -> 0 | M43: =+K43+K23 -> 20 | N43: =+L43+L23 -> 57
A44: 12 | B44: ENCAMAMIENTO POR COMPLICACIONES | K44: =+C44+E44+G44+I44 -> 0 | L44: =+D44+F44+H44+J44 -> 0 | M44: =+K44+K24 -> 10 | N44: =+L44+L24 -> 18
... A47: 15 | B47: HOLTERS | K47: =+C47+E47+G47+I47 -> 0 | L47: =+D47+F47+H47+J47 -> 0 | M47: =+K47+K27 -> 14 | N47: =+L47+L27 -> 17
A48: Total | C48: =SUM(C33:C47) -> 0 | D48: =SUM(D33:D47) -> 0 | E48: =SUM(E33:E47) -> 0 | F48: =SUM(F33:F47) -> 0 | G48: =SUM(G33:G47) -> 0 | H48: =SUM(H33:H47) -> 0 | I48: =SUM(I33:I47) -> 0 | J48: =SUM(J33:J47) -> 0 | ... N48: =SUM(N33:N47) -> 2402
B50: Programacion de metas fisicas versus ejecucion (mensual) tercer cuatrimestre
A51: No. | B51: Servicio | C51: Septiembre | E51: Octubre | G51: Noviembre | I51: Diciembre | K51: Totales | M51: Total acumulado
C52: Programado | D52: Ejecutado | E52: Programado | F52: Ejecutado | G52: Programado | H52: Ejecutado | I52: Programado | J52: Ejecutado | K52: Programado | L52: Ejecutado | M52: Programado | N52: Ejecutado
A53: 1 | B53: CIRUGIA DE ADULTOS | K53: =+C53+E53+G53+I53 -> 0 | L53: =+D53+F53+H53+J53 -> 0 | M53: =+K53+M33 -> 6 | N53: =+L53+N33 -> 9
A54: 2 | B54: CIRUGIA DE PEDIATRIA | K54: =+C54+E54+G54+I54 -> 0 | L54: =+D54+F54+H54+J54 -> 0 | M54: =+K54+M34 -> 6 | N54: =+L54+N34 -> 8
A55: 3 | B55: HEMODINAMIA ADULTOS | K55: =+C55+E55+G55+I55 -> 0 | L55: =+D55+F55+H55+J55 -> 0 | M55: =+K55+M35 -> 26 | N55: =+L55+N35 -> 84
A56: 4 | B56: HEMODINAMIA PEDIATRIA | K56: =+C56+E56+G56+I56 -> 0 | L56: =+D56+F56+H56+J56 -> 0 | M56: =+K56+M36 -> 5 | N56: =+L56+N36 -> 9
A57: 5 | B57: ECOCARDIOGRAMA ADULTOS | K57: =+C57+E57+G57+I57 -> 0 | L57: =+D57+F57+H57+J57 -> 0 | M57: =+K57+M37 -> 158 | N57: =+L57+N37 -> 411
A58: 6 | B58: ECOCARDIOGRAMA PEDIATRIA | K58: =+C58+E58+G58+I58 -> 0 | L58: =+D58+F58+H58+J58 -> 0 | M58: =+K58+M38 -> 85 | N58: =+L58+N38 -> 130
A59: 7 | B59: ELECTROCARDIOGRAMAS ADULTOS | K59: =+C59+E59+G59+I59 -> 0 | L59: =+D59+F59+H59+J59 -> 0 | M59: =+K59+M39 -> 65 | N59: =+L59+N39 -> 148
A60: 8 | B60: ELECTROCARDIOGRAMAS PEDIATRIA | K60: =+C60+E60+G60+I60 -> 0 | L60: =+D60+F60+H60+J60 -> 0 | M60: =+K60+M40 -> 62 | N60: =+L60+N40 -> 132
A61: 9 | B61: CONSULTAS MEDICAS ADULTOS | K61: =+C61+E61+G61+I61 -> 0 | L61: =+D61+F61+H61+J61 -> 0 | M61: =+K61+M41 -> 408 | N61: =+L61+N41 -> 935
A62: 10 | B62: CONSULTA MEDICAS PEDIATRICAS | K62: =+C62+E62+G62+I62 -> 0 | L62: =+D62+F62+H62+J62 -> 0 | M62: =+K62+M42 -> 208 | N62: =+L62+N42 -> 398
A63: 11 | B63: ESTOMATOLOGIA | K63: =+C63+E63+G63+I63 -> 0 | L63: =+D63+F63+H63+J63 -> 0 | M63: =+K63+M43 -> 20 | N63: =+L63+N43 -> 57
A64: 12 | B64: ENCAMAMIENTO POR COMPLICACIONES | K64: =+C64+E64+G64+I64 -> 0 | L64: =+D64+F64+H64+J64 -> 0 | M64: =+K64+M44 -> 10 | N64: =+L64+N44 -> 18
... A67: 15 | B67: HOLTERS | K67: =+C67+E67+G67+I67 -> 0 | L67: =+D67+F67+H67+J67 -> 0 | M67: =+K67+M47 -> 14 | N67: =+L67+N47 -> 17
A68: Total | C68: =SUM(C53:C67) -> 0 | D68: =SUM(D53:D67) -> 0 | E68: =SUM(E53:E67) -> 0 | F68: =SUM(F53:F67) -> 0 | G68: =SUM(G53:G67) -> 0 | H68: =SUM(H53:H67) -> 0 | I68: =SUM(I53:I67) -> 0 | J68: =SUM(J53:J67) -> 0 | ... N68: =SUM(N53:N67) -> 2402
B71: RESUMEN AÑO 2022
A72: No. | B72: Servicio | C72: Totales
C73: Programado | D73: Ejecutado
A74: 1 | B74: CIRUGIA DE ADULTOS | C74: =+K13+K33+K53 -> 6 | D74: =+L13+L33+L53 -> 9
A75: 2 | B75: CIRUGIA DE PEDIATRIA | C75: =+K14+K34+K54 -> 6 | D75: =+L14+L34+L54 -> 8
A76: 3 | B76: HEMODINAMIA ADULTOS | C76: =+K15+K35+K55 -> 26 | D76: =+L15+L35+L55 -> 84
A77: 4 | B77: HEMODINAMIA PEDIATRIA | C77: =+K16+K36+K56 -> 5 | D77: =+L16+L36+L56 -> 9
A78: 5 | B78: ECOCARDIOGRAMA ADULTOS | C78: =+K17+K37+K57 -> 158 | D78: =+L17+L37+L57 -> 411
A79: 6 | B79: ECOCARDIOGRAMA PEDIATRIA | C79: =+K18+K38+K58 -> 85 | D79: =+L18+L38+L58 -> 130
A80: 7 | B80: ELECTROCARDIOGRAMAS ADULTOS | C80: =+K19+K39+K59 -> 65 | D80: =+L19+L39+L59 -> 148
A81: 8 | B81: ELECTROCARDIOGRAMAS PEDIATRIA | C81: =+K20+K40+K60 -> 62 | D81: =+L20+L40+L60 -> 132
A82: 9 | B82: CONSULTAS MEDICAS ADULTOS | C82: =+K21+K41+K61 -> 408 | D82: =+L21+L41+L61 -> 935
A83: 10 | B83: CONSULTA MEDICAS PEDIATRICAS | C83: =+K22+K42+K62 -> 208 | D83: =+L22+L42+L62 -> 398
A84: 11 | B84: ESTOMATOLOGIA | C84: =+K23+K43+K63 -> 20 | D84: =+L23+L43+L63 -> 57
A85: 12 | B85: ENCAMAMIENTO POR COMPLICACIONES | C85: =+K24+K44+K64 -> 10 | D85: =+L24+L44+L64 -> 18
... A88: 15 | B88: HOLTERS | C88: =+K27+K47+K67 -> 14 | D88: =+L27+L47+L67 -> 17
A89: Total | C89: =SUM(C74:C88) -> 1091 | D89: =SUM(D74:D88) -> 2402
B113: Elaborado por: | C113: ___________________________ | F113: Autorizado por: | H113: _______________________________________
C114: VÍctor Cresencio Reyes Porres | H114: Dr. Walter Antonio Mazariegos Samayoa
C115: Jefe de Contabilidad | H115: Director General
B116: Fecha: | C116: 10 de febrero 2,022

Sheet EJEC. FISICA FEBRERO
L2: CTE-9
A6: UNIDAD DE CIRUGIA CARDIOVASCULAR DE GUATEMALA
A7: 5a. AVENIDA 6-22 ZONA 11
A8: dgunicar@yahoo.es Tel. 24163000
B10: Programacion de metas fisicas versus ejecucion (mensual) primer cuatrimestre
A11: No. | B11: Servicio | C11: Enero | E11: Febrero | G11: Marzo | I11: Abril | K11: Total cuatrimestre
C12: Programado | D12: Ejecutado | E12: Programado | F12: Ejecutado | G12: Programado | H12: Ejecutado | I12: Programado | J12: Ejecutado | K12: Programado | L12: Ejecutado
A13: 1 | B13: CIRUGIA DE ADULTOS | C13: 6 | D13: 9 | E13: 14 | F13: 8 | K13: =+C13+E13+G13+I13 -> 20 | L13: =+D13+F13+H13+J13 -> 17
A14: 2 | B14: CIRUGIA DE PEDIATRIA | C14: 6 | D14: 8 | E14: 14 | F14: 6 | K14: =+C14+E14+G14+I14 -> 20 | L14: =+D14+F14+H14+J14 -> 14
A15: 3 | B15: HEMODINAMIA ADULTOS | C15: 26 | D15: 84 | E15: 55 | F15: 82 | K15: =+C15+E15+G15+I15 -> 81 | L15: =+D15+F15+H15+J15 -> 166
A16: 4 | B16: HEMODINAMIA PEDIATRIA | C16: 5 | D16: 9 | E16: 11 | F16: 13 | K16: =+C16+E16+G16+I16 -> 16 | L16: =+D16+F16+H16+J16 -> 22
A17: 5 | B17: ECOCARDIOGRAMA ADULTOS | C17: 158 | D17: 411 | E17: 348 | F17: 324 | K17: =+C17+E17+G17+I17 -> 506 | L17: =+D17+F17+H17+J17 -> 735
A18: 6 | B18: ECOCARDIOGRAMA PEDIATRIA | C18: 85 | D18: 130 | E18: 183 | F18: 194 | K18: =+C18+E18+G18+I18 -> 268 | L18: =+D18+F18+H18+J18 -> 324
A19: 7 | B19: ELECTROCARDIOGRAMAS ADULTOS | C19: 65 | D19: 148 | E19: 141 | F19: 123 | K19: =+C19+E19+G19+I19 -> 206 | L19: =+D19+F19+H19+J19 -> 271
A20: 8 | B20: ELECTROCARDIOGRAMAS PEDIATRIA | C20: 62 | D20: 132 | E20: 138 | F20: 145 | K20: =+C20+E20+G20+I20 -> 200 | L20: =+D20+F20+H20+J20 -> 277
A21: 9 | B21: CONSULTAS MEDICAS ADULTOS | C21: 408 | D21: 935 | E21: 898 | F21: 1024 | K21: =+C21+E21+G21+I21 -> 1306 | L21: =+D21+F21+H21+J21 -> 1959
A22: 10 | B22: CONSULTA MEDICAS PEDIATRICAS | C22: 208 | D22: 398 | E22: 459 | F22: 481 | K22: =+C22+E22+G22+I22 -> 667 | L22: =+D22+F22+H22+J22 -> 879
A23: 11 | B23: ESTOMATOLOGIA | C23: 20 | D23: 57 | E23: 44 | F23: 57 | K23: =+C23+E23+G23+I23 -> 64 | L23: =+D23+F23+H23+J23 -> 114
A24: 12 | B24: ENCAMAMIENTO POR COMPLICACIONES | C24: 10 | D24: 18 | E24: 23 | F24: 21 | K24: =+C24+E24+G24+I24 -> 33 | L24: =+D24+F24+H24+J24 -> 39
... A27: 15 | B27: HOLTERS | C27: 14 | D27: 17 | E27: 35 | F27: 24 | K27: =+C27+E27+G27+I27 -> 49 | L27: =+D27+F27+H27+J27 -> 41
A28: Total | C28: =SUM(C13:C27) -> 1091 | D28: =SUM(D13:D27) -> 2402 | E28: =SUM(E13:E27) -> 2403 | F28: =SUM(F13:F27) -> 2565 | G28: =SUM(G13:G27) -> 0 | H28: =SUM(H13:H27) -> 0 | I28: =SUM(I13:I27) -> 0 | J28: =SUM(J13:J27) -> 0 | ... L28: =SUM(L13:L27) -> 4967
B30: Programacion de metas fisicas versus ejecucion (mensual) segundo cuatrimestre
A31: No. | B31: Servicio | C31: Mayo | E31: Junio | G31: Julio | I31: Agosto | K31: Totales | M31: Total acumulado
C32: Programado | D32: Ejecutado | E32: Programado | F32: Ejecutado | G32: Programado | H32: Ejecutado | I32: Programado | J32: Ejecutado | K32: Programado | L32: Ejecutado | M32: Programado | N32: Ejecutado
A33: 1 | B33: CIRUGIA DE ADULTOS | K33: =+C33+E33+G33+I33 -> 0 | L33: =+D33+F33+H33+J33 -> 0 | M33: =+K33+K13 -> 20 | N33: =+L33+L13 -> 17
A34: 2 | B34: CIRUGIA DE PEDIATRIA | K34: =+C34+E34+G34+I34 -> 0 | L34: =+D34+F34+H34+J34 -> 0 | M34: =+K34+K14 -> 20 | N34: =+L34+L14 -> 14
A35: 3 | B35: HEMODINAMIA ADULTOS | K35: =+C35+E35+G35+I35 -> 0 | L35: =+D35+F35+H35+J35 -> 0 | M35: =+K35+K15 -> 81 | N35: =+L35+L15 -> 166
A36: 4 | B36: HEMODINAMIA PEDIATRIA | K36: =+C36+E36+G36+I36 -> 0 | L36: =+D36+F36+H36+J36 -> 0 | M36: =+K36+K16 -> 16 | N36: =+L36+L16 -> 22
A37: 5 | B37: ECOCARDIOGRAMA ADULTOS | K37: =+C37+E37+G37+I37 -> 0 | L37: =+D37+F37+H37+J37 -> 0 | M37: =+K37+K17 -> 506 | N37: =+L37+L17 -> 735
A38: 6 | B38: ECOCARDIOGRAMA PEDIATRIA | K38: =+C38+E38+G38+I38 -> 0 | L38: =+D38+F38+H38+J38 -> 0 | M38: =+K38+K18 -> 268 | N38: =+L38+L18 -> 324
A39: 7 | B39: ELECTROCARDIOGRAMAS ADULTOS | K39: =+C39+E39+G39+I39 -> 0 | L39: =+D39+F39+H39+J39 -> 0 | M39: =+K39+K19 -> 206 | N39: =+L39+L19 -> 271
A40: 8 | B40: ELECTROCARDIOGRAMAS PEDIATRIA | K40: =+C40+E40+G40+I40 -> 0 | L40: =+D40+F40+H40+J40 -> 0 | M40: =+K40+K20 -> 200 | N40: =+L40+L20 -> 277
A41: 9 | B41: CONSULTAS MEDICAS ADULTOS | K41: =+C41+E41+G41+I41 -> 0 | L41: =+D41+F41+H41+J41 -> 0 | M41: =+K41+K21 -> 1306 | N41: =+L41+L21 -> 1959
A42: 10 | B42: CONSULTA MEDICAS PEDIATRICAS | K42: =+C42+E42+G42+I42 -> 0 | L42: =+D42+F42+H42+J42 -> 0 | M42: =+K42+K22 -> 667 | N42: =+L42+L22 -> 879
A43: 11 | B43: ESTOMATOLOGIA | K43: =+C43+E43+G43+I43 -> 0 | L43: =+D43+F43+H43+J43 -> 0 | M43: =+K43+K23 -> 64 | N43: =+L43+L23 -> 114
A44: 12 | B44: ENCAMAMIENTO POR COMPLICACIONES | K44: =+C44+E44+G44+I44 -> 0 | L44: =+D44+F44+H44+J44 -> 0 | M44: =+K44+K24 -> 33 | N44: =+L44+L24 -> 39
... A47: 15 | B47: HOLTERS | K47: =+C47+E47+G47+I47 -> 0 | L47: =+D47+F47+H47+J47 -> 0 | M47: =+K47+K27 -> 49 | N47: =+L47+L27 -> 41
A48: Total | C48: =SUM(C33:C47) -> 0 | D48: =SUM(D33:D47) -> 0 | E48: =SUM(E33:E47) -> 0 | F48: =SUM(F33:F47) -> 0 | G48: =SUM(G33:G47) -> 0 | H48: =SUM(H33:H47) -> 0 | I48: =SUM(I33:I47) -> 0 | J48: =SUM(J33:J47) -> 0 | ... N48: =SUM(N33:N47) -> 4967
B50: Programacion de metas fisicas versus ejecucion (mensual) tercer cuatrimestre
A51: No. | B51: Servicio | C51: Septiembre | E51: Octubre | G51: Noviembre | I51: Diciembre | K51: Totales | M51: Total acumulado
C52: Programado | D52: Ejecutado | E52: Programado | F52: Ejecutado | G52: Programado | H52: Ejecutado | I52: Programado | J52: Ejecutado | K52: Programado | L52: Ejecutado | M52: Programado | N52: Ejecutado
A53: 1 | B53: CIRUGIA DE ADULTOS | K53: =+C53+E53+G53+I53 -> 0 | L53: =+D53+F53+H53+J53 -> 0 | M53: =+K53+M33 -> 20 | N53: =+L53+N33 -> 17
A54: 2 | B54: CIRUGIA DE PEDIATRIA | K54: =+C54+E54+G54+I54 -> 0 | L54: =+D54+F54+H54+J54 -> 0 | M54: =+K54+M34 -> 20 | N54: =+L54+N34 -> 14
A55: 3 | B55: HEMODINAMIA ADULTOS | K55: =+C55+E55+G55+I55 -> 0 | L55: =+D55+F55+H55+J55 -> 0 | M55: =+K55+M35 -> 81 | N55: =+L55+N35 -> 166
A56: 4 | B56: HEMODINAMIA PEDIATRIA | K56: =+C56+E56+G56+I56 -> 0 | L56: =+D56+F56+H56+J56 -> 0 | M56: =+K56+M36 -> 16 | N56: =+L56+N36 -> 22
A57: 5 | B57: ECOCARDIOGRAMA ADULTOS | K57: =+C57+E57+G57+I57 -> 0 | L57: =+D57+F57+H57+J57 -> 0 | M57: =+K57+M37 -> 506 | N57: =+L57+N37 -> 735
A58: 6 | B58: ECOCARDIOGRAMA PEDIATRIA | K58: =+C58+E58+G58+I58 -> 0 | L58: =+D58+F58+H58+J58 -> 0 | M58: =+K58+M38 -> 268 | N58: =+L58+N38 -> 324
A59: 7 | B59: ELECTROCARDIOGRAMAS ADULTOS | K59: =+C59+E59+G59+I59 -> 0 | L59: =+D59+F59+H59+J59 -> 0 | M59: =+K59+M39 -> 206 | N59: =+L59+N39 -> 271
A60: 8 | B60: ELECTROCARDIOGRAMAS PEDIATRIA | K60: =+C60+E60+G60+I60 -> 0 | L60: =+D60+F60+H60+J60 -> 0 | M60: =+K60+M40 -> 200 | N60: =+L60+N40 -> 277
A61: 9 | B61: CONSULTAS MEDICAS ADULTOS | K61: =+C61+E61+G61+I61 -> 0 | L61: =+D61+F61+H61+J61 -> 0 | M61: =+K61+M41 -> 1306 | N61: =+L61+N41 -> 1959
A62: 10 | B62: CONSULTA MEDICAS PEDIATRICAS | K62: =+C62+E62+G62+I62 -> 0 | L62: =+D62+F62+H62+J62 -> 0 | M62: =+K62+M42 -> 667 | N62: =+L62+N42 -> 879
A63: 11 | B63: ESTOMATOLOGIA | K63: =+C63+E63+G63+I63 -> 0 | L63: =+D63+F63+H63+J63 -> 0 | M63: =+K63+M43 -> 64 | N63: =+L63+N43 -> 114
A64: 12 | B64: ENCAMAMIENTO POR COMPLICACIONES | K64: =+C64+E64+G64+I64 -> 0 | L64: =+D64+F64+H64+J64 -> 0 | M64: =+K64+M44 -> 33 | N64: =+L64+N44 -> 39
... A67: 15 | B67: HOLTERS | K67: =+C67+E67+G67+I67 -> 0 | L67: =+D67+F67+H67+J67 -> 0 | M67: =+K67+M47 -> 49 | N67: =+L67+N47 -> 41
A68: Total | C68: =SUM(C53:C67) -> 0 | D68: =SUM(D53:D67) -> 0 | E68: =SUM(E53:E67) -> 0 | F68: =SUM(F53:F67) -> 0 | G68: =SUM(G53:G67) -> 0 | H68: =SUM(H53:H67) -> 0 | I68: =SUM(I53:I67) -> 0 | J68: =SUM(J53:J67) -> 0 | ... N68: =SUM(N53:N67) -> 4967
B71: RESUMEN AÑO 2022
A72: No. | B72: Servicio | C72: Totales
C73: Programado | D73: Ejecutado
A74: 1 | B74: CIRUGIA DE ADULTOS | C74: =+K13+K33+K53 -> 20 | D74: =+L13+L33+L53 -> 17
A75: 2 | B75: CIRUGIA DE PEDIATRIA | C75: =+K14+K34+K54 -> 20 | D75: =+L14+L34+L54 -> 14
A76: 3 | B76: HEMODINAMIA ADULTOS | C76: =+K15+K35+K55 -> 81 | D76: =+L15+L35+L55 -> 166
A77: 4 | B77: HEMODINAMIA PEDIATRIA | C77: =+K16+K36+K56 -> 16 | D77: =+L16+L36+L56 -> 22
A78: 5 | B78: ECOCARDIOGRAMA ADULTOS | C78: =+K17+K37+K57 -> 506 | D78: =+L17+L37+L57 -> 735
A79: 6 | B79: ECOCARDIOGRAMA PEDIATRIA | C79: =+K18+K38+K58 -> 268 | D79: =+L18+L38+L58 -> 324
A80: 7 | B80: ELECTROCARDIOGRAMAS ADULTOS | C80: =+K19+K39+K59 -> 206 | D80: =+L19+L39+L59 -> 271
A81: 8 | B81: ELECTROCARDIOGRAMAS PEDIATRIA | C81: =+K20+K40+K60 -> 200 | D81: =+L20+L40+L60 -> 277
A82: 9 | B82: CONSULTAS MEDICAS ADULTOS | C82: =+K21+K41+K61 -> 1306 | D82: =+L21+L41+L61 -> 1959
A83: 10 | B83: CONSULTA MEDICAS PEDIATRICAS | C83: =+K22+K42+K62 -> 667 | D83: =+L22+L42+L62 -> 879
A84: 11 | B84: ESTOMATOLOGIA | C84: =+K23+K43+K63 -> 64 | D84: =+L23+L43+L63 -> 114
A85: 12 | B85: ENCAMAMIENTO POR COMPLICACIONES | C85: =+K24+K44+K64 -> 33 | D85: =+L24+L44+L64 -> 39
... A88: 15 | B88: HOLTERS | C88: =+K27+K47+K67 -> 49 | D88: =+L27+L47+L67 -> 41
A89: Total | C89: =SUM(C74:C88) -> 3494 | D89: =SUM(D74:D88) -> 4967
B113: Elaborado por: | C113: ___________________________ | F113: Autorizado por: | H113: _______________________________________
C114: VÍctor Cresencio Reyes Porres | H114: Dr. Walter Antonio Mazariegos Samayoa
C115: Jefe de Contabilidad | H115: Director General
B116: Fecha: | C116: 10 de marzo 2,022

Sheet EJEC. FISICA MARZO
L2: CTE-9
A6: UNIDAD DE CIRUGIA CARDIOVASCULAR DE GUATEMALA
A7: 5a. AVENIDA 6-22 ZONA 11
A8: dgunicar@yahoo.es Tel. 24163000
B10: Programacion de metas fisicas versus ejecucion (mensual) primer cuatrimestre
A11: No. | B11: Servicio | C11: Enero | E11: Febrero | G11: Marzo | I11: Abril | K11: Total cuatrimestre
C12: Programado | D12: Ejecutado | E12: Programado | F12: Ejecutado | G12: Programado | H12: Ejecutado | I12: Programado | J12: Ejecutado | K12: Programado | L12: Ejecutado
A13: 1 | B13: CIRUGIA DE ADULTOS | C13: 6 | D13: 9 | E13: 14 | F13: 8 | G13: 14 | H13: 12 | K13: =+C13+E13+G13+I13 -> 34 | L13: =+D13+F13+H13+J13 -> 29
A14: 2 | B14: CIRUGIA DE PEDIATRIA | C14: 6 | D14: 8 | E14: 14 | F14: 6 | G14: 14 | H14: 22 | K14: =+C14+E14+G14+I14 -> 34 | L14: =+D14+F14+H14+J14 -> 36
A15: 3 | B15: HEMODINAMIA ADULTOS | C15: 26 | D15: 84 | E15: 55 | F15: 82 | G15: 55 | H15: 93 | K15: =+C15+E15+G15+I15 -> 136 | L15: =+D15+F15+H15+J15 -> 259
A16: 4 | B16: HEMODINAMIA PEDIATRIA | C16: 5 | D16: 9 | E16: 11 | F16: 13 | G16: 11 | H16: 13 | K16: =+C16+E16+G16+I16 -> 27 | L16: =+D16+F16+H16+J16 -> 35
A17: 5 | B17: ECOCARDIOGRAMA ADULTOS | C17: 158 | D17: 411 | E17: 348 | F17: 324 | G17: 348 | H17: 331 | K17: =+C17+E17+G17+I17 -> 854 | L17: =+D17+F17+H17+J17 -> 1066
A18: 6 | B18: ECOCARDIOGRAMA PEDIATRIA | C18: 85 | D18: 130 | E18: 183 | F18: 194 | G18: 183 | H18: 330 | K18: =+C18+E18+G18+I18 -> 451 | L18: =+D18+F18+H18+J18 -> 654
A19: 7 | B19: ELECTROCARDIOGRAMAS ADULTOS | C19: 65 | D19: 148 | E19: 141 | F19: 123 | G19: 141 | H19: 172 | K19: =+C19+E19+G19+I19 -> 347 | L19: =+D19+F19+H19+J19 -> 443
A20: 8 | B20: ELECTROCARDIOGRAMAS PEDIATRIA | C20: 62 | D20: 132 | E20: 138 | F20: 145 | G20: 138 | H20: 211 | K20: =+C20+E20+G20+I20 -> 338 | L20: =+D20+F20+H20+J20 -> 488
A21: 9 | B21: CONSULTAS MEDICAS ADULTOS | C21: 408 | D21: 935 | E21: 898 | F21: 1024 | G21: 898 | H21: 1155 | K21: =+C21+E21+G21+I21 -> 2204 | L21: =+D21+F21+H21+J21 -> 3114
A22: 10 | B22: CONSULTA MEDICAS PEDIATRICAS | C22: 208 | D22: 398 | E22: 459 | F22: 481 | G22: 459 | H22: 596 | K22: =+C22+E22+G22+I22 -> 1126 | L22: =+D22+F22+H22+J22 -> 1475
A23: 11 | B23: ESTOMATOLOGIA | C23: 20 | D23: 57 | E23: 44 | F23: 57 | G23: 44 | H23: 62 | K23: =+C23+E23+G23+I23 -> 108 | L23: =+D23+F23+H23+J23 -> 176
A24: 12 | B24: ENCAMAMIENTO POR COMPLICACIONES | C24: 10 | D24: 18 | E24: 23 | F24: 21 | G24: 23 | H24: 17 | K24: =+C24+E24+G24+I24 -> 56 | L24: =+D24+F24+H24+J24 -> 56
... A27: 15 | B27: HOLTERS | C27: 14 | D27: 17 | E27: 35 | F27: 24 | G27: 35 | H27: 21 | K27: =+C27+E27+G27+I27 -> 84 | L27: =+D27+F27+H27+J27 -> 62
A28: Total | C28: =SUM(C13:C27) -> 1091 | D28: =SUM(D13:D27) -> 2402 | E28: =SUM(E13:E27) -> 2403 | F28: =SUM(F13:F27) -> 2565 | G28: =SUM(G13:G27) -> 2403 | H28: =SUM(H13:H27) -> 3093 | I28: =SUM(I13:I27) -> 0 | J28: =SUM(J13:J27) -> 0 | ... L28: =SUM(L13:L27) -> 8060
B30: Programacion de metas fisicas versus ejecucion (mensual) segundo cuatrimestre
A31: No. | B31: Servicio | C31: Mayo | E31: Junio | G31: Julio | I31: Agosto | K31: Totales | M31: Total acumulado
C32: Programado | D32: Ejecutado | E32: Programado | F32: Ejecutado | G32: Programado | H32: Ejecutado | I32: Programado | J32: Ejecutado | K32: Programado | L32: Ejecutado | M32: Programado | N32: Ejecutado
A33: 1 | B33: CIRUGIA DE ADULTOS | K33: =+C33+E33+G33+I33 -> 0 | L33: =+D33+F33+H33+J33 -> 0 | M33: =+K33+K13 -> 34 | N33: =+L33+L13 -> 29
A34: 2 | B34: CIRUGIA DE PEDIATRIA | K34: =+C34+E34+G34+I34 -> 0 | L34: =+D34+F34+H34+J34 -> 0 | M34: =+K34+K14 -> 34 | N34: =+L34+L14 -> 36
A35: 3 | B35: HEMODINAMIA ADULTOS | K35: =+C35+E35+G35+I35 -> 0 | L35: =+D35+F35+H35+J35 -> 0 | M35: =+K35+K15 -> 136 | N35: =+L35+L15 -> 259
A36: 4 | B36: HEMODINAMIA PEDIATRIA | K36: =+C36+E36+G36+I36 -> 0 | L36: =+D36+F36+H36+J36 -> 0 | M36: =+K36+K16 -> 27 | N36: =+L36+L16 -> 35
A37: 5 | B37: ECOCARDIOGRAMA ADULTOS | K37: =+C37+E37+G37+I37 -> 0 | L37: =+D37+F37+H37+J37 -> 0 | M37: =+K37+K17 -> 854 | N37: =+L37+L17 -> 1066
A38: 6 | B38: ECOCARDIOGRAMA PEDIATRIA | K38: =+C38+E38+G38+I38 -> 0 | L38: =+D38+F38+H38+J38 -> 0 | M38: =+K38+K18 -> 451 | N38: =+L38+L18 -> 654
A39: 7 | B39: ELECTROCARDIOGRAMAS ADULTOS | K39: =+C39+E39+G39+I39 -> 0 | L39: =+D39+F39+H39+J39 -> 0 | M39: =+K39+K19 -> 347 | N39: =+L39+L19 -> 443
A40: 8 | B40: ELECTROCARDIOGRAMAS PEDIATRIA | K40: =+C40+E40+G40+I40 -> 0 | L40: =+D40+F40+H40+J40 -> 0 | M40: =+K40+K20 -> 338 | N40: =+L40+L20 -> 488
A41: 9 | B41: CONSULTAS MEDICAS ADULTOS | K41: =+C41+E41+G41+I41 -> 0 | L41: =+D41+F41+H41+J41 -> 0 | M41: =+K41+K21 -> 2204 | N41: =+L41+L21 -> 3114
A42: 10 | B42: CONSULTA MEDICAS PEDIATRICAS | K42: =+C42+E42+G42+I42 -> 0 | L42: =+D42+F42+H42+J42 -> 0 | M42: =+K42+K22 -> 1126 | N42: =+L42+L22 -> 1475
A43: 11 | B43: ESTOMATOLOGIA | K43: =+C43+E43+G43+I43 -> 0 | L43: =+D43+F43+H43+J43 -> 0 | M43: =+K43+K23 -> 108 | N43: =+L43+L23 -> 176
A44: 12 | B44: ENCAMAMIENTO POR COMPLICACIONES | K44: =+C44+E44+G44+I44 -> 0 | L44: =+D44+F44+H44+J44 -> 0 | M44: =+K44+K24 -> 56 | N44: =+L44+L24 -> 56
... A47: 15 | B47: HOLTERS | K47: =+C47+E47+G47+I47 -> 0 | L47: =+D47+F47+H47+J47 -> 0 | M47: =+K47+K27 -> 84 | N47: =+L47+L27 -> 62
A48: Total | C48: =SUM(C33:C47) -> 0 | D48: =SUM(D33:D47) -> 0 | E48: =SUM(E33:E47) -> 0 | F48: =SUM(F33:F47) -> 0 | G48: =SUM(G33:G47) -> 0 | H48: =SUM(H33:H47) -> 0 | I48: =SUM(I33:I47) -> 0 | J48: =SUM(J33:J47) -> 0 | ... N48: =SUM(N33:N47) -> 8060
B50: Programacion de metas fisicas versus ejecucion (mensual) tercer cuatrimestre
A51: No. | B51: Servicio | C51: Septiembre | E51: Octubre | G51: Noviembre | I51: Diciembre | K51: Totales | M51: Total acumulado
C52: Programado | D52: Ejecutado | E52: Programado | F52: Ejecutado | G52: Programado | H52: Ejecutado | I52: Programado | J52: Ejecutado | K52: Programado | L52: Ejecutado | M52: Programado | N52: Ejecutado
A53: 1 | B53: CIRUGIA DE ADULTOS | K53: =+C53+E53+G53+I53 -> 0 | L53: =+D53+F53+H53+J53 -> 0 | M53: =+K53+M33 -> 34 | N53: =+L53+N33 -> 29
A54: 2 | B54: CIRUGIA DE PEDIATRIA | K54: =+C54+E54+G54+I54 -> 0 | L54: =+D54+F54+H54+J54 -> 0 | M54: =+K54+M34 -> 34 | N54: =+L54+N34 -> 36
A55: 3 | B55: HEMODINAMIA ADULTOS | K55: =+C55+E55+G55+I55 -> 0 | L55: =+D55+F55+H55+J55 -> 0 | M55: =+K55+M35 -> 136 | N55: =+L55+N35 -> 259
A56: 4 | B56: HEMODINAMIA PEDIATRIA | K56: =+C56+E56+G56+I56 -> 0 | L56: =+D56+F56+H56+J56 -> 0 | M56: =+K56+M36 -> 27 | N56: =+L56+N36 -> 35
A57: 5 | B57: ECOCARDIOGRAMA ADULTOS | K57: =+C57+E57+G57+I57 -> 0 | L57: =+D57+F57+H57+J57 -> 0 | M57: =+K57+M37 -> 854 | N57: =+L57+N37 -> 1066
A58: 6 | B58: ECOCARDIOGRAMA PEDIATRIA | K58: =+C58+E58+G58+I58 -> 0 | L58: =+D58+F58+H58+J58 -> 0 | M58: =+K58+M38 -> 451 | N58: =+L58+N38 -> 654
A59: 7 | B59: ELECTROCARDIOGRAMAS ADULTOS | K59: =+C59+E59+G59+I59 -> 0 | L59: =+D59+F59+H59+J59 -> 0 | M59: =+K59+M39 -> 347 | N59: =+L59+N39 -> 443
A60: 8 | B60: ELECTROCARDIOGRAMAS PEDIATRIA | K60: =+C60+E60+G60+I60 -> 0 | L60: =+D60+F60+H60+J60 -> 0 | M60: =+K60+M40 -> 338 | N60: =+L60+N40 -> 488
A61: 9 | B61: CONSULTAS MEDICAS ADULTOS | K61: =+C61+E61+G61+I61 -> 0 | L61: =+D61+F61+H61+J61 -> 0 | M61: =+K61+M41 -> 2204 | N61: =+L61+N41 -> 3114
A62: 10 | B62: CONSULTA MEDICAS PEDIATRICAS | K62: =+C62+E62+G62+I62 -> 0 | L62: =+D62+F62+H62+J62 -> 0 | M62: =+K62+M42 -> 1126 | N62: =+L62+N42 -> 1475
A63: 11 | B63: ESTOMATOLOGIA | K63: =+C63+E63+G63+I63 -> 0 | L63: =+D63+F63+H63+J63 -> 0 | M63: =+K63+M43 -> 108 | N63: =+L63+N43 -> 176
A64: 12 | B64: ENCAMAMIENTO POR COMPLICACIONES | K64: =+C64+E64+G64+I64 -> 0 | L64: =+D64+F64+H64+J64 -> 0 | M64: =+K64+M44 -> 56 | N64: =+L64+N44 -> 56
... A67: 15 | B67: HOLTERS | K67: =+C67+E67+G67+I67 -> 0 | L67: =+D67+F67+H67+J67 -> 0 | M67: =+K67+M47 -> 84 | N67: =+L67+N47 -> 62
A68: Total | C68: =SUM(C53:C67) -> 0 | D68: =SUM(D53:D67) -> 0 | E68: =SUM(E53:E67) -> 0 | F68: =SUM(F53:F67) -> 0 | G68: =SUM(G53:G67) -> 0 | H68: =SUM(H53:H67) -> 0 | I68: =SUM(I53:I67) -> 0 | J68: =SUM(J53:J67) -> 0 | ... N68: =SUM(N53:N67) -> 8060
B71: RESUMEN AÑO 2022
A72: No. | B72: Servicio | C72: Totales
C73: Programado | D73: Ejecutado
A74: 1 | B74: CIRUGIA DE ADULTOS | C74: =+K13+K33+K53 -> 34 | D74: =+L13+L33+L53 -> 29
A75: 2 | B75: CIRUGIA DE PEDIATRIA | C75: =+K14+K34+K54 -> 34 | D75: =+L14+L34+L54 -> 36
A76: 3 | B76: HEMODINAMIA ADULTOS | C76: =+K15+K35+K55 -> 136 | D76: =+L15+L35+L55 -> 259
A77: 4 | B77: HEMODINAMIA PEDIATRIA | C77: =+K16+K36+K56 -> 27 | D77: =+L16+L36+L56 -> 35
A78: 5 | B78: ECOCARDIOGRAMA ADULTOS | C78: =+K17+K37+K57 -> 854 | D78: =+L17+L37+L57 -> 1066
A79: 6 | B79: ECOCARDIOGRAMA PEDIATRIA | C79: =+K18+K38+K58 -> 451 | D79: =+L18+L38+L58 -> 654
A80: 7 | B80: ELECTROCARDIOGRAMAS ADULTOS | C80: =+K19+K39+K59 -> 347 | D80: =+L19+L39+L59 -> 443
A81: 8 | B81: ELECTROCARDIOGRAMAS PEDIATRIA | C81: =+K20+K40+K60 -> 338 | D81: =+L20+L40+L60 -> 488
A82: 9 | B82: CONSULTAS MEDICAS ADULTOS | C82: =+K21+K41+K61 -> 2204 | D82: =+L21+L41+L61 -> 3114
A83: 10 | B83: CONSULTA MEDICAS PEDIATRICAS | C83: =+K22+K42+K62 -> 1126 | D83: =+L22+L42+L62 -> 1475
A84: 11 | B84: ESTOMATOLOGIA | C84: =+K23+K43+K63 -> 108 | D84: =+L23+L43+L63 -> 176
A85: 12 | B85: ENCAMAMIENTO POR COMPLICACIONES | C85: =+K24+K44+K64 -> 56 | D85: =+L24+L44+L64 -> 56
... A88: 15 | B88: HOLTERS | C88: =+K27+K47+K67 -> 84 | D88: =+L27+L47+L67 -> 62
A89: Total | C89: =SUM(C74:C88) -> 5897 | D89: =SUM(D74:D88) -> 8060
B113: Elaborado por: | C113: ___________________________ | F113: Autorizado por: | H113: _______________________________________
C114: VÍctor Cresencio Reyes Porres | H114: Dr. Walter Antonio Mazariegos Samayoa
C115: Jefe de Contabilidad | H115: Director General
B116: Fecha: | C116: 8 de abril 2,022

Sheet EJEC. FISICA ABRIL
L2: CTE-9
A6: UNIDAD DE CIRUGIA CARDIOVASCULAR DE GUATEMALA
A7: 5a. AVENIDA 6-22 ZONA 11
A8: dgunicar@yahoo.es Tel. 24163000
B10: Programacion de metas fisicas versus ejecucion (mensual) primer cuatrimestre
A11: No. | B11: Servicio | C11: Enero | E11: Febrero | G11: Marzo | I11: Abril | K11: Total cuatrimestre
C12: Programado | D12: Ejecutado | E12: Programado | F12: Ejecutado | G12: Programado | H12: Ejecutado | I12: Programado | J12: Ejecutado | K12: Programado | L12: Ejecutado
A13: 1 | B13: CIRUGIA DE ADULTOS | C13: 6 | D13: 9 | E13: 14 | F13: 8 | G13: 14 | H13: 12 | I13: 12 | J13: 10 | K13: =+C13+E13+G13+I13 -> 46 | L13: =+D13+F13+H13+J13 -> 39
A14: 2 | B14: CIRUGIA DE PEDIATRIA | C14: 6 | D14: 8 | E14: 14 | F14: 6 | G14: 14 | H14: 22 | I14: 12 | J14: 15 | K14: =+C14+E14+G14+I14 -> 46 | L14: =+D14+F14+H14+J14 -> 51
A15: 3 | B15: HEMODINAMIA ADULTOS | C15: 26 | D15: 84 | E15: 55 | F15: 82 | G15: 55 | H15: 93 | I15: 55 | J15: 72 | K15: =+C15+E15+G15+I15 -> 191 | L15: =+D15+F15+H15+J15 -> 331
A16: 4 | B16: HEMODINAMIA PEDIATRIA | C16: 5 | D16: 9 | E16: 11 | F16: 13 | G16: 11 | H16: 13 | I16: 11 | J16: 12 | K16: =+C16+E16+G16+I16 -> 38 | L16: =+D16+F16+H16+J16 -> 47
A17: 5 | B17: ECOCARDIOGRAMA ADULTOS | C17: 158 | D17: 411 | E17: 348 | F17: 324 | G17: 348 | H17: 331 | I17: 347 | J17: 285 | K17: =+C17+E17+G17+I17 -> 1201 | L17: =+D17+F17+H17+J17 -> 1351
A18: 6 | B18: ECOCARDIOGRAMA PEDIATRIA | C18: 85 | D18: 130 | E18: 183 | F18: 194 | G18: 183 | H18: 330 | I18: 183 | J18: 157 | K18: =+C18+E18+G18+I18 -> 634 | L18: =+D18+F18+H18+J18 -> 811
A19: 7 | B19: ELECTROCARDIOGRAMAS ADULTOS | C19: 65 | D19: 148 | E19: 141 | F19: 123 | G19: 141 | H19: 172 | I19: 141 | J19: 103 | K19: =+C19+E19+G19+I19 -> 488 | L19: =+D19+F19+H19+J19 -> 546
A20: 8 | B20: ELECTROCARDIOGRAMAS PEDIATRIA | C20: 62 | D20: 132 | E20: 138 | F20: 145 | G20: 138 | H20: 211 | I20: 134 | J20: 113 | K20: =+C20+E20+G20+I20 -> 472 | L20: =+D20+F20+H20+J20 -> 601
A21: 9 | B21: CONSULTAS MEDICAS ADULTOS | C21: 408 | D21: 935 | E21: 898 | F21: 1024 | G21: 898 | H21: 1155 | I21: 898 | J21: 829 | K21: =+C21+E21+G21+I21 -> 3102 | L21: =+D21+F21+H21+J21 -> 3943
A22: 10 | B22: CONSULTA MEDICAS PEDIATRICAS | C22: 208 | D22: 398 | E22: 459 | F22: 481 | G22: 459 | H22: 596 | I22: 453 | J22: 377 | K22: =+C22+E22+G22+I22 -> 1579 | L22: =+D22+F22+H22+J22 -> 1852
A23: 11 | B23: ESTOMATOLOGIA | C23: 20 | D23: 57 | E23: 44 | F23: 57 | G23: 44 | H23: 62 | I23: 44 | J23: 33 | K23: =+C23+E23+G23+I23 -> 152 | L23: =+D23+F23+H23+J23 -> 209
A24: 12 | B24: ENCAMAMIENTO POR COMPLICACIONES | C24: 10 | D24: 18 | E24: 23 | F24: 21 | G24: 23 | H24: 17 | I24: 23 | J24: 15 | K24: =+C24+E24+G24+I24 -> 79 | L24: =+D24+F24+H24+J24 -> 71
... A27: 15 | B27: HOLTERS | C27: 14 | D27: 17 | E27: 35 | F27: 24 | G27: 35 | H27: 21 | I27: 32 | J27: 21 | K27: =+C27+E27+G27+I27 -> 116 | L27: =+D27+F27+H27+J27 -> 83
A28: Total | C28: =SUM(C13:C27) -> 1091 | D28: =SUM(D13:D27) -> 2402 | E28: =SUM(E13:E27) -> 2403 | F28: =SUM(F13:F27) -> 2565 | G28: =SUM(G13:G27) -> 2403 | H28: =SUM(H13:H27) -> 3093 | I28: =SUM(I13:I27) -> 2381 | J28: =SUM(J13:J27) -> 2095 | ... L28: =SUM(L13:L27) -> 10155
B30: Programacion de metas fisicas versus ejecucion (mensual) segundo cuatrimestre
A31: No. | B31: Servicio | C31: Mayo | E31: Junio | G31: Julio | I31: Agosto | K31: Totales | M31: Total acumulado
C32: Programado | D32: Ejecutado | E32: Programado | F32: Ejecutado | G32: Programado | H32: Ejecutado | I32: Programado | J32: Ejecutado | K32: Programado | L32: Ejecutado | M32: Programado | N32: Ejecutado
A33: 1 | B33: CIRUGIA DE ADULTOS | K33: =+C33+E33+G33+I33 -> 0 | L33: =+D33+F33+H33+J33 -> 0 | M33: =+K33+K13 -> 46 | N33: =+L33+L13 -> 39
A34: 2 | B34: CIRUGIA DE PEDIATRIA | K34: =+C34+E34+G34+I34 -> 0 | L34: =+D34+F34+H34+J34 -> 0 | M34: =+K34+K14 -> 46 | N34: =+L34+L14 -> 51
A35: 3 | B35: HEMODINAMIA ADULTOS | K35: =+C35+E35+G35+I35 -> 0 | L35: =+D35+F35+H35+J35 -> 0 | M35: =+K35+K15 -> 191 | N35: =+L35+L15 -> 331
A36: 4 | B36: HEMODINAMIA PEDIATRIA | K36: =+C36+E36+G36+I36 -> 0 | L36: =+D36+F36+H36+J36 -> 0 | M36: =+K36+K16 -> 38 | N36: =+L36+L16 -> 47
A37: 5 | B37: ECOCARDIOGRAMA ADULTOS | K37: =+C37+E37+G37+I37 -> 0 | L37: =+D37+F37+H37+J37 -> 0 | M37: =+K37+K17 -> 1201 | N37: =+L37+L17 -> 1351
A38: 6 | B38: ECOCARDIOGRAMA PEDIATRIA | K38: =+C38+E38+G38+I38 -> 0 | L38: =+D38+F38+H38+J38 -> 0 | M38: =+K38+K18 -> 634 | N38: =+L38+L18 -> 811
A39: 7 | B39: ELECTROCARDIOGRAMAS ADULTOS | K39: =+C39+E39+G39+I39 -> 0 | L39: =+D39+F39+H39+J39 -> 0 | M39: =+K39+K19 -> 488 | N39: =+L39+L19 -> 546
A40: 8 | B40: ELECTROCARDIOGRAMAS PEDIATRIA | K40: =+C40+E40+G40+I40 -> 0 | L40: =+D40+F40+H40+J40 -> 0 | M40: =+K40+K20 -> 472 | N40: =+L40+L20 -> 601
A41: 9 | B41: CONSULTAS MEDICAS ADULTOS | K41: =+C41+E41+G41+I41 -> 0 | L41: =+D41+F41+H41+J41 -> 0 | M41: =+K41+K21 -> 3102 | N41: =+L41+L21 -> 3943
A42: 10 | B42: CONSULTA MEDICAS PEDIATRICAS | K42: =+C42+E42+G42+I42 -> 0 | L42: =+D42+F42+H42+J42 -> 0 | M42: =+K42+K22 -> 1579 | N42: =+L42+L22 -> 1852
A43: 11 | B43: ESTOMATOLOGIA | K43: =+C43+E43+G43+I43 -> 0 | L43: =+D43+F43+H43+J43 -> 0 | M43: =+K43+K23 -> 152 | N43: =+L43+L23 -> 209
A44: 12 | B44: ENCAMAMIENTO POR COMPLICACIONES | K44: =+C44+E44+G44+I44 -> 0 | L44: =+D44+F44+H44+J44 -> 0 | M44: =+K44+K24 -> 79 | N44: =+L44+L24 -> 71
... A47: 15 | B47: HOLTERS | K47: =+C47+E47+G47+I47 -> 0 | L47: =+D47+F47+H47+J47 -> 0 | M47: =+K47+K27 -> 116 | N47: =+L47+L27 -> 83
A48: Total | C48: =SUM(C33:C47) -> 0 | D48: =SUM(D33:D47) -> 0 | E48: =SUM(E33:E47) -> 0 | F48: =SUM(F33:F47) -> 0 | G48: =SUM(G33:G47) -> 0 | H48: =SUM(H33:H47) -> 0 | I48: =SUM(I33:I47) -> 0 | J48: =SUM(J33:J47) -> 0 | ... N48: =SUM(N33:N47) -> 10155
B50: Programacion de metas fisicas versus ejecucion (mensual) tercer cuatrimestre
A51: No. | B51: Servicio | C51: Septiembre | E51: Octubre | G51: Noviembre | I51: Diciembre | K51: Totales | M51: Total acumulado
C52: Programado | D52: Ejecutado | E52: Programado | F52: Ejecutado | G52: Programado | H52: Ejecutado | I52: Programado | J52: Ejecutado | K52: Programado | L52: Ejecutado | M52: Programado | N52: Ejecutado
A53: 1 | B53: CIRUGIA DE ADULTOS | K53: =+C53+E53+G53+I53 -> 0 | L53: =+D53+F53+H53+J53 -> 0 | M53: =+K53+M33 -> 46 | N53: =+L53+N33 -> 39
A54: 2 | B54: CIRUGIA DE PEDIATRIA | K54: =+C54+E54+G54+I54 -> 0 | L54: =+D54+F54+H54+J54 -> 0 | M54: =+K54+M34 -> 46 | N54: =+L54+N34 -> 51
A55: 3 | B55: HEMODINAMIA ADULTOS | K55: =+C55+E55+G55+I55 -> 0 | L55: =+D55+F55+H55+J55 -> 0 | M55: =+K55+M35 -> 191 | N55: =+L55+N35 -> 331
A56: 4 | B56: HEMODINAMIA PEDIATRIA | K56: =+C56+E56+G56+I56 -> 0 | L56: =+D56+F56+H56+J56 -> 0 | M56: =+K56+M36 -> 38 | N56: =+L56+N36 -> 47
A57: 5 | B57: ECOCARDIOGRAMA ADULTOS | K57: =+C57+E57+G57+I57 -> 0 | L57: =+D57+F57+H57+J57 -> 0 | M57: =+K57+M37 -> 1201 | N57: =+L57+N37 -> 1351
A58: 6 | B58: ECOCARDIOGRAMA PEDIATRIA | K58: =+C58+E58+G58+I58 -> 0 | L58: =+D58+F58+H58+J58 -> 0 | M58: =+K58+M38 -> 634 | N58: =+L58+N38 -> 811
A59: 7 | B59: ELECTROCARDIOGRAMAS ADULTOS | K59: =+C59+E59+G59+I59 -> 0 | L59: =+D59+F59+H59+J59 -> 0 | M59: =+K59+M39 -> 488 | N59: =+L59+N39 -> 546
A60: 8 | B60: ELECTROCARDIOGRAMAS PEDIATRIA | K60: =+C60+E60+G60+I60 -> 0 | L60: =+D60+F60+H60+J60 -> 0 | M60: =+K60+M40 -> 472 | N60: =+L60+N40 -> 601
A61: 9 | B61: CONSULTAS MEDICAS ADULTOS | K61: =+C61+E61+G61+I61 -> 0 | L61: =+D61+F61+H61+J61 -> 0 | M61: =+K61+M41 -> 3102 | N61: =+L61+N41 -> 3943
A62: 10 | B62: CONSULTA MEDICAS PEDIATRICAS | K62: =+C62+E62+G62+I62 -> 0 | L62: =+D62+F62+H62+J62 -> 0 | M62: =+K62+M42 -> 1579 | N62: =+L62+N42 -> 1852
A63: 11 | B63: ESTOMATOLOGIA | K63: =+C63+E63+G63+I63 -> 0 | L63: =+D63+F63+H63+J63 -> 0 | M63: =+K63+M43 -> 152 | N63: =+L63+N43 -> 209
A64: 12 | B64: ENCAMAMIENTO POR COMPLICACIONES | K64: =+C64+E64+G64+I64 -> 0 | L64: =+D64+F64+H64+J64 -> 0 | M64: =+K64+M44 -> 79 | N64: =+L64+N44 -> 71
... A67: 15 | B67: HOLTERS | K67: =+C67+E67+G67+I67 -> 0 | L67: =+D67+F67+H67+J67 -> 0 | M67: =+K67+M47 -> 116 | N67: =+L67+N47 -> 83
A68: Total | C68: =SUM(C53:C67) -> 0 | D68: =SUM(D53:D67) -> 0 | E68: =SUM(E53:E67) -> 0 | F68: =SUM(F53:F67) -> 0 | G68: =SUM(G53:G67) -> 0 | H68: =SUM(H53:H67) -> 0 | I68: =SUM(I53:I67) -> 0 | J68: =SUM(J53:J67) -> 0 | ... N68: =SUM(N53:N67) -> 10155
B71: RESUMEN AÑO 2022
A72: No. | B72: Servicio | C72: Totales
C73: Programado | D73: Ejecutado
A74: 1 | B74: CIRUGIA DE ADULTOS | C74: =+K13+K33+K53 -> 46 | D74: =+L13+L33+L53 -> 39
A75: 2 | B75: CIRUGIA DE PEDIATRIA | C75: =+K14+K34+K54 -> 46 | D75: =+L14+L34+L54 -> 51
A76: 3 | B76: HEMODINAMIA ADULTOS | C76: =+K15+K35+K55 -> 191 | D76: =+L15+L35+L55 -> 331
A77: 4 | B77: HEMODINAMIA PEDIATRIA | C77: =+K16+K36+K56 -> 38 | D77: =+L16+L36+L56 -> 47
A78: 5 | B78: ECOCARDIOGRAMA ADULTOS | C78: =+K17+K37+K57 -> 1201 | D78: =+L17+L37+L57 -> 1351
A79: 6 | B79: ECOCARDIOGRAMA PEDIATRIA | C79: =+K18+K38+K58 -> 634 | D79: =+L18+L38+L58 -> 811
A80: 7 | B80: ELECTROCARDIOGRAMAS ADULTOS | C80: =+K19+K39+K59 -> 488 | D80: =+L19+L39+L59 -> 546
A81: 8 | B81: ELECTROCARDIOGRAMAS PEDIATRIA | C81: =+K20+K40+K60 -> 472 | D81: =+L20+L40+L60 -> 601
A82: 9 | B82: CONSULTAS MEDICAS ADULTOS | C82: =+K21+K41+K61 -> 3102 | D82: =+L21+L41+L61 -> 3943
A83: 10 | B83: CONSULTA MEDICAS PEDIATRICAS | C83: =+K22+K42+K62 -> 1579 | D83: =+L22+L42+L62 -> 1852
A84: 11 | B84: ESTOMATOLOGIA | C84: =+K23+K43+K63 -> 152 | D84: =+L23+L43+L63 -> 209
A85: 12 | B85: ENCAMAMIENTO POR COMPLICACIONES | C85: =+K24+K44+K64 -> 79 | D85: =+L24+L44+L64 -> 71
... A88: 15 | B88: HOLTERS | C88: =+K27+K47+K67 -> 116 | D88: =+L27+L47+L67 -> 83
A89: Total | C89: =SUM(C74:C88) -> 8278 | D89: =SUM(D74:D88) -> 10155
B113: Elaborado por: | C113: ___________________________ | F113: Autorizado por: | H113: _______________________________________
C114: VÍctor Cresencio Reyes Porres | H114: Dr. Walter Antonio Mazariegos Samayoa
C115: Jefe de Contabilidad | H115: Director General
B116: Fecha: | C116: 10 de mayo 2,022

Sheet PRESUPUESTO ENERO
A1: UNIDAD DE CIRUGIA CARDIOVASCULAR DE GUATEMALA
A2: FONDOS ESTATALES
A3: PRESUPUESTO ENERO 2,022
C4: PRESUPUESTO 2022 | D4: TRANSFERENCIAS (+-), AMPLIACION | E4: PRESUPUESTO AJUSTADO 2,020
B5: ASIGNACION DEL ESTADO | C5: 62000000 | E5: =+C5+D5 -> 62000000
B6: TOTAL ASIGNACION DEL ESTADO | C6: =SUM(C5) -> 62000000 | D6: =SUM(D5) -> 0 | E6: =SUM(E5) -> 62000000
C8: =+C4 -> PRESUPUESTO 2022 | D8: TRANSFERENCIAS (+-) | E8: =+E4 -> PRESUPUESTO AJUSTADO 2,020
A9: 011 | B9: RECURSO HUMANO | C9: 28977736 | E9: =+C9+D9 -> 28977736
B10: TOTAL RECURSO HUMANO | C10: =SUM(C9) -> 28977736 | D10: =SUM(D9) -> 0 | E10: =SUM(E9) -> 28977736
B12: GASTOS GENERALES | C12: =+C8 -> PRESUPUESTO 2022 | D12: TRANSFERENCIAS (+-) | E12: =+E8 -> PRESUPUESTO AJUSTADO 2,020
A13: 111 | B13: ENERGIA ELECTRICA | C13: 850471.93 | E13: =+C13+D13 -> 850471.93
A14: 113 | B14: TELEFONIA | C14: 126775 | E14: =+C14+D14 -> 126775
A15: 122 | B15: IMPRESIÓN, ENCUADERNACION Y REPRODUCCION | C15: 60855.58 | E15: =+C15+D15 -> 60855.58
A16: 163 | B16: MANT. Y REP. EQUIPO MEDICO SANITARIO Y DE LAB. | C16: 759242 | E16: =+C16+D16 -> 759242
A17: 168 | B17: MANT. DE SOFTWARE | C17: 1000 | E17: =+C17+D17 -> 1000
A18: 169 | B18: MAT. Y REP. DE OTRAS MAQ. Y EQUIPO | C18: 42320 | E18: =+C18+D18 -> 42320
A19: 171 | B19: MAT. Y REP. DE EDIFICIOS | C19: 43660 | E19: =+C19+D19 -> 43660
A20: 174 | B20: MANT. Y REP. DE INSTALACIONES | C20: 88276 | E20: =+C20+D20 -> 88276
A21: 182 | B21: SERVICIOS MEDICO-SANITARIOS | C21: 3815842 | E21: =+C21+D21 -> 3815842
A22: 197 | B22: SERVICIOS DE VIGILANCIA | C22: 508200 | E22: =+C22+D22 -> 508200
A23: 199 | B23: OTROS SERVICIOS NO PERSONALES | C23: 804720 | E23: =+C23+D23 -> 804720
B24: SUMA GASTOS GENERALES | C24: =SUM(C13:C23) -> 7101362.5 | D24: =SUM(D13:D23) -> 0 | E24: =SUM(E13:E23) -> 7101362.5
B25: MATERIALES Y SUMINISTROS | C25: =+C12 -> PRESUPUESTO 2022 | D25: TRANSFERENCIAS (+-) | E25: =+E12 -> PRESUPUESTO AJUSTADO 2,020
A26: 211 | B26: ALIMENTOS PARA PERSONAS | C26: 697986.85 | E26: =+C26+D26 -> 697986.85
B27: PRENDAS DE VESTIR | E27: =+C27+D27 -> 0
A28: 232 | B28: ACABADOS TEXTILES | C28: 150000 | E28: =+C28+D28 -> 150000
B29: PAPEL DE ESCRITORIO | E29: =+C29+D29 -> 0
B30: ESPECIES TIMBRADAS Y VALORES | E30: =+C30+D30 -> 0
A31: 261 | B31: ELEMENTOS Y COMPUESTOS QUIMICOS | C31: 994656.25 | E31: =+C31+D31 -> 994656.25
A32: 262 | B32: COMBUSTIBLES Y LUBRICANTES | C32: 8000 | E32: =+C32+D32 -> 8000
A33: 266 | B33: PRODUCTOS MEDICINALES Y FARMACEUTICOS | C33: 4583271.8 | E33: =+C33+D33 -> 4583271.8
A34: 267 | B34: TINTES, PINTURAS Y COLORANTES | C34: 9000 | E34: =+C34+D34 -> 9000
A35: 268 | B35: PRODUCTOS PLASTICOS, NYLON, VINIL Y PVC | C35: 141735.52 | E35: =+C35+D35 -> 141735.52
A36: 269 | B36: OTROS PRODUCTOS QUIMICOS Y CONEXOS | C36: 10000 | E36: =+C36+D36 -> 10000
A37: 289 | B37: OTROS PRODUCTOS METALICOS | C37: 6898.5 | E37: =+C37+D37 -> 6898.5
A38: 292 | B38: UTILES DE LIMPIEZA Y PRODUCTOS SANITARIOS | C38: 84179.13 | E38: =+C38+D38 -> 84179.13
A39: 295 | B39: UTILES MENORES MEDICO QUIRURGICOS Y DE LAB. | C39: 18582481 | E39: =+C39+D39 -> 18582481
A40: 297 | B40: UTILES, ACCESORIOS Y MATERIALES ELECTRICOS | C40: 19092.79 | E40: =+C40+D40 -> 19092.79
A41: 298 | B41: ACCESORIOS Y REPUESTOS EN GENERAL | C41: 405097.84 | E41: =+C41+D41 -> 405097.84
A42: 299 | B42: OTROS MATERIALES Y SUMINISTROS | C42: 228502 | E42: =+C42+D42 -> 228502
B43: TOTAL MATERIALES Y SUMINISTROS | C43: =SUM(C26:C42) -> 25920901 | D43: =SUM(D26:D42) -> 0 | E43: =SUM(E26:E42) -> 25920901
B44: TOTAL GENERAL EGRESOS | C44: =C10+C24+C43 -> 62000000 | D44: =D10+D24+D43 -> 0 | E44: =E10+E24+E43 -> 62000000
A50: _______________________________
A51: Víctor Cresencio Reyes Porres
A52: Jefe de Contabilidad

Sheet PRESUPUESTO FEBRERO
A1: UNIDAD DE CIRUGIA CARDIOVASCULAR DE GUATEMALA
A2: FONDOS ESTATALES
A3: PRESUPUESTO FEBRERO 2,022
C4: PRESUPUESTO 2022 | D4: TRANSFERENCIAS (+-), AMPLIACION | E4: PRESUPUESTO AJUSTADO 2,020
B5: ASIGNACION DEL ESTADO | C5: 62000000 | E5: =+C5+D5 -> 62000000
B6: TOTAL ASIGNACION DEL ESTADO | C6: =SUM(C5) -> 62000000 | D6: =SUM(D5) -> 0 | E6: =SUM(E5) -> 62000000
C8: =+C4 -> PRESUPUESTO 2022 | D8: TRANSFERENCIAS (+-) | E8: =+E4 -> PRESUPUESTO AJUSTADO 2,020
A9: 011 | B9: RECURSO HUMANO | C9: 28977736 | E9: =+C9+D9 -> 28977736
B10: TOTAL RECURSO HUMANO | C10: =SUM(C9) -> 28977736 | D10: =SUM(D9) -> 0 | E10: =SUM(E9) -> 28977736
B12: GASTOS GENERALES | C12: =+C8 -> PRESUPUESTO 2022 | D12: TRANSFERENCIAS (+-) | E12: =+E8 -> PRESUPUESTO AJUSTADO 2,020
A13: 111 | B13: ENERGIA ELECTRICA | C13: 850471.93 | E13: =+C13+D13 -> 850471.93
A14: 113 | B14: TELEFONIA | C14: 126775 | E14: =+C14+D14 -> 126775
A15: 122 | B15: IMPRESIÓN, ENCUADERNACION Y REPRODUCCION | C15: 60855.58 | E15: =+C15+D15 -> 60855.58
A16: 163 | B16: MANT. Y REP. EQUIPO MEDICO SANITARIO Y DE LAB. | C16: 759242 | E16: =+C16+D16 -> 759242
A17: 168 | B17: MANT. DE SOFTWARE | C17: 1000 | E17: =+C17+D17 -> 1000
A18: 169 | B18: MAT. Y REP. DE OTRAS MAQ. Y EQUIPO | C18: 42320 | E18: =+C18+D18 -> 42320
A19: 171 | B19: MAT. Y REP. DE EDIFICIOS | C19: 43660 | E19: =+C19+D19 -> 43660
A20: 174 | B20: MANT. Y REP. DE INSTALACIONES | C20: 88276 | E20: =+C20+D20 -> 88276
A21: 182 | B21: SERVICIOS MEDICO-SANITARIOS | C21: 3815842 | E21: =+C21+D21 -> 3815842
A22: 197 | B22: SERVICIOS DE VIGILANCIA | C22: 508200 | E22: =+C22+D22 -> 508200
A23: 199 | B23: OTROS SERVICIOS NO PERSONALES | C23: 804720 | E23: =+C23+D23 -> 804720
B24: SUMA GASTOS GENERALES | C24: =SUM(C13:C23) -> 7101362.5 | D24: =SUM(D13:D23) -> 0 | E24: =SUM(E13:E23) -> 7101362.5
B25: MATERIALES Y SUMINISTROS | C25: =+C12 -> PRESUPUESTO 2022 | D25: TRANSFERENCIAS (+-) | E25: =+E12 -> PRESUPUESTO AJUSTADO 2,020
A26: 211 | B26: ALIMENTOS PARA PERSONAS | C26: 697986.85 | E26: =+C26+D26 -> 697986.85
B27: PRENDAS DE VESTIR | E27: =+C27+D27 -> 0
A28: 232 | B28: ACABADOS TEXTILES | C28: 150000 | E28: =+C28+D28 -> 150000
B29: PAPEL DE ESCRITORIO | E29: =+C29+D29 -> 0
B30: ESPECIES TIMBRADAS Y VALORES | E30: =+C30+D30 -> 0
A31: 261 | B31: ELEMENTOS Y COMPUESTOS QUIMICOS | C31: 994656.25 | E31: =+C31+D31 -> 994656.25
A32: 262 | B32: COMBUSTIBLES Y LUBRICANTES | C32: 8000 | E32: =+C32+D32 -> 8000
A33: 266 | B33: PRODUCTOS MEDICINALES Y FARMACEUTICOS | C33: 4583271.8 | E33: =+C33+D33 -> 4583271.8
A34: 267 | B34: TINTES, PINTURAS Y COLORANTES | C34: 9000 | E34: =+C34+D34 -> 9000
A35: 268 | B35: PRODUCTOS PLASTICOS, NYLON, VINIL Y PVC | C35: 141735.52 | E35: =+C35+D35 -> 141735.52
A36: 269 | B36: OTROS PRODUCTOS QUIMICOS Y CONEXOS | C36: 10000 | E36: =+C36+D36 -> 10000
A37: 289 | B37: OTROS PRODUCTOS METALICOS | C37: 6898.5 | E37: =+C37+D37 -> 6898.5
A38: 292 | B38: UTILES DE LIMPIEZA Y PRODUCTOS SANITARIOS | C38: 84179.13 | E38: =+C38+D38 -> 84179.13
A39: 295 | B39: UTILES MENORES MEDICO QUIRURGICOS Y DE LAB. | C39: 18582481 | E39: =+C39+D39 -> 18582481
A40: 297 | B40: UTILES, ACCESORIOS Y MATERIALES ELECTRICOS | C40: 19092.79 | E40: =+C40+D40 -> 19092.79
A41: 298 | B41: ACCESORIOS Y REPUESTOS EN GENERAL | C41: 405097.84 | E41: =+C41+D41 -> 405097.84
A42: 299 | B42: OTROS MATERIALES Y SUMINISTROS | C42: 228502 | E42: =+C42+D42 -> 228502
B43: TOTAL MATERIALES Y SUMINISTROS | C43: =SUM(C26:C42) -> 25920901 | D43: =SUM(D26:D42) -> 0 | E43: =SUM(E26:E42) -> 25920901
B44: TOTAL GENERAL EGRESOS | C44: =C10+C24+C43 -> 62000000 | D44: =D10+D24+D43 -> 0 | E44: =E10+E24+E43 -> 62000000
A50: _______________________________
A51: Víctor Cresencio Reyes Porres
A52: Jefe de Contabilidad

Sheet PRESUPUESTO MARZO
A1: UNIDAD DE CIRUGIA CARDIOVASCULAR DE GUATEMALA
A2: FONDOS ESTATALES
A3: PRESUPUESTO MARZO 2,022
C4: PRESUPUESTO 2022 | D4: TRANSFERENCIAS (+-), AMPLIACION | E4: PRESUPUESTO AJUSTADO 2,020
B5: ASIGNACION DEL ESTADO | C5: 62000000 | E5: =+C5+D5 -> 62000000
B6: TOTAL ASIGNACION DEL ESTADO | C6: =SUM(C5) -> 62000000 | D6: =SUM(D5) -> 0 | E6: =SUM(E5) -> 62000000
C8: =+C4 -> PRESUPUESTO 2022 | D8: TRANSFERENCIAS (+-) | E8: =+E4 -> PRESUPUESTO AJUSTADO 2,020
A9: 011 | B9: RECURSO HUMANO | C9: 28977736 | E9: =+C9+D9 -> 28977736
B10: TOTAL RECURSO HUMANO | C10: =SUM(C9) -> 28977736 | D10: =SUM(D9) -> 0 | E10: =SUM(E9) -> 28977736
B12: GASTOS GENERALES | C12: =+C8 -> PRESUPUESTO 2022 | D12: TRANSFERENCIAS (+-) | E12: =+E8 -> PRESUPUESTO AJUSTADO 2,020
A13: 111 | B13: ENERGIA ELECTRICA | C13: 850471.93 | E13: =+C13+D13 -> 850471.93
A14: 113 | B14: TELEFONIA | C14: 126775 | E14: =+C14+D14 -> 126775
A15: 122 | B15: IMPRESIÓN, ENCUADERNACION Y REPRODUCCION | C15: 60855.58 | E15: =+C15+D15 -> 60855.58
A16: 163 | B16: MANT. Y REP. EQUIPO MEDICO SANITARIO Y DE LAB. | C16: 759242 | E16: =+C16+D16 -> 759242
A17: 168 | B17: MANT. DE SOFTWARE | C17: 1000 | E17: =+C17+D17 -> 1000
A18: 169 | B18: MAT. Y REP. DE OTRAS MAQ. Y EQUIPO | C18: 42320 | E18: =+C18+D18 -> 42320
A19: 171 | B19: MAT. Y REP. DE EDIFICIOS | C19: 43660 | E19: =+C19+D19 -> 43660
A20: 174 | B20: MANT. Y REP. DE INSTALACIONES | C20: 88276 | E20: =+C20+D20 -> 88276
A21: 182 | B21: SERVICIOS MEDICO-SANITARIOS | C21: 3815842 | E21: =+C21+D21 -> 3815842
A22: 197 | B22: SERVICIOS DE VIGILANCIA | C22: 508200 | E22: =+C22+D22 -> 508200
A23: 199 | B23: OTROS SERVICIOS NO PERSONALES | C23: 804720 | E23: =+C23+D23 -> 804720
B24: SUMA GASTOS GENERALES | C24: =SUM(C13:C23) -> 7101362.5 | D24: =SUM(D13:D23) -> 0 | E24: =SUM(E13:E23) -> 7101362.5
B25: MATERIALES Y SUMINISTROS | C25: =+C12 -> PRESUPUESTO 2022 | D25: TRANSFERENCIAS (+-) | E25: =+E12 -> PRESUPUESTO AJUSTADO 2,020
A26: 211 | B26: ALIMENTOS PARA PERSONAS | C26: 697986.85 | E26: =+C26+D26 -> 697986.85
B27: PRENDAS DE VESTIR | E27: =+C27+D27 -> 0
A28: 232 | B28: ACABADOS TEXTILES | C28: 150000 | E28: =+C28+D28 -> 150000
B29: PAPEL DE ESCRITORIO | E29: =+C29+D29 -> 0
B30: ESPECIES TIMBRADAS Y VALORES | E30: =+C30+D30 -> 0
A31: 261 | B31: ELEMENTOS Y COMPUESTOS QUIMICOS | C31: 994656.25 | E31: =+C31+D31 -> 994656.25
A32: 262 | B32: COMBUSTIBLES Y LUBRICANTES | C32: 8000 | E32: =+C32+D32 -> 8000
A33: 266 | B33: PRODUCTOS MEDICINALES Y FARMACEUTICOS | C33: 4583271.8 | E33: =+C33+D33 -> 4583271.8
A34: 267 | B34: TINTES, PINTURAS Y COLORANTES | C34: 9000 | E34: =+C34+D34 -> 9000
A35: 268 | B35: PRODUCTOS PLASTICOS, NYLON, VINIL Y PVC | C35: 141735.52 | E35: =+C35+D35 -> 141735.52
A36: 269 | B36: OTROS PRODUCTOS QUIMICOS Y CONEXOS | C36: 10000 | E36: =+C36+D36 -> 10000
A37: 289 | B37: OTROS PRODUCTOS METALICOS | C37: 6898.5 | E37: =+C37+D37 -> 6898.5
A38: 292 | B38: UTILES DE LIMPIEZA Y PRODUCTOS SANITARIOS | C38: 84179.13 | E38: =+C38+D38 -> 84179.13
A39: 295 | B39: UTILES MENORES MEDICO QUIRURGICOS Y DE LAB. | C39: 18582481 | E39: =+C39+D39 -> 18582481
A40: 297 | B40: UTILES, ACCESORIOS Y MATERIALES ELECTRICOS | C40: 19092.79 | E40: =+C40+D40 -> 19092.79
A41: 298 | B41: ACCESORIOS Y REPUESTOS EN GENERAL | C41: 405097.84 | E41: =+C41+D41 -> 405097.84
A42: 299 | B42: OTROS MATERIALES Y SUMINISTROS | C42: 228502 | E42: =+C42+D42 -> 228502
B43: TOTAL MATERIALES Y SUMINISTROS | C43: =SUM(C26:C42) -> 25920901 | D43: =SUM(D26:D42) -> 0 | E43: =SUM(E26:E42) -> 25920901
B44: TOTAL GENERAL EGRESOS | C44: =C10+C24+C43 -> 62000000 | D44: =D10+D24+D43 -> 0 | E44: =E10+E24+E43 -> 62000000
A50: _______________________________
A51: Víctor Cresencio Reyes Porres
A52: Jefe de Contabilidad

Sheet PRESUPUESTO ABRIL
A1: UNIDAD DE CIRUGIA CARDIOVASCULAR DE GUATEMALA
A2: FONDOS ESTATALES
A3: PRESUPUESTO ABRIL 2,022
C4: PRESUPUESTO 2022 | D4: TRANSFERENCIAS (+-), AMPLIACION | E4: PRESUPUESTO AJUSTADO 2,020
B5: ASIGNACION DEL ESTADO | C5: 62000000 | E5: =+C5+D5 -> 62000000
B6: TOTAL ASIGNACION DEL ESTADO | C6: =SUM(C5) -> 62000000 | D6: =SUM(D5) -> 0 | E6: =SUM(E5) -> 62000000
C8: =+C4 -> PRESUPUESTO 2022 | D8: TRANSFERENCIAS (+-) | E8: =+E4 -> PRESUPUESTO AJUSTADO 2,020
A9: 011 | B9: RECURSO HUMANO | C9: 28977736 | E9: =+C9+D9 -> 28977736
B10: TOTAL RECURSO HUMANO | C10: =SUM(C9) -> 28977736 | D10: =SUM(D9) -> 0 | E10: =SUM(E9) -> 28977736
B12: GASTOS GENERALES | C12: =+C8 -> PRESUPUESTO 2022 | D12: TRANSFERENCIAS (+-) | E12: =+E8 -> PRESUPUESTO AJUSTADO 2,020
A13: 111 | B13: ENERGIA ELECTRICA | C13: 850471.93 | E13: =+C13+D13 -> 850471.93
A14: 113 | B14: TELEFONIA | C14: 126775 | E14: =+C14+D14 -> 126775
A15: 122 | B15: IMPRESIÓN, ENCUADERNACION Y REPRODUCCION | C15: 60855.58 | E15: =+C15+D15 -> 60855.58
A16: 163 | B16: MANT. Y REP. EQUIPO MEDICO SANITARIO Y DE LAB. | C16: 759242 | E16: =+C16+D16 -> 759242
A17: 168 | B17: MANT. DE SOFTWARE | C17: 1000 | E17: =+C17+D17 -> 1000
A18: 169 | B18: MAT. Y REP. DE OTRAS MAQ. Y EQUIPO | C18: 42320 | E18: =+C18+D18 -> 42320
A19: 171 | B19: MAT. Y REP. DE EDIFICIOS | C19: 43660 | E19: =+C19+D19 -> 43660
A20: 174 | B20: MANT. Y REP. DE INSTALACIONES | C20: 88276 | E20: =+C20+D20 -> 88276
A21: 182 | B21: SERVICIOS MEDICO-SANITARIOS | C21: 3815842 | E21: =+C21+D21 -> 3815842
A22: 197 | B22: SERVICIOS DE VIGILANCIA | C22: 508200 | E22: =+C22+D22 -> 508200
A23: 199 | B23: OTROS SERVICIOS NO PERSONALES | C23: 804720 | E23: =+C23+D23 -> 804720
B24: SUMA GASTOS GENERALES | C24: =SUM(C13:C23) -> 7101362.5 | D24: =SUM(D13:D23) -> 0 | E24: =SUM(E13:E23) -> 7101362.5
B25: MATERIALES Y SUMINISTROS | C25: =+C12 -> PRESUPUESTO 2022 | D25: TRANSFERENCIAS (+-) | E25: =+E12 -> PRESUPUESTO AJUSTADO 2,020
A26: 211 | B26: ALIMENTOS PARA PERSONAS | C26: 697986.85 | E26: =+C26+D26 -> 697986.85
B27: PRENDAS DE VESTIR | E27: =+C27+D27 -> 0
A28: 232 | B28: ACABADOS TEXTILES | C28: 150000 | E28: =+C28+D28 -> 150000
B29: PAPEL DE ESCRITORIO | E29: =+C29+D29 -> 0
B30: ESPECIES TIMBRADAS Y VALORES | E30: =+C30+D30 -> 0
A31: 261 | B31: ELEMENTOS Y COMPUESTOS QUIMICOS | C31: 994656.25 | E31: =+C31+D31 -> 994656.25
A32: 262 | B32: COMBUSTIBLES Y LUBRICANTES | C32: 8000 | E32: =+C32+D32 -> 8000
A33: 266 | B33: PRODUCTOS MEDICINALES Y FARMACEUTICOS | C33: 4583271.8 | E33: =+C33+D33 -> 4583271.8
A34: 267 | B34: TINTES, PINTURAS Y COLORANTES | C34: 9000 | E34: =+C34+D34 -> 9000
A35: 268 | B35: PRODUCTOS PLASTICOS, NYLON, VINIL Y PVC | C35: 141735.52 | E35: =+C35+D35 -> 141735.52
A36: 269 | B36: OTROS PRODUCTOS QUIMICOS Y CONEXOS | C36: 10000 | E36: =+C36+D36 -> 10000
A37: 289 | B37: OTROS PRODUCTOS METALICOS | C37: 6898.5 | E37: =+C37+D37 -> 6898.5
A38: 292 | B38: UTILES DE LIMPIEZA Y PRODUCTOS SANITARIOS | C38: 84179.13 | E38: =+C38+D38 -> 84179.13
A39: 295 | B39: UTILES MENORES MEDICO QUIRURGICOS Y DE LAB. | C39: 18582481 | E39: =+C39+D39 -> 18582481
A40: 297 | B40: UTILES, ACCESORIOS Y MATERIALES ELECTRICOS | C40: 19092.79 | E40: =+C40+D40 -> 19092.79
A41: 298 | B41: ACCESORIOS Y REPUESTOS EN GENERAL | C41: 405097.84 | E41: =+C41+D41 -> 405097.84
A42: 299 | B42: OTROS MATERIALES Y SUMINISTROS | C42: 228502 | E42: =+C42+D42 -> 228502
B43: TOTAL MATERIALES Y SUMINISTROS | C43: =SUM(C26:C42) -> 25920901 | D43: =SUM(D26:D42) -> 0 | E43: =SUM(E26:E42) -> 25920901
B44: TOTAL GENERAL EGRESOS | C44: =C10+C24+C43 -> 62000000 | D44: =D10+D24+D43 -> 0 | E44: =E10+E24+E43 -> 62000000
A50: _______________________________
A51: Víctor Cresencio Reyes Porres
A52: Jefe de Contabilidad

Sheet APORTES ENERO
A1: APORTES MINISTERIO DE SALUD PUBLICA Y ASISTENCIA SOCIAL AÑO 2,022
A3: MES | B3: VALOR | C3: FECHA | D3: RECIBO | E3: N/A
A4: ENERO | B4: 0
A5: TOTALES… | B5: =SUM(B4:B4) -> 0
A11: ____________________________________
A12: Victor Cresencio Reyes Porres
A13: Jefe de Contabilidad
A14: UNICAR

Sheet APORTES FEBRERO
A1: APORTES MINISTERIO DE SALUD PUBLICA Y ASISTENCIA SOCIAL AÑO 2,022
A3: MES | B3: VALOR | C3: FECHA | D3: RECIBO | E3: N/A
A4: ENERO | B4: 0
A5: FEBRERO | B5: 0
A6: TOTALES… | B6: =SUM(B4:B5) -> 0
A12: ____________________________________
A13: Victor Cresencio Reyes Porres
A14: Jefe de Contabilidad
A15: UNICAR

Sheet APORTES MARZO
A1: APORTES MINISTERIO DE SALUD PUBLICA Y ASISTENCIA SOCIAL AÑO 2,022
A3: MES | B3: VALOR | C3: FECHA | D3: RECIBO | E3: N/A
A4: ENERO | B4: 0
A5: FEBRERO | B5: 0
A6: MARZO | B6: 0
A7: TOTALES… | B7: =SUM(B4:B6) -> 0
A13: ____________________________________
A14: Victor Cresencio Reyes Porres
A15: Jefe de Contabilidad
A16: UNICAR

Sheet APORTES ABRIL
A1: APORTES MINISTERIO DE SALUD PUBLICA Y ASISTENCIA SOCIAL AÑO 2,022
A3: MES | B3: VALOR | C3: FECHA | D3: RECIBO | E3: N/A
A4: ENERO | B4: 0
A5: FEBRERO | B5: 0
A6: MARZO | B6: 0
A7: ABRIL | B7: 12400000 | C7: 44670 | D7: 261067 | E7: 2610612131
A8: TOTALES… | B8: =SUM(B4:B7) -> 12400000
A14: ____________________________________
A15: Victor Cresencio Reyes Porres
A16: Jefe de Contabilidad
A17: UNICAR
