Workbook

Sheet ENERO CTE-5
B8: ÀREA FINANCIERA | K8: CTE-5
A10: UNIDAD DE CIRUGIA CARDIOVASCULAR DE GUATEMALA
A11: 5a. AVENIDA 6-22 ZONA 11
A12: dgunicar@yahoo.es Tel. 24163000
A14: Programación y ejecucion mensual por tipo de gasto año 2022, Expresado en Quetzales primer cuatrimestre 2022
A15: No. | B15: CATEGORIA DE GASTO | C15: ENERO | E15: FEBRERO | G15: MARZO | I15: ABRIL | K15: TOTAL CUATRIMESTRE
C16: PRESUPUESTO | D16: REAL | E16: PRESUPUESTO | F16: REAL | G16: PRESUPUESTO | H16: REAL | I16: PRESUPUESTO | J16: REAL | K16: PRESUPUESTO | L16: REAL
A17: 011 | B17: RECURSO HUMANO | C17: 2414811.3 | D17: 2367268.7 | K17: =+C17+E17+G17+I17 -> 2414811.3 | L17: =+D17+F17+H17+J17 -> 2367268.7
B19: GASTOS DE FUNCIONAMIENTO | C19: =+C31+C47 -> 2612557.9 | D19: =+D31+D47 -> 0 | E19: =+E31+E47 -> 0 | F19: =+F31+F47 -> 0 | G19: =+G31+G47 -> 0 | H19: =+H31+H47 -> 0 | I19: =+I31+I47 -> 0 | J19: =+J31+J47 -> 0 | K19: =+C19+E19+G19+I19 -> 2612557.9 | L19: =+D19+F19+H19+J19 -> 0
A20: 111 | B20: ENERGIA ELECTRICA | C20: 0 | D20: 0 | K20: =+C20+E20+G20+I20 -> 0 | L20: =+D20+F20+H20+J20 -> 0
A21: 113 | B21: TELEFONIA | C21: 10564.58 | D21: 0 | K21: =+C21+E21+G21+I21 -> 10564.58 | L21: =+D21+F21+H21+J21 -> 0
A22: 122 | B22: IMPRESIÓN, ENCUADERNACION Y REPRODUCCION | C22: 0 | D22: 0 | K22: =+C22+E22+G22+I22 -> 0 | L22: =+D22+F22+H22+J22 -> 0
A23: 163 | B23: MANT. Y REP. EQUIPO MEDICO SANITARIO Y DE LAB. | C23: 0 | D23: 0 | K23: =+C23+E23+G23+I23 -> 0 | L23: =+D23+F23+H23+J23 -> 0
A24: 168 | B24: MANTENIMIENTO Y REPARACION DE EQUIPO DE COMPUTO | C24: 0 | D24: 0 | K24: =+C24+E24+G24+I24 -> 0 | L24: =+D24+F24+H24+J24 -> 0
A25: 169 | B25: MANT. Y REP. DE OTRAS MAQ. Y EQUIPO | C25: 3526.67 | D25: 0 | K25: =+C25+E25+G25+I25 -> 3526.67 | L25: =+D25+F25+H25+J25 -> 0
A26: 171 | B26: MANT. Y REPARACION DE EDIFICIOS | C26: 3638.33 | D26: 0 | K26: =+C26+E26+G26+I26 -> 3638.33 | L26: =+D26+F26+H26+J26 -> 0
A27: 174 | B27: MANT. Y REP. DE INSTALACIONES | C27: 7356.33 | D27: 0 | K27: =+C27+E27+G27+I27 -> 7356.33 | L27: =+D27+F27+H27+J27 -> 0
A28: 182 | B28: SERVICIOS MEDICO-SANITARIOS | C28: 317986.83 | D28: 0 | K28: =+C28+E28+G28+I28 -> 317986.83 | L28: =+D28+F28+H28+J28 -> 0
A29: 197 | B29: SERVICIOS DE VIGILANCIA | C29: 42350 | D29: 0 | K29: =+C29+E29+G29+I29 -> 42350 | L29: =+D29+F29+H29+J29 -> 0
A30: 199 | B30: OTROS SERVICIOS NO PERSONALES | C30: 67060 | D30: 0 | K30: =+C30+E30+G30+I30 -> 67060 | L30: =+D30+F30+H30+J30 -> 0
B31: SUMA GASTOS GENERALES | C31: =SUM(C20:C30) -> 452482.74 | D31: =SUM(D20:D30) -> 0 | E31: =SUM(E20:E30) -> 0 | F31: =SUM(F20:F30) -> 0 | G31: =SUM(G20:G30) -> 0 | H31: =SUM(H20:H30) -> 0 | I31: =SUM(I20:I30) -> 0 | J31: =SUM(J20:J30) -> 0 | ... L31: =SUM(L20:L30) -> 0
B32: MATERIALES Y SUMINISTROS
A33: 211 | B33: ALIMENTOS PARA PERSONAS | C33: 58165.57 | D33: 0 | K33: =+C33+E33+G33+I33 -> 58165.57 | L33: =+D33+F33+H33+J33 -> 0
A34: 232 | B34: ACABADOS TEXTILES | C34: 12500 | D34: 0 | K34: =+C34+E34+G34+I34 -> 12500 | L34: =+D34+F34+H34+J34 -> 0
A35: 261 | B35: ELEMENTOS Y COMPUESTOS QUIMICOS | C35: 82888.02 | D35: 0 | K35: =+C35+E35+G35+I35 -> 82888.02 | L35: =+D35+F35+H35+J35 -> 0
A36: 262 | B36: COMBUSTIBLES Y LUBRICANTES | C36: 666.67 | D36: 0 | K36: =+C36+E36+G36+I36 -> 666.67 | L36: =+D36+F36+H36+J36 -> 0
A37: 266 | B37: PRODUCTOS MEDICINALES Y FARMACEUTICOS | C37: 381939.32 | D37: 0 | K37: =+C37+E37+G37+I37 -> 381939.32 | L37: =+D37+F37+H37+J37 -> 0
A38: 267 | B38: TINTES, PINTURAS Y COLORANTES | C38: 750 | D38: 0 | K38: =+C38+E38+G38+I38 -> 750 | L38: =+D38+F38+H38+J38 -> 0
A39: 268 | B39: PRODUCTOS PLASTICOS, NYLON, VINIL Y PVC | C39: 11811.29 | D39: 0 | K39: =+C39+E39+G39+I39 -> 11811.29 | L39: =+D39+F39+H39+J39 -> 0
A40: 269 | B40: OTROS PRODUCTOS QUIMICOS Y CONEXOS | C40: 833.33 | D40: 0 | K40: =+C40+E40+G40+I40 -> 833.33 | L40: =+D40+F40+H40+J40 -> 0
A41: 289 | B41: OTROS PRODUCTOS METALICOS | C41: 574.88 | D41: 0 | K41: =+C41+E41+G41+I41 -> 574.88 | L41: =+D41+F41+H41+J41 -> 0
A42: 292 | B42: UTILES DE LIMPIEZA Y PRODUCTOS SANITARIOS | C42: 7014.93 | D42: 0 | K42: =+C42+E42+G42+I42 -> 7014.93 | L42: =+D42+F42+H42+J42 -> 0
A43: 295 | B43: UTILES MENORES MEDICO QUIRURGICOS Y DE LAB. | C43: 1548540.1 | D43: 0 | K43: =+C43+E43+G43+I43 -> 1548540.1 | L43: =+D43+F43+H43+J43 -> 0
A44: 297 | B44: UTILES, ACCESORIOS Y MATERIALES ELECTRICOS | C44: 1591.07 | D44: 0 | K44: =+C44+E44+G44+I44 -> 1591.07 | L44: =+D44+F44+H44+J44 -> 0
... A46: 299 | B46: OTROS MATERIALES Y SUMINISTROS | C46: 19041.83 | D46: 0 | K46: =+C46+E46+G46+I46 -> 19041.83 | L46: =+D46+F46+H46+J46 -> 0
B47: TOTAL MATERIALES Y SUMINISTROS | C47: =SUM(C33:C46) -> 2160075.1 | D47: =SUM(D33:D46) -> 0 | E47: =SUM(E33:E46) -> 0 | F47: =SUM(F33:F46) -> 0 | G47: =SUM(G33:G46) -> 0 | H47: =SUM(H33:H46) -> 0 | I47: =SUM(I33:I46) -> 0 | J47: =SUM(J33:J46) -> 0 | ... L47: =SUM(L33:L46) -> 0
B48: PROPIEDAD PLANTA Y EQUIPO
B49: EQUIPO MEDICO SANITARIO Y DE LABORATORIO | C49: 0 | D49: 0 | E49: 0 | F49: 0 | H49: 0 | K49: =+C49+E49+G49+I49 -> 0 | L49: =+D49+F49+H49+J49 -> 0
B50: OTRAS MAQUINARIAS Y EQUIPOS | C50: 0 | D50: 0 | E50: 0 | F50: 0 | H50: 0 | I50: 0 | K50: =+C50+E50+G50+I50 -> 0 | L50: =+D50+F50+H50+J50 -> 0
B51: TOTAL PROPIEDAD PLANTA Y EQUIPO | C51: =SUM(C49:C50) -> 0 | D51: =SUM(D49:D50) -> 0 | E51: =SUM(E49:E50) -> 0 | F51: =SUM(F49:F50) -> 0 | G51: =SUM(G49:G50) -> 0 | H51: =SUM(H49:H50) -> 0 | I51: =SUM(I49:I50) -> 0 | J51: =SUM(J49:J50) -> 0 | ... L51: =SUM(L49:L50) -> 0
...

Sheet FEBRERO CTE-5
B8: ÀREA FINANCIERA | K8: CTE-5
A10: UNIDAD DE CIRUGIA CARDIOVASCULAR DE GUATEMALA
A11: 5a. AVENIDA 6-22 ZONA 11
A12: dgunicar@yahoo.es Tel. 24163000
A14: Programación y ejecucion mensual por tipo de gasto año 2022, Expresado en Quetzales primer cuatrimestre 2022
A15: No. | B15: CATEGORIA DE GASTO | C15: ENERO | E15: FEBRERO | G15: MARZO | I15: ABRIL | K15: TOTAL CUATRIMESTRE
C16: PRESUPUESTO | D16: REAL | E16: PRESUPUESTO | F16: REAL | G16: PRESUPUESTO | H16: REAL | I16: PRESUPUESTO | J16: REAL | K16: PRESUPUESTO | L16: REAL
A17: 011 | B17: RECURSO HUMANO | C17: 2414811.3 | D17: 2367268.7 | E17: 2414811.3 | F17: 2396683.9 | K17: =+C17+E17+G17+I17 -> 4829622.7 | L17: =+D17+F17+H17+J17 -> 4763952.6
B19: GASTOS DE FUNCIONAMIENTO | C19: =+C31+C47 -> 2612557.9 | D19: =+D31+D47 -> 0 | E19: =+E31+E47 -> 2689873.5 | F19: =+F31+F47 -> 16502.89 | G19: =+G31+G47 -> 0 | H19: =+H31+H47 -> 0 | I19: =+I31+I47 -> 0 | J19: =+J31+J47 -> 0 | K19: =+C19+E19+G19+I19 -> 5302431.4 | L19: =+D19+F19+H19+J19 -> 16502.89
A20: 111 | B20: ENERGIA ELECTRICA | C20: 0 | D20: 0 | E20: 77315.63 | F20: 0 | K20: =+C20+E20+G20+I20 -> 77315.63 | L20: =+D20+F20+H20+J20 -> 0
A21: 113 | B21: TELEFONIA | C21: 10564.58 | D21: 0 | E21: 10564.58 | F21: 8302.09 | K21: =+C21+E21+G21+I21 -> 21129.16 | L21: =+D21+F21+H21+J21 -> 8302.09
A22: 122 | B22: IMPRESIÓN, ENCUADERNACION Y REPRODUCCION | C22: 0 | D22: 0 | E22: 0 | F22: 0 | K22: =+C22+E22+G22+I22 -> 0 | L22: =+D22+F22+H22+J22 -> 0
A23: 163 | B23: MANT. Y REP. EQUIPO MEDICO SANITARIO Y DE LAB. | C23: 0 | D23: 0 | E23: 0 | F23: 0 | K23: =+C23+E23+G23+I23 -> 0 | L23: =+D23+F23+H23+J23 -> 0
A24: 168 | B24: MANTENIMIENTO Y REPARACION DE EQUIPO DE COMPUTO | C24: 0 | D24: 0 | E24: 0 | F24: 0 | K24: =+C24+E24+G24+I24 -> 0 | L24: =+D24+F24+H24+J24 -> 0
A25: 169 | B25: MANT. Y REP. DE OTRAS MAQ. Y EQUIPO | C25: 3526.67 | D25: 0 | E25: 3526.67 | F25: 0 | K25: =+C25+E25+G25+I25 -> 7053.34 | L25: =+D25+F25+H25+J25 -> 0
A26: 171 | B26: MANT. Y REPARACION DE EDIFICIOS | C26: 3638.33 | D26: 0 | E26: 3638.33 | F26: 0 | K26: =+C26+E26+G26+I26 -> 7276.66 | L26: =+D26+F26+H26+J26 -> 0
A27: 174 | B27: MANT. Y REP. DE INSTALACIONES | C27: 7356.33 | D27: 0 | E27: 7356.33 | F27: 0 | K27: =+C27+E27+G27+I27 -> 14712.66 | L27: =+D27+F27+H27+J27 -> 0
A28: 182 | B28: SERVICIOS MEDICO-SANITARIOS | C28: 317986.83 | D28: 0 | E28: 317986.83 | F28: 0 | K28: =+C28+E28+G28+I28 -> 635973.66 | L28: =+D28+F28+H28+J28 -> 0
A29: 197 | B29: SERVICIOS DE VIGILANCIA | C29: 42350 | D29: 0 | E29: 42350 | F29: 0 | K29: =+C29+E29+G29+I29 -> 84700 | L29: =+D29+F29+H29+J29 -> 0
A30: 199 | B30: OTROS SERVICIOS NO PERSONALES | C30: 67060 | D30: 0 | E30: 67060 | F30: 8200.8 | K30: =+C30+E30+G30+I30 -> 134120 | L30: =+D30+F30+H30+J30 -> 8200.8
B31: SUMA GASTOS GENERALES | C31: =SUM(C20:C30) -> 452482.74 | D31: =SUM(D20:D30) -> 0 | E31: =SUM(E20:E30) -> 529798.37 | F31: =SUM(F20:F30) -> 16502.89 | G31: =SUM(G20:G30) -> 0 | H31: =SUM(H20:H30) -> 0 | I31: =SUM(I20:I30) -> 0 | J31: =SUM(J20:J30) -> 0 | ... L31: =SUM(L20:L30) -> 16502.89
B32: MATERIALES Y SUMINISTROS
A33: 211 | B33: ALIMENTOS PARA PERSONAS | C33: 58165.57 | D33: 0 | E33: 58165.57 | F33: 0 | K33: =+C33+E33+G33+I33 -> 116331.14 | L33: =+D33+F33+H33+J33 -> 0
A34: 232 | B34: ACABADOS TEXTILES | C34: 12500 | D34: 0 | E34: 12500 | F34: 0 | K34: =+C34+E34+G34+I34 -> 25000 | L34: =+D34+F34+H34+J34 -> 0
A35: 261 | B35: ELEMENTOS Y COMPUESTOS QUIMICOS | C35: 82888.02 | D35: 0 | E35: 82888.02 | F35: 0 | K35: =+C35+E35+G35+I35 -> 165776.04 | L35: =+D35+F35+H35+J35 -> 0
A36: 262 | B36: COMBUSTIBLES Y LUBRICANTES | C36: 666.67 | D36: 0 | E36: 666.67 | F36: 0 | K36: =+C36+E36+G36+I36 -> 1333.34 | L36: =+D36+F36+H36+J36 -> 0
A37: 266 | B37: PRODUCTOS MEDICINALES Y FARMACEUTICOS | C37: 381939.32 | D37: 0 | E37: 381939.32 | F37: 0 | K37: =+C37+E37+G37+I37 -> 763878.64 | L37: =+D37+F37+H37+J37 -> 0
A38: 267 | B38: TINTES, PINTURAS Y COLORANTES | C38: 750 | D38: 0 | E38: 750 | F38: 0 | K38: =+C38+E38+G38+I38 -> 1500 | L38: =+D38+F38+H38+J38 -> 0
A39: 268 | B39: PRODUCTOS PLASTICOS, NYLON, VINIL Y PVC | C39: 11811.29 | D39: 0 | E39: 11811.29 | F39: 0 | K39: =+C39+E39+G39+I39 -> 23622.58 | L39: =+D39+F39+H39+J39 -> 0
A40: 269 | B40: OTROS PRODUCTOS QUIMICOS Y CONEXOS | C40: 833.33 | D40: 0 | E40: 833.33 | F40: 0 | K40: =+C40+E40+G40+I40 -> 1666.66 | L40: =+D40+F40+H40+J40 -> 0
A41: 289 | B41: OTROS PRODUCTOS METALICOS | C41: 574.88 | D41: 0 | E41: 574.88 | F41: 0 | K41: =+C41+E41+G41+I41 -> 1149.76 | L41: =+D41+F41+H41+J41 -> 0
A42: 292 | B42: UTILES DE LIMPIEZA Y PRODUCTOS SANITARIOS | C42: 7014.93 | D42: 0 | E42: 7014.93 | F42: 0 | K42: =+C42+E42+G42+I42 -> 14029.86 | L42: =+D42+F42+H42+J42 -> 0
A43: 295 | B43: UTILES MENORES MEDICO QUIRURGICOS Y DE LAB. | C43: 1548540.1 | D43: 0 | E43: 1548540.1 | F43: 0 | K43: =+C43+E43+G43+I43 -> 3097080.1 | L43: =+D43+F43+H43+J43 -> 0
A44: 297 | B44: UTILES, ACCESORIOS Y MATERIALES ELECTRICOS | C44: 1591.07 | D44: 0 | E44: 1591.07 | F44: 0 | K44: =+C44+E44+G44+I44 -> 3182.14 | L44: =+D44+F44+H44+J44 -> 0
... A46: 299 | B46: OTROS MATERIALES Y SUMINISTROS | C46: 19041.83 | D46: 0 | E46: 19041.83 | F46: 0 | K46: =+C46+E46+G46+I46 -> 38083.66 | L46: =+D46+F46+H46+J46 -> 0
B47: TOTAL MATERIALES Y SUMINISTROS | C47: =SUM(C33:C46) -> 2160075.1 | D47: =SUM(D33:D46) -> 0 | E47: =SUM(E33:E46) -> 2160075.1 | F47: =SUM(F33:F46) -> 0 | G47: =SUM(G33:G46) -> 0 | H47: =SUM(H33:H46) -> 0 | I47: =SUM(I33:I46) -> 0 | J47: =SUM(J33:J46) -> 0 | ... L47: =SUM(L33:L46) -> 0
B48: PROPIEDAD PLANTA Y EQUIPO
B49: EQUIPO MEDICO SANITARIO Y DE LABORATORIO | C49: 0 | D49: 0 | E49: 0 | F49: 0 | H49: 0 | K49: =+C49+E49+G49+I49 -> 0 | L49: =+D49+F49+H49+J49 -> 0
B50: OTRAS MAQUINARIAS Y EQUIPOS | C50: 0 | D50: 0 | E50: 0 | F50: 0 | H50: 0 | I50: 0 | K50: =+C50+E50+G50+I50 -> 0 | L50: =+D50+F50+H50+J50 -> 0
B51: TOTAL PROPIEDAD PLANTA Y EQUIPO | C51: =SUM(C49:C50) -> 0 | D51: =SUM(D49:D50) -> 0 | E51: =SUM(E49:E50) -> 0 | F51: =SUM(F49:F50) -> 0 | G51: =SUM(G49:G50) -> 0 | H51: =SUM(H49:H50) -> 0 | I51: =SUM(I49:I50) -> 0 | J51: =SUM(J49:J50) -> 0 | ... L51: =SUM(L49:L50) -> 0
...

Sheet MARZO CTE-5
B8: ÀREA FINANCIERA | K8: CTE-5
A10: UNIDAD DE CIRUGIA CARDIOVASCULAR DE GUATEMALA
A11: 5a. AVENIDA 6-22 ZONA 11
A12: dgunicar@yahoo.es Tel. 24163000
A14: Programación y ejecucion mensual por tipo de gasto año 2022, Expresado en Quetzales primer cuatrimestre 2022
A15: No. | B15: CATEGORIA DE GASTO | C15: ENERO | E15: FEBRERO | G15: MARZO | I15: ABRIL | K15: TOTAL CUATRIMESTRE
C16: PRESUPUESTO | D16: REAL | E16: PRESUPUESTO | F16: REAL | G16: PRESUPUESTO | H16: REAL | I16: PRESUPUESTO | J16: REAL | K16: PRESUPUESTO | L16: REAL
A17: 011 | B17: RECURSO HUMANO | C17: 2414811.3 | D17: 2367268.7 | E17: 2414811.3 | F17: 2396683.9 | G17: 2414811.3 | H17: 2410583.5 | K17: =+C17+E17+G17+I17 -> 7244434 | L17: =+D17+F17+H17+J17 -> 7174536.1
B19: GASTOS DE FUNCIONAMIENTO | C19: =+C31+C47 -> 2612557.9 | D19: =+D31+D47 -> 0 | E19: =+E31+E47 -> 2689873.5 | F19: =+F31+F47 -> 16502.89 | G19: =+G31+G47 -> 2771983.2 | H19: =+H31+H47 -> 132643.57 | I19: =+I31+I47 -> 0 | J19: =+J31+J47 -> 0 | K19: =+C19+E19+G19+I19 -> 8074414.6 | L19: =+D19+F19+H19+J19 -> 149146.46
A20: 111 | B20: ENERGIA ELECTRICA | C20: 0 | D20: 0 | E20: 77315.63 | F20: 0 | G20: 77315.63 | H20: 70182.48 | K20: =+C20+E20+G20+I20 -> 154631.26 | L20: =+D20+F20+H20+J20 -> 70182.48
A21: 113 | B21: TELEFONIA | C21: 10564.58 | D21: 0 | E21: 10564.58 | F21: 8302.09 | G21: 10564.58 | H21: 11306.4 | K21: =+C21+E21+G21+I21 -> 31693.74 | L21: =+D21+F21+H21+J21 -> 19608.49
A22: 122 | B22: IMPRESIÓN, ENCUADERNACION Y REPRODUCCION | C22: 0 | D22: 0 | E22: 0 | F22: 0 | G22: 6085.56 | H22: 0 | K22: =+C22+E22+G22+I22 -> 6085.56 | L22: =+D22+F22+H22+J22 -> 0
A23: 163 | B23: MANT. Y REP. EQUIPO MEDICO SANITARIO Y DE LAB. | C23: 0 | D23: 0 | E23: 0 | F23: 0 | G23: 75924.2 | H23: 0 | K23: =+C23+E23+G23+I23 -> 75924.2 | L23: =+D23+F23+H23+J23 -> 0
A24: 168 | B24: MANTENIMIENTO Y REPARACION DE EQUIPO DE COMPUTO | C24: 0 | D24: 0 | E24: 0 | F24: 0 | G24: 100 | H24: 0 | K24: =+C24+E24+G24+I24 -> 100 | L24: =+D24+F24+H24+J24 -> 0
A25: 169 | B25: MANT. Y REP. DE OTRAS MAQ. Y EQUIPO | C25: 3526.67 | D25: 0 | E25: 3526.67 | F25: 0 | G25: 3526.67 | H25: 0 | K25: =+C25+E25+G25+I25 -> 10580.01 | L25: =+D25+F25+H25+J25 -> 0
A26: 171 | B26: MANT. Y REPARACION DE EDIFICIOS | C26: 3638.33 | D26: 0 | E26: 3638.33 | F26: 0 | G26: 3638.33 | H26: 0 | K26: =+C26+E26+G26+I26 -> 10914.99 | L26: =+D26+F26+H26+J26 -> 0
A27: 174 | B27: MANT. Y REP. DE INSTALACIONES | C27: 7356.33 | D27: 0 | E27: 7356.33 | F27: 0 | G27: 7356.33 | H27: 0 | K27: =+C27+E27+G27+I27 -> 22068.99 | L27: =+D27+F27+H27+J27 -> 0
A28: 182 | B28: SERVICIOS MEDICO-SANITARIOS | C28: 317986.83 | D28: 0 | E28: 317986.83 | F28: 0 | G28: 317986.83 | H28: 32843.76 | K28: =+C28+E28+G28+I28 -> 953960.49 | L28: =+D28+F28+H28+J28 -> 32843.76
A29: 197 | B29: SERVICIOS DE VIGILANCIA | C29: 42350 | D29: 0 | E29: 42350 | F29: 0 | G29: 42350 | H29: 0 | K29: =+C29+E29+G29+I29 -> 127050 | L29: =+D29+F29+H29+J29 -> 0
A30: 199 | B30: OTROS SERVICIOS NO PERSONALES | C30: 67060 | D30: 0 | E30: 67060 | F30: 8200.8 | G30: 67060 | H30: 4100 | K30: =+C30+E30+G30+I30 -> 201180 | L30: =+D30+F30+H30+J30 -> 12300.8
B31: SUMA GASTOS GENERALES | C31: =SUM(C20:C30) -> 452482.74 | D31: =SUM(D20:D30) -> 0 | E31: =SUM(E20:E30) -> 529798.37 | F31: =SUM(F20:F30) -> 16502.89 | G31: =SUM(G20:G30) -> 611908.13 | H31: =SUM(H20:H30) -> 118432.64 | I31: =SUM(I20:I30) -> 0 | J31: =SUM(J20:J30) -> 0 | ... L31: =SUM(L20:L30) -> 134935.53
B32: MATERIALES Y SUMINISTROS
A33: 211 | B33: ALIMENTOS PARA PERSONAS | C33: 58165.57 | D33: 0 | E33: 58165.57 | F33: 0 | G33: 58165.57 | H33: 13077 | K33: =+C33+E33+G33+I33 -> 174496.71 | L33: =+D33+F33+H33+J33 -> 13077
A34: 232 | B34: ACABADOS TEXTILES | C34: 12500 | D34: 0 | E34: 12500 | F34: 0 | G34: 12500 | H34: 0 | K34: =+C34+E34+G34+I34 -> 37500 | L34: =+D34+F34+H34+J34 -> 0
A35: 261 | B35: ELEMENTOS Y COMPUESTOS QUIMICOS | C35: 82888.02 | D35: 0 | E35: 82888.02 | F35: 0 | G35: 82888.02 | H35: 0 | K35: =+C35+E35+G35+I35 -> 248664.06 | L35: =+D35+F35+H35+J35 -> 0
A36: 262 | B36: COMBUSTIBLES Y LUBRICANTES | C36: 666.67 | D36: 0 | E36: 666.67 | F36: 0 | G36: 666.67 | H36: 0 | K36: =+C36+E36+G36+I36 -> 2000.01 | L36: =+D36+F36+H36+J36 -> 0
A37: 266 | B37: PRODUCTOS MEDICINALES Y FARMACEUTICOS | C37: 381939.32 | D37: 0 | E37: 381939.32 | F37: 0 | G37: 381939.32 | H37: 133.93 | K37: =+C37+E37+G37+I37 -> 1145818 | L37: =+D37+F37+H37+J37 -> 133.93
A38: 267 | B38: TINTES, PINTURAS Y COLORANTES | C38: 750 | D38: 0 | E38: 750 | F38: 0 | G38: 750 | H38: 0 | K38: =+C38+E38+G38+I38 -> 2250 | L38: =+D38+F38+H38+J38 -> 0
A39: 268 | B39: PRODUCTOS PLASTICOS, NYLON, VINIL Y PVC | C39: 11811.29 | D39: 0 | E39: 11811.29 | F39: 0 | G39: 11811.29 | H39: 0 | K39: =+C39+E39+G39+I39 -> 35433.87 | L39: =+D39+F39+H39+J39 -> 0
A40: 269 | B40: OTROS PRODUCTOS QUIMICOS Y CONEXOS | C40: 833.33 | D40: 0 | E40: 833.33 | F40: 0 | G40: 833.33 | H40: 0 | K40: =+C40+E40+G40+I40 -> 2499.99 | L40: =+D40+F40+H40+J40 -> 0
A41: 289 | B41: OTROS PRODUCTOS METALICOS | C41: 574.88 | D41: 0 | E41: 574.88 | F41: 0 | G41: 574.88 | H41: 0 | K41: =+C41+E41+G41+I41 -> 1724.64 | L41: =+D41+F41+H41+J41 -> 0
A42: 292 | B42: UTILES DE LIMPIEZA Y PRODUCTOS SANITARIOS | C42: 7014.93 | D42: 0 | E42: 7014.93 | F42: 0 | G42: 7014.93 | H42: 0 | K42: =+C42+E42+G42+I42 -> 21044.79 | L42: =+D42+F42+H42+J42 -> 0
A43: 295 | B43: UTILES MENORES MEDICO QUIRURGICOS Y DE LAB. | C43: 1548540.1 | D43: 0 | E43: 1548540.1 | F43: 0 | G43: 1548540.1 | H43: 0 | K43: =+C43+E43+G43+I43 -> 4645620.2 | L43: =+D43+F43+H43+J43 -> 0
A44: 297 | B44: UTILES, ACCESORIOS Y MATERIALES ELECTRICOS | C44: 1591.07 | D44: 0 | E44: 1591.07 | F44: 0 | G44: 1591.07 | H44: 0 | K44: =+C44+E44+G44+I44 -> 4773.21 | L44: =+D44+F44+H44+J44 -> 0
... A46: 299 | B46: OTROS MATERIALES Y SUMINISTROS | C46: 19041.83 | D46: 0 | E46: 19041.83 | F46: 0 | G46: 19041.83 | H46: 0 | K46: =+C46+E46+G46+I46 -> 57125.49 | L46: =+D46+F46+H46+J46 -> 0
B47: TOTAL MATERIALES Y SUMINISTROS | C47: =SUM(C33:C46) -> 2160075.1 | D47: =SUM(D33:D46) -> 0 | E47: =SUM(E33:E46) -> 2160075.1 | F47: =SUM(F33:F46) -> 0 | G47: =SUM(G33:G46) -> 2160075.1 | H47: =SUM(H33:H46) -> 14210.93 | I47: =SUM(I33:I46) -> 0 | J47: =SUM(J33:J46) -> 0 | ... L47: =SUM(L33:L46) -> 14210.93
B48: PROPIEDAD PLANTA Y EQUIPO
B49: EQUIPO MEDICO SANITARIO Y DE LABORATORIO | C49: 0 | D49: 0 | E49: 0 | F49: 0 | H49: 0 | K49: =+C49+E49+G49+I49 -> 0 | L49: =+D49+F49+H49+J49 -> 0
B50: OTRAS MAQUINARIAS Y EQUIPOS | C50: 0 | D50: 0 | E50: 0 | F50: 0 | H50: 0 | I50: 0 | K50: =+C50+E50+G50+I50 -> 0 | L50: =+D50+F50+H50+J50 -> 0
B51: TOTAL PROPIEDAD PLANTA Y EQUIPO | C51: =SUM(C49:C50) -> 0 | D51: =SUM(D49:D50) -> 0 | E51: =SUM(E49:E50) -> 0 | F51: =SUM(F49:F50) -> 0 | G51: =SUM(G49:G50) -> 0 | H51: =SUM(H49:H50) -> 0 | I51: =SUM(I49:I50) -> 0 | J51: =SUM(J49:J50) -> 0 | ... L51: =SUM(L49:L50) -> 0
...

Sheet ABRIL CTE-5
B8: ÀREA FINANCIERA | K8: CTE-5
A10: UNIDAD DE CIRUGIA CARDIOVASCULAR DE GUATEMALA
A11: 5a. AVENIDA 6-22 ZONA 11
A12: dgunicar@yahoo.es Tel. 24163000
A14: Programación y ejecucion mensual por tipo de gasto año 2022, Expresado en Quetzales primer cuatrimestre 2022
A15: No. | B15: CATEGORIA DE GASTO | C15: ENERO | E15: FEBRERO | G15: MARZO | I15: ABRIL | K15: TOTAL CUATRIMESTRE
C16: PRESUPUESTO | D16: REAL | E16: PRESUPUESTO | F16: REAL | G16: PRESUPUESTO | H16: REAL | I16: PRESUPUESTO | J16: REAL | K16: PRESUPUESTO | L16: REAL
A17: 011 | B17: RECURSO HUMANO | C17: 2414811.3 | D17: 2367268.7 | E17: 2414811.3 | F17: 2396683.9 | G17: 2414811.3 | H17: 2410583.5 | I17: 2414811.3 | J17: 2417060.8 | K17: =+C17+E17+G17+I17 -> 9659245.3 | L17: =+D17+F17+H17+J17 -> 9591596.9
B19: GASTOS DE FUNCIONAMIENTO | C19: =+C31+C47 -> 2612557.9 | D19: =+D31+D47 -> 0 | E19: =+E31+E47 -> 2689873.5 | F19: =+F31+F47 -> 16502.89 | G19: =+G31+G47 -> 2771983.2 | H19: =+H31+H47 -> 132643.57 | I19: =+I31+I47 -> 2771983.2 | J19: =+J31+J47 -> 748869.8 | K19: =+C19+E19+G19+I19 -> 10846398 | L19: =+D19+F19+H19+J19 -> 898016.26
A20: 111 | B20: ENERGIA ELECTRICA | C20: 0 | D20: 0 | E20: 77315.63 | F20: 0 | G20: 77315.63 | H20: 70182.48 | I20: 77315.63 | J20: 80017.57 | K20: =+C20+E20+G20+I20 -> 231946.89 | L20: =+D20+F20+H20+J20 -> 150200.05
A21: 113 | B21: TELEFONIA | C21: 10564.58 | D21: 0 | E21: 10564.58 | F21: 8302.09 | G21: 10564.58 | H21: 11306.4 | I21: 10564.58 | J21: 11126.04 | K21: =+C21+E21+G21+I21 -> 42258.32 | L21: =+D21+F21+H21+J21 -> 30734.53
A22: 122 | B22: IMPRESIÓN, ENCUADERNACION Y REPRODUCCION | C22: 0 | D22: 0 | E22: 0 | F22: 0 | G22: 6085.56 | H22: 0 | I22: 6085.56 | J22: 0 | K22: =+C22+E22+G22+I22 -> 12171.12 | L22: =+D22+F22+H22+J22 -> 0
A23: 163 | B23: MANT. Y REP. EQUIPO MEDICO SANITARIO Y DE LAB. | C23: 0 | D23: 0 | E23: 0 | F23: 0 | G23: 75924.2 | H23: 0 | I23: 75924.2 | J23: 0 | K23: =+C23+E23+G23+I23 -> 151848.4 | L23: =+D23+F23+H23+J23 -> 0
A24: 168 | B24: MANTENIMIENTO Y REPARACION DE EQUIPO DE COMPUTO | C24: 0 | D24: 0 | E24: 0 | F24: 0 | G24: 100 | H24: 0 | I24: 100 | J24: 0 | K24: =+C24+E24+G24+I24 -> 200 | L24: =+D24+F24+H24+J24 -> 0
A25: 169 | B25: MANT. Y REP. DE OTRAS MAQ. Y EQUIPO | C25: 3526.67 | D25: 0 | E25: 3526.67 | F25: 0 | G25: 3526.67 | H25: 0 | I25: 3526.67 | J25: 0 | K25: =+C25+E25+G25+I25 -> 14106.68 | L25: =+D25+F25+H25+J25 -> 0
A26: 171 | B26: MANT. Y REPARACION DE EDIFICIOS | C26: 3638.33 | D26: 0 | E26: 3638.33 | F26: 0 | G26: 3638.33 | H26: 0 | I26: 3638.33 | J26: 0 | K26: =+C26+E26+G26+I26 -> 14553.32 | L26: =+D26+F26+H26+J26 -> 0
A27: 174 | B27: MANT. Y REP. DE INSTALACIONES | C27: 7356.33 | D27: 0 | E27: 7356.33 | F27: 0 | G27: 7356.33 | H27: 0 | I27: 7356.33 | J27: 6360 | K27: =+C27+E27+G27+I27 -> 29425.32 | L27: =+D27+F27+H27+J27 -> 6360
A28: 182 | B28: SERVICIOS MEDICO-SANITARIOS | C28: 317986.83 | D28: 0 | E28: 317986.83 | F28: 0 | G28: 317986.83 | H28: 32843.76 | I28: 317986.83 | J28: 99905.74 | K28: =+C28+E28+G28+I28 -> 1271947.3 | L28: =+D28+F28+H28+J28 -> 132749.5
A29: 197 | B29: SERVICIOS DE VIGILANCIA | C29: 42350 | D29: 0 | E29: 42350 | F29: 0 | G29: 42350 | H29: 0 | I29: 42350 | J29: 84000 | K29: =+C29+E29+G29+I29 -> 169400 | L29: =+D29+F29+H29+J29 -> 84000
A30: 199 | B30: OTROS SERVICIOS NO PERSONALES | C30: 67060 | D30: 0 | E30: 67060 | F30: 8200.8 | G30: 67060 | H30: 4100 | I30: 67060 | J30: 6150.2 | K30: =+C30+E30+G30+I30 -> 268240 | L30: =+D30+F30+H30+J30 -> 18451
B31: SUMA GASTOS GENERALES | C31: =SUM(C20:C30) -> 452482.74 | D31: =SUM(D20:D30) -> 0 | E31: =SUM(E20:E30) -> 529798.37 | F31: =SUM(F20:F30) -> 16502.89 | G31: =SUM(G20:G30) -> 611908.13 | H31: =SUM(H20:H30) -> 118432.64 | I31: =SUM(I20:I30) -> 611908.13 | J31: =SUM(J20:J30) -> 287559.55 | ... L31: =SUM(L20:L30) -> 422495.08
B32: MATERIALES Y SUMINISTROS
A33: 211 | B33: ALIMENTOS PARA PERSONAS | C33: 58165.57 | D33: 0 | E33: 58165.57 | F33: 0 | G33: 58165.57 | H33: 13077 | I33: 58165.57 | J33: 90483.25 | K33: =+C33+E33+G33+I33 -> 232662.28 | L33: =+D33+F33+H33+J33 -> 103560.25
A34: 232 | B34: ACABADOS TEXTILES | C34: 12500 | D34: 0 | E34: 12500 | F34: 0 | G34: 12500 | H34: 0 | I34: 12500 | J34: 0 | K34: =+C34+E34+G34+I34 -> 50000 | L34: =+D34+F34+H34+J34 -> 0
A35: 261 | B35: ELEMENTOS Y COMPUESTOS QUIMICOS | C35: 82888.02 | D35: 0 | E35: 82888.02 | F35: 0 | G35: 82888.02 | H35: 0 | I35: 82888.02 | J35: 61685.07 | K35: =+C35+E35+G35+I35 -> 331552.08 | L35: =+D35+F35+H35+J35 -> 61685.07
A36: 262 | B36: COMBUSTIBLES Y LUBRICANTES | C36: 666.67 | D36: 0 | E36: 666.67 | F36: 0 | G36: 666.67 | H36: 0 | I36: 666.67 | J36: 0 | K36: =+C36+E36+G36+I36 -> 2666.68 | L36: =+D36+F36+H36+J36 -> 0
A37: 266 | B37: PRODUCTOS MEDICINALES Y FARMACEUTICOS | C37: 381939.32 | D37: 0 | E37: 381939.32 | F37: 0 | G37: 381939.32 | H37: 133.93 | I37: 381939.32 | J37: 194422.07 | K37: =+C37+E37+G37+I37 -> 1527757.3 | L37: =+D37+F37+H37+J37 -> 194556
A38: 267 | B38: TINTES, PINTURAS Y COLORANTES | C38: 750 | D38: 0 | E38: 750 | F38: 0 | G38: 750 | H38: 0 | I38: 750 | J38: 0 | K38: =+C38+E38+G38+I38 -> 3000 | L38: =+D38+F38+H38+J38 -> 0
A39: 268 | B39: PRODUCTOS PLASTICOS, NYLON, VINIL Y PVC | C39: 11811.29 | D39: 0 | E39: 11811.29 | F39: 0 | G39: 11811.29 | H39: 0 | I39: 11811.29 | J39: 0 | K39: =+C39+E39+G39+I39 -> 47245.16 | L39: =+D39+F39+H39+J39 -> 0
A40: 269 | B40: OTROS PRODUCTOS QUIMICOS Y CONEXOS | C40: 833.33 | D40: 0 | E40: 833.33 | F40: 0 | G40: 833.33 | H40: 0 | I40: 833.33 | J40: 0 | K40: =+C40+E40+G40+I40 -> 3333.32 | L40: =+D40+F40+H40+J40 -> 0
A41: 289 | B41: OTROS PRODUCTOS METALICOS | C41: 574.88 | D41: 0 | E41: 574.88 | F41: 0 | G41: 574.88 | H41: 0 | I41: 574.88 | J41: 0 | K41: =+C41+E41+G41+I41 -> 2299.52 | L41: =+D41+F41+H41+J41 -> 0
A42: 292 | B42: UTILES DE LIMPIEZA Y PRODUCTOS SANITARIOS | C42: 7014.93 | D42: 0 | E42: 7014.93 | F42: 0 | G42: 7014.93 | H42: 0 | I42: 7014.93 | J42: 0 | K42: =+C42+E42+G42+I42 -> 28059.72 | L42: =+D42+F42+H42+J42 -> 0
A43: 295 | B43: UTILES MENORES MEDICO QUIRURGICOS Y DE LAB. | C43: 1548540.1 | D43: 0 | E43: 1548540.1 | F43: 0 | G43: 1548540.1 | H43: 0 | I43: 1548540.1 | J43: 108377 | K43: =+C43+E43+G43+I43 -> 6194160.2 | L43: =+D43+F43+H43+J43 -> 108377
A44: 297 | B44: UTILES, ACCESORIOS Y MATERIALES ELECTRICOS | C44: 1591.07 | D44: 0 | E44: 1591.07 | F44: 0 | G44: 1591.07 | H44: 0 | I44: 1591.07 | J44: 0 | K44: =+C44+E44+G44+I44 -> 6364.28 | L44: =+D44+F44+H44+J44 -> 0
... A46: 299 | B46: OTROS MATERIALES Y SUMINISTROS | C46: 19041.83 | D46: 0 | E46: 19041.83 | F46: 0 | G46: 19041.83 | H46: 0 | I46: 19041.83 | J46: 0 | K46: =+C46+E46+G46+I46 -> 76167.32 | L46: =+D46+F46+H46+J46 -> 0
B47: TOTAL MATERIALES Y SUMINISTROS | C47: =SUM(C33:C46) -> 2160075.1 | D47: =SUM(D33:D46) -> 0 | E47: =SUM(E33:E46) -> 2160075.1 | F47: =SUM(F33:F46) -> 0 | G47: =SUM(G33:G46) -> 2160075.1 | H47: =SUM(H33:H46) -> 14210.93 | I47: =SUM(I33:I46) -> 2160075.1 | J47: =SUM(J33:J46) -> 461310.25 | ... L47: =SUM(L33:L46) -> 475521.18
B48: PROPIEDAD PLANTA Y EQUIPO
B49: EQUIPO MEDICO SANITARIO Y DE LABORATORIO | C49: 0 | D49: 0 | E49: 0 | F49: 0 | H49: 0 | K49: =+C49+E49+G49+I49 -> 0 | L49: =+D49+F49+H49+J49 -> 0
B50: OTRAS MAQUINARIAS Y EQUIPOS | C50: 0 | D50: 0 | E50: 0 | F50: 0 | H50: 0 | I50: 0 | K50: =+C50+E50+G50+I50 -> 0 | L50: =+D50+F50+H50+J50 -> 0
B51: TOTAL PROPIEDAD PLANTA Y EQUIPO | C51: =SUM(C49:C50) -> 0 | D51: =SUM(D49:D50) -> 0 | E51: =SUM(E49:E50) -> 0 | F51: =SUM(F49:F50) -> 0 | G51: =SUM(G49:G50) -> 0 | H51: =SUM(H49:H50) -> 0 | I51: =SUM(I49:I50) -> 0 | J51: =SUM(J49:J50) -> 0 | ... L51: =SUM(L49:L50) -> 0
...

Sheet ENERO ANEXO A CTE-5
B8: ÀREA FINANCIERA | I8: ANEXO DE CTE-5
A10: UNIDAD DE CIRUGIA CARDIOVASCULAR DE GUATEMALA
A11: 5a. AVENIDA 6-22 ZONA 11
A12: dgunicar@yahoo.es Tel. 24163000
A14: Programación mensual por tipo de gasto año 2018, Expresado en Quetzales primer cuatrimestre 2018
A15: No. | B15: CATEGORIA DE GASTO | C15: ENERO | E15: FEBRERO | G15: MARZO | I15: ABRIL
C16: PRESUPUESTO | D16: REAL | E16: PRESUPUESTO | F16: REAL | G16: PRESUPUESTO | H16: REAL | I16: PRESUPUESTO | J16: REAL
B17: RECURSO HUMANO | C17: 1764858.4 | D17: 1492317.4 | E17: 1764858.4 | F17: 1792563.6 | G17: 1764858.4 | H17: 1578007.9 | I17: 1764858.4 | J17: 1803793.6
B19: GASTOS DE FUNCIONAMIENTO | C19: =+C27+C43 -> 2818474.9 | D19: =+D27+D43 -> 0 | E19: =+E27+E43 -> 2818474.9 | F19: =+F27+F43 -> 67111.02 | G19: =+G27+G43 -> 2818474.9 | H19: =+H27+H43 -> 58543.64 | I19: =+I27+I43 -> 2818474.9 | J19: =+J27+J43 -> 3743927.3
B20: ENERGIA ELECTRICA | C20: 62500 | E20: 62500 | F20: 56112.02 | G20: 62500 | I20: 62500 | J20: 68083.01
B21: TELEFONIA | C21: 7500 | E21: 7500 | F21: 10999 | G21: 7500 | H21: 11011 | I21: 7500 | J21: 10992
B22: IMPRESIÓN, ENCUADERNACION Y REPRODUCCION | C22: 8133.97 | E22: 8133.97 | G22: 8133.97 | I22: 8133.97 | J22: 4358
B23: MANT. Y REP. EQUIPO MEDICO SANITARIO Y DE LAB. | C23: 33333.33 | E23: 33333.33 | G23: 33333.33 | I23: 33333.33 | J23: 45020
B24: SERVICIOS MEDICO-SANITARIOS | C24: 165141.75 | E24: 165141.75 | G24: 165141.75 | H24: 1000 | I24: 165141.75 | J24: 26842.86
B25: SERVICIOS DE VIGILANCIA | C25: 40000 | E25: 40000 | G25: 40000 | I25: 40000 | J25: 76240
B26: OTROS SERVICIOS NO PERSONALES | C26: 26305.03 | E26: 26305.03 | G26: 26305.03 | H26: 46532.64 | I26: 26305.03 | J26: 55063.68
B27: SUMA GASTOS GENERALES | C27: =SUM(C20:C26) -> 342914.08 | D27: =SUM(D20:D26) -> 0 | E27: =SUM(E20:E26) -> 342914.08 | F27: =SUM(F20:F26) -> 67111.02 | G27: =SUM(G20:G26) -> 342914.08 | H27: =SUM(H20:H26) -> 58543.64 | I27: =SUM(I20:I26) -> 342914.08 | J27: =SUM(J20:J26) -> 286599.55
B28: MATERIALES Y SUMINISTROS
B29: ALIMENTOS PARA PERSONAS | C29: 60936.45 | E29: 60936.45 | G29: 60936.45 | I29: 60936.45 | J29: 202940.25
B30: ACABADOS TEXTILES | C30: 600 | E30: 600 | G30: 600 | I30: 600
B31: PRODUCTOS DE PAPEL O CARTON | C31: 945.42 | E31: 945.42 | G31: 945.42 | I31: 945.42
B32: ELEMENTOS Y COMPUESTOS QUIMICOS | C32: 169652.57 | E32: 169652.57 | G32: 169652.57 | I32: 169652.57 | J32: 178282.05
B33: COMBUSTIBLES Y LUBRICANTES | C33: 912 | E33: 912 | G33: 912 | I33: 912
B34: PRODUCTOS MEDICINALES Y FARMACEUTICOS | C34: 427229.65 | E34: 427229.65 | G34: 427229.65 | I34: 427229.65 | J34: 1425199.8
B35: TINTES, PINTURAS Y COLORANTES | C35: 100 | E35: 100 | G35: 100 | I35: 100
B36: PRODUCTOS PLASTICOS, NYLON, VINIL Y PVC | C36: 13579.7 | E36: 13579.7 | G36: 13579.7 | I36: 13579.7 | J36: 75162.24
B37: OTROS PRODUCTOS METALICOS | C37: 310 | E37: 310 | G37: 310 | I37: 310
B38: UTILES DE LIMPIEZA Y PRODUCTOS SANITARIOS | C38: 10809.43 | E38: 10809.43 | G38: 10809.43 | I38: 10809.43 | J38: 14528.6
B39: UTILES MENORES MEDICO QUIRURGICOS Y DE LAB. | C39: 1780006.3 | E39: 1780006.3 | G39: 1780006.3 | I39: 1780006.3 | J39: 1545914.8
B40: UTILES, ACCESORIOS Y MATERIALES ELECTRICOS | C40: 2208.7 | E40: 2208.7 | G40: 2208.7 | I40: 2208.7 | J40: 15300
B41: ACCESORIOS Y REPUESTOS EN GENERAL | C41: 8105.1 | E41: 8105.1 | G41: 8105.1 | I41: 8105.1
B42: OTROS MATERIALES Y SUMINISTROS | C42: 165.5 | E42: 165.5 | G42: 165.5 | I42: 165.5
B43: TOTAL MATERIALES Y SUMINISTROS | C43: =SUM(C29:C42) -> 2475560.8 | D43: =SUM(D29:D42) -> 0 | E43: =SUM(E29:E42) -> 2475560.8 | F43: =SUM(F29:F42) -> 0 | G43: =SUM(G29:G42) -> 2475560.8 | H43: =SUM(H29:H42) -> 0 | I43: =SUM(I29:I42) -> 2475560.8 | J43: =SUM(J29:J42) -> 3457327.8
A46: Programación mensual por tipo de gasto año 2016, Expresado en Quetzales
A47: No. | B47: Categoría de Gasto | C47: Julio | E47: Agosto | G47: Septiembre
B48: Recurso Humano | C48: Pto. | D48: Real | E48: Pto. | F48: Real | G48: Pto. | H48: Real
B51: Gastos de Funcionamiento
B52: detallar cada gasto cargado
A60: TOTALES
A73: Programación mensual por tipo de gasto año 2018, Expresado en Quetzales segundo cuatrimestre 2018
...

Sheet FEBRERO ANEXO A CTE-5
B8: ÀREA FINANCIERA | I8: ANEXO DE CTE-5
A10: UNIDAD DE CIRUGIA CARDIOVASCULAR DE GUATEMALA
A11: 5a. AVENIDA 6-22 ZONA 11
A12: dgunicar@yahoo.es Tel. 24163000
A14: Programación mensual por tipo de gasto año 2018, Expresado en Quetzales primer cuatrimestre 2018
A15: No. | B15: CATEGORIA DE GASTO | C15: ENERO | E15: FEBRERO | G15: MARZO | I15: ABRIL
C16: PRESUPUESTO | D16: REAL | E16: PRESUPUESTO | F16: REAL | G16: PRESUPUESTO | H16: REAL | I16: PRESUPUESTO | J16: REAL
B17: RECURSO HUMANO | C17: 1764858.4 | D17: 1492317.4 | E17: 1764858.4 | F17: 1792563.6 | G17: 1764858.4 | H17: 1578007.9 | I17: 1764858.4 | J17: 1803793.6
B19: GASTOS DE FUNCIONAMIENTO | C19: =+C27+C43 -> 2818474.9 | D19: =+D27+D43 -> 0 | E19: =+E27+E43 -> 2818474.9 | F19: =+F27+F43 -> 67111.02 | G19: =+G27+G43 -> 2818474.9 | H19: =+H27+H43 -> 58543.64 | I19: =+I27+I43 -> 2818474.9 | J19: =+J27+J43 -> 3743927.3
B20: ENERGIA ELECTRICA | C20: 62500 | E20: 62500 | F20: 56112.02 | G20: 62500 | I20: 62500 | J20: 68083.01
B21: TELEFONIA | C21: 7500 | E21: 7500 | F21: 10999 | G21: 7500 | H21: 11011 | I21: 7500 | J21: 10992
B22: IMPRESIÓN, ENCUADERNACION Y REPRODUCCION | C22: 8133.97 | E22: 8133.97 | G22: 8133.97 | I22: 8133.97 | J22: 4358
B23: MANT. Y REP. EQUIPO MEDICO SANITARIO Y DE LAB. | C23: 33333.33 | E23: 33333.33 | G23: 33333.33 | I23: 33333.33 | J23: 45020
B24: SERVICIOS MEDICO-SANITARIOS | C24: 165141.75 | E24: 165141.75 | G24: 165141.75 | H24: 1000 | I24: 165141.75 | J24: 26842.86
B25: SERVICIOS DE VIGILANCIA | C25: 40000 | E25: 40000 | G25: 40000 | I25: 40000 | J25: 76240
B26: OTROS SERVICIOS NO PERSONALES | C26: 26305.03 | E26: 26305.03 | G26: 26305.03 | H26: 46532.64 | I26: 26305.03 | J26: 55063.68
B27: SUMA GASTOS GENERALES | C27: =SUM(C20:C26) -> 342914.08 | D27: =SUM(D20:D26) -> 0 | E27: =SUM(E20:E26) -> 342914.08 | F27: =SUM(F20:F26) -> 67111.02 | G27: =SUM(G20:G26) -> 342914.08 | H27: =SUM(H20:H26) -> 58543.64 | I27: =SUM(I20:I26) -> 342914.08 | J27: =SUM(J20:J26) -> 286599.55
B28: MATERIALES Y SUMINISTROS
B29: ALIMENTOS PARA PERSONAS | C29: 60936.45 | E29: 60936.45 | G29: 60936.45 | I29: 60936.45 | J29: 202940.25
B30: ACABADOS TEXTILES | C30: 600 | E30: 600 | G30: 600 | I30: 600
B31: PRODUCTOS DE PAPEL O CARTON | C31: 945.42 | E31: 945.42 | G31: 945.42 | I31: 945.42
B32: ELEMENTOS Y COMPUESTOS QUIMICOS | C32: 169652.57 | E32: 169652.57 | G32: 169652.57 | I32: 169652.57 | J32: 178282.05
B33: COMBUSTIBLES Y LUBRICANTES | C33: 912 | E33: 912 | G33: 912 | I33: 912
B34: PRODUCTOS MEDICINALES Y FARMACEUTICOS | C34: 427229.65 | E34: 427229.65 | G34: 427229.65 | I34: 427229.65 | J34: 1425199.8
B35: TINTES, PINTURAS Y COLORANTES | C35: 100 | E35: 100 | G35: 100 | I35: 100
B36: PRODUCTOS PLASTICOS, NYLON, VINIL Y PVC | C36: 13579.7 | E36: 13579.7 | G36: 13579.7 | I36: 13579.7 | J36: 75162.24
B37: OTROS PRODUCTOS METALICOS | C37: 310 | E37: 310 | G37: 310 | I37: 310
B38: UTILES DE LIMPIEZA Y PRODUCTOS SANITARIOS | C38: 10809.43 | E38: 10809.43 | G38: 10809.43 | I38: 10809.43 | J38: 14528.6
B39: UTILES MENORES MEDICO QUIRURGICOS Y DE LAB. | C39: 1780006.3 | E39: 1780006.3 | G39: 1780006.3 | I39: 1780006.3 | J39: 1545914.8
B40: UTILES, ACCESORIOS Y MATERIALES ELECTRICOS | C40: 2208.7 | E40: 2208.7 | G40: 2208.7 | I40: 2208.7 | J40: 15300
B41: ACCESORIOS Y REPUESTOS EN GENERAL | C41: 8105.1 | E41: 8105.1 | G41: 8105.1 | I41: 8105.1
B42: OTROS MATERIALES Y SUMINISTROS | C42: 165.5 | E42: 165.5 | G42: 165.5 | I42: 165.5
B43: TOTAL MATERIALES Y SUMINISTROS | C43: =SUM(C29:C42) -> 2475560.8 | D43: =SUM(D29:D42) -> 0 | E43: =SUM(E29:E42) -> 2475560.8 | F43: =SUM(F29:F42) -> 0 | G43: =SUM(G29:G42) -> 2475560.8 | H43: =SUM(H29:H42) -> 0 | I43: =SUM(I29:I42) -> 2475560.8 | J43: =SUM(J29:J42) -> 3457327.8
A46: Programación mensual por tipo de gasto año 2016, Expresado en Quetzales
A47: No. | B47: Categoría de Gasto | C47: Julio | E47: Agosto | G47: Septiembre
B48: Recurso Humano | C48: Pto. | D48: Real | E48: Pto. | F48: Real | G48: Pto. | H48: Real
B51: Gastos de Funcionamiento
B52: detallar cada gasto cargado
A60: TOTALES
A73: Programación mensual por tipo de gasto año 2018, Expresado en Quetzales segundo cuatrimestre 2018
...

Sheet MARZO ANEXO A CTE-5
B8: ÀREA FINANCIERA | I8: ANEXO DE CTE-5
A10: UNIDAD DE CIRUGIA CARDIOVASCULAR DE GUATEMALA
A11: 5a. AVENIDA 6-22 ZONA 11
A12: dgunicar@yahoo.es Tel. 24163000
A14: Programación mensual por tipo de gasto año 2018, Expresado en Quetzales primer cuatrimestre 2018
A15: No. | B15: CATEGORIA DE GASTO | C15: ENERO | E15: FEBRERO | G15: MARZO | I15: ABRIL
C16: PRESUPUESTO | D16: REAL | E16: PRESUPUESTO | F16: REAL | G16: PRESUPUESTO | H16: REAL | I16: PRESUPUESTO | J16: REAL
B17: RECURSO HUMANO | C17: 1764858.4 | D17: 1492317.4 | E17: 1764858.4 | F17: 1792563.6 | G17: 1764858.4 | H17: 1578007.9 | I17: 1764858.4 | J17: 1803793.6
B19: GASTOS DE FUNCIONAMIENTO | C19: =+C27+C43 -> 2818474.9 | D19: =+D27+D43 -> 0 | E19: =+E27+E43 -> 2818474.9 | F19: =+F27+F43 -> 67111.02 | G19: =+G27+G43 -> 2818474.9 | H19: =+H27+H43 -> 58543.64 | I19: =+I27+I43 -> 2818474.9 | J19: =+J27+J43 -> 3743927.3
B20: ENERGIA ELECTRICA | C20: 62500 | E20: 62500 | F20: 56112.02 | G20: 62500 | I20: 62500 | J20: 68083.01
B21: TELEFONIA | C21: 7500 | E21: 7500 | F21: 10999 | G21: 7500 | H21: 11011 | I21: 7500 | J21: 10992
B22: IMPRESIÓN, ENCUADERNACION Y REPRODUCCION | C22: 8133.97 | E22: 8133.97 | G22: 8133.97 | I22: 8133.97 | J22: 4358
B23: MANT. Y REP. EQUIPO MEDICO SANITARIO Y DE LAB. | C23: 33333.33 | E23: 33333.33 | G23: 33333.33 | I23: 33333.33 | J23: 45020
B24: SERVICIOS MEDICO-SANITARIOS | C24: 165141.75 | E24: 165141.75 | G24: 165141.75 | H24: 1000 | I24: 165141.75 | J24: 26842.86
B25: SERVICIOS DE VIGILANCIA | C25: 40000 | E25: 40000 | G25: 40000 | I25: 40000 | J25: 76240
B26: OTROS SERVICIOS NO PERSONALES | C26: 26305.03 | E26: 26305.03 | G26: 26305.03 | H26: 46532.64 | I26: 26305.03 | J26: 55063.68
B27: SUMA GASTOS GENERALES | C27: =SUM(C20:C26) -> 342914.08 | D27: =SUM(D20:D26) -> 0 | E27: =SUM(E20:E26) -> 342914.08 | F27: =SUM(F20:F26) -> 67111.02 | G27: =SUM(G20:G26) -> 342914.08 | H27: =SUM(H20:H26) -> 58543.64 | I27: =SUM(I20:I26) -> 342914.08 | J27: =SUM(J20:J26) -> 286599.55
B28: MATERIALES Y SUMINISTROS
B29: ALIMENTOS PARA PERSONAS | C29: 60936.45 | E29: 60936.45 | G29: 60936.45 | I29: 60936.45 | J29: 202940.25
B30: ACABADOS TEXTILES | C30: 600 | E30: 600 | G30: 600 | I30: 600
B31: PRODUCTOS DE PAPEL O CARTON | C31: 945.42 | E31: 945.42 | G31: 945.42 | I31: 945.42
B32: ELEMENTOS Y COMPUESTOS QUIMICOS | C32: 169652.57 | E32: 169652.57 | G32: 169652.57 | I32: 169652.57 | J32: 178282.05
B33: COMBUSTIBLES Y LUBRICANTES | C33: 912 | E33: 912 | G33: 912 | I33: 912
B34: PRODUCTOS MEDICINALES Y FARMACEUTICOS | C34: 427229.65 | E34: 427229.65 | G34: 427229.65 | I34: 427229.65 | J34: 1425199.8
B35: TINTES, PINTURAS Y COLORANTES | C35: 100 | E35: 100 | G35: 100 | I35: 100
B36: PRODUCTOS PLASTICOS, NYLON, VINIL Y PVC | C36: 13579.7 | E36: 13579.7 | G36: 13579.7 | I36: 13579.7 | J36: 75162.24
B37: OTROS PRODUCTOS METALICOS | C37: 310 | E37: 310 | G37: 310 | I37: 310
B38: UTILES DE LIMPIEZA Y PRODUCTOS SANITARIOS | C38: 10809.43 | E38: 10809.43 | G38: 10809.43 | I38: 10809.43 | J38: 14528.6
B39: UTILES MENORES MEDICO QUIRURGICOS Y DE LAB. | C39: 1780006.3 | E39: 1780006.3 | G39: 1780006.3 | I39: 1780006.3 | J39: 1545914.8
B40: UTILES, ACCESORIOS Y MATERIALES ELECTRICOS | C40: 2208.7 | E40: 2208.7 | G40: 2208.7 | I40: 2208.7 | J40: 15300
B41: ACCESORIOS Y REPUESTOS EN GENERAL | C41: 8105.1 | E41: 8105.1 | G41: 8105.1 | I41: 8105.1
B42: OTROS MATERIALES Y SUMINISTROS | C42: 165.5 | E42: 165.5 | G42: 165.5 | I42: 165.5
B43: TOTAL MATERIALES Y SUMINISTROS | C43: =SUM(C29:C42) -> 2475560.8 | D43: =SUM(D29:D42) -> 0 | E43: =SUM(E29:E42) -> 2475560.8 | F43: =SUM(F29:F42) -> 0 | G43: =SUM(G29:G42) -> 2475560.8 | H43: =SUM(H29:H42) -> 0 | I43: =SUM(I29:I42) -> 2475560.8 | J43: =SUM(J29:J42) -> 3457327.8
A46: Programación mensual por tipo de gasto año 2016, Expresado en Quetzales
A47: No. | B47: Categoría de Gasto | C47: Julio | E47: Agosto | G47: Septiembre
B48: Recurso Humano | C48: Pto. | D48: Real | E48: Pto. | F48: Real | G48: Pto. | H48: Real
B51: Gastos de Funcionamiento
B52: detallar cada gasto cargado
A60: TOTALES
A73: Programación mensual por tipo de gasto año 2018, Expresado en Quetzales segundo cuatrimestre 2018
...

Sheet ABRIL ANEXO A CTE-5
B8: ÀREA FINANCIERA | I8: ANEXO DE CTE-5
A10: UNIDAD DE CIRUGIA CARDIOVASCULAR DE GUATEMALA
A11: 5a. AVENIDA 6-22 ZONA 11
A12: dgunicar@yahoo.es Tel. 24163000
A14: Programación mensual por tipo de gasto año 2018, Expresado en Quetzales primer cuatrimestre 2018
A15: No. | B15: CATEGORIA DE GASTO | C15: ENERO | E15: FEBRERO | G15: MARZO | I15: ABRIL
C16: PRESUPUESTO | D16: REAL | E16: PRESUPUESTO | F16: REAL | G16: PRESUPUESTO | H16: REAL | I16: PRESUPUESTO | J16: REAL
B17: RECURSO HUMANO | C17: 1764858.4 | D17: 1492317.4 | E17: 1764858.4 | F17: 1792563.6 | G17: 1764858.4 | H17: 1578007.9 | I17: 1764858.4 | J17: 1803793.6
B19: GASTOS DE FUNCIONAMIENTO | C19: =+C27+C43 -> 2818474.9 | D19: =+D27+D43 -> 0 | E19: =+E27+E43 -> 2818474.9 | F19: =+F27+F43 -> 67111.02 | G19: =+G27+G43 -> 2818474.9 | H19: =+H27+H43 -> 58543.64 | I19: =+I27+I43 -> 2818474.9 | J19: =+J27+J43 -> 3743927.3
B20: ENERGIA ELECTRICA | C20: 62500 | E20: 62500 | F20: 56112.02 | G20: 62500 | I20: 62500 | J20: 68083.01
B21: TELEFONIA | C21: 7500 | E21: 7500 | F21: 10999 | G21: 7500 | H21: 11011 | I21: 7500 | J21: 10992
B22: IMPRESIÓN, ENCUADERNACION Y REPRODUCCION | C22: 8133.97 | E22: 8133.97 | G22: 8133.97 | I22: 8133.97 | J22: 4358
B23: MANT. Y REP. EQUIPO MEDICO SANITARIO Y DE LAB. | C23: 33333.33 | E23: 33333.33 | G23: 33333.33 | I23: 33333.33 | J23: 45020
B24: SERVICIOS MEDICO-SANITARIOS | C24: 165141.75 | E24: 165141.75 | G24: 165141.75 | H24: 1000 | I24: 165141.75 | J24: 26842.86
B25: SERVICIOS DE VIGILANCIA | C25: 40000 | E25: 40000 | G25: 40000 | I25: 40000 | J25: 76240
B26: OTROS SERVICIOS NO PERSONALES | C26: 26305.03 | E26: 26305.03 | G26: 26305.03 | H26: 46532.64 | I26: 26305.03 | J26: 55063.68
B27: SUMA GASTOS GENERALES | C27: =SUM(C20:C26) -> 342914.08 | D27: =SUM(D20:D26) -> 0 | E27: =SUM(E20:E26) -> 342914.08 | F27: =SUM(F20:F26) -> 67111.02 | G27: =SUM(G20:G26) -> 342914.08 | H27: =SUM(H20:H26) -> 58543.64 | I27: =SUM(I20:I26) -> 342914.08 | J27: =SUM(J20:J26) -> 286599.55
B28: MATERIALES Y SUMINISTROS
B29: ALIMENTOS PARA PERSONAS | C29: 60936.45 | E29: 60936.45 | G29: 60936.45 | I29: 60936.45 | J29: 202940.25
B30: ACABADOS TEXTILES | C30: 600 | E30: 600 | G30: 600 | I30: 600
B31: PRODUCTOS DE PAPEL O CARTON | C31: 945.42 | E31: 945.42 | G31: 945.42 | I31: 945.42
B32: ELEMENTOS Y COMPUESTOS QUIMICOS | C32: 169652.57 | E32: 169652.57 | G32: 169652.57 | I32: 169652.57 | J32: 178282.05
B33: COMBUSTIBLES Y LUBRICANTES | C33: 912 | E33: 912 | G33: 912 | I33: 912
B34: PRODUCTOS MEDICINALES Y FARMACEUTICOS | C34: 427229.65 | E34: 427229.65 | G34: 427229.65 | I34: 427229.65 | J34: 1425199.8
B35: TINTES, PINTURAS Y COLORANTES | C35: 100 | E35: 100 | G35: 100 | I35: 100
B36: PRODUCTOS PLASTICOS, NYLON, VINIL Y PVC | C36: 13579.7 | E36: 13579.7 | G36: 13579.7 | I36: 13579.7 | J36: 75162.24
B37: OTROS PRODUCTOS METALICOS | C37: 310 | E37: 310 | G37: 310 | I37: 310
B38: UTILES DE LIMPIEZA Y PRODUCTOS SANITARIOS | C38: 10809.43 | E38: 10809.43 | G38: 10809.43 | I38: 10809.43 | J38: 14528.6
B39: UTILES MENORES MEDICO QUIRURGICOS Y DE LAB. | C39: 1780006.3 | E39: 1780006.3 | G39: 1780006.3 | I39: 1780006.3 | J39: 1545914.8
B40: UTILES, ACCESORIOS Y MATERIALES ELECTRICOS | C40: 2208.7 | E40: 2208.7 | G40: 2208.7 | I40: 2208.7 | J40: 15300
B41: ACCESORIOS Y REPUESTOS EN GENERAL | C41: 8105.1 | E41: 8105.1 | G41: 8105.1 | I41: 8105.1
B42: OTROS MATERIALES Y SUMINISTROS | C42: 165.5 | E42: 165.5 | G42: 165.5 | I42: 165.5
B43: TOTAL MATERIALES Y SUMINISTROS | C43: =SUM(C29:C42) -> 2475560.8 | D43: =SUM(D29:D42) -> 0 | E43: =SUM(E29:E42) -> 2475560.8 | F43: =SUM(F29:F42) -> 0 | G43: =SUM(G29:G42) -> 2475560.8 | H43: =SUM(H29:H42) -> 0 | I43: =SUM(I29:I42) -> 2475560.8 | J43: =SUM(J29:J42) -> 3457327.8
A46: Programación mensual por tipo de gasto año 2016, Expresado en Quetzales
A47: No. | B47: Categoría de Gasto | C47: Julio | E47: Agosto | G47: Septiembre
B48: Recurso Humano | C48: Pto. | D48: Real | E48: Pto. | F48: Real | G48: Pto. | H48: Real
B51: Gastos de Funcionamiento
B52: detallar cada gasto cargado
A60: TOTALES
A73: Programación mensual por tipo de gasto año 2018, Expresado en Quetzales segundo cuatrimestre 2018
...

Sheet ENERO CTE-7
B7: ÀREA FINANCIERA | J7: CTE-7
A9: UNIDAD DE CIRUGIA CARDIOVASCULAR DE GUATEMALA
A10: 5a. AVENIDA 6-22 ZONA 11
A11: CORREO ELECTRÓNICO Y TELÉFONO
A12: dgunicar@yahoo.es Tel. 24163000
A14: Ejecucion de avance fìnanciero programado-ejecutado por categoria del gasto primer cuatrimestre 2022
A16: Categoría del gasto | B16: Enero | D16: Febrero | F16: Marzo | H16: Abril | J16: Totales
B17: Presupuestado | C17: Ejecutado | D17: Presupuestado | E17: Ejecutado | F17: Presupuestado | G17: Ejecutado | H17: Presupuestado | I17: Ejecutado | J17: Presupuestado | K17: Ejecutado
A18: Recurso Humano | B18: 2414811.3 | C18: 2367268.7 | J18: =+B18+D18+F18+H18 -> 2414811.3 | K18: =+C18+E18+G18+I18 -> 2367268.7
A19: Gastos de Funcionamiento | B19: 2612557.9 | C19: 0 | J19: =+B19+D19+F19+H19 -> 2612557.9 | K19: =+C19+E19+G19+I19 -> 0
A20: Propiedad planta y equipo | J20: =+B20+D20+F20+H20 -> 0 | K20: =+C20+E20+G20+I20 -> 0
A21: TOTAL | B21: =SUM(B18:B20) -> 5027369.2 | C21: =SUM(C18:C20) -> 2367268.7 | D21: =SUM(D18:D20) -> 0 | E21: =SUM(E18:E20) -> 0 | F21: =SUM(F18:F20) -> 0 | G21: =SUM(G18:G20) -> 0 | H21: =SUM(H18:H20) -> 0 | I21: =SUM(I18:I20) -> 0 | ... K21: =SUM(K18:K20) -> 2367268.7
A23: Ejecucion de avance fìnanciero programado-ejecutado por categoria del gasto segundo cuatrimestre 2022
A25: Categoría del gasto | B25: Mayo | D25: Junio | F25: Julio | H25: Agosto | J25: Totales
B26: Presupuestado | C26: Ejecutado | D26: Presupuestado | E26: Ejecutado | F26: Presupuestado | G26: Ejecutado | H26: Presupuestado | I26: Ejecutado | J26: Presupuestado | K26: Ejecutado
A27: Recurso Humano | J27: =+B27+D27+F27+H27 -> 0 | K27: =+C27+E27+G27+I27 -> 0
A28: Gastos de Funcionamiento | J28: =+B28+D28+F28+H28 -> 0 | K28: =+C28+E28+G28+I28 -> 0
A29: Propiedad planta y equipo | J29: =+B29+D29+F29+H29 -> 0 | K29: =+C29+E29+G29+I29 -> 0
A30: TOTAL | B30: =SUM(B27:B29) -> 0 | C30: =SUM(C27:C29) -> 0 | D30: =SUM(D27:D29) -> 0 | E30: =SUM(E27:E29) -> 0 | F30: =SUM(F27:F29) -> 0 | G30: =SUM(G27:G29) -> 0 | H30: =SUM(H27:H29) -> 0 | I30: =SUM(I27:I29) -> 0 | ... K30: =SUM(K27:K29) -> 0
A33: Ejecucion de avance fìnanciero programado-ejecutado por categoria del gasto tercer cuatrimestre 2022
A35: Categoría del gasto | B35: Septiembre | D35: Octubre | F35: Noviembre | H35: Diciembre | J35: Totales
B36: Presupuestado | C36: Ejecutado | D36: Presupuestado | E36: Ejecutado | F36: Presupuestado | G36: Ejecutado | H36: Presupuestado | I36: Ejecutado | J36: Presupuestado | K36: Ejecutado
A37: Recurso Humano | J37: =+B37+D37+F37+H37 -> 0 | K37: =+C37+E37+G37+I37 -> 0
A38: Gastos de Funcionamiento | J38: =+B38+D38+F38+H38 -> 0 | K38: =+C38+E38+G38+I38 -> 0
A39: Propiedad Planta y Equipo | J39: =+B39+D39+F39+H39 -> 0 | K39: =+C39+E39+G39+I39 -> 0
A40: TOTAL | B40: =SUM(B37:B39) -> 0 | C40: =SUM(C37:C39) -> 0 | D40: =SUM(D37:D39) -> 0 | E40: =SUM(E37:E39) -> 0 | F40: =SUM(F37:F39) -> 0 | G40: =SUM(G37:G39) -> 0 | H40: =SUM(H37:H39) -> 0 | I40: =SUM(I37:I39) -> 0 | ... K40: =SUM(K37:K39) -> 0
A49: Resumen año 2022
A50: Categoría del gasto | B50: año 2022
B51: Presupuestado | C51: Ejecutado
A52: Recurso Humano | B52: =+J18+J27+J37 -> 2414811.3 | C52: =+K18+K27+K37 -> 2367268.7
A53: Gastos de Funcionamiento | B53: =+J19+J28+J38 -> 2612557.9 | C53: =+K19+K28+K38 -> 0
A54: Propiedad Planta y Equipo | B54: =+J39+J29+J20 -> 0 | C54: =K39+K29+K20 -> 0
A55: TOTAL | B55: =SUM(B52:B54) -> 5027369.2 | C55: =SUM(C52:C54) -> 2367268.7
A75: Elaborado por: | C75: ___________________________ | F75: Autorizado por: | H75: ___________________________________
C76: Víctor Cresencio Reyes Porres | H76: Dr. Walter Antonio Mazariegos Samayoa
C77: Jefe de Contabilidad | H77: Director General
A78: Fecha: | C78: 10 de febrero 2022

Sheet FEBRERO CTE-7
B7: ÀREA FINANCIERA | J7: CTE-7
A9: UNIDAD DE CIRUGIA CARDIOVASCULAR DE GUATEMALA
A10: 5a. AVENIDA 6-22 ZONA 11
A11: CORREO ELECTRÓNICO Y TELÉFONO
A12: dgunicar@yahoo.es Tel. 24163000
A14: Ejecucion de avance fìnanciero programado-ejecutado por categoria del gasto primer cuatrimestre 2022
A16: Categoría del gasto | B16: Enero | D16: Febrero | F16: Marzo | H16: Abril | J16: Totales
B17: Presupuestado | C17: Ejecutado | D17: Presupuestado | E17: Ejecutado | F17: Presupuestado | G17: Ejecutado | H17: Presupuestado | I17: Ejecutado | J17: Presupuestado | K17: Ejecutado
A18: Recurso Humano | B18: 2414811.3 | C18: 2367268.7 | D18: 2414811.3 | E18: 2396683.9 | J18: =+B18+D18+F18+H18 -> 4829622.7 | K18: =+C18+E18+G18+I18 -> 4763952.6
A19: Gastos de Funcionamiento | B19: 2612557.9 | C19: 0 | D19: 2689873.5 | E19: 16502.89 | J19: =+B19+D19+F19+H19 -> 5302431.3 | K19: =+C19+E19+G19+I19 -> 16502.89
A20: Propiedad planta y equipo | J20: =+B20+D20+F20+H20 -> 0 | K20: =+C20+E20+G20+I20 -> 0
A21: TOTAL | B21: =SUM(B18:B20) -> 5027369.2 | C21: =SUM(C18:C20) -> 2367268.7 | D21: =SUM(D18:D20) -> 5104684.8 | E21: =SUM(E18:E20) -> 2413186.8 | F21: =SUM(F18:F20) -> 0 | G21: =SUM(G18:G20) -> 0 | H21: =SUM(H18:H20) -> 0 | I21: =SUM(I18:I20) -> 0 | ... K21: =SUM(K18:K20) -> 4780455.5
A23: Ejecucion de avance fìnanciero programado-ejecutado por categoria del gasto segundo cuatrimestre 2022
A25: Categoría del gasto | B25: Mayo | D25: Junio | F25: Julio | H25: Agosto | J25: Totales
B26: Presupuestado | C26: Ejecutado | D26: Presupuestado | E26: Ejecutado | F26: Presupuestado | G26: Ejecutado | H26: Presupuestado | I26: Ejecutado | J26: Presupuestado | K26: Ejecutado
A27: Recurso Humano | J27: =+B27+D27+F27+H27 -> 0 | K27: =+C27+E27+G27+I27 -> 0
A28: Gastos de Funcionamiento | J28: =+B28+D28+F28+H28 -> 0 | K28: =+C28+E28+G28+I28 -> 0
A29: Propiedad planta y equipo | J29: =+B29+D29+F29+H29 -> 0 | K29: =+C29+E29+G29+I29 -> 0
A30: TOTAL | B30: =SUM(B27:B29) -> 0 | C30: =SUM(C27:C29) -> 0 | D30: =SUM(D27:D29) -> 0 | E30: =SUM(E27:E29) -> 0 | F30: =SUM(F27:F29) -> 0 | G30: =SUM(G27:G29) -> 0 | H30: =SUM(H27:H29) -> 0 | I30: =SUM(I27:I29) -> 0 | ... K30: =SUM(K27:K29) -> 0
A33: Ejecucion de avance fìnanciero programado-ejecutado por categoria del gasto tercer cuatrimestre 2022
A35: Categoría del gasto | B35: Septiembre | D35: Octubre | F35: Noviembre | H35: Diciembre | J35: Totales
B36: Presupuestado | C36: Ejecutado | D36: Presupuestado | E36: Ejecutado | F36: Presupuestado | G36: Ejecutado | H36: Presupuestado | I36: Ejecutado | J36: Presupuestado | K36: Ejecutado
A37: Recurso Humano | J37: =+B37+D37+F37+H37 -> 0 | K37: =+C37+E37+G37+I37 -> 0
A38: Gastos de Funcionamiento | J38: =+B38+D38+F38+H38 -> 0 | K38: =+C38+E38+G38+I38 -> 0
A39: Propiedad Planta y Equipo | J39: =+B39+D39+F39+H39 -> 0 | K39: =+C39+E39+G39+I39 -> 0
A40: TOTAL | B40: =SUM(B37:B39) -> 0 | C40: =SUM(C37:C39) -> 0 | D40: =SUM(D37:D39) -> 0 | E40: =SUM(E37:E39) -> 0 | F40: =SUM(F37:F39) -> 0 | G40: =SUM(G37:G39) -> 0 | H40: =SUM(H37:H39) -> 0 | I40: =SUM(I37:I39) -> 0 | ... K40: =SUM(K37:K39) -> 0
A44: Resumen año 2022
A45: Categoría del gasto | B45: año 2022
B46: Presupuestado | C46: Ejecutado
A47: Recurso Humano | B47: =+J18+J27+J37 -> 4829622.7 | C47: =+K18+K27+K37 -> 4763952.6
A48: Gastos de Funcionamiento | B48: =+J19+J28+J38 -> 5302431.3 | C48: =+K19+K28+K38 -> 16502.89
A49: Propiedad Planta y Equipo | B49: =+J39+J29+J20 -> 0 | C49: =K39+K29+K20 -> 0
A50: TOTAL | B50: =SUM(B47:B49) -> 10132054 | C50: =SUM(C47:C49) -> 4780455.5
A68: Elaborado por: | C68: ___________________________ | F68: Autorizado por: | H68: ___________________________________
C69: Víctor Cresencio Reyes Porres | H69: Dr. Walter Antonio Mazariegos Samayoa
C70: Jefe de Contabilidad | H70: Director General
A71: Fecha: | C71: 10 de marzo 2022

Sheet MARZO CTE-7
B7: ÀREA FINANCIERA | J7: CTE-7
A9: UNIDAD DE CIRUGIA CARDIOVASCULAR DE GUATEMALA
A10: 5a. AVENIDA 6-22 ZONA 11
A11: CORREO ELECTRÓNICO Y TELÉFONO
A12: dgunicar@yahoo.es Tel. 24163000
A14: Ejecucion de avance fìnanciero programado-ejecutado por categoria del gasto primer cuatrimestre 2022
A16: Categoría del gasto | B16: Enero | D16: Febrero | F16: Marzo | H16: Abril | J16: Totales
B17: Presupuestado | C17: Ejecutado | D17: Presupuestado | E17: Ejecutado | F17: Presupuestado | G17: Ejecutado | H17: Presupuestado | I17: Ejecutado | J17: Presupuestado | K17: Ejecutado
A18: Recurso Humano | B18: 2414811.3 | C18: 2367268.7 | D18: 2414811.3 | E18: 2396683.9 | F18: 2414811.3 | G18: 2410583.5 | J18: =+B18+D18+F18+H18 -> 7244434 | K18: =+C18+E18+G18+I18 -> 7174536.1
A19: Gastos de Funcionamiento | B19: 2612557.9 | C19: 0 | D19: 2689873.5 | E19: 16502.89 | F19: 2771983.2 | G19: 132643.57 | J19: =+B19+D19+F19+H19 -> 8074414.6 | K19: =+C19+E19+G19+I19 -> 149146.46
A20: Propiedad planta y equipo | J20: =+B20+D20+F20+H20 -> 0 | K20: =+C20+E20+G20+I20 -> 0
A21: TOTAL | B21: =SUM(B18:B20) -> 5027369.2 | C21: =SUM(C18:C20) -> 2367268.7 | D21: =SUM(D18:D20) -> 5104684.8 | E21: =SUM(E18:E20) -> 2413186.8 | F21: =SUM(F18:F20) -> 5186794.6 | G21: =SUM(G18:G20) -> 2543227.1 | H21: =SUM(H18:H20) -> 0 | I21: =SUM(I18:I20) -> 0 | ... K21: =SUM(K18:K20) -> 7323682.6
A23: Ejecucion de avance fìnanciero programado-ejecutado por categoria del gasto segundo cuatrimestre 2022
A25: Categoría del gasto | B25: Mayo | D25: Junio | F25: Julio | H25: Agosto | J25: Totales
B26: Presupuestado | C26: Ejecutado | D26: Presupuestado | E26: Ejecutado | F26: Presupuestado | G26: Ejecutado | H26: Presupuestado | I26: Ejecutado | J26: Presupuestado | K26: Ejecutado
A27: Recurso Humano | J27: =+B27+D27+F27+H27 -> 0 | K27: =+C27+E27+G27+I27 -> 0
A28: Gastos de Funcionamiento | J28: =+B28+D28+F28+H28 -> 0 | K28: =+C28+E28+G28+I28 -> 0
A29: Propiedad planta y equipo | J29: =+B29+D29+F29+H29 -> 0 | K29: =+C29+E29+G29+I29 -> 0
A30: TOTAL | B30: =SUM(B27:B29) -> 0 | C30: =SUM(C27:C29) -> 0 | D30: =SUM(D27:D29) -> 0 | E30: =SUM(E27:E29) -> 0 | F30: =SUM(F27:F29) -> 0 | G30: =SUM(G27:G29) -> 0 | H30: =SUM(H27:H29) -> 0 | I30: =SUM(I27:I29) -> 0 | ... K30: =SUM(K27:K29) -> 0
A33: Ejecucion de avance fìnanciero programado-ejecutado por categoria del gasto tercer cuatrimestre 2022
A35: Categoría del gasto | B35: Septiembre | D35: Octubre | F35: Noviembre | H35: Diciembre | J35: Totales
B36: Presupuestado | C36: Ejecutado | D36: Presupuestado | E36: Ejecutado | F36: Presupuestado | G36: Ejecutado | H36: Presupuestado | I36: Ejecutado | J36: Presupuestado | K36: Ejecutado
A37: Recurso Humano | J37: =+B37+D37+F37+H37 -> 0 | K37: =+C37+E37+G37+I37 -> 0
A38: Gastos de Funcionamiento | J38: =+B38+D38+F38+H38 -> 0 | K38: =+C38+E38+G38+I38 -> 0
A39: Propiedad Planta y Equipo | J39: =+B39+D39+F39+H39 -> 0 | K39: =+C39+E39+G39+I39 -> 0
A40: TOTAL | B40: =SUM(B37:B39) -> 0 | C40: =SUM(C37:C39) -> 0 | D40: =SUM(D37:D39) -> 0 | E40: =SUM(E37:E39) -> 0 | F40: =SUM(F37:F39) -> 0 | G40: =SUM(G37:G39) -> 0 | H40: =SUM(H37:H39) -> 0 | I40: =SUM(I37:I39) -> 0 | ... K40: =SUM(K37:K39) -> 0
A44: Resumen año 2022
A45: Categoría del gasto | B45: año 2022
B46: Presupuestado | C46: Ejecutado
A47: Recurso Humano | B47: =+J18+J27+J37 -> 7244434 | C47: =+K18+K27+K37 -> 7174536.1
A48: Gastos de Funcionamiento | B48: =+J19+J28+J38 -> 8074414.6 | C48: =+K19+K28+K38 -> 149146.46
A49: Propiedad Planta y Equipo | B49: =+J39+J29+J20 -> 0 | C49: =K39+K29+K20 -> 0
A50: TOTAL | B50: =SUM(B47:B49) -> 15318849 | C50: =SUM(C47:C49) -> 7323682.6
A68: Elaborado por: | C68: ___________________________ | F68: Autorizado por: | H68: ___________________________________
C69: Víctor Cresencio Reyes Porres | H69: Dr. Walter Antonio Mazariegos Samayoa
C70: Jefe de Contabilidad | H70: Director General
A71: Fecha: | C71: 8 de abril 2022

Sheet ABRIL CTE-7
B7: ÀREA FINANCIERA | J7: CTE-7
A9: UNIDAD DE CIRUGIA CARDIOVASCULAR DE GUATEMALA
A10: 5a. AVENIDA 6-22 ZONA 11
A11: CORREO ELECTRÓNICO Y TELÉFONO
A12: dgunicar@yahoo.es Tel. 24163000
A14: Ejecucion de avance fìnanciero programado-ejecutado por categoria del gasto primer cuatrimestre 2022
A16: Categoría del gasto | B16: Enero | D16: Febrero | F16: Marzo | H16: Abril | J16: Totales
B17: Presupuestado | C17: Ejecutado | D17: Presupuestado | E17: Ejecutado | F17: Presupuestado | G17: Ejecutado | H17: Presupuestado | I17: Ejecutado | J17: Presupuestado | K17: Ejecutado
A18: Recurso Humano | B18: 2414811.3 | C18: 2367268.7 | D18: 2414811.3 | E18: 2396683.9 | F18: 2414811.3 | G18: 2410583.5 | H18: 2414811.3 | I18: 2417060.8 | J18: =+B18+D18+F18+H18 -> 9659245.3 | K18: =+C18+E18+G18+I18 -> 9591596.9
A19: Gastos de Funcionamiento | B19: 2612557.9 | C19: 0 | D19: 2689873.5 | E19: 16502.89 | F19: 2771983.2 | G19: 132643.57 | H19: 2771983.2 | I19: 748869.8 | J19: =+B19+D19+F19+H19 -> 10846398 | K19: =+C19+E19+G19+I19 -> 898016.26
A20: Propiedad planta y equipo | J20: =+B20+D20+F20+H20 -> 0 | K20: =+C20+E20+G20+I20 -> 0
A21: TOTAL | B21: =SUM(B18:B20) -> 5027369.2 | C21: =SUM(C18:C20) -> 2367268.7 | D21: =SUM(D18:D20) -> 5104684.8 | E21: =SUM(E18:E20) -> 2413186.8 | F21: =SUM(F18:F20) -> 5186794.6 | G21: =SUM(G18:G20) -> 2543227.1 | H21: =SUM(H18:H20) -> 5186794.6 | I21: =SUM(I18:I20) -> 3165930.6 | ... K21: =SUM(K18:K20) -> 10489613
A23: Ejecucion de avance fìnanciero programado-ejecutado por categoria del gasto segundo cuatrimestre 2022
A25: Categoría del gasto | B25: Mayo | D25: Junio | F25: Julio | H25: Agosto | J25: Totales
B26: Presupuestado | C26: Ejecutado | D26: Presupuestado | E26: Ejecutado | F26: Presupuestado | G26: Ejecutado | H26: Presupuestado | I26: Ejecutado | J26: Presupuestado | K26: Ejecutado
A27: Recurso Humano | J27: =+B27+D27+F27+H27 -> 0 | K27: =+C27+E27+G27+I27 -> 0
A28: Gastos de Funcionamiento | J28: =+B28+D28+F28+H28 -> 0 | K28: =+C28+E28+G28+I28 -> 0
A29: Propiedad planta y equipo | J29: =+B29+D29+F29+H29 -> 0 | K29: =+C29+E29+G29+I29 -> 0
A30: TOTAL | B30: =SUM(B27:B29) -> 0 | C30: =SUM(C27:C29) -> 0 | D30: =SUM(D27:D29) -> 0 | E30: =SUM(E27:E29) -> 0 | F30: =SUM(F27:F29) -> 0 | G30: =SUM(G27:G29) -> 0 | H30: =SUM(H27:H29) -> 0 | I30: =SUM(I27:I29) -> 0 | ... K30: =SUM(K27:K29) -> 0
A33: Ejecucion de avance fìnanciero programado-ejecutado por categoria del gasto tercer cuatrimestre 2022
A35: Categoría del gasto | B35: Septiembre | D35: Octubre | F35: Noviembre | H35: Diciembre | J35: Totales
B36: Presupuestado | C36: Ejecutado | D36: Presupuestado | E36: Ejecutado | F36: Presupuestado | G36: Ejecutado | H36: Presupuestado | I36: Ejecutado | J36: Presupuestado | K36: Ejecutado
A37: Recurso Humano | J37: =+B37+D37+F37+H37 -> 0 | K37: =+C37+E37+G37+I37 -> 0
A38: Gastos de Funcionamiento | J38: =+B38+D38+F38+H38 -> 0 | K38: =+C38+E38+G38+I38 -> 0
A39: Propiedad Planta y Equipo | J39: =+B39+D39+F39+H39 -> 0 | K39: =+C39+E39+G39+I39 -> 0
A40: TOTAL | B40: =SUM(B37:B39) -> 0 | C40: =SUM(C37:C39) -> 0 | D40: =SUM(D37:D39) -> 0 | E40: =SUM(E37:E39) -> 0 | F40: =SUM(F37:F39) -> 0 | G40: =SUM(G37:G39) -> 0 | H40: =SUM(H37:H39) -> 0 | I40: =SUM(I37:I39) -> 0 | ... K40: =SUM(K37:K39) -> 0
A44: Resumen año 2022
A45: Categoría del gasto | B45: año 2022
B46: Presupuestado | C46: Ejecutado
A47: Recurso Humano | B47: =+J18+J27+J37 -> 9659245.3 | C47: =+K18+K27+K37 -> 9591596.9
A48: Gastos de Funcionamiento | B48: =+J19+J28+J38 -> 10846398 | C48: =+K19+K28+K38 -> 898016.26
A49: Propiedad Planta y Equipo | B49: =+J39+J29+J20 -> 0 | C49: =K39+K29+K20 -> 0
A50: TOTAL | B50: =SUM(B47:B49) -> 20505643 | C50: =SUM(C47:C49) -> 10489613
A68: Elaborado por: | C68: ___________________________ | F68: Autorizado por: | H68: ___________________________________
C69: Víctor Cresencio Reyes Porres | H69: Dr. Walter Antonio Mazariegos Samayoa
C70: Jefe de Contabilidad | H70: Director General
A71: Fecha: | C71: 10 de mayo 2022

Sheet EJEC. FISICA ENERO
L2: CTE-9
A6: UNIDAD DE CIRUGIA CARDIOVASCULAR DE GUATEMALA
A7: 5a. AVENIDA 6-22 ZONA 11
A8: dgunicar@yahoo.es Tel. 24163000
B10: Programacion de metas fisicas versus ejecucion (mensual) primer cuatrimestre
A11: No. | B11: Servicio | C11: Enero | E11: Febrero | G11: Marzo | I11: Abril | K11: Total cuatrimestre
C12: Programado | D12: Ejecutado | E12: Programado | F12: Ejecutado | G12: Programado | H12: Ejecutado | I12: Programado | J12: Ejecutado | K12: Programado | L12: Ejecutado
A13: 1 | B13: CIRUGIA DE ADULTOS | C13: 6 | D13: 9 | K13: =+C13+E13+G13+I13 -> 6 | L13: =+D13+F13+H13+J13 -> 9
A14: 2 | B14: CIRUGIA DE PEDIATRIA | C14: 6 | D14: 8 | K14: =+C14+E14+G14+I14 -> 6 | L14: =+D14+F14+H14+J14 -> 8
A15: 3 | B15: HEMODINAMIA ADULTOS | C15: 26 | D15: 84 | K15: =+C15+E15+G15+I15 -> 26 | L15: =+D15+F15+H15+J15 -> 84
A16: 4 | B16: HEMODINAMIA PEDIATRIA | C16: 5 | D16: 9 | K16: =+C16+E16+G16+I16 -> 5 | L16: =+D16+F16+H16+J16 -> 9
A17: 5 | B17: ECOCARDIOGRAMA ADULTOS | C17: 158 | D17: 411 | K17: =+C17+E17+G17+I17 -> 158 | L17: =+D17+F17+H17+J17 -> 411
A18: 6 | B18: ECOCARDIOGRAMA PEDIATRIA | C18: 85 | D18: 130 | K18: =+C18+E18+G18+I18 -> 85 | L18: =+D18+F18+H18+J18 -> 130
A19: 7 | B19: ELECTROCARDIOGRAMAS ADULTOS | C19: 65 | D19: 148 | K19: =+C19+E19+G19+I19 -> 65 | L19: =+D19+F19+H19+J19 -> 148
A20: 8 | B20: ELECTROCARDIOGRAMAS PEDIATRIA | C20: 62 | D20: 132 | K20: =+C20+E20+G20+I20 -> 62 | L20: =+D20+F20+H20+J20 -> 132
A21: 9 | B21: CONSULTAS MEDICAS ADULTOS | C21: 408 | D21: 935 | K21: =+C21+E21+G21+I21 -> 408 | L21: =+D21+F21+H21+J21 -> 935
A22: 10 | B22: CONSULTA MEDICAS PEDIATRICAS | C22: 208 | D22: 398 | K22: =+C22+E22+G22+I22 -> 208 | L22: =+D22+F22+H22+J22 -> 398
