Workbook

Sheet ENERO CTE-5
B8: ÀREA FINANCIERA | K8: CTE-5
A10: UNIDAD DE CIRUGIA CARDIOVASCULAR DE GUATEMALA
A11: 5a. AVENIDA 6-22 ZONA 11
A12: dgunicar@yahoo.es Tel. 24163000
A14: Programación y ejecucion mensual por tipo de gasto año 2021, Expresado en Quetzales primer cuatrimestre 2021
A15: No. | B15: CATEGORIA DE GASTO | C15: ENERO | E15: FEBRERO | G15: MARZO | I15: ABRIL | K15: TOTAL CUATRIMESTRE
C16: PRESUPUESTO | D16: REAL | E16: PRESUPUESTO | F16: REAL | G16: PRESUPUESTO | H16: REAL | I16: PRESUPUESTO | J16: REAL | K16: PRESUPUESTO | L16: REAL
B17: RECURSO HUMANO | C17: 2066666.7 | D17: 1849158.4 | K17: =+C17+E17+G17+I17 -> 2066666.7 | L17: =+D17+F17+H17+J17 -> 1849158.4
B19: GASTOS DE FUNCIONAMIENTO | C19: =+C31+C47 -> 2882453.1 | D19: =+D31+D47 -> 0 | E19: =+E31+E47 -> 0 | F19: =+F31+F47 -> 0 | G19: =+G31+G47 -> 0 | H19: =+H31+H47 -> 0 | I19: =+I31+I47 -> 0 | J19: =+J31+J47 -> 0 | K19: =+C19+E19+G19+I19 -> 2882453.1 | L19: =+D19+F19+H19+J19 -> 0
B20: ENERGIA ELECTRICA | C20: 0 | D20: 0 | K20: =+C20+E20+G20+I20 -> 0 | L20: =+D20+F20+H20+J20 -> 0
B21: TELEFONIA | C21: 12049.58 | D21: 0 | K21: =+C21+E21+G21+I21 -> 12049.58 | L21: =+D21+F21+H21+J21 -> 0
B22: IMPRESIÓN, ENCUADERNACION Y REPRODUCCION | C22: 0 | D22: 0 | L22: =+D22+F22+H22+J22 -> 0
B23: MANT. Y REP. EQUIPO MEDICO SANITARIO Y DE LAB. | C23: 0 | D23: 0 | K23: =+C23+E23+G23+I23 -> 0 | L23: =+D23+F23+H23+J23 -> 0
B24: MANTO. Y REPARACION DE EQUIPO DE COMPUTO | C24: 416.67 | D24: 0 | K24: =+C24+E24+G24+I24 -> 416.67 | L24: =+D24+F24+H24+J24 -> 0
B25: MANT. Y REP. DE OTRAS MAQUINAS Y EQUIPO | C25: 3473 | D25: 0 | K25: =+C25+E25+G25+I25 -> 3473 | L25: =+D25+F25+H25+J25 -> 0
B26: MANTO. Y REPARACION DE EDIFICIOS | C26: 4316.67 | D26: 0 | K26: =+C26+E26+G26+I26 -> 4316.67 | L26: =+D26+F26+H26+J26 -> 0
B27: MANT. Y REP. DE INSTALACIONES | C27: 7480.08 | D27: 0 | K27: =+C27+E27+G27+I27 -> 7480.08 | L27: =+D27+F27+H27+J27 -> 0
B28: SERVICIOS MEDICO-SANITARIOS | C28: 488150.25 | D28: 0 | K28: =+C28+E28+G28+I28 -> 488150.25 | L28: =+D28+F28+H28+J28 -> 0
B29: SERVICIOS DE VIGILANCIA | C29: 41666.67 | D29: 0 | K29: =+C29+E29+G29+I29 -> 41666.67 | L29: =+D29+F29+H29+J29 -> 0
B30: OTROS SERVICIOS NO PERSONALES | C30: 0 | D30: 0 | K30: =+C30+E30+G30+I30 -> 0 | L30: =+D30+F30+H30+J30 -> 0
B31: SUMA GASTOS GENERALES | C31: =SUM(C20:C30) -> 557552.92 | D31: =SUM(D20:D30) -> 0 | E31: =SUM(E20:E30) -> 0 | F31: =SUM(F20:F30) -> 0 | G31: =SUM(G20:G30) -> 0 | H31: =SUM(H20:H30) -> 0 | I31: =SUM(I20:I30) -> 0 | J31: =SUM(J20:J30) -> 0 | ... L31: =SUM(L20:L30) -> 0
B32: MATERIALES Y SUMINISTROS
B33: ALIMENTOS PARA PERSONAS | C33: 69375.89 | D33: 0 | K33: =+C33+E33+G33+I33 -> 69375.89 | L33: =+D33+F33+H33+J33 -> 0
B34: ACABADOS TEXTILES | C34: 6250 | D34: 0 | K34: =+C34+E34+G34+I34 -> 6250 | L34: =+D34+F34+H34+J34 -> 0
B35: ELEMENTOS Y COMPUESTOS QUIMICOS | C35: 54167.04 | D35: 0 | K35: =+C35+E35+G35+I35 -> 54167.04 | L35: =+D35+F35+H35+J35 -> 0
B36: COMBUSTIBLES Y LUBRICANTES | C36: 666.67 | D36: 0 | K36: =+C36+E36+G36+I36 -> 666.67 | L36: =+D36+F36+H36+J36 -> 0
B37: PRODUCTOS MEDICINALES Y FARMACEUTICOS | C37: 402411.67 | D37: 0 | K37: =+C37+E37+G37+I37 -> 402411.67 | L37: =+D37+F37+H37+J37 -> 0
B38: TINTES, PINTURAS Y COLORANTES | C38: 1500 | D38: 0 | K38: =+C38+E38+G38+I38 -> 1500 | L38: =+D38+F38+H38+J38 -> 0
B39: PRODUCTOS PLASTICOS, NYLON, VINIL Y PVC | C39: 17609 | D39: 0 | K39: =+C39+E39+G39+I39 -> 17609 | L39: =+D39+F39+H39+J39 -> 0
B40: OTROS PRODUCTOS QUIMICOS Y CONEXOS | C40: 833.33 | D40: 0 | K40: =+C40+E40+G40+I40 -> 833.33 | L40: =+D40+F40+H40+J40 -> 0
B41: OTROS PRODUCTOS METALICOS | C41: 736.66 | D41: 0 | K41: =+C41+E41+G41+I41 -> 736.66 | L41: =+D41+F41+H41+J41 -> 0
B42: UTILES DE LIMPIEZA Y PRODUCTOS SANITARIOS | C42: 15323.42 | D42: 0 | K42: =+C42+E42+G42+I42 -> 15323.42 | L42: =+D42+F42+H42+J42 -> 0
B43: UTILES MENORES MEDICO QUIRURGICOS Y DE LAB. | C43: 1697692 | D43: 0 | K43: =+C43+E43+G43+I43 -> 1697692 | L43: =+D43+F43+H43+J43 -> 0
B44: UTILES, ACCESORIOS Y MATERIALES ELECTRICOS | C44: 3334.83 | D44: 0 | K44: =+C44+E44+G44+I44 -> 3334.83 | L44: =+D44+F44+H44+J44 -> 0
... B46: OTROS MATERIALES Y SUMINISTROS | C46: 3333.33 | D46: 0 | K46: =+C46+E46+G46+I46 -> 3333.33 | L46: =+D46+F46+H46+J46 -> 0
B47: TOTAL MATERIALES Y SUMINISTROS | C47: =SUM(C33:C46) -> 2324900.2 | D47: =SUM(D33:D46) -> 0 | E47: =SUM(E33:E46) -> 0 | F47: =SUM(F33:F46) -> 0 | G47: =SUM(G33:G46) -> 0 | H47: =SUM(H33:H46) -> 0 | I47: =SUM(I33:I46) -> 0 | J47: =SUM(J33:J46) -> 0 | ... L47: =SUM(L33:L46) -> 0
B48: PROPIEDAD PLANTA Y EQUIPO
B49: EQUIPO MEDICO SANITARIO Y DE LABORATORIO | K49: =+C49+E49+G49+I49 -> 0 | L49: =+D49+F49+H49+J49 -> 0
B50: OTRAS MAQUINARIAS Y EQUIPOS | I50: 0 | K50: =+C50+E50+G50+I50 -> 0 | L50: =+D50+F50+H50+J50 -> 0
B51: TOTAL PROPIEDAD PLANTA Y EQUIPO | C51: =SUM(C49:C50) -> 0 | D51: =SUM(D49:D50) -> 0 | E51: =SUM(E49:E50) -> 0 | F51: =SUM(F49:F50) -> 0 | G51: =SUM(G49:G50) -> 0 | H51: =SUM(H49:H50) -> 0 | I51: =SUM(I49:I50) -> 0 | J51: =SUM(J49:J50) -> 0 | ... L51: =SUM(L49:L50) -> 0
...

Sheet FEBRERO CTE-5
B8: ÀREA FINANCIERA | K8: CTE-5
A10: UNIDAD DE CIRUGIA CARDIOVASCULAR DE GUATEMALA
A11: 5a. AVENIDA 6-22 ZONA 11
A12: dgunicar@yahoo.es Tel. 24163000
A14: Programación y ejecucion mensual por tipo de gasto año 2021, Expresado en Quetzales primer cuatrimestre 2021
A15: No. | B15: CATEGORIA DE GASTO | C15: ENERO | E15: FEBRERO | G15: MARZO | I15: ABRIL | K15: TOTAL CUATRIMESTRE
C16: PRESUPUESTO | D16: REAL | E16: PRESUPUESTO | F16: REAL | G16: PRESUPUESTO | H16: REAL | I16: PRESUPUESTO | J16: REAL | K16: PRESUPUESTO | L16: REAL
B17: RECURSO HUMANO | C17: 2066666.7 | D17: 1849158.4 | E17: 2066666.7 | F17: 1911482 | K17: =+C17+E17+G17+I17 -> 4133333.3 | L17: =+D17+F17+H17+J17 -> 3760640.4
B19: GASTOS DE FUNCIONAMIENTO | C19: =+C31+C47 -> 2882453.1 | D19: =+D31+D47 -> 0 | E19: =+E31+E47 -> 3039642.7 | F19: =+F31+F47 -> 41948.01 | G19: =+G31+G47 -> 0 | H19: =+H31+H47 -> 0 | I19: =+I31+I47 -> 0 | J19: =+J31+J47 -> 0 | K19: =+C19+E19+G19+I19 -> 5922095.8 | L19: =+D19+F19+H19+J19 -> 41948.01
B20: ENERGIA ELECTRICA | C20: 0 | D20: 0 | E20: 85000 | F20: 0 | K20: =+C20+E20+G20+I20 -> 85000 | L20: =+D20+F20+H20+J20 -> 0
B21: TELEFONIA | C21: 12049.58 | D21: 0 | E21: 12049.58 | F21: 8664.63 | K21: =+C21+E21+G21+I21 -> 24099.16 | L21: =+D21+F21+H21+J21 -> 8664.63
B22: IMPRESIÓN, ENCUADERNACION Y REPRODUCCION | C22: 0 | D22: 0 | E22: 0 | F22: 0 | L22: =+D22+F22+H22+J22 -> 0
B23: MANT. Y REP. EQUIPO MEDICO SANITARIO Y DE LAB. | C23: 0 | D23: 0 | E23: 0 | F23: 0 | K23: =+C23+E23+G23+I23 -> 0 | L23: =+D23+F23+H23+J23 -> 0
B24: MANTO. Y REPARACION DE EQUIPO DE COMPUTO | C24: 416.67 | D24: 0 | E24: 416.67 | F24: 0 | K24: =+C24+E24+G24+I24 -> 833.34 | L24: =+D24+F24+H24+J24 -> 0
B25: MANT. Y REP. DE OTRAS MAQUINAS Y EQUIPO | C25: 3473 | D25: 0 | E25: 3473 | F25: 0 | K25: =+C25+E25+G25+I25 -> 6946 | L25: =+D25+F25+H25+J25 -> 0
B26: MANTO. Y REPARACION DE EDIFICIOS | C26: 4316.67 | D26: 0 | E26: 4316.67 | F26: 0 | K26: =+C26+E26+G26+I26 -> 8633.34 | L26: =+D26+F26+H26+J26 -> 0
B27: MANT. Y REP. DE INSTALACIONES | C27: 7480.08 | D27: 0 | E27: 7480.08 | F27: 0 | K27: =+C27+E27+G27+I27 -> 14960.16 | L27: =+D27+F27+H27+J27 -> 0
B28: SERVICIOS MEDICO-SANITARIOS | C28: 488150.25 | D28: 0 | E28: 488150.25 | F28: 0 | K28: =+C28+E28+G28+I28 -> 976300.5 | L28: =+D28+F28+H28+J28 -> 0
B29: SERVICIOS DE VIGILANCIA | C29: 41666.67 | D29: 0 | E29: 41666.67 | F29: 0 | K29: =+C29+E29+G29+I29 -> 83333.34 | L29: =+D29+F29+H29+J29 -> 0
B30: OTROS SERVICIOS NO PERSONALES | C30: 0 | D30: 0 | E30: 72189.58 | F30: 0 | K30: =+C30+E30+G30+I30 -> 72189.58 | L30: =+D30+F30+H30+J30 -> 0
B31: SUMA GASTOS GENERALES | C31: =SUM(C20:C30) -> 557552.92 | D31: =SUM(D20:D30) -> 0 | E31: =SUM(E20:E30) -> 714742.5 | F31: =SUM(F20:F30) -> 8664.63 | G31: =SUM(G20:G30) -> 0 | H31: =SUM(H20:H30) -> 0 | I31: =SUM(I20:I30) -> 0 | J31: =SUM(J20:J30) -> 0 | ... L31: =SUM(L20:L30) -> 8664.63
B32: MATERIALES Y SUMINISTROS
B33: ALIMENTOS PARA PERSONAS | C33: 69375.89 | D33: 0 | E33: 69375.89 | F33: 13174.25 | K33: =+C33+E33+G33+I33 -> 138751.78 | L33: =+D33+F33+H33+J33 -> 13174.25
B34: ACABADOS TEXTILES | C34: 6250 | D34: 0 | E34: 6250 | F34: 0 | K34: =+C34+E34+G34+I34 -> 12500 | L34: =+D34+F34+H34+J34 -> 0
B35: ELEMENTOS Y COMPUESTOS QUIMICOS | C35: 54167.04 | D35: 0 | E35: 54167.04 | F35: 0 | K35: =+C35+E35+G35+I35 -> 108334.08 | L35: =+D35+F35+H35+J35 -> 0
B36: COMBUSTIBLES Y LUBRICANTES | C36: 666.67 | D36: 0 | E36: 666.67 | F36: 0 | K36: =+C36+E36+G36+I36 -> 1333.34 | L36: =+D36+F36+H36+J36 -> 0
B37: PRODUCTOS MEDICINALES Y FARMACEUTICOS | C37: 402411.67 | D37: 0 | E37: 402411.67 | F37: 20109.13 | K37: =+C37+E37+G37+I37 -> 804823.34 | L37: =+D37+F37+H37+J37 -> 20109.13
B38: TINTES, PINTURAS Y COLORANTES | C38: 1500 | D38: 0 | E38: 1500 | F38: 0 | K38: =+C38+E38+G38+I38 -> 3000 | L38: =+D38+F38+H38+J38 -> 0
B39: PRODUCTOS PLASTICOS, NYLON, VINIL Y PVC | C39: 17609 | D39: 0 | E39: 17609 | F39: 0 | K39: =+C39+E39+G39+I39 -> 35218 | L39: =+D39+F39+H39+J39 -> 0
B40: OTROS PRODUCTOS QUIMICOS Y CONEXOS | C40: 833.33 | D40: 0 | E40: 833.33 | F40: 0 | K40: =+C40+E40+G40+I40 -> 1666.66 | L40: =+D40+F40+H40+J40 -> 0
B41: OTROS PRODUCTOS METALICOS | C41: 736.66 | D41: 0 | E41: 736.66 | F41: 0 | K41: =+C41+E41+G41+I41 -> 1473.32 | L41: =+D41+F41+H41+J41 -> 0
B42: UTILES DE LIMPIEZA Y PRODUCTOS SANITARIOS | C42: 15323.42 | D42: 0 | E42: 15323.42 | F42: 0 | K42: =+C42+E42+G42+I42 -> 30646.84 | L42: =+D42+F42+H42+J42 -> 0
B43: UTILES MENORES MEDICO QUIRURGICOS Y DE LAB. | C43: 1697692 | D43: 0 | E43: 1697692 | F43: 0 | K43: =+C43+E43+G43+I43 -> 3395384 | L43: =+D43+F43+H43+J43 -> 0
B44: UTILES, ACCESORIOS Y MATERIALES ELECTRICOS | C44: 3334.83 | D44: 0 | E44: 3334.83 | F44: 0 | K44: =+C44+E44+G44+I44 -> 6669.66 | L44: =+D44+F44+H44+J44 -> 0
... B46: OTROS MATERIALES Y SUMINISTROS | C46: 3333.33 | D46: 0 | E46: 3333.33 | F46: 0 | K46: =+C46+E46+G46+I46 -> 6666.66 | L46: =+D46+F46+H46+J46 -> 0
B47: TOTAL MATERIALES Y SUMINISTROS | C47: =SUM(C33:C46) -> 2324900.2 | D47: =SUM(D33:D46) -> 0 | E47: =SUM(E33:E46) -> 2324900.2 | F47: =SUM(F33:F46) -> 33283.38 | G47: =SUM(G33:G46) -> 0 | H47: =SUM(H33:H46) -> 0 | I47: =SUM(I33:I46) -> 0 | J47: =SUM(J33:J46) -> 0 | ... L47: =SUM(L33:L46) -> 33283.38
B48: PROPIEDAD PLANTA Y EQUIPO
B49: EQUIPO MEDICO SANITARIO Y DE LABORATORIO | C49: 0 | D49: 0 | E49: 0 | F49: 0 | K49: =+C49+E49+G49+I49 -> 0 | L49: =+D49+F49+H49+J49 -> 0
B50: OTRAS MAQUINARIAS Y EQUIPOS | C50: 0 | D50: 0 | E50: 0 | F50: 0 | I50: 0 | K50: =+C50+E50+G50+I50 -> 0 | L50: =+D50+F50+H50+J50 -> 0
B51: TOTAL PROPIEDAD PLANTA Y EQUIPO | C51: =SUM(C49:C50) -> 0 | D51: =SUM(D49:D50) -> 0 | E51: =SUM(E49:E50) -> 0 | F51: =SUM(F49:F50) -> 0 | G51: =SUM(G49:G50) -> 0 | H51: =SUM(H49:H50) -> 0 | I51: =SUM(I49:I50) -> 0 | J51: =SUM(J49:J50) -> 0 | ... L51: =SUM(L49:L50) -> 0
...

Sheet MARZO CTE-5
B8: ÀREA FINANCIERA | K8: CTE-5
A10: UNIDAD DE CIRUGIA CARDIOVASCULAR DE GUATEMALA
A11: 5a. AVENIDA 6-22 ZONA 11
A12: dgunicar@yahoo.es Tel. 24163000
A14: Programación y ejecucion mensual por tipo de gasto año 2021, Expresado en Quetzales primer cuatrimestre 2021
A15: No. | B15: CATEGORIA DE GASTO | C15: ENERO | E15: FEBRERO | G15: MARZO | I15: ABRIL | K15: TOTAL CUATRIMESTRE
C16: PRESUPUESTO | D16: REAL | E16: PRESUPUESTO | F16: REAL | G16: PRESUPUESTO | H16: REAL | I16: PRESUPUESTO | J16: REAL | K16: PRESUPUESTO | L16: REAL
B17: RECURSO HUMANO | C17: 2066666.7 | D17: 1849158.4 | E17: 2066666.7 | F17: 1911482 | G17: 2066666.7 | H17: 1919900.8 | K17: =+C17+E17+G17+I17 -> 6200000 | L17: =+D17+F17+H17+J17 -> 5680541.2
B19: GASTOS DE FUNCIONAMIENTO | C19: =+C31+C47 -> 2882453.1 | D19: =+D31+D47 -> 0 | E19: =+E31+E47 -> 3039642.7 | F19: =+F31+F47 -> 41948.01 | G19: =+G31+G47 -> 3127790.4 | H19: =+H31+H47 -> 173563.53 | I19: =+I31+I47 -> 0 | J19: =+J31+J47 -> 0 | K19: =+C19+E19+G19+I19 -> 9049886.2 | L19: =+D19+F19+H19+J19 -> 215511.54
B20: ENERGIA ELECTRICA | C20: 0 | D20: 0 | E20: 85000 | F20: 0 | G20: 85000 | H20: 147069.31 | K20: =+C20+E20+G20+I20 -> 170000 | L20: =+D20+F20+H20+J20 -> 147069.31
B21: TELEFONIA | C21: 12049.58 | D21: 0 | E21: 12049.58 | F21: 8664.63 | G21: 12049.58 | H21: 12401.62 | K21: =+C21+E21+G21+I21 -> 36148.74 | L21: =+D21+F21+H21+J21 -> 21066.25
B22: IMPRESIÓN, ENCUADERNACION Y REPRODUCCION | C22: 0 | D22: 0 | E22: 0 | F22: 0 | G22: 12656.27 | H22: 0 | K22: =+C22+E22+G22+I22 -> 12656.27 | L22: =+D22+F22+H22+J22 -> 0
B23: MANT. Y REP. EQUIPO MEDICO SANITARIO Y DE LAB. | C23: 0 | D23: 0 | E23: 0 | F23: 0 | G23: 75491.42 | H23: 0 | K23: =+C23+E23+G23+I23 -> 75491.42 | L23: =+D23+F23+H23+J23 -> 0
B24: MANTO. Y REPARACION DE EQUIPO DE COMPUTO | C24: 416.67 | D24: 0 | E24: 416.67 | F24: 0 | G24: 416.67 | H24: 0 | K24: =+C24+E24+G24+I24 -> 1250.01 | L24: =+D24+F24+H24+J24 -> 0
B25: MANT. Y REP. DE OTRAS MAQUINAS Y EQUIPO | C25: 3473 | D25: 0 | E25: 3473 | F25: 0 | G25: 3473 | H25: 0 | K25: =+C25+E25+G25+I25 -> 10419 | L25: =+D25+F25+H25+J25 -> 0
B26: MANTO. Y REPARACION DE EDIFICIOS | C26: 4316.67 | D26: 0 | E26: 4316.67 | F26: 0 | G26: 4316.67 | H26: 0 | K26: =+C26+E26+G26+I26 -> 12950.01 | L26: =+D26+F26+H26+J26 -> 0
B27: MANT. Y REP. DE INSTALACIONES | C27: 7480.08 | D27: 0 | E27: 7480.08 | F27: 0 | G27: 7480.08 | H27: 0 | K27: =+C27+E27+G27+I27 -> 22440.24 | L27: =+D27+F27+H27+J27 -> 0
B28: SERVICIOS MEDICO-SANITARIOS | C28: 488150.25 | D28: 0 | E28: 488150.25 | F28: 0 | G28: 488150.25 | H28: 0 | K28: =+C28+E28+G28+I28 -> 1464450.8 | L28: =+D28+F28+H28+J28 -> 0
B29: SERVICIOS DE VIGILANCIA | C29: 41666.67 | D29: 0 | E29: 41666.67 | F29: 0 | G29: 41666.67 | H29: 0 | K29: =+C29+E29+G29+I29 -> 125000.01 | L29: =+D29+F29+H29+J29 -> 0
B30: OTROS SERVICIOS NO PERSONALES | C30: 0 | D30: 0 | E30: 72189.58 | F30: 0 | G30: 72189.58 | H30: 3181.34 | K30: =+C30+E30+G30+I30 -> 144379.16 | L30: =+D30+F30+H30+J30 -> 3181.34
B31: SUMA GASTOS GENERALES | C31: =SUM(C20:C30) -> 557552.92 | D31: =SUM(D20:D30) -> 0 | E31: =SUM(E20:E30) -> 714742.5 | F31: =SUM(F20:F30) -> 8664.63 | G31: =SUM(G20:G30) -> 802890.19 | H31: =SUM(H20:H30) -> 162652.27 | I31: =SUM(I20:I30) -> 0 | J31: =SUM(J20:J30) -> 0 | ... L31: =SUM(L20:L30) -> 171316.9
B32: MATERIALES Y SUMINISTROS
B33: ALIMENTOS PARA PERSONAS | C33: 69375.89 | D33: 0 | E33: 69375.89 | F33: 13174.25 | G33: 69375.89 | H33: 0 | K33: =+C33+E33+G33+I33 -> 208127.67 | L33: =+D33+F33+H33+J33 -> 13174.25
B34: ACABADOS TEXTILES | C34: 6250 | D34: 0 | E34: 6250 | F34: 0 | G34: 6250 | H34: 0 | K34: =+C34+E34+G34+I34 -> 18750 | L34: =+D34+F34+H34+J34 -> 0
B35: ELEMENTOS Y COMPUESTOS QUIMICOS | C35: 54167.04 | D35: 0 | E35: 54167.04 | F35: 0 | G35: 54167.04 | H35: 0 | K35: =+C35+E35+G35+I35 -> 162501.12 | L35: =+D35+F35+H35+J35 -> 0
B36: COMBUSTIBLES Y LUBRICANTES | C36: 666.67 | D36: 0 | E36: 666.67 | F36: 0 | G36: 666.67 | H36: 0 | K36: =+C36+E36+G36+I36 -> 2000.01 | L36: =+D36+F36+H36+J36 -> 0
B37: PRODUCTOS MEDICINALES Y FARMACEUTICOS | C37: 402411.67 | D37: 0 | E37: 402411.67 | F37: 20109.13 | G37: 402411.67 | H37: 10911.26 | K37: =+C37+E37+G37+I37 -> 1207235 | L37: =+D37+F37+H37+J37 -> 31020.39
B38: TINTES, PINTURAS Y COLORANTES | C38: 1500 | D38: 0 | E38: 1500 | F38: 0 | G38: 1500 | H38: 0 | K38: =+C38+E38+G38+I38 -> 4500 | L38: =+D38+F38+H38+J38 -> 0
B39: PRODUCTOS PLASTICOS, NYLON, VINIL Y PVC | C39: 17609 | D39: 0 | E39: 17609 | F39: 0 | G39: 17609 | H39: 0 | K39: =+C39+E39+G39+I39 -> 52827 | L39: =+D39+F39+H39+J39 -> 0
B40: OTROS PRODUCTOS QUIMICOS Y CONEXOS | C40: 833.33 | D40: 0 | E40: 833.33 | F40: 0 | G40: 833.33 | H40: 0 | K40: =+C40+E40+G40+I40 -> 2499.99 | L40: =+D40+F40+H40+J40 -> 0
B41: OTROS PRODUCTOS METALICOS | C41: 736.66 | D41: 0 | E41: 736.66 | F41: 0 | G41: 736.66 | H41: 0 | K41: =+C41+E41+G41+I41 -> 2209.98 | L41: =+D41+F41+H41+J41 -> 0
B42: UTILES DE LIMPIEZA Y PRODUCTOS SANITARIOS | C42: 15323.42 | D42: 0 | E42: 15323.42 | F42: 0 | G42: 15323.42 | H42: 0 | K42: =+C42+E42+G42+I42 -> 45970.26 | L42: =+D42+F42+H42+J42 -> 0
B43: UTILES MENORES MEDICO QUIRURGICOS Y DE LAB. | C43: 1697692 | D43: 0 | E43: 1697692 | F43: 0 | G43: 1697692 | H43: 0 | K43: =+C43+E43+G43+I43 -> 5093076 | L43: =+D43+F43+H43+J43 -> 0
B44: UTILES, ACCESORIOS Y MATERIALES ELECTRICOS | C44: 3334.83 | D44: 0 | E44: 3334.83 | F44: 0 | G44: 3334.83 | H44: 0 | K44: =+C44+E44+G44+I44 -> 10004.49 | L44: =+D44+F44+H44+J44 -> 0
... B46: OTROS MATERIALES Y SUMINISTROS | C46: 3333.33 | D46: 0 | E46: 3333.33 | F46: 0 | G46: 3333.33 | H46: 0 | K46: =+C46+E46+G46+I46 -> 9999.99 | L46: =+D46+F46+H46+J46 -> 0
B47: TOTAL MATERIALES Y SUMINISTROS | C47: =SUM(C33:C46) -> 2324900.2 | D47: =SUM(D33:D46) -> 0 | E47: =SUM(E33:E46) -> 2324900.2 | F47: =SUM(F33:F46) -> 33283.38 | G47: =SUM(G33:G46) -> 2324900.2 | H47: =SUM(H33:H46) -> 10911.26 | I47: =SUM(I33:I46) -> 0 | J47: =SUM(J33:J46) -> 0 | ... L47: =SUM(L33:L46) -> 44194.64
B48: PROPIEDAD PLANTA Y EQUIPO
B49: EQUIPO MEDICO SANITARIO Y DE LABORATORIO | C49: 0 | D49: 0 | E49: 0 | F49: 0 | H49: 0 | K49: =+C49+E49+G49+I49 -> 0 | L49: =+D49+F49+H49+J49 -> 0
B50: OTRAS MAQUINARIAS Y EQUIPOS | C50: 0 | D50: 0 | E50: 0 | F50: 0 | H50: 0 | I50: 0 | K50: =+C50+E50+G50+I50 -> 0 | L50: =+D50+F50+H50+J50 -> 0
B51: TOTAL PROPIEDAD PLANTA Y EQUIPO | C51: =SUM(C49:C50) -> 0 | D51: =SUM(D49:D50) -> 0 | E51: =SUM(E49:E50) -> 0 | F51: =SUM(F49:F50) -> 0 | G51: =SUM(G49:G50) -> 0 | H51: =SUM(H49:H50) -> 0 | I51: =SUM(I49:I50) -> 0 | J51: =SUM(J49:J50) -> 0 | ... L51: =SUM(L49:L50) -> 0
...

Sheet ABRIL CTE-5
B8: ÀREA FINANCIERA | K8: CTE-5
A10: UNIDAD DE CIRUGIA CARDIOVASCULAR DE GUATEMALA
A11: 5a. AVENIDA 6-22 ZONA 11
A12: dgunicar@yahoo.es Tel. 24163000
A14: Programación y ejecucion mensual por tipo de gasto año 2021, Expresado en Quetzales primer cuatrimestre 2021
A15: No. | B15: CATEGORIA DE GASTO | C15: ENERO | E15: FEBRERO | G15: MARZO | I15: ABRIL | K15: TOTAL CUATRIMESTRE
C16: PRESUPUESTO | D16: REAL | E16: PRESUPUESTO | F16: REAL | G16: PRESUPUESTO | H16: REAL | I16: PRESUPUESTO | J16: REAL | K16: PRESUPUESTO | L16: REAL
B17: RECURSO HUMANO | C17: 2066666.7 | D17: 1849158.4 | E17: 2066666.7 | F17: 1911482 | G17: 2066666.7 | H17: 1919900.8 | I17: 2066666.7 | J17: 2504690.2 | K17: =+C17+E17+G17+I17 -> 8266666.7 | L17: =+D17+F17+H17+J17 -> 8185231.3
B19: GASTOS DE FUNCIONAMIENTO | C19: =+C31+C47 -> 2882453.1 | D19: =+D31+D47 -> 0 | E19: =+E31+E47 -> 3039642.7 | F19: =+F31+F47 -> 41948.01 | G19: =+G31+G47 -> 3127790.4 | H19: =+H31+H47 -> 173563.53 | I19: =+I31+I47 -> 3127790.4 | J19: =+J31+J47 -> 2323502.4 | K19: =+C19+E19+G19+I19 -> 12177677 | L19: =+D19+F19+H19+J19 -> 2539014
B20: ENERGIA ELECTRICA | C20: 0 | D20: 0 | E20: 85000 | F20: 0 | G20: 85000 | H20: 147069.31 | I20: 85000 | J20: 0 | K20: =+C20+E20+G20+I20 -> 255000 | L20: =+D20+F20+H20+J20 -> 147069.31
B21: TELEFONIA | C21: 12049.58 | D21: 0 | E21: 12049.58 | F21: 8664.63 | G21: 12049.58 | H21: 12401.62 | I21: 12049.58 | J21: 8502.04 | K21: =+C21+E21+G21+I21 -> 48198.32 | L21: =+D21+F21+H21+J21 -> 29568.29
B22: IMPRESIÓN, ENCUADERNACION Y REPRODUCCION | C22: 0 | D22: 0 | E22: 0 | F22: 0 | G22: 12656.27 | H22: 0 | I22: 12656.27 | J22: 39254.8 | K22: =+C22+E22+G22+I22 -> 25312.54 | L22: =+D22+F22+H22+J22 -> 39254.8
B23: MANT. Y REP. EQUIPO MEDICO SANITARIO Y DE LAB. | C23: 0 | D23: 0 | E23: 0 | F23: 0 | G23: 75491.42 | H23: 0 | I23: 75491.42 | J23: 0 | K23: =+C23+E23+G23+I23 -> 150982.84 | L23: =+D23+F23+H23+J23 -> 0
B24: MANTO. Y REPARACION DE EQUIPO DE COMPUTO | C24: 416.67 | D24: 0 | E24: 416.67 | F24: 0 | G24: 416.67 | H24: 0 | I24: 416.67 | J24: 0 | K24: =+C24+E24+G24+I24 -> 1666.68 | L24: =+D24+F24+H24+J24 -> 0
B25: MANT. Y REP. DE OTRAS MAQUINAS Y EQUIPO | C25: 3473 | D25: 0 | E25: 3473 | F25: 0 | G25: 3473 | H25: 0 | I25: 3473 | J25: 0 | K25: =+C25+E25+G25+I25 -> 13892 | L25: =+D25+F25+H25+J25 -> 0
B26: MANTO. Y REPARACION DE EDIFICIOS | C26: 4316.67 | D26: 0 | E26: 4316.67 | F26: 0 | G26: 4316.67 | H26: 0 | I26: 4316.67 | J26: 0 | K26: =+C26+E26+G26+I26 -> 17266.68 | L26: =+D26+F26+H26+J26 -> 0
B27: MANT. Y REP. DE INSTALACIONES | C27: 7480.08 | D27: 0 | E27: 7480.08 | F27: 0 | G27: 7480.08 | H27: 0 | I27: 7480.08 | J27: 9540 | K27: =+C27+E27+G27+I27 -> 29920.32 | L27: =+D27+F27+H27+J27 -> 9540
B28: SERVICIOS MEDICO-SANITARIOS | C28: 488150.25 | D28: 0 | E28: 488150.25 | F28: 0 | G28: 488150.25 | H28: 0 | I28: 488150.25 | J28: 502273 | K28: =+C28+E28+G28+I28 -> 1952601 | L28: =+D28+F28+H28+J28 -> 502273
B29: SERVICIOS DE VIGILANCIA | C29: 41666.67 | D29: 0 | E29: 41666.67 | F29: 0 | G29: 41666.67 | H29: 0 | I29: 41666.67 | J29: 84000 | K29: =+C29+E29+G29+I29 -> 166666.68 | L29: =+D29+F29+H29+J29 -> 84000
B30: OTROS SERVICIOS NO PERSONALES | C30: 0 | D30: 0 | E30: 72189.58 | F30: 0 | G30: 72189.58 | H30: 3181.34 | I30: 72189.58 | J30: 133676.41 | K30: =+C30+E30+G30+I30 -> 216568.74 | L30: =+D30+F30+H30+J30 -> 136857.75
B31: SUMA GASTOS GENERALES | C31: =SUM(C20:C30) -> 557552.92 | D31: =SUM(D20:D30) -> 0 | E31: =SUM(E20:E30) -> 714742.5 | F31: =SUM(F20:F30) -> 8664.63 | G31: =SUM(G20:G30) -> 802890.19 | H31: =SUM(H20:H30) -> 162652.27 | I31: =SUM(I20:I30) -> 802890.19 | J31: =SUM(J20:J30) -> 777246.25 | ... L31: =SUM(L20:L30) -> 948563.15
B32: MATERIALES Y SUMINISTROS
B33: ALIMENTOS PARA PERSONAS | C33: 69375.89 | D33: 0 | E33: 69375.89 | F33: 13174.25 | G33: 69375.89 | H33: 0 | I33: 69375.89 | J33: 89113.5 | K33: =+C33+E33+G33+I33 -> 277503.56 | L33: =+D33+F33+H33+J33 -> 102287.75
B34: ACABADOS TEXTILES | C34: 6250 | D34: 0 | E34: 6250 | F34: 0 | G34: 6250 | H34: 0 | I34: 6250 | J34: 0 | K34: =+C34+E34+G34+I34 -> 25000 | L34: =+D34+F34+H34+J34 -> 0
B35: ELEMENTOS Y COMPUESTOS QUIMICOS | C35: 54167.04 | D35: 0 | E35: 54167.04 | F35: 0 | G35: 54167.04 | H35: 0 | I35: 54167.04 | J35: 184973.15 | K35: =+C35+E35+G35+I35 -> 216668.16 | L35: =+D35+F35+H35+J35 -> 184973.15
B36: COMBUSTIBLES Y LUBRICANTES | C36: 666.67 | D36: 0 | E36: 666.67 | F36: 0 | G36: 666.67 | H36: 0 | I36: 666.67 | J36: 0 | K36: =+C36+E36+G36+I36 -> 2666.68 | L36: =+D36+F36+H36+J36 -> 0
B37: PRODUCTOS MEDICINALES Y FARMACEUTICOS | C37: 402411.67 | D37: 0 | E37: 402411.67 | F37: 20109.13 | G37: 402411.67 | H37: 10911.26 | I37: 402411.67 | J37: 635048.73 | K37: =+C37+E37+G37+I37 -> 1609646.7 | L37: =+D37+F37+H37+J37 -> 666069.12
B38: TINTES, PINTURAS Y COLORANTES | C38: 1500 | D38: 0 | E38: 1500 | F38: 0 | G38: 1500 | H38: 0 | I38: 1500 | J38: 0 | K38: =+C38+E38+G38+I38 -> 6000 | L38: =+D38+F38+H38+J38 -> 0
B39: PRODUCTOS PLASTICOS, NYLON, VINIL Y PVC | C39: 17609 | D39: 0 | E39: 17609 | F39: 0 | G39: 17609 | H39: 0 | I39: 17609 | J39: 22920 | K39: =+C39+E39+G39+I39 -> 70436 | L39: =+D39+F39+H39+J39 -> 22920
B40: OTROS PRODUCTOS QUIMICOS Y CONEXOS | C40: 833.33 | D40: 0 | E40: 833.33 | F40: 0 | G40: 833.33 | H40: 0 | I40: 833.33 | J40: 0 | K40: =+C40+E40+G40+I40 -> 3333.32 | L40: =+D40+F40+H40+J40 -> 0
B41: OTROS PRODUCTOS METALICOS | C41: 736.66 | D41: 0 | E41: 736.66 | F41: 0 | G41: 736.66 | H41: 0 | I41: 736.66 | J41: 1700 | K41: =+C41+E41+G41+I41 -> 2946.64 | L41: =+D41+F41+H41+J41 -> 1700
B42: UTILES DE LIMPIEZA Y PRODUCTOS SANITARIOS | C42: 15323.42 | D42: 0 | E42: 15323.42 | F42: 0 | G42: 15323.42 | H42: 0 | I42: 15323.42 | J42: 26482 | K42: =+C42+E42+G42+I42 -> 61293.68 | L42: =+D42+F42+H42+J42 -> 26482
B43: UTILES MENORES MEDICO QUIRURGICOS Y DE LAB. | C43: 1697692 | D43: 0 | E43: 1697692 | F43: 0 | G43: 1697692 | H43: 0 | I43: 1697692 | J43: 574272.14 | K43: =+C43+E43+G43+I43 -> 6790768 | L43: =+D43+F43+H43+J43 -> 574272.14
B44: UTILES, ACCESORIOS Y MATERIALES ELECTRICOS | C44: 3334.83 | D44: 0 | E44: 3334.83 | F44: 0 | G44: 3334.83 | H44: 0 | I44: 3334.83 | J44: 6762.65 | K44: =+C44+E44+G44+I44 -> 13339.32 | L44: =+D44+F44+H44+J44 -> 6762.65
... B46: OTROS MATERIALES Y SUMINISTROS | C46: 3333.33 | D46: 0 | E46: 3333.33 | F46: 0 | G46: 3333.33 | H46: 0 | I46: 3333.33 | J46: 0 | K46: =+C46+E46+G46+I46 -> 13333.32 | L46: =+D46+F46+H46+J46 -> 0
B47: TOTAL MATERIALES Y SUMINISTROS | C47: =SUM(C33:C46) -> 2324900.2 | D47: =SUM(D33:D46) -> 0 | E47: =SUM(E33:E46) -> 2324900.2 | F47: =SUM(F33:F46) -> 33283.38 | G47: =SUM(G33:G46) -> 2324900.2 | H47: =SUM(H33:H46) -> 10911.26 | I47: =SUM(I33:I46) -> 2324900.2 | J47: =SUM(J33:J46) -> 1546256.2 | ... L47: =SUM(L33:L46) -> 1590450.8
B48: PROPIEDAD PLANTA Y EQUIPO
B49: EQUIPO MEDICO SANITARIO Y DE LABORATORIO | C49: 0 | D49: 0 | E49: 0 | F49: 0 | H49: 0 | K49: =+C49+E49+G49+I49 -> 0 | L49: =+D49+F49+H49+J49 -> 0
B50: OTRAS MAQUINARIAS Y EQUIPOS | C50: 0 | D50: 0 | E50: 0 | F50: 0 | H50: 0 | I50: 0 | K50: =+C50+E50+G50+I50 -> 0 | L50: =+D50+F50+H50+J50 -> 0
B51: TOTAL PROPIEDAD PLANTA Y EQUIPO | C51: =SUM(C49:C50) -> 0 | D51: =SUM(D49:D50) -> 0 | E51: =SUM(E49:E50) -> 0 | F51: =SUM(F49:F50) -> 0 | G51: =SUM(G49:G50) -> 0 | H51: =SUM(H49:H50) -> 0 | I51: =SUM(I49:I50) -> 0 | J51: =SUM(J49:J50) -> 0 | ... L51: =SUM(L49:L50) -> 0
...

Sheet ENERO ANEXO A CTE-5
B8: ÀREA FINANCIERA | I8: CTE-5-A
A10: UNIDAD DE CIRUGIA CARDIOVASCULAR DE GUATEMALA
A11: 5a. AVENIDA 6-22 ZONA 11
A12: dgunicar@yahoo.es Tel. 24163000
A14: Programación mensual por tipo de gasto año 2018, Expresado en Quetzales primer cuatrimestre 2018
A15: No. | B15: CATEGORIA DE GASTO | C15: ENERO | E15: FEBRERO | G15: MARZO | I15: ABRIL
C16: PRESUPUESTO | D16: REAL | E16: PRESUPUESTO | F16: REAL | G16: PRESUPUESTO | H16: REAL | I16: PRESUPUESTO | J16: REAL
B17: RECURSO HUMANO | C17: 1764858.4 | D17: 1492317.4 | E17: 1764858.4 | F17: 1792563.6 | G17: 1764858.4 | H17: 1578007.9 | I17: 1764858.4 | J17: 1803793.6
B19: GASTOS DE FUNCIONAMIENTO | C19: =+C27+C43 -> 2818474.9 | D19: =+D27+D43 -> 0 | E19: =+E27+E43 -> 2818474.9 | F19: =+F27+F43 -> 67111.02 | G19: =+G27+G43 -> 2818474.9 | H19: =+H27+H43 -> 58543.64 | I19: =+I27+I43 -> 2818474.9 | J19: =+J27+J43 -> 3743927.3
B20: ENERGIA ELECTRICA | C20: 62500 | E20: 62500 | F20: 56112.02 | G20: 62500 | I20: 62500 | J20: 68083.01
B21: TELEFONIA | C21: 7500 | E21: 7500 | F21: 10999 | G21: 7500 | H21: 11011 | I21: 7500 | J21: 10992
B22: IMPRESIÓN, ENCUADERNACION Y REPRODUCCION | C22: 8133.97 | E22: 8133.97 | G22: 8133.97 | I22: 8133.97 | J22: 4358
B23: MANT. Y REP. EQUIPO MEDICO SANITARIO Y DE LAB. | C23: 33333.33 | E23: 33333.33 | G23: 33333.33 | I23: 33333.33 | J23: 45020
B24: SERVICIOS MEDICO-SANITARIOS | C24: 165141.75 | E24: 165141.75 | G24: 165141.75 | H24: 1000 | I24: 165141.75 | J24: 26842.86
B25: SERVICIOS DE VIGILANCIA | C25: 40000 | E25: 40000 | G25: 40000 | I25: 40000 | J25: 76240
B26: OTROS SERVICIOS NO PERSONALES | C26: 26305.03 | E26: 26305.03 | G26: 26305.03 | H26: 46532.64 | I26: 26305.03 | J26: 55063.68
B27: SUMA GASTOS GENERALES | C27: =SUM(C20:C26) -> 342914.08 | D27: =SUM(D20:D26) -> 0 | E27: =SUM(E20:E26) -> 342914.08 | F27: =SUM(F20:F26) -> 67111.02 | G27: =SUM(G20:G26) -> 342914.08 | H27: =SUM(H20:H26) -> 58543.64 | I27: =SUM(I20:I26) -> 342914.08 | J27: =SUM(J20:J26) -> 286599.55
B28: MATERIALES Y SUMINISTROS
B29: ALIMENTOS PARA PERSONAS | C29: 60936.45 | E29: 60936.45 | G29: 60936.45 | I29: 60936.45 | J29: 202940.25
B30: ACABADOS TEXTILES | C30: 600 | E30: 600 | G30: 600 | I30: 600
B31: PRODUCTOS DE PAPEL O CARTON | C31: 945.42 | E31: 945.42 | G31: 945.42 | I31: 945.42
B32: ELEMENTOS Y COMPUESTOS QUIMICOS | C32: 169652.57 | E32: 169652.57 | G32: 169652.57 | I32: 169652.57 | J32: 178282.05
B33: COMBUSTIBLES Y LUBRICANTES | C33: 912 | E33: 912 | G33: 912 | I33: 912
B34: PRODUCTOS MEDICINALES Y FARMACEUTICOS | C34: 427229.65 | E34: 427229.65 | G34: 427229.65 | I34: 427229.65 | J34: 1425199.8
B35: TINTES, PINTURAS Y COLORANTES | C35: 100 | E35: 100 | G35: 100 | I35: 100
B36: PRODUCTOS PLASTICOS, NYLON, VINIL Y PVC | C36: 13579.7 | E36: 13579.7 | G36: 13579.7 | I36: 13579.7 | J36: 75162.24
B37: OTROS PRODUCTOS METALICOS | C37: 310 | E37: 310 | G37: 310 | I37: 310
B38: UTILES DE LIMPIEZA Y PRODUCTOS SANITARIOS | C38: 10809.43 | E38: 10809.43 | G38: 10809.43 | I38: 10809.43 | J38: 14528.6
B39: UTILES MENORES MEDICO QUIRURGICOS Y DE LAB. | C39: 1780006.3 | E39: 1780006.3 | G39: 1780006.3 | I39: 1780006.3 | J39: 1545914.8
B40: UTILES, ACCESORIOS Y MATERIALES ELECTRICOS | C40: 2208.7 | E40: 2208.7 | G40: 2208.7 | I40: 2208.7 | J40: 15300
B41: ACCESORIOS Y REPUESTOS EN GENERAL | C41: 8105.1 | E41: 8105.1 | G41: 8105.1 | I41: 8105.1
B42: OTROS MATERIALES Y SUMINISTROS | C42: 165.5 | E42: 165.5 | G42: 165.5 | I42: 165.5
B43: TOTAL MATERIALES Y SUMINISTROS | C43: =SUM(C29:C42) -> 2475560.8 | D43: =SUM(D29:D42) -> 0 | E43: =SUM(E29:E42) -> 2475560.8 | F43: =SUM(F29:F42) -> 0 | G43: =SUM(G29:G42) -> 2475560.8 | H43: =SUM(H29:H42) -> 0 | I43: =SUM(I29:I42) -> 2475560.8 | J43: =SUM(J29:J42) -> 3457327.8
A46: Programación mensual por tipo de gasto año 2016, Expresado en Quetzales
A47: No. | B47: Categoría de Gasto | C47: Julio | E47: Agosto | G47: Septiembre
B48: Recurso Humano | C48: Pto. | D48: Real | E48: Pto. | F48: Real | G48: Pto. | H48: Real
B51: Gastos de Funcionamiento
B52: detallar cada gasto cargado
A60: TOTALES
A73: Programación mensual por tipo de gasto año 2018, Expresado en Quetzales segundo cuatrimestre 2018
...

Sheet FEBRERO ANEXO A CTE-5
B8: ÀREA FINANCIERA | I8: CTE-5-A
A10: UNIDAD DE CIRUGIA CARDIOVASCULAR DE GUATEMALA
A11: 5a. AVENIDA 6-22 ZONA 11
A12: dgunicar@yahoo.es Tel. 24163000
A14: Programación mensual por tipo de gasto año 2018, Expresado en Quetzales primer cuatrimestre 2018
A15: No. | B15: CATEGORIA DE GASTO | C15: ENERO | E15: FEBRERO | G15: MARZO | I15: ABRIL
C16: PRESUPUESTO | D16: REAL | E16: PRESUPUESTO | F16: REAL | G16: PRESUPUESTO | H16: REAL | I16: PRESUPUESTO | J16: REAL
B17: RECURSO HUMANO | C17: 1764858.4 | D17: 1492317.4 | E17: 1764858.4 | F17: 1792563.6 | G17: 1764858.4 | H17: 1578007.9 | I17: 1764858.4 | J17: 1803793.6
B19: GASTOS DE FUNCIONAMIENTO | C19: =+C27+C43 -> 2818474.9 | D19: =+D27+D43 -> 0 | E19: =+E27+E43 -> 2818474.9 | F19: =+F27+F43 -> 67111.02 | G19: =+G27+G43 -> 2818474.9 | H19: =+H27+H43 -> 58543.64 | I19: =+I27+I43 -> 2818474.9 | J19: =+J27+J43 -> 3743927.3
B20: ENERGIA ELECTRICA | C20: 62500 | E20: 62500 | F20: 56112.02 | G20: 62500 | I20: 62500 | J20: 68083.01
B21: TELEFONIA | C21: 7500 | E21: 7500 | F21: 10999 | G21: 7500 | H21: 11011 | I21: 7500 | J21: 10992
B22: IMPRESIÓN, ENCUADERNACION Y REPRODUCCION | C22: 8133.97 | E22: 8133.97 | G22: 8133.97 | I22: 8133.97 | J22: 4358
B23: MANT. Y REP. EQUIPO MEDICO SANITARIO Y DE LAB. | C23: 33333.33 | E23: 33333.33 | G23: 33333.33 | I23: 33333.33 | J23: 45020
B24: SERVICIOS MEDICO-SANITARIOS | C24: 165141.75 | E24: 165141.75 | G24: 165141.75 | H24: 1000 | I24: 165141.75 | J24: 26842.86
B25: SERVICIOS DE VIGILANCIA | C25: 40000 | E25: 40000 | G25: 40000 | I25: 40000 | J25: 76240
B26: OTROS SERVICIOS NO PERSONALES | C26: 26305.03 | E26: 26305.03 | G26: 26305.03 | H26: 46532.64 | I26: 26305.03 | J26: 55063.68
B27: SUMA GASTOS GENERALES | C27: =SUM(C20:C26) -> 342914.08 | D27: =SUM(D20:D26) -> 0 | E27: =SUM(E20:E26) -> 342914.08 | F27: =SUM(F20:F26) -> 67111.02 | G27: =SUM(G20:G26) -> 342914.08 | H27: =SUM(H20:H26) -> 58543.64 | I27: =SUM(I20:I26) -> 342914.08 | J27: =SUM(J20:J26) -> 286599.55
B28: MATERIALES Y SUMINISTROS
B29: ALIMENTOS PARA PERSONAS | C29: 60936.45 | E29: 60936.45 | G29: 60936.45 | I29: 60936.45 | J29: 202940.25
B30: ACABADOS TEXTILES | C30: 600 | E30: 600 | G30: 600 | I30: 600
B31: PRODUCTOS DE PAPEL O CARTON | C31: 945.42 | E31: 945.42 | G31: 945.42 | I31: 945.42
B32: ELEMENTOS Y COMPUESTOS QUIMICOS | C32: 169652.57 | E32: 169652.57 | G32: 169652.57 | I32: 169652.57 | J32: 178282.05
B33: COMBUSTIBLES Y LUBRICANTES | C33: 912 | E33: 912 | G33: 912 | I33: 912
B34: PRODUCTOS MEDICINALES Y FARMACEUTICOS | C34: 427229.65 | E34: 427229.65 | G34: 427229.65 | I34: 427229.65 | J34: 1425199.8
B35: TINTES, PINTURAS Y COLORANTES | C35: 100 | E35: 100 | G35: 100 | I35: 100
B36: PRODUCTOS PLASTICOS, NYLON, VINIL Y PVC | C36: 13579.7 | E36: 13579.7 | G36: 13579.7 | I36: 13579.7 | J36: 75162.24
B37: OTROS PRODUCTOS METALICOS | C37: 310 | E37: 310 | G37: 310 | I37: 310
B38: UTILES DE LIMPIEZA Y PRODUCTOS SANITARIOS | C38: 10809.43 | E38: 10809.43 | G38: 10809.43 | I38: 10809.43 | J38: 14528.6
B39: UTILES MENORES MEDICO QUIRURGICOS Y DE LAB. | C39: 1780006.3 | E39: 1780006.3 | G39: 1780006.3 | I39: 1780006.3 | J39: 1545914.8
B40: UTILES, ACCESORIOS Y MATERIALES ELECTRICOS | C40: 2208.7 | E40: 2208.7 | G40: 2208.7 | I40: 2208.7 | J40: 15300
B41: ACCESORIOS Y REPUESTOS EN GENERAL | C41: 8105.1 | E41: 8105.1 | G41: 8105.1 | I41: 8105.1
B42: OTROS MATERIALES Y SUMINISTROS | C42: 165.5 | E42: 165.5 | G42: 165.5 | I42: 165.5
B43: TOTAL MATERIALES Y SUMINISTROS | C43: =SUM(C29:C42) -> 2475560.8 | D43: =SUM(D29:D42) -> 0 | E43: =SUM(E29:E42) -> 2475560.8 | F43: =SUM(F29:F42) -> 0 | G43: =SUM(G29:G42) -> 2475560.8 | H43: =SUM(H29:H42) -> 0 | I43: =SUM(I29:I42) -> 2475560.8 | J43: =SUM(J29:J42) -> 3457327.8
A46: Programación mensual por tipo de gasto año 2016, Expresado en Quetzales
A47: No. | B47: Categoría de Gasto | C47: Julio | E47: Agosto | G47: Septiembre
B48: Recurso Humano | C48: Pto. | D48: Real | E48: Pto. | F48: Real | G48: Pto. | H48: Real
B51: Gastos de Funcionamiento
B52: detallar cada gasto cargado
A60: TOTALES
A73: Programación mensual por tipo de gasto año 2018, Expresado en Quetzales segundo cuatrimestre 2018
...

Sheet MARZO ANEXO A CTE-5
B8: ÀREA FINANCIERA | I8: ANEXO DE CTE-5
A10: UNIDAD DE CIRUGIA CARDIOVASCULAR DE GUATEMALA
A11: 5a. AVENIDA 6-22 ZONA 11
A12: dgunicar@yahoo.es Tel. 24163000
A14: Programación mensual por tipo de gasto año 2018, Expresado en Quetzales primer cuatrimestre 2018
A15: No. | B15: CATEGORIA DE GASTO | C15: ENERO | E15: FEBRERO | G15: MARZO | I15: ABRIL
C16: PRESUPUESTO | D16: REAL | E16: PRESUPUESTO | F16: REAL | G16: PRESUPUESTO | H16: REAL | I16: PRESUPUESTO | J16: REAL
B17: RECURSO HUMANO | C17: 1764858.4 | D17: 1492317.4 | E17: 1764858.4 | F17: 1792563.6 | G17: 1764858.4 | H17: 1578007.9 | I17: 1764858.4 | J17: 1803793.6
B19: GASTOS DE FUNCIONAMIENTO | C19: =+C27+C43 -> 2818474.9 | D19: =+D27+D43 -> 0 | E19: =+E27+E43 -> 2818474.9 | F19: =+F27+F43 -> 67111.02 | G19: =+G27+G43 -> 2818474.9 | H19: =+H27+H43 -> 58543.64 | I19: =+I27+I43 -> 2818474.9 | J19: =+J27+J43 -> 3743927.3
B20: ENERGIA ELECTRICA | C20: 62500 | E20: 62500 | F20: 56112.02 | G20: 62500 | I20: 62500 | J20: 68083.01
B21: TELEFONIA | C21: 7500 | E21: 7500 | F21: 10999 | G21: 7500 | H21: 11011 | I21: 7500 | J21: 10992
B22: IMPRESIÓN, ENCUADERNACION Y REPRODUCCION | C22: 8133.97 | E22: 8133.97 | G22: 8133.97 | I22: 8133.97 | J22: 4358
B23: MANT. Y REP. EQUIPO MEDICO SANITARIO Y DE LAB. | C23: 33333.33 | E23: 33333.33 | G23: 33333.33 | I23: 33333.33 | J23: 45020
B24: SERVICIOS MEDICO-SANITARIOS | C24: 165141.75 | E24: 165141.75 | G24: 165141.75 | H24: 1000 | I24: 165141.75 | J24: 26842.86
B25: SERVICIOS DE VIGILANCIA | C25: 40000 | E25: 40000 | G25: 40000 | I25: 40000 | J25: 76240
B26: OTROS SERVICIOS NO PERSONALES | C26: 26305.03 | E26: 26305.03 | G26: 26305.03 | H26: 46532.64 | I26: 26305.03 | J26: 55063.68
B27: SUMA GASTOS GENERALES | C27: =SUM(C20:C26) -> 342914.08 | D27: =SUM(D20:D26) -> 0 | E27: =SUM(E20:E26) -> 342914.08 | F27: =SUM(F20:F26) -> 67111.02 | G27: =SUM(G20:G26) -> 342914.08 | H27: =SUM(H20:H26) -> 58543.64 | I27: =SUM(I20:I26) -> 342914.08 | J27: =SUM(J20:J26) -> 286599.55
B28: MATERIALES Y SUMINISTROS
B29: ALIMENTOS PARA PERSONAS | C29: 60936.45 | E29: 60936.45 | G29: 60936.45 | I29: 60936.45 | J29: 202940.25
B30: ACABADOS TEXTILES | C30: 600 | E30: 600 | G30: 600 | I30: 600
B31: PRODUCTOS DE PAPEL O CARTON | C31: 945.42 | E31: 945.42 | G31: 945.42 | I31: 945.42
B32: ELEMENTOS Y COMPUESTOS QUIMICOS | C32: 169652.57 | E32: 169652.57 | G32: 169652.57 | I32: 169652.57 | J32: 178282.05
B33: COMBUSTIBLES Y LUBRICANTES | C33: 912 | E33: 912 | G33: 912 | I33: 912
B34: PRODUCTOS MEDICINALES Y FARMACEUTICOS | C34: 427229.65 | E34: 427229.65 | G34: 427229.65 | I34: 427229.65 | J34: 1425199.8
B35: TINTES, PINTURAS Y COLORANTES | C35: 100 | E35: 100 | G35: 100 | I35: 100
B36: PRODUCTOS PLASTICOS, NYLON, VINIL Y PVC | C36: 13579.7 | E36: 13579.7 | G36: 13579.7 | I36: 13579.7 | J36: 75162.24
B37: OTROS PRODUCTOS METALICOS | C37: 310 | E37: 310 | G37: 310 | I37: 310
B38: UTILES DE LIMPIEZA Y PRODUCTOS SANITARIOS | C38: 10809.43 | E38: 10809.43 | G38: 10809.43 | I38: 10809.43 | J38: 14528.6
B39: UTILES MENORES MEDICO QUIRURGICOS Y DE LAB. | C39: 1780006.3 | E39: 1780006.3 | G39: 1780006.3 | I39: 1780006.3 | J39: 1545914.8
B40: UTILES, ACCESORIOS Y MATERIALES ELECTRICOS | C40: 2208.7 | E40: 2208.7 | G40: 2208.7 | I40: 2208.7 | J40: 15300
B41: ACCESORIOS Y REPUESTOS EN GENERAL | C41: 8105.1 | E41: 8105.1 | G41: 8105.1 | I41: 8105.1
B42: OTROS MATERIALES Y SUMINISTROS | C42: 165.5 | E42: 165.5 | G42: 165.5 | I42: 165.5
B43: TOTAL MATERIALES Y SUMINISTROS | C43: =SUM(C29:C42) -> 2475560.8 | D43: =SUM(D29:D42) -> 0 | E43: =SUM(E29:E42) -> 2475560.8 | F43: =SUM(F29:F42) -> 0 | G43: =SUM(G29:G42) -> 2475560.8 | H43: =SUM(H29:H42) -> 0 | I43: =SUM(I29:I42) -> 2475560.8 | J43: =SUM(J29:J42) -> 3457327.8
A46: Programación mensual por tipo de gasto año 2016, Expresado en Quetzales
A47: No. | B47: Categoría de Gasto | C47: Julio | E47: Agosto | G47: Septiembre
B48: Recurso Humano | C48: Pto. | D48: Real | E48: Pto. | F48: Real | G48: Pto. | H48: Real
B51: Gastos de Funcionamiento
B52: detallar cada gasto cargado
A60: TOTALES
A73: Programación mensual por tipo de gasto año 2018, Expresado en Quetzales segundo cuatrimestre 2018
...

Sheet ABRIL ANEXO A CTE-5
B8: ÀREA FINANCIERA | I8: ANEXO DE CTE-5
A10: UNIDAD DE CIRUGIA CARDIOVASCULAR DE GUATEMALA
A11: 5a. AVENIDA 6-22 ZONA 11
A12: dgunicar@yahoo.es Tel. 24163000
A14: Programación mensual por tipo de gasto año 2018, Expresado en Quetzales primer cuatrimestre 2018
A15: No. | B15: CATEGORIA DE GASTO | C15: ENERO | E15: FEBRERO | G15: MARZO | I15: ABRIL
C16: PRESUPUESTO | D16: REAL | E16: PRESUPUESTO | F16: REAL | G16: PRESUPUESTO | H16: REAL | I16: PRESUPUESTO | J16: REAL
B17: RECURSO HUMANO | C17: 1764858.4 | D17: 1492317.4 | E17: 1764858.4 | F17: 1792563.6 | G17: 1764858.4 | H17: 1578007.9 | I17: 1764858.4 | J17: 1803793.6
B19: GASTOS DE FUNCIONAMIENTO | C19: =+C27+C43 -> 2818474.9 | D19: =+D27+D43 -> 0 | E19: =+E27+E43 -> 2818474.9 | F19: =+F27+F43 -> 67111.02 | G19: =+G27+G43 -> 2818474.9 | H19: =+H27+H43 -> 58543.64 | I19: =+I27+I43 -> 2818474.9 | J19: =+J27+J43 -> 3743927.3
B20: ENERGIA ELECTRICA | C20: 62500 | E20: 62500 | F20: 56112.02 | G20: 62500 | I20: 62500 | J20: 68083.01
B21: TELEFONIA | C21: 7500 | E21: 7500 | F21: 10999 | G21: 7500 | H21: 11011 | I21: 7500 | J21: 10992
B22: IMPRESIÓN, ENCUADERNACION Y REPRODUCCION | C22: 8133.97 | E22: 8133.97 | G22: 8133.97 | I22: 8133.97 | J22: 4358
B23: MANT. Y REP. EQUIPO MEDICO SANITARIO Y DE LAB. | C23: 33333.33 | E23: 33333.33 | G23: 33333.33 | I23: 33333.33 | J23: 45020
B24: SERVICIOS MEDICO-SANITARIOS | C24: 165141.75 | E24: 165141.75 | G24: 165141.75 | H24: 1000 | I24: 165141.75 | J24: 26842.86
B25: SERVICIOS DE VIGILANCIA | C25: 40000 | E25: 40000 | G25: 40000 | I25: 40000 | J25: 76240
B26: OTROS SERVICIOS NO PERSONALES | C26: 26305.03 | E26: 26305.03 | G26: 26305.03 | H26: 46532.64 | I26: 26305.03 | J26: 55063.68
B27: SUMA GASTOS GENERALES | C27: =SUM(C20:C26) -> 342914.08 | D27: =SUM(D20:D26) -> 0 | E27: =SUM(E20:E26) -> 342914.08 | F27: =SUM(F20:F26) -> 67111.02 | G27: =SUM(G20:G26) -> 342914.08 | H27: =SUM(H20:H26) -> 58543.64 | I27: =SUM(I20:I26) -> 342914.08 | J27: =SUM(J20:J26) -> 286599.55
B28: MATERIALES Y SUMINISTROS
B29: ALIMENTOS PARA PERSONAS | C29: 60936.45 | E29: 60936.45 | G29: 60936.45 | I29: 60936.45 | J29: 202940.25
B30: ACABADOS TEXTILES | C30: 600 | E30: 600 | G30: 600 | I30: 600
B31: PRODUCTOS DE PAPEL O CARTON | C31: 945.42 | E31: 945.42 | G31: 945.42 | I31: 945.42
B32: ELEMENTOS Y COMPUESTOS QUIMICOS | C32: 169652.57 | E32: 169652.57 | G32: 169652.57 | I32: 169652.57 | J32: 178282.05
B33: COMBUSTIBLES Y LUBRICANTES | C33: 912 | E33: 912 | G33: 912 | I33: 912
B34: PRODUCTOS MEDICINALES Y FARMACEUTICOS | C34: 427229.65 | E34: 427229.65 | G34: 427229.65 | I34: 427229.65 | J34: 1425199.8
B35: TINTES, PINTURAS Y COLORANTES | C35: 100 | E35: 100 | G35: 100 | I35: 100
B36: PRODUCTOS PLASTICOS, NYLON, VINIL Y PVC | C36: 13579.7 | E36: 13579.7 | G36: 13579.7 | I36: 13579.7 | J36: 75162.24
B37: OTROS PRODUCTOS METALICOS | C37: 310 | E37: 310 | G37: 310 | I37: 310
B38: UTILES DE LIMPIEZA Y PRODUCTOS SANITARIOS | C38: 10809.43 | E38: 10809.43 | G38: 10809.43 | I38: 10809.43 | J38: 14528.6
B39: UTILES MENORES MEDICO QUIRURGICOS Y DE LAB. | C39: 1780006.3 | E39: 1780006.3 | G39: 1780006.3 | I39: 1780006.3 | J39: 1545914.8
B40: UTILES, ACCESORIOS Y MATERIALES ELECTRICOS | C40: 2208.7 | E40: 2208.7 | G40: 2208.7 | I40: 2208.7 | J40: 15300
B41: ACCESORIOS Y REPUESTOS EN GENERAL | C41: 8105.1 | E41: 8105.1 | G41: 8105.1 | I41: 8105.1
B42: OTROS MATERIALES Y SUMINISTROS | C42: 165.5 | E42: 165.5 | G42: 165.5 | I42: 165.5
B43: TOTAL MATERIALES Y SUMINISTROS | C43: =SUM(C29:C42) -> 2475560.8 | D43: =SUM(D29:D42) -> 0 | E43: =SUM(E29:E42) -> 2475560.8 | F43: =SUM(F29:F42) -> 0 | G43: =SUM(G29:G42) -> 2475560.8 | H43: =SUM(H29:H42) -> 0 | I43: =SUM(I29:I42) -> 2475560.8 | J43: =SUM(J29:J42) -> 3457327.8
A46: Programación mensual por tipo de gasto año 2016, Expresado en Quetzales
A47: No. | B47: Categoría de Gasto | C47: Julio | E47: Agosto | G47: Septiembre
B48: Recurso Humano | C48: Pto. | D48: Real | E48: Pto. | F48: Real | G48: Pto. | H48: Real
B51: Gastos de Funcionamiento
B52: detallar cada gasto cargado
A60: TOTALES
A73: Programación mensual por tipo de gasto año 2018, Expresado en Quetzales segundo cuatrimestre 2018
...

Sheet ENERO CTE-7
B7: ÀREA FINANCIERA | J7: CTE-7
A9: UNIDAD DE CIRUGIA CARDIOVASCULAR DE GUATEMALA
A10: 5a. AVENIDA 6-22 ZONA 11
A11: CORREO ELECTRÓNICO Y TELÉFONO
A14: Ejecucion de avance fìnanciero programado-ejecutado por categoria del gasto primer cuatrimestre 2021
A16: Categoría del gasto | B16: Enero | D16: Febrero | F16: Marzo | H16: Abril | J16: Totales
B17: Presupuestado | C17: Ejecutado | D17: Presupuestado | E17: Ejecutado | F17: Presupuestado | G17: Ejecutado | H17: Presupuestado | I17: Ejecutado | J17: Presupuestado | K17: Ejecutado
A18: Recurso Humano | B18: 2066666.7 | C18: 1849158.4 | J18: =+B18+D18+F18+H18 -> 2066666.7 | K18: =+C18+E18+G18+I18 -> 1849158.4
A19: Gastos de Funcionamiento | B19: 2882453.1 | J19: =+B19+D19+F19+H19 -> 2882453.1 | K19: =+C19+E19+G19+I19 -> 0
A20: Propiedad planta y equipo | J20: =+B20+D20+F20+H20 -> 0 | K20: =+C20+E20+G20+I20 -> 0
A21: TOTAL | B21: =SUM(B18:B20) -> 4949119.8 | C21: =SUM(C18:C20) -> 1849158.4 | D21: =SUM(D18:D20) -> 0 | E21: =SUM(E18:E20) -> 0 | F21: =SUM(F18:F20) -> 0 | G21: =SUM(G18:G20) -> 0 | H21: =SUM(H18:H20) -> 0 | I21: =SUM(I18:I20) -> 0 | ... K21: =SUM(K18:K20) -> 1849158.4
A23: Ejecucion y/o avance fisico mensual por categoría del gasto real y presupuestado del mes
A24: Categoría del gasto | B24: Abril | D24: Mayo | F24: Junio | J24: Totales
B25: Presupuestado | C25: Ejecutado | D25: Presupuestado | E25: Ejecutado | F25: Presupuestado | G25: Ejecutado | J25: Presupuestado | K25: Ejecutado
A26: Recurso Humano
A27: Gastos de Funcionamiento
A30: Ejecucion y/o avance fisico mensual por categoría del gasto real y presupuestado del mes
A31: Categoría del gasto | B31: Julio | D31: Agosto | F31: Septiembre | J31: Totales
B32: Presupuestado | C32: Ejecutado | D32: Presupuestado | E32: Ejecutado | F32: Presupuestado | G32: Ejecutado | J32: Presupuestado | K32: Ejecutado
A33: Recurso Humano
A34: Gastos de Funcionamiento
A37: Ejecucion y/o avance fisico mensual por categoría del gasto real y presupuestado del mes
A38: Categoría del gasto | B38: Octubre | D38: Noviembre | F38: Diciembre | J38: Totales
B39: Presupuestado | C39: Ejecutado | D39: Presupuestado | E39: Ejecutado | F39: Presupuestado | G39: Ejecutado | J39: Presupuestado | K39: Ejecutado
A40: Recurso Humano
A41: Gastos de Funcionamiento
A44: Ejecucion de avance fìnanciero programado-ejecutado por categoria del gasto segundo cuatrimestre 2021
A46: Categoría del gasto | B46: Mayo | D46: Junio | F46: Julio | H46: Agosto | J46: Totales
B47: Presupuestado | C47: Ejecutado | D47: Presupuestado | E47: Ejecutado | F47: Presupuestado | G47: Ejecutado | H47: Presupuestado | I47: Ejecutado | J47: Presupuestado | K47: Ejecutado
A48: Recurso Humano | J48: =+B48+D48+F48+H48 -> 0 | K48: =+C48+E48+G48+I48 -> 0
A49: Gastos de Funcionamiento | J49: =+B49+D49+F49+H49 -> 0 | K49: =+C49+E49+G49+I49 -> 0
A50: Propiedad planta y equipo | J50: =+B50+D50+F50+H50 -> 0 | K50: =+C50+E50+G50+I50 -> 0
A51: TOTAL | B51: =SUM(B48:B50) -> 0 | C51: =SUM(C48:C50) -> 0 | D51: =SUM(D48:D50) -> 0 | E51: =SUM(E48:E50) -> 0 | F51: =SUM(F48:F50) -> 0 | G51: =SUM(G48:G50) -> 0 | H51: =SUM(H48:H50) -> 0 | I51: =SUM(I48:I50) -> 0 | ... K51: =SUM(K48:K50) -> 0
A54: Ejecucion de avance fìnanciero programado-ejecutado por categoria del gasto tercer cuatrimestre 2021
A56: Categoría del gasto | B56: Septiembre | D56: Octubre | F56: Noviembre | H56: Diciembre | J56: Totales
B57: Presupuestado | C57: Ejecutado | D57: Presupuestado | E57: Ejecutado | F57: Presupuestado | G57: Ejecutado | H57: Presupuestado | I57: Ejecutado | J57: Presupuestado | K57: Ejecutado
A58: Recurso Humano | J58: =+B58+D58+F58+H58 -> 0 | K58: =+C58+E58+G58+I58 -> 0
A59: Gastos de Funcionamiento | J59: =+B59+D59+F59+H59 -> 0 | K59: =+C59+E59+G59+I59 -> 0
A60: Propiedad Planta y Equipo | J60: =+B60+D60+F60+H60 -> 0 | K60: =+C60+E60+G60+I60 -> 0
A61: TOTAL | B61: =SUM(B58:B60) -> 0 | C61: =SUM(C58:C60) -> 0 | D61: =SUM(D58:D60) -> 0 | E61: =SUM(E58:E60) -> 0 | F61: =SUM(F58:F60) -> 0 | G61: =SUM(G58:G60) -> 0 | H61: =SUM(H58:H60) -> 0 | I61: =SUM(I58:I60) -> 0 | ... K61: =SUM(K58:K60) -> 0
...

Sheet FEBRERO CTE-7
B7: ÀREA FINANCIERA | J7: CTE-7
A9: UNIDAD DE CIRUGIA CARDIOVASCULAR DE GUATEMALA
A10: 5a. AVENIDA 6-22 ZONA 11
A11: CORREO ELECTRÓNICO Y TELÉFONO
A14: Ejecucion de avance fìnanciero programado-ejecutado por categoria del gasto primer cuatrimestre 2021
A16: Categoría del gasto | B16: Enero | D16: Febrero | F16: Marzo | H16: Abril | J16: Totales
B17: Presupuestado | C17: Ejecutado | D17: Presupuestado | E17: Ejecutado | F17: Presupuestado | G17: Ejecutado | H17: Presupuestado | I17: Ejecutado | J17: Presupuestado | K17: Ejecutado
A18: Recurso Humano | B18: 2066666.7 | C18: 1849158.4 | D18: 2066666.7 | E18: 1911482 | J18: =+B18+D18+F18+H18 -> 4133333.3 | K18: =+C18+E18+G18+I18 -> 3760640.4
A19: Gastos de Funcionamiento | B19: 2882453.1 | D19: 3039642.7 | E19: 41948.01 | J19: =+B19+D19+F19+H19 -> 5922095.8 | K19: =+C19+E19+G19+I19 -> 41948.01
A20: Propiedad planta y equipo | J20: =+B20+D20+F20+H20 -> 0 | K20: =+C20+E20+G20+I20 -> 0
A21: TOTAL | B21: =SUM(B18:B20) -> 4949119.8 | C21: =SUM(C18:C20) -> 1849158.4 | D21: =SUM(D18:D20) -> 5106309.4 | E21: =SUM(E18:E20) -> 1953430 | F21: =SUM(F18:F20) -> 0 | G21: =SUM(G18:G20) -> 0 | H21: =SUM(H18:H20) -> 0 | I21: =SUM(I18:I20) -> 0 | ... K21: =SUM(K18:K20) -> 3802588.4
A23: Ejecucion y/o avance fisico mensual por categoría del gasto real y presupuestado del mes
A24: Categoría del gasto | B24: Abril | D24: Mayo | F24: Junio | J24: Totales
B25: Presupuestado | C25: Ejecutado | D25: Presupuestado | E25: Ejecutado | F25: Presupuestado | G25: Ejecutado | J25: Presupuestado | K25: Ejecutado
A26: Recurso Humano
A27: Gastos de Funcionamiento
A30: Ejecucion y/o avance fisico mensual por categoría del gasto real y presupuestado del mes
A31: Categoría del gasto | B31: Julio | D31: Agosto | F31: Septiembre | J31: Totales
B32: Presupuestado | C32: Ejecutado | D32: Presupuestado | E32: Ejecutado | F32: Presupuestado | G32: Ejecutado | J32: Presupuestado | K32: Ejecutado
A33: Recurso Humano
A34: Gastos de Funcionamiento
A37: Ejecucion y/o avance fisico mensual por categoría del gasto real y presupuestado del mes
A38: Categoría del gasto | B38: Octubre | D38: Noviembre | F38: Diciembre | J38: Totales
B39: Presupuestado | C39: Ejecutado | D39: Presupuestado | E39: Ejecutado | F39: Presupuestado | G39: Ejecutado | J39: Presupuestado | K39: Ejecutado
A40: Recurso Humano
A41: Gastos de Funcionamiento
A44: Ejecucion de avance fìnanciero programado-ejecutado por categoria del gasto segundo cuatrimestre 2021
A46: Categoría del gasto | B46: Mayo | D46: Junio | F46: Julio | H46: Agosto | J46: Totales
B47: Presupuestado | C47: Ejecutado | D47: Presupuestado | E47: Ejecutado | F47: Presupuestado | G47: Ejecutado | H47: Presupuestado | I47: Ejecutado | J47: Presupuestado | K47: Ejecutado
A48: Recurso Humano | J48: =+B48+D48+F48+H48 -> 0 | K48: =+C48+E48+G48+I48 -> 0
A49: Gastos de Funcionamiento | J49: =+B49+D49+F49+H49 -> 0 | K49: =+C49+E49+G49+I49 -> 0
A50: Propiedad planta y equipo | J50: =+B50+D50+F50+H50 -> 0 | K50: =+C50+E50+G50+I50 -> 0
A51: TOTAL | B51: =SUM(B48:B50) -> 0 | C51: =SUM(C48:C50) -> 0 | D51: =SUM(D48:D50) -> 0 | E51: =SUM(E48:E50) -> 0 | F51: =SUM(F48:F50) -> 0 | G51: =SUM(G48:G50) -> 0 | H51: =SUM(H48:H50) -> 0 | I51: =SUM(I48:I50) -> 0 | ... K51: =SUM(K48:K50) -> 0
A54: Ejecucion de avance fìnanciero programado-ejecutado por categoria del gasto tercer cuatrimestre 2021
A56: Categoría del gasto | B56: Septiembre | D56: Octubre | F56: Noviembre | H56: Diciembre | J56: Totales
B57: Presupuestado | C57: Ejecutado | D57: Presupuestado | E57: Ejecutado | F57: Presupuestado | G57: Ejecutado | H57: Presupuestado | I57: Ejecutado | J57: Presupuestado | K57: Ejecutado
A58: Recurso Humano | J58: =+B58+D58+F58+H58 -> 0 | K58: =+C58+E58+G58+I58 -> 0
A59: Gastos de Funcionamiento | J59: =+B59+D59+F59+H59 -> 0 | K59: =+C59+E59+G59+I59 -> 0
A60: Propiedad Planta y Equipo | J60: =+B60+D60+F60+H60 -> 0 | K60: =+C60+E60+G60+I60 -> 0
A61: TOTAL | B61: =SUM(B58:B60) -> 0 | C61: =SUM(C58:C60) -> 0 | D61: =SUM(D58:D60) -> 0 | E61: =SUM(E58:E60) -> 0 | F61: =SUM(F58:F60) -> 0 | G61: =SUM(G58:G60) -> 0 | H61: =SUM(H58:H60) -> 0 | I61: =SUM(I58:I60) -> 0 | ... K61: =SUM(K58:K60) -> 0
...

Sheet MARZO CTE-7
B7: ÀREA FINANCIERA | J7: CTE-7
A9: UNIDAD DE CIRUGIA CARDIOVASCULAR DE GUATEMALA
A10: 5a. AVENIDA 6-22 ZONA 11
A11: CORREO ELECTRÓNICO Y TELÉFONO
A14: Ejecucion de avance fìnanciero programado-ejecutado por categoria del gasto primer cuatrimestre 2021
A16: Categoría del gasto | B16: Enero | D16: Febrero | F16: Marzo | H16: Abril | J16: Totales
B17: Presupuestado | C17: Ejecutado | D17: Presupuestado | E17: Ejecutado | F17: Presupuestado | G17: Ejecutado | H17: Presupuestado | I17: Ejecutado | J17: Presupuestado | K17: Ejecutado
A18: Recurso Humano | B18: 2066666.7 | C18: 1849158.4 | D18: 2066666.7 | E18: 1911482 | F18: 2066666.7 | G18: 1919900.8 | J18: =+B18+D18+F18+H18 -> 6200000 | K18: =+C18+E18+G18+I18 -> 5680541.2
A19: Gastos de Funcionamiento | B19: 2882453.1 | D19: 3039642.7 | E19: 41948.01 | F19: 3127790.4 | G19: 173563.53 | J19: =+B19+D19+F19+H19 -> 9049886.2 | K19: =+C19+E19+G19+I19 -> 215511.54
A20: Propiedad planta y equipo | J20: =+B20+D20+F20+H20 -> 0 | K20: =+C20+E20+G20+I20 -> 0
A21: TOTAL | B21: =SUM(B18:B20) -> 4949119.8 | C21: =SUM(C18:C20) -> 1849158.4 | D21: =SUM(D18:D20) -> 5106309.4 | E21: =SUM(E18:E20) -> 1953430 | F21: =SUM(F18:F20) -> 5194457.1 | G21: =SUM(G18:G20) -> 2093464.3 | H21: =SUM(H18:H20) -> 0 | I21: =SUM(I18:I20) -> 0 | ... K21: =SUM(K18:K20) -> 5896052.7
A23: Ejecucion y/o avance fisico mensual por categoría del gasto real y presupuestado del mes
A24: Categoría del gasto | B24: Abril | D24: Mayo | F24: Junio | J24: Totales
B25: Presupuestado | C25: Ejecutado | D25: Presupuestado | E25: Ejecutado | F25: Presupuestado | G25: Ejecutado | J25: Presupuestado | K25: Ejecutado
A26: Recurso Humano
A27: Gastos de Funcionamiento
A30: Ejecucion y/o avance fisico mensual por categoría del gasto real y presupuestado del mes
A31: Categoría del gasto | B31: Julio | D31: Agosto | F31: Septiembre | J31: Totales
B32: Presupuestado | C32: Ejecutado | D32: Presupuestado | E32: Ejecutado | F32: Presupuestado | G32: Ejecutado | J32: Presupuestado | K32: Ejecutado
A33: Recurso Humano
A34: Gastos de Funcionamiento
A37: Ejecucion y/o avance fisico mensual por categoría del gasto real y presupuestado del mes
A38: Categoría del gasto | B38: Octubre | D38: Noviembre | F38: Diciembre | J38: Totales
B39: Presupuestado | C39: Ejecutado | D39: Presupuestado | E39: Ejecutado | F39: Presupuestado | G39: Ejecutado | J39: Presupuestado | K39: Ejecutado
A40: Recurso Humano
A41: Gastos de Funcionamiento
A44: Ejecucion de avance fìnanciero programado-ejecutado por categoria del gasto segundo cuatrimestre 2021
A46: Categoría del gasto | B46: Mayo | D46: Junio | F46: Julio | H46: Agosto | J46: Totales
B47: Presupuestado | C47: Ejecutado | D47: Presupuestado | E47: Ejecutado | F47: Presupuestado | G47: Ejecutado | H47: Presupuestado | I47: Ejecutado | J47: Presupuestado | K47: Ejecutado
A48: Recurso Humano | J48: =+B48+D48+F48+H48 -> 0 | K48: =+C48+E48+G48+I48 -> 0
A49: Gastos de Funcionamiento | J49: =+B49+D49+F49+H49 -> 0 | K49: =+C49+E49+G49+I49 -> 0
A50: Propiedad planta y equipo | J50: =+B50+D50+F50+H50 -> 0 | K50: =+C50+E50+G50+I50 -> 0
A51: TOTAL | B51: =SUM(B48:B50) -> 0 | C51: =SUM(C48:C50) -> 0 | D51: =SUM(D48:D50) -> 0 | E51: =SUM(E48:E50) -> 0 | F51: =SUM(F48:F50) -> 0 | G51: =SUM(G48:G50) -> 0 | H51: =SUM(H48:H50) -> 0 | I51: =SUM(I48:I50) -> 0 | ... K51: =SUM(K48:K50) -> 0
A54: Ejecucion de avance fìnanciero programado-ejecutado por categoria del gasto tercer cuatrimestre 2021
A56: Categoría del gasto | B56: Septiembre | D56: Octubre | F56: Noviembre | H56: Diciembre | J56: Totales
B57: Presupuestado | C57: Ejecutado | D57: Presupuestado | E57: Ejecutado | F57: Presupuestado | G57: Ejecutado | H57: Presupuestado | I57: Ejecutado | J57: Presupuestado | K57: Ejecutado
A58: Recurso Humano | J58: =+B58+D58+F58+H58 -> 0 | K58: =+C58+E58+G58+I58 -> 0
A59: Gastos de Funcionamiento | J59: =+B59+D59+F59+H59 -> 0 | K59: =+C59+E59+G59+I59 -> 0
A60: Propiedad Planta y Equipo | J60: =+B60+D60+F60+H60 -> 0 | K60: =+C60+E60+G60+I60 -> 0
A61: TOTAL | B61: =SUM(B58:B60) -> 0 | C61: =SUM(C58:C60) -> 0 | D61: =SUM(D58:D60) -> 0 | E61: =SUM(E58:E60) -> 0 | F61: =SUM(F58:F60) -> 0 | G61: =SUM(G58:G60) -> 0 | H61: =SUM(H58:H60) -> 0 | I61: =SUM(I58:I60) -> 0 | ... K61: =SUM(K58:K60) -> 0
...

Sheet ABRIL CTE-7
B7: ÀREA FINANCIERA | J7: CTE-7
A9: UNIDAD DE CIRUGIA CARDIOVASCULAR DE GUATEMALA
A10: 5a. AVENIDA 6-22 ZONA 11
A11: CORREO ELECTRÓNICO Y TELÉFONO
A14: Ejecucion de avance fìnanciero programado-ejecutado por categoria del gasto primer cuatrimestre 2021
A16: Categoría del gasto | B16: Enero | D16: Febrero | F16: Marzo | H16: Abril | J16: Totales
B17: Presupuestado | C17: Ejecutado | D17: Presupuestado | E17: Ejecutado | F17: Presupuestado | G17: Ejecutado | H17: Presupuestado | I17: Ejecutado | J17: Presupuestado | K17: Ejecutado
A18: Recurso Humano | B18: 2066666.7 | C18: 1849158.4 | D18: 2066666.7 | E18: 1911482 | F18: 2066666.7 | G18: 1919900.8 | H18: 2066666.7 | I18: 2504690.2 | J18: =+B18+D18+F18+H18 -> 8266666.7 | K18: =+C18+E18+G18+I18 -> 8185231.3
A19: Gastos de Funcionamiento | B19: 2882453.1 | D19: 3039642.7 | E19: 41948.01 | F19: 3127790.4 | G19: 173563.53 | H19: 3127790.4 | I19: 2323502.4 | J19: =+B19+D19+F19+H19 -> 12177677 | K19: =+C19+E19+G19+I19 -> 2539014
A20: Propiedad planta y equipo | J20: =+B20+D20+F20+H20 -> 0 | K20: =+C20+E20+G20+I20 -> 0
A21: TOTAL | B21: =SUM(B18:B20) -> 4949119.8 | C21: =SUM(C18:C20) -> 1849158.4 | D21: =SUM(D18:D20) -> 5106309.4 | E21: =SUM(E18:E20) -> 1953430 | F21: =SUM(F18:F20) -> 5194457.1 | G21: =SUM(G18:G20) -> 2093464.3 | H21: =SUM(H18:H20) -> 5194457.1 | I21: =SUM(I18:I20) -> 4828192.6 | ... K21: =SUM(K18:K20) -> 10724245
A23: Ejecucion y/o avance fisico mensual por categoría del gasto real y presupuestado del mes
A24: Categoría del gasto | B24: Abril | D24: Mayo | F24: Junio | J24: Totales
B25: Presupuestado | C25: Ejecutado | D25: Presupuestado | E25: Ejecutado | F25: Presupuestado | G25: Ejecutado | J25: Presupuestado | K25: Ejecutado
A26: Recurso Humano
A27: Gastos de Funcionamiento
A30: Ejecucion y/o avance fisico mensual por categoría del gasto real y presupuestado del mes
A31: Categoría del gasto | B31: Julio | D31: Agosto | F31: Septiembre | J31: Totales
B32: Presupuestado | C32: Ejecutado | D32: Presupuestado | E32: Ejecutado | F32: Presupuestado | G32: Ejecutado | J32: Presupuestado | K32: Ejecutado
A33: Recurso Humano
A34: Gastos de Funcionamiento
A37: Ejecucion y/o avance fisico mensual por categoría del gasto real y presupuestado del mes
A38: Categoría del gasto | B38: Octubre | D38: Noviembre | F38: Diciembre | J38: Totales
B39: Presupuestado | C39: Ejecutado | D39: Presupuestado | E39: Ejecutado | F39: Presupuestado | G39: Ejecutado | J39: Presupuestado | K39: Ejecutado
A40: Recurso Humano
A41: Gastos de Funcionamiento
A44: Ejecucion de avance fìnanciero programado-ejecutado por categoria del gasto segundo cuatrimestre 2021
A46: Categoría del gasto | B46: Mayo | D46: Junio | F46: Julio | H46: Agosto | J46: Totales
B47: Presupuestado | C47: Ejecutado | D47: Presupuestado | E47: Ejecutado | F47: Presupuestado | G47: Ejecutado | H47: Presupuestado | I47: Ejecutado | J47: Presupuestado | K47: Ejecutado
A48: Recurso Humano | J48: =+B48+D48+F48+H48 -> 0 | K48: =+C48+E48+G48+I48 -> 0
A49: Gastos de Funcionamiento | J49: =+B49+D49+F49+H49 -> 0 | K49: =+C49+E49+G49+I49 -> 0
A50: Propiedad planta y equipo | J50: =+B50+D50+F50+H50 -> 0 | K50: =+C50+E50+G50+I50 -> 0
A51: TOTAL | B51: =SUM(B48:B50) -> 0 | C51: =SUM(C48:C50) -> 0 | D51: =SUM(D48:D50) -> 0 | E51: =SUM(E48:E50) -> 0 | F51: =SUM(F48:F50) -> 0 | G51: =SUM(G48:G50) -> 0 | H51: =SUM(H48:H50) -> 0 | I51: =SUM(I48:I50) -> 0 | ... K51: =SUM(K48:K50) -> 0
A54: Ejecucion de avance fìnanciero programado-ejecutado por categoria del gasto tercer cuatrimestre 2021
A56: Categoría del gasto | B56: Septiembre | D56: Octubre | F56: Noviembre | H56: Diciembre | J56: Totales
B57: Presupuestado | C57: Ejecutado | D57: Presupuestado | E57: Ejecutado | F57: Presupuestado | G57: Ejecutado | H57: Presupuestado | I57: Ejecutado | J57: Presupuestado | K57: Ejecutado
A58: Recurso Humano | J58: =+B58+D58+F58+H58 -> 0 | K58: =+C58+E58+G58+I58 -> 0
A59: Gastos de Funcionamiento | J59: =+B59+D59+F59+H59 -> 0 | K59: =+C59+E59+G59+I59 -> 0
A60: Propiedad Planta y Equipo | J60: =+B60+D60+F60+H60 -> 0 | K60: =+C60+E60+G60+I60 -> 0
A61: TOTAL | B61: =SUM(B58:B60) -> 0 | C61: =SUM(C58:C60) -> 0 | D61: =SUM(D58:D60) -> 0 | E61: =SUM(E58:E60) -> 0 | F61: =SUM(F58:F60) -> 0 | G61: =SUM(G58:G60) -> 0 | H61: =SUM(H58:H60) -> 0 | I61: =SUM(I58:I60) -> 0 | ... K61: =SUM(K58:K60) -> 0
...

Sheet EJEC. FISICA ENERO
L2: CTE-9
A6: UNIDAD DE CIRUGIA CARDIOVASCULAR DE GUATEMALA
A7: 5a. AVENIDA 6-22 ZONA 11
A8: dgunicar@yahoo.es Tel. 24163000
B10: Programacion de metas fisicas versus ejecucion (mensual) primer cuatrimestre
A11: No. | B11: Servicio | C11: Enero | E11: Febrero | G11: Marzo | I11: Abril | K11: Totales
C12: Programado | D12: Ejecutado | E12: Programado | F12: Ejecutado | G12: Programado | H12: Ejecutado | I12: Programado | J12: Ejecutado | K12: Programado | L12: Ejecutado
A13: 1 | B13: CIRUGIA DE ADULTOS | C13: 13 | D13: 24 | K13: =+C13+E13+G13+I13 -> 13 | L13: =+D13+F13+H13+J13 -> 24
A14: 2 | B14: CIRUGIA DE PEDIATRIA | C14: 13 | D14: 11 | K14: =+C14+E14+G14+I14 -> 13 | L14: =+D14+F14+H14+J14 -> 11
A15: 3 | B15: HEMODINAMIA ADULTOS | C15: 51 | D15: 53 | K15: =+C15+E15+G15+I15 -> 51 | L15: =+D15+F15+H15+J15 -> 53
A16: 4 | B16: HEMODINAMIA PEDIATRIA | C16: 10 | D16: 2 | K16: =+C16+E16+G16+I16 -> 10 | L16: =+D16+F16+H16+J16 -> 2
A17: 5 | B17: ECOCARDIOGRAMA ADULTOS | C17: 317 | D17: 401 | K17: =+C17+E17+G17+I17 -> 317 | L17: =+D17+F17+H17+J17 -> 401
A18: 6 | B18: ECOCARDIOGRAMA PEDIATRIA | C18: 200 | D18: 123 | K18: =+C18+E18+G18+I18 -> 200 | L18: =+D18+F18+H18+J18 -> 123
A19: 7 | B19: ELECTROCARDIOGRAMAS ADULTOS | C19: 126 | D19: 119 | K19: =+C19+E19+G19+I19 -> 126 | L19: =+D19+F19+H19+J19 -> 119
A20: 8 | B20: ELECTROCARDIOGRAMAS PEDIATRIA | C20: 125 | D20: 92 | K20: =+C20+E20+G20+I20 -> 125 | L20: =+D20+F20+H20+J20 -> 92
